{"text_format":"1","workbook":"xlsx","n_sheets":19,"sheets":["Match Input","Shooter Information","Stage 1","Stage 2","Stage 3","Stage 4","Stage 5","Stage 6","Stage 7","Stage 8","Stage 9","Stage 10","Stage 11","Stage 12","Score Summary","Match Stats","Data Ranges","Award Listing","Notes"],"not_rendered":{"charts":2,"images":62,"macros":1,"external_links":0,"defined_names":12,"comments":0,"pivot_tables":0},"unopened":[],"bounds":{"document_bytes":16777216,"sheet_cells":100000,"rows_first":2000,"rows_last":500,"rows_between":2000,"halvings":0,"cell_chars":16384,"cell_head_chars":4096},"cells_cut":0,"cells_raw":0,"read":"whole","date_system":"1900"}

{"sheet":"Match Input","index":0,"n_rows":80,"n_cols":6,"rows_kept":80,"cut":false,"hidden":false,"merged":[]}
[null,"Match Input Sheet",null,null,"Club:","Cavalier Rifle & Pistol Club - Cavalier Cowboys"]
[null,"(Version 8.3)","Score Method:","R","Date:","Sunday Feb. 01, 2015"]
[null,"Number of Shooters:",{"$f":"COUNT('Shooter Information'!A6:A151)-COUNTBLANK('Shooter Information'!B6:B80)","v":16},"of",{"$f":"COUNT(A6:A151)","v":75}]
[]
["Shooter #","Shooter","Class",null,"MDQ"]
[{"$f":"ROW()-5","v":1}]
[2]
[3]
[4]
[5]
[6]
[7]
[8]
[9]
[10]
[11]
[12]
[13]
[14]
[15]
[16]
[17]
[18]
[19]
[20]
[21]
[22]
[23]
[24]
[25]
[26]
[27]
[28]
[29]
[30]
[31]
[32]
[{"$f":"ROW()-5","v":33}]
[34]
[35]
[36]
[37]
[38]
[39]
[40]
[41]
[42]
[43]
[44]
[45]
[46]
[47]
[48]
[49]
[50]
[51]
[52]
[53]
[54]
[55]
[56]
[57]
[58]
[59]
[60]
[61]
[62]
[63]
[64]
[{"$f":"ROW()-5","v":65}]
[66]
[67]
[68]
[69]
[70]
[71]
[72]
[73]
[74]
[75]

{"sheet":"Shooter Information","index":1,"n_rows":80,"n_cols":8,"rows_kept":80,"cut":false,"hidden":true,"merged":[]}
[null,"Shooter Information",null,"Club:",{"$f":"'Match Input'!F1","v":"Cavalier Rifle & Pistol Club - Cavalier Cowboys"}]
[null,"Score Method:",{"$f":"'Match Input'!D2","v":"R"},"Date:",{"$f":"'Match Input'!F2","v":"Sunday Feb. 01, 2015"}]
[null,null,null,"Number of Shooters:",{"$f":"COUNTA(B6:B80)","v":16},"of",{"$f":"COUNT(A6:A151)","v":75}]
[]
["Roster #","Shooter","Class",null,"Posse","Shooting #",null,"MDQ"]
[{"$f":"ROW()-5","v":1},"Striker","WW",null,null,null,null,{"$f":"'Match Input'!E6","v":0}]
[2,"Cody Maverick","GF",null,null,null,null,{"$f":"'Match Input'!E7","v":0}]
[3,"Potter County Kid","WW",null,null,null,null,{"$f":"'Match Input'!E8","v":0}]
[4,"Ricochet Kid","W",null,null,null,null,{"$f":"'Match Input'!E9","v":0}]
[5,"Flatboat Bob","CBAR",null,null,null,null,{"$f":"'Match Input'!E10","v":0}]
[6,"Hotshod","W",null,null,null,null,{"$f":"'Match Input'!E11","v":0}]
[7,"Prairie City Slim","ES",null,null,null,null,{"$f":"'Match Input'!E12","v":0}]
[8,"Regret Schofield","49er",null,null,null,null,{"$f":"'Match Input'!E13","v":0}]
[9,"Tumble Weed Tink","L49",null,null,null,null,{"$f":"'Match Input'!E14","v":0}]
[10,"One Eyed Jane","LSS",null,null,null,null,{"$f":"'Match Input'!E15","v":0}]
[11,"Stogie","49er",null,null,null,null,{"$f":"'Match Input'!E16","v":0}]
[12,"Major BS Walker","WW",null,null,null,null,{"$f":"'Match Input'!E17","v":0}]
[13,"Sassy Shooting Sours","S",null,null,null,null,{"$f":"'Match Input'!E18","v":0}]
[14,"Lefty Spurmaker","S",null,null,null,null,{"$f":"'Match Input'!E19","v":0}]
[15,"Windhorse Rider","GF",null,null,null,null,{"$f":"'Match Input'!E20","v":0}]
[16,"Red Cavanaugh","49er",null,null,null,null,{"$f":"'Match Input'!E21","v":0}]
[17,null,null,null,null,null,null,{"$f":"'Match Input'!E22","v":0}]
[18,null,null,null,null,null,null,{"$f":"'Match Input'!E23","v":0}]
[19,null,null,null,null,null,null,{"$f":"'Match Input'!E24","v":0}]
[20,null,null,null,null,null,null,{"$f":"'Match Input'!E25","v":0}]
[21,null,null,null,null,null,null,{"$f":"'Match Input'!E26","v":0}]
[22,null,null,null,null,null,null,{"$f":"'Match Input'!E27","v":0}]
[23,null,null,null,null,null,null,{"$f":"'Match Input'!E28","v":0}]
[24,null,null,null,null,null,null,{"$f":"'Match Input'!E29","v":0}]
[25,null,null,null,null,null,null,{"$f":"'Match Input'!E30","v":0}]
[26,null,null,null,null,null,null,{"$f":"'Match Input'!E31","v":0}]
[27,null,null,null,null,null,null,{"$f":"'Match Input'!E32","v":0}]
[28,null,null,null,null,null,null,{"$f":"'Match Input'!E33","v":0}]
[29,null,null,null,null,null,null,{"$f":"'Match Input'!E34","v":0}]
[30,null,null,null,null,null,null,{"$f":"'Match Input'!E35","v":0}]
[31,null,null,null,null,null,null,{"$f":"'Match Input'!E36","v":0}]
[32,null,null,null,null,null,null,{"$f":"'Match Input'!E37","v":0}]
[{"$f":"ROW()-5","v":33},null,null,null,null,null,null,{"$f":"'Match Input'!E38","v":0}]
[34,null,null,null,null,null,null,{"$f":"'Match Input'!E39","v":0}]
[35,null,null,null,null,null,null,{"$f":"'Match Input'!E40","v":0}]
[36,null,null,null,null,null,null,{"$f":"'Match Input'!E41","v":0}]
[37,null,null,null,null,null,null,{"$f":"'Match Input'!E42","v":0}]
[38,null,null,null,null,null,null,{"$f":"'Match Input'!E43","v":0}]
[39,null,null,null,null,null,null,{"$f":"'Match Input'!E44","v":0}]
[40,null,null,null,null,null,null,{"$f":"'Match Input'!E45","v":0}]
[41,null,null,null,null,null,null,{"$f":"'Match Input'!E46","v":0}]
[42,null,null,null,null,null,null,{"$f":"'Match Input'!E47","v":0}]
[43,null,null,null,null,null,null,{"$f":"'Match Input'!E48","v":0}]
[44,null,null,null,null,null,null,{"$f":"'Match Input'!E49","v":0}]
[45,null,null,null,null,null,null,{"$f":"'Match Input'!E50","v":0}]
[46,null,null,null,null,null,null,{"$f":"'Match Input'!E51","v":0}]
[47,null,null,null,null,null,null,{"$f":"'Match Input'!E52","v":0}]
[48,null,null,null,null,null,null,{"$f":"'Match Input'!E53","v":0}]
[49,null,null,null,null,null,null,{"$f":"'Match Input'!E54","v":0}]
[50,null,null,null,null,null,null,{"$f":"'Match Input'!E55","v":0}]
[51,null,null,null,null,null,null,{"$f":"'Match Input'!E56","v":0}]
[52,null,null,null,null,null,null,{"$f":"'Match Input'!E57","v":0}]
[53,null,null,null,null,null,null,{"$f":"'Match Input'!E58","v":0}]
[54,null,null,null,null,null,null,{"$f":"'Match Input'!E59","v":0}]
[55,null,null,null,null,null,null,{"$f":"'Match Input'!E60","v":0}]
[56,null,null,null,null,null,null,{"$f":"'Match Input'!E61","v":0}]
[57,null,null,null,null,null,null,{"$f":"'Match Input'!E62","v":0}]
[58,null,null,null,null,null,null,{"$f":"'Match Input'!E63","v":0}]
[59,null,null,null,null,null,null,{"$f":"'Match Input'!E64","v":0}]
[60,null,null,null,null,null,null,{"$f":"'Match Input'!E65","v":0}]
[61,null,null,null,null,null,null,{"$f":"'Match Input'!E66","v":0}]
[62,null,null,null,null,null,null,{"$f":"'Match Input'!E67","v":0}]
[63,null,null,null,null,null,null,{"$f":"'Match Input'!E68","v":0}]
[64,null,null,null,null,null,null,{"$f":"'Match Input'!E69","v":0}]
[{"$f":"ROW()-5","v":65},null,null,null,null,null,null,{"$f":"'Match Input'!E70","v":0}]
[66,null,null,null,null,null,null,{"$f":"'Match Input'!E71","v":0}]
[67,null,null,null,null,null,null,{"$f":"'Match Input'!E72","v":0}]
[68,null,null,null,null,null,null,{"$f":"'Match Input'!E73","v":0}]
[69,null,null,null,null,null,null,{"$f":"'Match Input'!E74","v":0}]
[70,null,null,null,null,null,null,{"$f":"'Match Input'!E75","v":0}]
[71,null,null,null,null,null,null,{"$f":"'Match Input'!E76","v":0}]
[72,null,null,null,null,null,null,{"$f":"'Match Input'!E77","v":0}]
[73,null,null,null,null,null,null,{"$f":"'Match Input'!E78","v":0}]
[74,null,null,null,null,null,null,{"$f":"'Match Input'!E79","v":0}]
[75,null,null,null,null,null,null,{"$f":"'Match Input'!E80","v":0}]

{"sheet":"Stage 1","index":2,"n_rows":78,"n_cols":15,"rows_kept":78,"cut":false,"hidden":false,"merged":[]}
[null,"Stage Input Sheet - Stage 1"]
[]
["Shooter #","Shooter","Class","Misses","Raw Time","Bonus","10 Sec","30 Sec","DNF","SDQ","Total","Rank","Penalties",null,"# Penalties"]
[{"$f":"ROW()-3","v":1},{"$f":"'Shooter Information'!B6","v":"Striker"},{"$f":"'Shooter Information'!C6","v":"WW"},null,26.11,null,null,null,null,null,{"$f":"MIN(IF('Shooter Information'!H6=1,999.99,(D4*5)+E4-F4+(G4*10)+(H4*30)+(I4*999.99)+(J4*999.99)),999.99)","v":26.11},{"$f":"IF(K4>0,SUMPRODUCT(--(K4>$K$4:$K$78),--($K$4:$K$78>0))+1,0)","v":8},{"$f":"(IF('Shooter Information'!H6=1,\"MDQ\",IF(J4=1,\"SDQ\",IF(I4=1,\"DNF\",SUM(D4+G4+H4+I4+J4)))))","v":0},null,{"$f":"SUM(D4+G4+H4+I4+J4)","v":0}]
[{"$f":"ROW()-3","v":2},{"$f":"'Shooter Information'!B7","v":"Cody Maverick"},{"$f":"'Shooter Information'!C7","v":"GF"},1,24.34,null,null,null,null,null,{"$f":"MIN(IF('Shooter Information'!H7=1,999.99,(D5*5)+E5-F5+(G5*10)+(H5*30)+(I5*999.99)+(J5*999.99)),999.99)","v":29.34},{"$f":"IF(K5>0,SUMPRODUCT(--(K5>$K$4:$K$78),--($K$4:$K$78>0))+1,0)","v":13},{"$f":"(IF('Shooter Information'!H7=1,\"MDQ\",IF(J5=1,\"SDQ\",IF(I5=1,\"DNF\",SUM(D5+G5+H5+I5+J5)))))","v":1},null,{"$f":"SUM(D5+G5+H5+I5+J5)","v":1}]
[3,{"$f":"'Shooter Information'!B8","v":"Potter County Kid"},{"$f":"'Shooter Information'!C8","v":"WW"},null,26.13,null,null,null,null,null,{"$f":"MIN(IF('Shooter Information'!H8=1,999.99,(D6*5)+E6-F6+(G6*10)+(H6*30)+(I6*999.99)+(J6*999.99)),999.99)","v":26.13},9,{"$f":"(IF('Shooter Information'!H8=1,\"MDQ\",IF(J6=1,\"SDQ\",IF(I6=1,\"DNF\",SUM(D6+G6+H6+I6+J6)))))","v":0},null,0]
[4,{"$f":"'Shooter Information'!B9","v":"Ricochet Kid"},{"$f":"'Shooter Information'!C9","v":"W"},null,29.12,null,null,null,null,null,{"$f":"MIN(IF('Shooter Information'!H9=1,999.99,(D7*5)+E7-F7+(G7*10)+(H7*30)+(I7*999.99)+(J7*999.99)),999.99)","v":29.12},12,{"$f":"(IF('Shooter Information'!H9=1,\"MDQ\",IF(J7=1,\"SDQ\",IF(I7=1,\"DNF\",SUM(D7+G7+H7+I7+J7)))))","v":0},null,0]
[5,{"$f":"'Shooter Information'!B10","v":"Flatboat Bob"},{"$f":"'Shooter Information'!C10","v":"CBAR"},null,23.48,null,null,null,null,null,{"$f":"MIN(IF('Shooter Information'!H10=1,999.99,(D8*5)+E8-F8+(G8*10)+(H8*30)+(I8*999.99)+(J8*999.99)),999.99)","v":23.48},4,{"$f":"(IF('Shooter Information'!H10=1,\"MDQ\",IF(J8=1,\"SDQ\",IF(I8=1,\"DNF\",SUM(D8+G8+H8+I8+J8)))))","v":0},null,0]
[6,{"$f":"'Shooter Information'!B11","v":"Hotshod"},{"$f":"'Shooter Information'!C11","v":"W"},null,20.73,null,null,null,null,null,{"$f":"MIN(IF('Shooter Information'!H11=1,999.99,(D9*5)+E9-F9+(G9*10)+(H9*30)+(I9*999.99)+(J9*999.99)),999.99)","v":20.73},3,{"$f":"(IF('Shooter Information'!H11=1,\"MDQ\",IF(J9=1,\"SDQ\",IF(I9=1,\"DNF\",SUM(D9+G9+H9+I9+J9)))))","v":0},null,0]
[7,{"$f":"'Shooter Information'!B12","v":"Prairie City Slim"},{"$f":"'Shooter Information'!C12","v":"ES"},null,27.33,null,null,null,null,null,{"$f":"MIN(IF('Shooter Information'!H12=1,999.99,(D10*5)+E10-F10+(G10*10)+(H10*30)+(I10*999.99)+(J10*999.99)),999.99)","v":27.33},10,{"$f":"(IF('Shooter Information'!H12=1,\"MDQ\",IF(J10=1,\"SDQ\",IF(I10=1,\"DNF\",SUM(D10+G10+H10+I10+J10)))))","v":0},null,0]
[8,{"$f":"'Shooter Information'!B13","v":"Regret Schofield"},{"$f":"'Shooter Information'!C13","v":"49er"},null,37.549999999999997,null,null,null,null,null,{"$f":"MIN(IF('Shooter Information'!H13=1,999.99,(D11*5)+E11-F11+(G11*10)+(H11*30)+(I11*999.99)+(J11*999.99)),999.99)","v":37.549999999999997},14,{"$f":"(IF('Shooter Information'!H13=1,\"MDQ\",IF(J11=1,\"SDQ\",IF(I11=1,\"DNF\",SUM(D11+G11+H11+I11+J11)))))","v":0},null,0]
[9,{"$f":"'Shooter Information'!B14","v":"Tumble Weed Tink"},{"$f":"'Shooter Information'!C14","v":"L49"},null,54.49,null,1,null,null,null,{"$f":"MIN(IF('Shooter Information'!H14=1,999.99,(D12*5)+E12-F12+(G12*10)+(H12*30)+(I12*999.99)+(J12*999.99)),999.99)","v":64.490000000000009},16,{"$f":"(IF('Shooter Information'!H14=1,\"MDQ\",IF(J12=1,\"SDQ\",IF(I12=1,\"DNF\",SUM(D12+G12+H12+I12+J12)))))","v":1},null,1]
[10,{"$f":"'Shooter Information'!B15","v":"One Eyed Jane"},{"$f":"'Shooter Information'!C15","v":"LSS"},null,54.65,null,null,null,null,null,{"$f":"MIN(IF('Shooter Information'!H15=1,999.99,(D13*5)+E13-F13+(G13*10)+(H13*30)+(I13*999.99)+(J13*999.99)),999.99)","v":54.65},15,{"$f":"(IF('Shooter Information'!H15=1,\"MDQ\",IF(J13=1,\"SDQ\",IF(I13=1,\"DNF\",SUM(D13+G13+H13+I13+J13)))))","v":0},null,0]
[11,{"$f":"'Shooter Information'!B16","v":"Stogie"},{"$f":"'Shooter Information'!C16","v":"49er"},null,20.420000000000002,null,null,null,null,null,{"$f":"MIN(IF('Shooter Information'!H16=1,999.99,(D14*5)+E14-F14+(G14*10)+(H14*30)+(I14*999.99)+(J14*999.99)),999.99)","v":20.420000000000002},2,{"$f":"(IF('Shooter Information'!H16=1,\"MDQ\",IF(J14=1,\"SDQ\",IF(I14=1,\"DNF\",SUM(D14+G14+H14+I14+J14)))))","v":0},null,0]
[12,{"$f":"'Shooter Information'!B17","v":"Major BS Walker"},{"$f":"'Shooter Information'!C17","v":"WW"},null,24.72,null,null,null,null,null,{"$f":"MIN(IF('Shooter Information'!H17=1,999.99,(D15*5)+E15-F15+(G15*10)+(H15*30)+(I15*999.99)+(J15*999.99)),999.99)","v":24.72},7,{"$f":"(IF('Shooter Information'!H17=1,\"MDQ\",IF(J15=1,\"SDQ\",IF(I15=1,\"DNF\",SUM(D15+G15+H15+I15+J15)))))","v":0},null,0]
[13,{"$f":"'Shooter Information'!B18","v":"Sassy Shooting Sours"},{"$f":"'Shooter Information'!C18","v":"S"},null,24.43,null,null,null,null,null,{"$f":"MIN(IF('Shooter Information'!H18=1,999.99,(D16*5)+E16-F16+(G16*10)+(H16*30)+(I16*999.99)+(J16*999.99)),999.99)","v":24.43},5,{"$f":"(IF('Shooter Information'!H18=1,\"MDQ\",IF(J16=1,\"SDQ\",IF(I16=1,\"DNF\",SUM(D16+G16+H16+I16+J16)))))","v":0},null,0]
[14,{"$f":"'Shooter Information'!B19","v":"Lefty Spurmaker"},{"$f":"'Shooter Information'!C19","v":"S"},1,19.5,null,null,null,null,null,{"$f":"MIN(IF('Shooter Information'!H19=1,999.99,(D17*5)+E17-F17+(G17*10)+(H17*30)+(I17*999.99)+(J17*999.99)),999.99)","v":24.5},6,{"$f":"(IF('Shooter Information'!H19=1,\"MDQ\",IF(J17=1,\"SDQ\",IF(I17=1,\"DNF\",SUM(D17+G17+H17+I17+J17)))))","v":1},null,1]
[15,{"$f":"'Shooter Information'!B20","v":"Windhorse Rider"},{"$f":"'Shooter Information'!C20","v":"GF"},null,27.52,null,null,null,null,null,{"$f":"MIN(IF('Shooter Information'!H20=1,999.99,(D18*5)+E18-F18+(G18*10)+(H18*30)+(I18*999.99)+(J18*999.99)),999.99)","v":27.52},11,{"$f":"(IF('Shooter Information'!H20=1,\"MDQ\",IF(J18=1,\"SDQ\",IF(I18=1,\"DNF\",SUM(D18+G18+H18+I18+J18)))))","v":0},null,0]
[16,{"$f":"'Shooter Information'!B21","v":"Red Cavanaugh"},{"$f":"'Shooter Information'!C21","v":"49er"},null,19.420000000000002,null,null,null,null,null,{"$f":"MIN(IF('Shooter Information'!H21=1,999.99,(D19*5)+E19-F19+(G19*10)+(H19*30)+(I19*999.99)+(J19*999.99)),999.99)","v":19.420000000000002},1,{"$f":"(IF('Shooter Information'!H21=1,\"MDQ\",IF(J19=1,\"SDQ\",IF(I19=1,\"DNF\",SUM(D19+G19+H19+I19+J19)))))","v":0},null,0]
[17,{"$f":"'Shooter Information'!B22","v":0},{"$f":"'Shooter Information'!C22","v":0},null,null,null,null,null,null,null,{"$f":"MIN(IF('Shooter Information'!H22=1,999.99,(D20*5)+E20-F20+(G20*10)+(H20*30)+(I20*999.99)+(J20*999.99)),999.99)","v":0},0,{"$f":"(IF('Shooter Information'!H22=1,\"MDQ\",IF(J20=1,\"SDQ\",IF(I20=1,\"DNF\",SUM(D20+G20+H20+I20+J20)))))","v":0},null,0]
[18,{"$f":"'Shooter Information'!B23","v":0},{"$f":"'Shooter Information'!C23","v":0},null,null,null,null,null,null,null,{"$f":"MIN(IF('Shooter Information'!H23=1,999.99,(D21*5)+E21-F21+(G21*10)+(H21*30)+(I21*999.99)+(J21*999.99)),999.99)","v":0},0,{"$f":"(IF('Shooter Information'!H23=1,\"MDQ\",IF(J21=1,\"SDQ\",IF(I21=1,\"DNF\",SUM(D21+G21+H21+I21+J21)))))","v":0},null,0]
[19,{"$f":"'Shooter Information'!B24","v":0},{"$f":"'Shooter Information'!C24","v":0},null,null,null,null,null,null,null,{"$f":"MIN(IF('Shooter Information'!H24=1,999.99,(D22*5)+E22-F22+(G22*10)+(H22*30)+(I22*999.99)+(J22*999.99)),999.99)","v":0},0,{"$f":"(IF('Shooter Information'!H24=1,\"MDQ\",IF(J22=1,\"SDQ\",IF(I22=1,\"DNF\",SUM(D22+G22+H22+I22+J22)))))","v":0},null,0]
[20,{"$f":"'Shooter Information'!B25","v":0},{"$f":"'Shooter Information'!C25","v":0},null,null,null,null,null,null,null,{"$f":"MIN(IF('Shooter Information'!H25=1,999.99,(D23*5)+E23-F23+(G23*10)+(H23*30)+(I23*999.99)+(J23*999.99)),999.99)","v":0},0,{"$f":"(IF('Shooter Information'!H25=1,\"MDQ\",IF(J23=1,\"SDQ\",IF(I23=1,\"DNF\",SUM(D23+G23+H23+I23+J23)))))","v":0},null,0]
[21,{"$f":"'Shooter Information'!B26","v":0},{"$f":"'Shooter Information'!C26","v":0},null,null,null,null,null,null,null,{"$f":"MIN(IF('Shooter Information'!H26=1,999.99,(D24*5)+E24-F24+(G24*10)+(H24*30)+(I24*999.99)+(J24*999.99)),999.99)","v":0},0,{"$f":"(IF('Shooter Information'!H26=1,\"MDQ\",IF(J24=1,\"SDQ\",IF(I24=1,\"DNF\",SUM(D24+G24+H24+I24+J24)))))","v":0},null,0]
[22,{"$f":"'Shooter Information'!B27","v":0},{"$f":"'Shooter Information'!C27","v":0},null,null,null,null,null,null,null,{"$f":"MIN(IF('Shooter Information'!H27=1,999.99,(D25*5)+E25-F25+(G25*10)+(H25*30)+(I25*999.99)+(J25*999.99)),999.99)","v":0},0,{"$f":"(IF('Shooter Information'!H27=1,\"MDQ\",IF(J25=1,\"SDQ\",IF(I25=1,\"DNF\",SUM(D25+G25+H25+I25+J25)))))","v":0},null,0]
[23,{"$f":"'Shooter Information'!B28","v":0},{"$f":"'Shooter Information'!C28","v":0},null,null,null,null,null,null,null,{"$f":"MIN(IF('Shooter Information'!H28=1,999.99,(D26*5)+E26-F26+(G26*10)+(H26*30)+(I26*999.99)+(J26*999.99)),999.99)","v":0},0,{"$f":"(IF('Shooter Information'!H28=1,\"MDQ\",IF(J26=1,\"SDQ\",IF(I26=1,\"DNF\",SUM(D26+G26+H26+I26+J26)))))","v":0},null,0]
[24,{"$f":"'Shooter Information'!B29","v":0},{"$f":"'Shooter Information'!C29","v":0},null,null,null,null,null,null,null,{"$f":"MIN(IF('Shooter Information'!H29=1,999.99,(D27*5)+E27-F27+(G27*10)+(H27*30)+(I27*999.99)+(J27*999.99)),999.99)","v":0},0,{"$f":"(IF('Shooter Information'!H29=1,\"MDQ\",IF(J27=1,\"SDQ\",IF(I27=1,\"DNF\",SUM(D27+G27+H27+I27+J27)))))","v":0},null,0]
[25,{"$f":"'Shooter Information'!B30","v":0},{"$f":"'Shooter Information'!C30","v":0},null,null,null,null,null,null,null,{"$f":"MIN(IF('Shooter Information'!H30=1,999.99,(D28*5)+E28-F28+(G28*10)+(H28*30)+(I28*999.99)+(J28*999.99)),999.99)","v":0},0,{"$f":"(IF('Shooter Information'!H30=1,\"MDQ\",IF(J28=1,\"SDQ\",IF(I28=1,\"DNF\",SUM(D28+G28+H28+I28+J28)))))","v":0},null,0]
[26,{"$f":"'Shooter Information'!B31","v":0},{"$f":"'Shooter Information'!C31","v":0},null,null,null,null,null,null,null,{"$f":"MIN(IF('Shooter Information'!H31=1,999.99,(D29*5)+E29-F29+(G29*10)+(H29*30)+(I29*999.99)+(J29*999.99)),999.99)","v":0},0,{"$f":"(IF('Shooter Information'!H31=1,\"MDQ\",IF(J29=1,\"SDQ\",IF(I29=1,\"DNF\",SUM(D29+G29+H29+I29+J29)))))","v":0},null,0]
[27,{"$f":"'Shooter Information'!B32","v":0},{"$f":"'Shooter Information'!C32","v":0},null,null,null,null,null,null,null,{"$f":"MIN(IF('Shooter Information'!H32=1,999.99,(D30*5)+E30-F30+(G30*10)+(H30*30)+(I30*999.99)+(J30*999.99)),999.99)","v":0},0,{"$f":"(IF('Shooter Information'!H32=1,\"MDQ\",IF(J30=1,\"SDQ\",IF(I30=1,\"DNF\",SUM(D30+G30+H30+I30+J30)))))","v":0},null,0]
[28,{"$f":"'Shooter Information'!B33","v":0},{"$f":"'Shooter Information'!C33","v":0},null,null,null,null,null,null,null,{"$f":"MIN(IF('Shooter Information'!H33=1,999.99,(D31*5)+E31-F31+(G31*10)+(H31*30)+(I31*999.99)+(J31*999.99)),999.99)","v":0},0,{"$f":"(IF('Shooter Information'!H33=1,\"MDQ\",IF(J31=1,\"SDQ\",IF(I31=1,\"DNF\",SUM(D31+G31+H31+I31+J31)))))","v":0},null,0]
[29,{"$f":"'Shooter Information'!B34","v":0},{"$f":"'Shooter Information'!C34","v":0},null,null,null,null,null,null,null,{"$f":"MIN(IF('Shooter Information'!H34=1,999.99,(D32*5)+E32-F32+(G32*10)+(H32*30)+(I32*999.99)+(J32*999.99)),999.99)","v":0},0,{"$f":"(IF('Shooter Information'!H34=1,\"MDQ\",IF(J32=1,\"SDQ\",IF(I32=1,\"DNF\",SUM(D32+G32+H32+I32+J32)))))","v":0},null,0]
[30,{"$f":"'Shooter Information'!B35","v":0},{"$f":"'Shooter Information'!C35","v":0},null,null,null,null,null,null,null,{"$f":"MIN(IF('Shooter Information'!H35=1,999.99,(D33*5)+E33-F33+(G33*10)+(H33*30)+(I33*999.99)+(J33*999.99)),999.99)","v":0},0,{"$f":"(IF('Shooter Information'!H35=1,\"MDQ\",IF(J33=1,\"SDQ\",IF(I33=1,\"DNF\",SUM(D33+G33+H33+I33+J33)))))","v":0},null,0]
[31,{"$f":"'Shooter Information'!B36","v":0},{"$f":"'Shooter Information'!C36","v":0},null,null,null,null,null,null,null,{"$f":"MIN(IF('Shooter Information'!H36=1,999.99,(D34*5)+E34-F34+(G34*10)+(H34*30)+(I34*999.99)+(J34*999.99)),999.99)","v":0},0,{"$f":"(IF('Shooter Information'!H36=1,\"MDQ\",IF(J34=1,\"SDQ\",IF(I34=1,\"DNF\",SUM(D34+G34+H34+I34+J34)))))","v":0},null,0]
[32,{"$f":"'Shooter Information'!B37","v":0},{"$f":"'Shooter Information'!C37","v":0},null,null,null,null,null,null,null,{"$f":"MIN(IF('Shooter Information'!H37=1,999.99,(D35*5)+E35-F35+(G35*10)+(H35*30)+(I35*999.99)+(J35*999.99)),999.99)","v":0},0,{"$f":"(IF('Shooter Information'!H37=1,\"MDQ\",IF(J35=1,\"SDQ\",IF(I35=1,\"DNF\",SUM(D35+G35+H35+I35+J35)))))","v":0},null,0]
[33,{"$f":"'Shooter Information'!B38","v":0},{"$f":"'Shooter Information'!C38","v":0},null,null,null,null,null,null,null,{"$f":"MIN(IF('Shooter Information'!H38=1,999.99,(D36*5)+E36-F36+(G36*10)+(H36*30)+(I36*999.99)+(J36*999.99)),999.99)","v":0},0,{"$f":"(IF('Shooter Information'!H38=1,\"MDQ\",IF(J36=1,\"SDQ\",IF(I36=1,\"DNF\",SUM(D36+G36+H36+I36+J36)))))","v":0},null,0]
[34,{"$f":"'Shooter Information'!B39","v":0},{"$f":"'Shooter Information'!C39","v":0},null,null,null,null,null,null,null,{"$f":"MIN(IF('Shooter Information'!H39=1,999.99,(D37*5)+E37-F37+(G37*10)+(H37*30)+(I37*999.99)+(J37*999.99)),999.99)","v":0},0,{"$f":"(IF('Shooter Information'!H39=1,\"MDQ\",IF(J37=1,\"SDQ\",IF(I37=1,\"DNF\",SUM(D37+G37+H37+I37+J37)))))","v":0},null,0]
[35,{"$f":"'Shooter Information'!B40","v":0},{"$f":"'Shooter Information'!C40","v":0},null,null,null,null,null,null,null,{"$f":"MIN(IF('Shooter Information'!H40=1,999.99,(D38*5)+E38-F38+(G38*10)+(H38*30)+(I38*999.99)+(J38*999.99)),999.99)","v":0},0,{"$f":"(IF('Shooter Information'!H40=1,\"MDQ\",IF(J38=1,\"SDQ\",IF(I38=1,\"DNF\",SUM(D38+G38+H38+I38+J38)))))","v":0},null,0]
[36,{"$f":"'Shooter Information'!B41","v":0},{"$f":"'Shooter Information'!C41","v":0},null,null,null,null,null,null,null,{"$f":"MIN(IF('Shooter Information'!H41=1,999.99,(D39*5)+E39-F39+(G39*10)+(H39*30)+(I39*999.99)+(J39*999.99)),999.99)","v":0},0,{"$f":"(IF('Shooter Information'!H41=1,\"MDQ\",IF(J39=1,\"SDQ\",IF(I39=1,\"DNF\",SUM(D39+G39+H39+I39+J39)))))","v":0},null,0]
[37,{"$f":"'Shooter Information'!B42","v":0},{"$f":"'Shooter Information'!C42","v":0},null,null,null,null,null,null,null,{"$f":"MIN(IF('Shooter Information'!H42=1,999.99,(D40*5)+E40-F40+(G40*10)+(H40*30)+(I40*999.99)+(J40*999.99)),999.99)","v":0},0,{"$f":"(IF('Shooter Information'!H42=1,\"MDQ\",IF(J40=1,\"SDQ\",IF(I40=1,\"DNF\",SUM(D40+G40+H40+I40+J40)))))","v":0},null,0]
[38,{"$f":"'Shooter Information'!B43","v":0},{"$f":"'Shooter Information'!C43","v":0},null,null,null,null,null,null,null,{"$f":"MIN(IF('Shooter Information'!H43=1,999.99,(D41*5)+E41-F41+(G41*10)+(H41*30)+(I41*999.99)+(J41*999.99)),999.99)","v":0},0,{"$f":"(IF('Shooter Information'!H43=1,\"MDQ\",IF(J41=1,\"SDQ\",IF(I41=1,\"DNF\",SUM(D41+G41+H41+I41+J41)))))","v":0},null,0]
[39,{"$f":"'Shooter Information'!B44","v":0},{"$f":"'Shooter Information'!C44","v":0},null,null,null,null,null,null,null,{"$f":"MIN(IF('Shooter Information'!H44=1,999.99,(D42*5)+E42-F42+(G42*10)+(H42*30)+(I42*999.99)+(J42*999.99)),999.99)","v":0},0,{"$f":"(IF('Shooter Information'!H44=1,\"MDQ\",IF(J42=1,\"SDQ\",IF(I42=1,\"DNF\",SUM(D42+G42+H42+I42+J42)))))","v":0},null,0]
[40,{"$f":"'Shooter Information'!B45","v":0},{"$f":"'Shooter Information'!C45","v":0},null,null,null,null,null,null,null,{"$f":"MIN(IF('Shooter Information'!H45=1,999.99,(D43*5)+E43-F43+(G43*10)+(H43*30)+(I43*999.99)+(J43*999.99)),999.99)","v":0},0,{"$f":"(IF('Shooter Information'!H45=1,\"MDQ\",IF(J43=1,\"SDQ\",IF(I43=1,\"DNF\",SUM(D43+G43+H43+I43+J43)))))","v":0},null,0]
[41,{"$f":"'Shooter Information'!B46","v":0},{"$f":"'Shooter Information'!C46","v":0},null,null,null,null,null,null,null,{"$f":"MIN(IF('Shooter Information'!H46=1,999.99,(D44*5)+E44-F44+(G44*10)+(H44*30)+(I44*999.99)+(J44*999.99)),999.99)","v":0},0,{"$f":"(IF('Shooter Information'!H46=1,\"MDQ\",IF(J44=1,\"SDQ\",IF(I44=1,\"DNF\",SUM(D44+G44+H44+I44+J44)))))","v":0},null,0]
[42,{"$f":"'Shooter Information'!B47","v":0},{"$f":"'Shooter Information'!C47","v":0},null,null,null,null,null,null,null,{"$f":"MIN(IF('Shooter Information'!H47=1,999.99,(D45*5)+E45-F45+(G45*10)+(H45*30)+(I45*999.99)+(J45*999.99)),999.99)","v":0},0,{"$f":"(IF('Shooter Information'!H47=1,\"MDQ\",IF(J45=1,\"SDQ\",IF(I45=1,\"DNF\",SUM(D45+G45+H45+I45+J45)))))","v":0},null,0]
[43,{"$f":"'Shooter Information'!B48","v":0},{"$f":"'Shooter Information'!C48","v":0},null,null,null,null,null,null,null,{"$f":"MIN(IF('Shooter Information'!H48=1,999.99,(D46*5)+E46-F46+(G46*10)+(H46*30)+(I46*999.99)+(J46*999.99)),999.99)","v":0},0,{"$f":"(IF('Shooter Information'!H48=1,\"MDQ\",IF(J46=1,\"SDQ\",IF(I46=1,\"DNF\",SUM(D46+G46+H46+I46+J46)))))","v":0},null,0]
[44,{"$f":"'Shooter Information'!B49","v":0},{"$f":"'Shooter Information'!C49","v":0},null,null,null,null,null,null,null,{"$f":"MIN(IF('Shooter Information'!H49=1,999.99,(D47*5)+E47-F47+(G47*10)+(H47*30)+(I47*999.99)+(J47*999.99)),999.99)","v":0},0,{"$f":"(IF('Shooter Information'!H49=1,\"MDQ\",IF(J47=1,\"SDQ\",IF(I47=1,\"DNF\",SUM(D47+G47+H47+I47+J47)))))","v":0},null,0]
[45,{"$f":"'Shooter Information'!B50","v":0},{"$f":"'Shooter Information'!C50","v":0},null,null,null,null,null,null,null,{"$f":"MIN(IF('Shooter Information'!H50=1,999.99,(D48*5)+E48-F48+(G48*10)+(H48*30)+(I48*999.99)+(J48*999.99)),999.99)","v":0},0,{"$f":"(IF('Shooter Information'!H50=1,\"MDQ\",IF(J48=1,\"SDQ\",IF(I48=1,\"DNF\",SUM(D48+G48+H48+I48+J48)))))","v":0},null,0]
[46,{"$f":"'Shooter Information'!B51","v":0},{"$f":"'Shooter Information'!C51","v":0},null,null,null,null,null,null,null,{"$f":"MIN(IF('Shooter Information'!H51=1,999.99,(D49*5)+E49-F49+(G49*10)+(H49*30)+(I49*999.99)+(J49*999.99)),999.99)","v":0},0,{"$f":"(IF('Shooter Information'!H51=1,\"MDQ\",IF(J49=1,\"SDQ\",IF(I49=1,\"DNF\",SUM(D49+G49+H49+I49+J49)))))","v":0},null,0]
[47,{"$f":"'Shooter Information'!B52","v":0},{"$f":"'Shooter Information'!C52","v":0},null,null,null,null,null,null,null,{"$f":"MIN(IF('Shooter Information'!H52=1,999.99,(D50*5)+E50-F50+(G50*10)+(H50*30)+(I50*999.99)+(J50*999.99)),999.99)","v":0},0,{"$f":"(IF('Shooter Information'!H52=1,\"MDQ\",IF(J50=1,\"SDQ\",IF(I50=1,\"DNF\",SUM(D50+G50+H50+I50+J50)))))","v":0},null,0]
[48,{"$f":"'Shooter Information'!B53","v":0},{"$f":"'Shooter Information'!C53","v":0},null,null,null,null,null,null,null,{"$f":"MIN(IF('Shooter Information'!H53=1,999.99,(D51*5)+E51-F51+(G51*10)+(H51*30)+(I51*999.99)+(J51*999.99)),999.99)","v":0},0,{"$f":"(IF('Shooter Information'!H53=1,\"MDQ\",IF(J51=1,\"SDQ\",IF(I51=1,\"DNF\",SUM(D51+G51+H51+I51+J51)))))","v":0},null,0]
[49,{"$f":"'Shooter Information'!B54","v":0},{"$f":"'Shooter Information'!C54","v":0},null,null,null,null,null,null,null,{"$f":"MIN(IF('Shooter Information'!H54=1,999.99,(D52*5)+E52-F52+(G52*10)+(H52*30)+(I52*999.99)+(J52*999.99)),999.99)","v":0},0,{"$f":"(IF('Shooter Information'!H54=1,\"MDQ\",IF(J52=1,\"SDQ\",IF(I52=1,\"DNF\",SUM(D52+G52+H52+I52+J52)))))","v":0},null,0]
[50,{"$f":"'Shooter Information'!B55","v":0},{"$f":"'Shooter Information'!C55","v":0},null,null,null,null,null,null,null,{"$f":"MIN(IF('Shooter Information'!H55=1,999.99,(D53*5)+E53-F53+(G53*10)+(H53*30)+(I53*999.99)+(J53*999.99)),999.99)","v":0},0,{"$f":"(IF('Shooter Information'!H55=1,\"MDQ\",IF(J53=1,\"SDQ\",IF(I53=1,\"DNF\",SUM(D53+G53+H53+I53+J53)))))","v":0},null,0]
[51,{"$f":"'Shooter Information'!B56","v":0},{"$f":"'Shooter Information'!C56","v":0},null,null,null,null,null,null,null,{"$f":"MIN(IF('Shooter Information'!H56=1,999.99,(D54*5)+E54-F54+(G54*10)+(H54*30)+(I54*999.99)+(J54*999.99)),999.99)","v":0},0,{"$f":"(IF('Shooter Information'!H56=1,\"MDQ\",IF(J54=1,\"SDQ\",IF(I54=1,\"DNF\",SUM(D54+G54+H54+I54+J54)))))","v":0},null,0]
[52,{"$f":"'Shooter Information'!B57","v":0},{"$f":"'Shooter Information'!C57","v":0},null,null,null,null,null,null,null,{"$f":"MIN(IF('Shooter Information'!H57=1,999.99,(D55*5)+E55-F55+(G55*10)+(H55*30)+(I55*999.99)+(J55*999.99)),999.99)","v":0},0,{"$f":"(IF('Shooter Information'!H57=1,\"MDQ\",IF(J55=1,\"SDQ\",IF(I55=1,\"DNF\",SUM(D55+G55+H55+I55+J55)))))","v":0},null,0]
[53,{"$f":"'Shooter Information'!B58","v":0},{"$f":"'Shooter Information'!C58","v":0},null,null,null,null,null,null,null,{"$f":"MIN(IF('Shooter Information'!H58=1,999.99,(D56*5)+E56-F56+(G56*10)+(H56*30)+(I56*999.99)+(J56*999.99)),999.99)","v":0},0,{"$f":"(IF('Shooter Information'!H58=1,\"MDQ\",IF(J56=1,\"SDQ\",IF(I56=1,\"DNF\",SUM(D56+G56+H56+I56+J56)))))","v":0},null,0]
[54,{"$f":"'Shooter Information'!B59","v":0},{"$f":"'Shooter Information'!C59","v":0},null,null,null,null,null,null,null,{"$f":"MIN(IF('Shooter Information'!H59=1,999.99,(D57*5)+E57-F57+(G57*10)+(H57*30)+(I57*999.99)+(J57*999.99)),999.99)","v":0},0,{"$f":"(IF('Shooter Information'!H59=1,\"MDQ\",IF(J57=1,\"SDQ\",IF(I57=1,\"DNF\",SUM(D57+G57+H57+I57+J57)))))","v":0},null,0]
[55,{"$f":"'Shooter Information'!B60","v":0},{"$f":"'Shooter Information'!C60","v":0},null,null,null,null,null,null,null,{"$f":"MIN(IF('Shooter Information'!H60=1,999.99,(D58*5)+E58-F58+(G58*10)+(H58*30)+(I58*999.99)+(J58*999.99)),999.99)","v":0},0,{"$f":"(IF('Shooter Information'!H60=1,\"MDQ\",IF(J58=1,\"SDQ\",IF(I58=1,\"DNF\",SUM(D58+G58+H58+I58+J58)))))","v":0},null,0]
[56,{"$f":"'Shooter Information'!B61","v":0},{"$f":"'Shooter Information'!C61","v":0},null,null,null,null,null,null,null,{"$f":"MIN(IF('Shooter Information'!H61=1,999.99,(D59*5)+E59-F59+(G59*10)+(H59*30)+(I59*999.99)+(J59*999.99)),999.99)","v":0},0,{"$f":"(IF('Shooter Information'!H61=1,\"MDQ\",IF(J59=1,\"SDQ\",IF(I59=1,\"DNF\",SUM(D59+G59+H59+I59+J59)))))","v":0},null,0]
[57,{"$f":"'Shooter Information'!B62","v":0},{"$f":"'Shooter Information'!C62","v":0},null,null,null,null,null,null,null,{"$f":"MIN(IF('Shooter Information'!H62=1,999.99,(D60*5)+E60-F60+(G60*10)+(H60*30)+(I60*999.99)+(J60*999.99)),999.99)","v":0},0,{"$f":"(IF('Shooter Information'!H62=1,\"MDQ\",IF(J60=1,\"SDQ\",IF(I60=1,\"DNF\",SUM(D60+G60+H60+I60+J60)))))","v":0},null,0]
[58,{"$f":"'Shooter Information'!B63","v":0},{"$f":"'Shooter Information'!C63","v":0},null,null,null,null,null,null,null,{"$f":"MIN(IF('Shooter Information'!H63=1,999.99,(D61*5)+E61-F61+(G61*10)+(H61*30)+(I61*999.99)+(J61*999.99)),999.99)","v":0},0,{"$f":"(IF('Shooter Information'!H63=1,\"MDQ\",IF(J61=1,\"SDQ\",IF(I61=1,\"DNF\",SUM(D61+G61+H61+I61+J61)))))","v":0},null,0]
[59,{"$f":"'Shooter Information'!B64","v":0},{"$f":"'Shooter Information'!C64","v":0},null,null,null,null,null,null,null,{"$f":"MIN(IF('Shooter Information'!H64=1,999.99,(D62*5)+E62-F62+(G62*10)+(H62*30)+(I62*999.99)+(J62*999.99)),999.99)","v":0},0,{"$f":"(IF('Shooter Information'!H64=1,\"MDQ\",IF(J62=1,\"SDQ\",IF(I62=1,\"DNF\",SUM(D62+G62+H62+I62+J62)))))","v":0},null,0]
[60,{"$f":"'Shooter Information'!B65","v":0},{"$f":"'Shooter Information'!C65","v":0},null,null,null,null,null,null,null,{"$f":"MIN(IF('Shooter Information'!H65=1,999.99,(D63*5)+E63-F63+(G63*10)+(H63*30)+(I63*999.99)+(J63*999.99)),999.99)","v":0},0,{"$f":"(IF('Shooter Information'!H65=1,\"MDQ\",IF(J63=1,\"SDQ\",IF(I63=1,\"DNF\",SUM(D63+G63+H63+I63+J63)))))","v":0},null,0]
[61,{"$f":"'Shooter Information'!B66","v":0},{"$f":"'Shooter Information'!C66","v":0},null,null,null,null,null,null,null,{"$f":"MIN(IF('Shooter Information'!H66=1,999.99,(D64*5)+E64-F64+(G64*10)+(H64*30)+(I64*999.99)+(J64*999.99)),999.99)","v":0},0,{"$f":"(IF('Shooter Information'!H66=1,\"MDQ\",IF(J64=1,\"SDQ\",IF(I64=1,\"DNF\",SUM(D64+G64+H64+I64+J64)))))","v":0},null,0]
[62,{"$f":"'Shooter Information'!B67","v":0},{"$f":"'Shooter Information'!C67","v":0},null,null,null,null,null,null,null,{"$f":"MIN(IF('Shooter Information'!H67=1,999.99,(D65*5)+E65-F65+(G65*10)+(H65*30)+(I65*999.99)+(J65*999.99)),999.99)","v":0},0,{"$f":"(IF('Shooter Information'!H67=1,\"MDQ\",IF(J65=1,\"SDQ\",IF(I65=1,\"DNF\",SUM(D65+G65+H65+I65+J65)))))","v":0},null,0]
[63,{"$f":"'Shooter Information'!B68","v":0},{"$f":"'Shooter Information'!C68","v":0},null,null,null,null,null,null,null,{"$f":"MIN(IF('Shooter Information'!H68=1,999.99,(D66*5)+E66-F66+(G66*10)+(H66*30)+(I66*999.99)+(J66*999.99)),999.99)","v":0},0,{"$f":"(IF('Shooter Information'!H68=1,\"MDQ\",IF(J66=1,\"SDQ\",IF(I66=1,\"DNF\",SUM(D66+G66+H66+I66+J66)))))","v":0},null,0]
[64,{"$f":"'Shooter Information'!B69","v":0},{"$f":"'Shooter Information'!C69","v":0},null,null,null,null,null,null,null,{"$f":"MIN(IF('Shooter Information'!H69=1,999.99,(D67*5)+E67-F67+(G67*10)+(H67*30)+(I67*999.99)+(J67*999.99)),999.99)","v":0},0,{"$f":"(IF('Shooter Information'!H69=1,\"MDQ\",IF(J67=1,\"SDQ\",IF(I67=1,\"DNF\",SUM(D67+G67+H67+I67+J67)))))","v":0},null,0]
[65,{"$f":"'Shooter Information'!B70","v":0},{"$f":"'Shooter Information'!C70","v":0},null,null,null,null,null,null,null,{"$f":"MIN(IF('Shooter Information'!H70=1,999.99,(D68*5)+E68-F68+(G68*10)+(H68*30)+(I68*999.99)+(J68*999.99)),999.99)","v":0},0,{"$f":"(IF('Shooter Information'!H70=1,\"MDQ\",IF(J68=1,\"SDQ\",IF(I68=1,\"DNF\",SUM(D68+G68+H68+I68+J68)))))","v":0},null,0]
[66,{"$f":"'Shooter Information'!B71","v":0},{"$f":"'Shooter Information'!C71","v":0},null,null,null,null,null,null,null,{"$f":"MIN(IF('Shooter Information'!H71=1,999.99,(D69*5)+E69-F69+(G69*10)+(H69*30)+(I69*999.99)+(J69*999.99)),999.99)","v":0},{"$f":"IF(K69>0,SUMPRODUCT(--(K69>$K$4:$K$78),--($K$4:$K$78>0))+1,0)","v":0},{"$f":"(IF('Shooter Information'!H71=1,\"MDQ\",IF(J69=1,\"SDQ\",IF(I69=1,\"DNF\",SUM(D69+G69+H69+I69+J69)))))","v":0},null,{"$f":"SUM(D69+G69+H69+I69+J69)","v":0}]
[67,{"$f":"'Shooter Information'!B72","v":0},{"$f":"'Shooter Information'!C72","v":0},null,null,null,null,null,null,null,{"$f":"MIN(IF('Shooter Information'!H72=1,999.99,(D70*5)+E70-F70+(G70*10)+(H70*30)+(I70*999.99)+(J70*999.99)),999.99)","v":0},0,{"$f":"(IF('Shooter Information'!H72=1,\"MDQ\",IF(J70=1,\"SDQ\",IF(I70=1,\"DNF\",SUM(D70+G70+H70+I70+J70)))))","v":0},null,0]
[68,{"$f":"'Shooter Information'!B73","v":0},{"$f":"'Shooter Information'!C73","v":0},null,null,null,null,null,null,null,{"$f":"MIN(IF('Shooter Information'!H73=1,999.99,(D71*5)+E71-F71+(G71*10)+(H71*30)+(I71*999.99)+(J71*999.99)),999.99)","v":0},0,{"$f":"(IF('Shooter Information'!H73=1,\"MDQ\",IF(J71=1,\"SDQ\",IF(I71=1,\"DNF\",SUM(D71+G71+H71+I71+J71)))))","v":0},null,0]
[69,{"$f":"'Shooter Information'!B74","v":0},{"$f":"'Shooter Information'!C74","v":0},null,null,null,null,null,null,null,{"$f":"MIN(IF('Shooter Information'!H74=1,999.99,(D72*5)+E72-F72+(G72*10)+(H72*30)+(I72*999.99)+(J72*999.99)),999.99)","v":0},0,{"$f":"(IF('Shooter Information'!H74=1,\"MDQ\",IF(J72=1,\"SDQ\",IF(I72=1,\"DNF\",SUM(D72+G72+H72+I72+J72)))))","v":0},null,0]
[70,{"$f":"'Shooter Information'!B75","v":0},{"$f":"'Shooter Information'!C75","v":0},null,null,null,null,null,null,null,{"$f":"MIN(IF('Shooter Information'!H75=1,999.99,(D73*5)+E73-F73+(G73*10)+(H73*30)+(I73*999.99)+(J73*999.99)),999.99)","v":0},0,{"$f":"(IF('Shooter Information'!H75=1,\"MDQ\",IF(J73=1,\"SDQ\",IF(I73=1,\"DNF\",SUM(D73+G73+H73+I73+J73)))))","v":0},null,0]
[71,{"$f":"'Shooter Information'!B76","v":0},{"$f":"'Shooter Information'!C76","v":0},null,null,null,null,null,null,null,{"$f":"MIN(IF('Shooter Information'!H76=1,999.99,(D74*5)+E74-F74+(G74*10)+(H74*30)+(I74*999.99)+(J74*999.99)),999.99)","v":0},0,{"$f":"(IF('Shooter Information'!H76=1,\"MDQ\",IF(J74=1,\"SDQ\",IF(I74=1,\"DNF\",SUM(D74+G74+H74+I74+J74)))))","v":0},null,0]
[72,{"$f":"'Shooter Information'!B77","v":0},{"$f":"'Shooter Information'!C77","v":0},null,null,null,null,null,null,null,{"$f":"MIN(IF('Shooter Information'!H77=1,999.99,(D75*5)+E75-F75+(G75*10)+(H75*30)+(I75*999.99)+(J75*999.99)),999.99)","v":0},0,{"$f":"(IF('Shooter Information'!H77=1,\"MDQ\",IF(J75=1,\"SDQ\",IF(I75=1,\"DNF\",SUM(D75+G75+H75+I75+J75)))))","v":0},null,0]
[73,{"$f":"'Shooter Information'!B78","v":0},{"$f":"'Shooter Information'!C78","v":0},null,null,null,null,null,null,null,{"$f":"MIN(IF('Shooter Information'!H78=1,999.99,(D76*5)+E76-F76+(G76*10)+(H76*30)+(I76*999.99)+(J76*999.99)),999.99)","v":0},0,{"$f":"(IF('Shooter Information'!H78=1,\"MDQ\",IF(J76=1,\"SDQ\",IF(I76=1,\"DNF\",SUM(D76+G76+H76+I76+J76)))))","v":0},null,0]
[74,{"$f":"'Shooter Information'!B79","v":0},{"$f":"'Shooter Information'!C79","v":0},null,null,null,null,null,null,null,{"$f":"MIN(IF('Shooter Information'!H79=1,999.99,(D77*5)+E77-F77+(G77*10)+(H77*30)+(I77*999.99)+(J77*999.99)),999.99)","v":0},0,{"$f":"(IF('Shooter Information'!H79=1,\"MDQ\",IF(J77=1,\"SDQ\",IF(I77=1,\"DNF\",SUM(D77+G77+H77+I77+J77)))))","v":0},null,0]
[75,{"$f":"'Shooter Information'!B80","v":0},{"$f":"'Shooter Information'!C80","v":0},null,null,null,null,null,null,null,{"$f":"MIN(IF('Shooter Information'!H80=1,999.99,(D78*5)+E78-F78+(G78*10)+(H78*30)+(I78*999.99)+(J78*999.99)),999.99)","v":0},0,{"$f":"(IF('Shooter Information'!H80=1,\"MDQ\",IF(J78=1,\"SDQ\",IF(I78=1,\"DNF\",SUM(D78+G78+H78+I78+J78)))))","v":0},null,0]

{"sheet":"Stage 2","index":3,"n_rows":78,"n_cols":15,"rows_kept":78,"cut":false,"hidden":false,"merged":[]}
[null,"Stage Input Sheet - Stage 2"]
[]
["Shooter #","Shooter","Class","Misses","Raw Time","Bonus","10 Sec","30 Sec","DNF","SDQ","Total","Rank","Penalties",null,"# Penalties"]
[{"$f":"ROW()-3","v":1},{"$f":"'Shooter Information'!B6","v":"Striker"},{"$f":"'Shooter Information'!C6","v":"WW"},null,24.82,null,null,null,null,null,{"$f":"MIN(IF('Shooter Information'!H6=1,999.99,(D4*5)+E4-F4+(G4*10)+(H4*30)+(I4*999.99)+(J4*999.99)),999.99)","v":24.82},{"$f":"IF(K4>0,SUMPRODUCT(--(K4>$K$4:$K$78),--($K$4:$K$78>0))+1,0)","v":2},{"$f":"(IF('Shooter Information'!H6=1,\"MDQ\",IF(J4=1,\"SDQ\",IF(I4=1,\"DNF\",SUM(D4+G4+H4+I4+J4)))))","v":0},null,{"$f":"SUM(D4+G4+H4+I4+J4)","v":0}]
[{"$f":"ROW()-3","v":2},{"$f":"'Shooter Information'!B7","v":"Cody Maverick"},{"$f":"'Shooter Information'!C7","v":"GF"},null,26.18,null,null,null,null,null,{"$f":"MIN(IF('Shooter Information'!H7=1,999.99,(D5*5)+E5-F5+(G5*10)+(H5*30)+(I5*999.99)+(J5*999.99)),999.99)","v":26.18},{"$f":"IF(K5>0,SUMPRODUCT(--(K5>$K$4:$K$78),--($K$4:$K$78>0))+1,0)","v":4},{"$f":"(IF('Shooter Information'!H7=1,\"MDQ\",IF(J5=1,\"SDQ\",IF(I5=1,\"DNF\",SUM(D5+G5+H5+I5+J5)))))","v":0},null,{"$f":"SUM(D5+G5+H5+I5+J5)","v":0}]
[3,{"$f":"'Shooter Information'!B8","v":"Potter County Kid"},{"$f":"'Shooter Information'!C8","v":"WW"},1,38.299999999999997,null,null,null,null,null,{"$f":"MIN(IF('Shooter Information'!H8=1,999.99,(D6*5)+E6-F6+(G6*10)+(H6*30)+(I6*999.99)+(J6*999.99)),999.99)","v":43.3},11,{"$f":"(IF('Shooter Information'!H8=1,\"MDQ\",IF(J6=1,\"SDQ\",IF(I6=1,\"DNF\",SUM(D6+G6+H6+I6+J6)))))","v":1},null,1]
[4,{"$f":"'Shooter Information'!B9","v":"Ricochet Kid"},{"$f":"'Shooter Information'!C9","v":"W"},2,36.659999999999997,null,null,null,null,null,{"$f":"MIN(IF('Shooter Information'!H9=1,999.99,(D7*5)+E7-F7+(G7*10)+(H7*30)+(I7*999.99)+(J7*999.99)),999.99)","v":46.66},13,{"$f":"(IF('Shooter Information'!H9=1,\"MDQ\",IF(J7=1,\"SDQ\",IF(I7=1,\"DNF\",SUM(D7+G7+H7+I7+J7)))))","v":2},null,2]
[5,{"$f":"'Shooter Information'!B10","v":"Flatboat Bob"},{"$f":"'Shooter Information'!C10","v":"CBAR"},null,39.659999999999997,null,null,null,null,null,{"$f":"MIN(IF('Shooter Information'!H10=1,999.99,(D8*5)+E8-F8+(G8*10)+(H8*30)+(I8*999.99)+(J8*999.99)),999.99)","v":39.659999999999997},10,{"$f":"(IF('Shooter Information'!H10=1,\"MDQ\",IF(J8=1,\"SDQ\",IF(I8=1,\"DNF\",SUM(D8+G8+H8+I8+J8)))))","v":0},null,0]
[6,{"$f":"'Shooter Information'!B11","v":"Hotshod"},{"$f":"'Shooter Information'!C11","v":"W"},null,27.98,null,null,null,null,null,{"$f":"MIN(IF('Shooter Information'!H11=1,999.99,(D9*5)+E9-F9+(G9*10)+(H9*30)+(I9*999.99)+(J9*999.99)),999.99)","v":27.98},6,{"$f":"(IF('Shooter Information'!H11=1,\"MDQ\",IF(J9=1,\"SDQ\",IF(I9=1,\"DNF\",SUM(D9+G9+H9+I9+J9)))))","v":0},null,0]
[7,{"$f":"'Shooter Information'!B12","v":"Prairie City Slim"},{"$f":"'Shooter Information'!C12","v":"ES"},null,32.83,null,null,null,null,null,{"$f":"MIN(IF('Shooter Information'!H12=1,999.99,(D10*5)+E10-F10+(G10*10)+(H10*30)+(I10*999.99)+(J10*999.99)),999.99)","v":32.83},7,{"$f":"(IF('Shooter Information'!H12=1,\"MDQ\",IF(J10=1,\"SDQ\",IF(I10=1,\"DNF\",SUM(D10+G10+H10+I10+J10)))))","v":0},null,0]
[8,{"$f":"'Shooter Information'!B13","v":"Regret Schofield"},{"$f":"'Shooter Information'!C13","v":"49er"},1,50.66,null,null,null,null,null,{"$f":"MIN(IF('Shooter Information'!H13=1,999.99,(D11*5)+E11-F11+(G11*10)+(H11*30)+(I11*999.99)+(J11*999.99)),999.99)","v":55.66},14,{"$f":"(IF('Shooter Information'!H13=1,\"MDQ\",IF(J11=1,\"SDQ\",IF(I11=1,\"DNF\",SUM(D11+G11+H11+I11+J11)))))","v":1},null,1]
[9,{"$f":"'Shooter Information'!B14","v":"Tumble Weed Tink"},{"$f":"'Shooter Information'!C14","v":"L49"},2,82.33,null,1,null,null,null,{"$f":"MIN(IF('Shooter Information'!H14=1,999.99,(D12*5)+E12-F12+(G12*10)+(H12*30)+(I12*999.99)+(J12*999.99)),999.99)","v":102.33},16,{"$f":"(IF('Shooter Information'!H14=1,\"MDQ\",IF(J12=1,\"SDQ\",IF(I12=1,\"DNF\",SUM(D12+G12+H12+I12+J12)))))","v":3},null,3]
[10,{"$f":"'Shooter Information'!B15","v":"One Eyed Jane"},{"$f":"'Shooter Information'!C15","v":"LSS"},null,67.209999999999994,null,null,null,null,null,{"$f":"MIN(IF('Shooter Information'!H15=1,999.99,(D13*5)+E13-F13+(G13*10)+(H13*30)+(I13*999.99)+(J13*999.99)),999.99)","v":67.209999999999994},15,{"$f":"(IF('Shooter Information'!H15=1,\"MDQ\",IF(J13=1,\"SDQ\",IF(I13=1,\"DNF\",SUM(D13+G13+H13+I13+J13)))))","v":0},null,0]
[11,{"$f":"'Shooter Information'!B16","v":"Stogie"},{"$f":"'Shooter Information'!C16","v":"49er"},null,26.02,null,null,null,null,null,{"$f":"MIN(IF('Shooter Information'!H16=1,999.99,(D14*5)+E14-F14+(G14*10)+(H14*30)+(I14*999.99)+(J14*999.99)),999.99)","v":26.02},3,{"$f":"(IF('Shooter Information'!H16=1,\"MDQ\",IF(J14=1,\"SDQ\",IF(I14=1,\"DNF\",SUM(D14+G14+H14+I14+J14)))))","v":0},null,0]
[12,{"$f":"'Shooter Information'!B17","v":"Major BS Walker"},{"$f":"'Shooter Information'!C17","v":"WW"},null,26.53,null,null,null,null,null,{"$f":"MIN(IF('Shooter Information'!H17=1,999.99,(D15*5)+E15-F15+(G15*10)+(H15*30)+(I15*999.99)+(J15*999.99)),999.99)","v":26.53},5,{"$f":"(IF('Shooter Information'!H17=1,\"MDQ\",IF(J15=1,\"SDQ\",IF(I15=1,\"DNF\",SUM(D15+G15+H15+I15+J15)))))","v":0},null,0]
[13,{"$f":"'Shooter Information'!B18","v":"Sassy Shooting Sours"},{"$f":"'Shooter Information'!C18","v":"S"},null,37.07,null,null,null,null,null,{"$f":"MIN(IF('Shooter Information'!H18=1,999.99,(D16*5)+E16-F16+(G16*10)+(H16*30)+(I16*999.99)+(J16*999.99)),999.99)","v":37.07},9,{"$f":"(IF('Shooter Information'!H18=1,\"MDQ\",IF(J16=1,\"SDQ\",IF(I16=1,\"DNF\",SUM(D16+G16+H16+I16+J16)))))","v":0},null,0]
[14,{"$f":"'Shooter Information'!B19","v":"Lefty Spurmaker"},{"$f":"'Shooter Information'!C19","v":"S"},1,30.77,null,null,null,null,null,{"$f":"MIN(IF('Shooter Information'!H19=1,999.99,(D17*5)+E17-F17+(G17*10)+(H17*30)+(I17*999.99)+(J17*999.99)),999.99)","v":35.769999999999996},8,{"$f":"(IF('Shooter Information'!H19=1,\"MDQ\",IF(J17=1,\"SDQ\",IF(I17=1,\"DNF\",SUM(D17+G17+H17+I17+J17)))))","v":1},null,1]
[15,{"$f":"'Shooter Information'!B20","v":"Windhorse Rider"},{"$f":"'Shooter Information'!C20","v":"GF"},1,41.38,null,null,null,null,null,{"$f":"MIN(IF('Shooter Information'!H20=1,999.99,(D18*5)+E18-F18+(G18*10)+(H18*30)+(I18*999.99)+(J18*999.99)),999.99)","v":46.38},12,{"$f":"(IF('Shooter Information'!H20=1,\"MDQ\",IF(J18=1,\"SDQ\",IF(I18=1,\"DNF\",SUM(D18+G18+H18+I18+J18)))))","v":1},null,1]
[16,{"$f":"'Shooter Information'!B21","v":"Red Cavanaugh"},{"$f":"'Shooter Information'!C21","v":"49er"},null,24.45,null,null,null,null,null,{"$f":"MIN(IF('Shooter Information'!H21=1,999.99,(D19*5)+E19-F19+(G19*10)+(H19*30)+(I19*999.99)+(J19*999.99)),999.99)","v":24.45},1,{"$f":"(IF('Shooter Information'!H21=1,\"MDQ\",IF(J19=1,\"SDQ\",IF(I19=1,\"DNF\",SUM(D19+G19+H19+I19+J19)))))","v":0},null,0]
[17,{"$f":"'Shooter Information'!B22","v":0},{"$f":"'Shooter Information'!C22","v":0},null,null,null,null,null,null,null,{"$f":"MIN(IF('Shooter Information'!H22=1,999.99,(D20*5)+E20-F20+(G20*10)+(H20*30)+(I20*999.99)+(J20*999.99)),999.99)","v":0},0,{"$f":"(IF('Shooter Information'!H22=1,\"MDQ\",IF(J20=1,\"SDQ\",IF(I20=1,\"DNF\",SUM(D20+G20+H20+I20+J20)))))","v":0},null,0]
[18,{"$f":"'Shooter Information'!B23","v":0},{"$f":"'Shooter Information'!C23","v":0},null,null,null,null,null,null,null,{"$f":"MIN(IF('Shooter Information'!H23=1,999.99,(D21*5)+E21-F21+(G21*10)+(H21*30)+(I21*999.99)+(J21*999.99)),999.99)","v":0},0,{"$f":"(IF('Shooter Information'!H23=1,\"MDQ\",IF(J21=1,\"SDQ\",IF(I21=1,\"DNF\",SUM(D21+G21+H21+I21+J21)))))","v":0},null,0]
[19,{"$f":"'Shooter Information'!B24","v":0},{"$f":"'Shooter Information'!C24","v":0},null,null,null,null,null,null,null,{"$f":"MIN(IF('Shooter Information'!H24=1,999.99,(D22*5)+E22-F22+(G22*10)+(H22*30)+(I22*999.99)+(J22*999.99)),999.99)","v":0},0,{"$f":"(IF('Shooter Information'!H24=1,\"MDQ\",IF(J22=1,\"SDQ\",IF(I22=1,\"DNF\",SUM(D22+G22+H22+I22+J22)))))","v":0},null,0]
[20,{"$f":"'Shooter Information'!B25","v":0},{"$f":"'Shooter Information'!C25","v":0},null,null,null,null,null,null,null,{"$f":"MIN(IF('Shooter Information'!H25=1,999.99,(D23*5)+E23-F23+(G23*10)+(H23*30)+(I23*999.99)+(J23*999.99)),999.99)","v":0},0,{"$f":"(IF('Shooter Information'!H25=1,\"MDQ\",IF(J23=1,\"SDQ\",IF(I23=1,\"DNF\",SUM(D23+G23+H23+I23+J23)))))","v":0},null,0]
[21,{"$f":"'Shooter Information'!B26","v":0},{"$f":"'Shooter Information'!C26","v":0},null,null,null,null,null,null,null,{"$f":"MIN(IF('Shooter Information'!H26=1,999.99,(D24*5)+E24-F24+(G24*10)+(H24*30)+(I24*999.99)+(J24*999.99)),999.99)","v":0},0,{"$f":"(IF('Shooter Information'!H26=1,\"MDQ\",IF(J24=1,\"SDQ\",IF(I24=1,\"DNF\",SUM(D24+G24+H24+I24+J24)))))","v":0},null,0]
[22,{"$f":"'Shooter Information'!B27","v":0},{"$f":"'Shooter Information'!C27","v":0},null,null,null,null,null,null,null,{"$f":"MIN(IF('Shooter Information'!H27=1,999.99,(D25*5)+E25-F25+(G25*10)+(H25*30)+(I25*999.99)+(J25*999.99)),999.99)","v":0},0,{"$f":"(IF('Shooter Information'!H27=1,\"MDQ\",IF(J25=1,\"SDQ\",IF(I25=1,\"DNF\",SUM(D25+G25+H25+I25+J25)))))","v":0},null,0]
[23,{"$f":"'Shooter Information'!B28","v":0},{"$f":"'Shooter Information'!C28","v":0},null,null,null,null,null,null,null,{"$f":"MIN(IF('Shooter Information'!H28=1,999.99,(D26*5)+E26-F26+(G26*10)+(H26*30)+(I26*999.99)+(J26*999.99)),999.99)","v":0},0,{"$f":"(IF('Shooter Information'!H28=1,\"MDQ\",IF(J26=1,\"SDQ\",IF(I26=1,\"DNF\",SUM(D26+G26+H26+I26+J26)))))","v":0},null,0]
[24,{"$f":"'Shooter Information'!B29","v":0},{"$f":"'Shooter Information'!C29","v":0},null,null,null,null,null,null,null,{"$f":"MIN(IF('Shooter Information'!H29=1,999.99,(D27*5)+E27-F27+(G27*10)+(H27*30)+(I27*999.99)+(J27*999.99)),999.99)","v":0},0,{"$f":"(IF('Shooter Information'!H29=1,\"MDQ\",IF(J27=1,\"SDQ\",IF(I27=1,\"DNF\",SUM(D27+G27+H27+I27+J27)))))","v":0},null,0]
[25,{"$f":"'Shooter Information'!B30","v":0},{"$f":"'Shooter Information'!C30","v":0},null,null,null,null,null,null,null,{"$f":"MIN(IF('Shooter Information'!H30=1,999.99,(D28*5)+E28-F28+(G28*10)+(H28*30)+(I28*999.99)+(J28*999.99)),999.99)","v":0},0,{"$f":"(IF('Shooter Information'!H30=1,\"MDQ\",IF(J28=1,\"SDQ\",IF(I28=1,\"DNF\",SUM(D28+G28+H28+I28+J28)))))","v":0},null,0]
[26,{"$f":"'Shooter Information'!B31","v":0},{"$f":"'Shooter Information'!C31","v":0},null,null,null,null,null,null,null,{"$f":"MIN(IF('Shooter Information'!H31=1,999.99,(D29*5)+E29-F29+(G29*10)+(H29*30)+(I29*999.99)+(J29*999.99)),999.99)","v":0},0,{"$f":"(IF('Shooter Information'!H31=1,\"MDQ\",IF(J29=1,\"SDQ\",IF(I29=1,\"DNF\",SUM(D29+G29+H29+I29+J29)))))","v":0},null,0]
[27,{"$f":"'Shooter Information'!B32","v":0},{"$f":"'Shooter Information'!C32","v":0},null,null,null,null,null,null,null,{"$f":"MIN(IF('Shooter Information'!H32=1,999.99,(D30*5)+E30-F30+(G30*10)+(H30*30)+(I30*999.99)+(J30*999.99)),999.99)","v":0},0,{"$f":"(IF('Shooter Information'!H32=1,\"MDQ\",IF(J30=1,\"SDQ\",IF(I30=1,\"DNF\",SUM(D30+G30+H30+I30+J30)))))","v":0},null,0]
[28,{"$f":"'Shooter Information'!B33","v":0},{"$f":"'Shooter Information'!C33","v":0},null,null,null,null,null,null,null,{"$f":"MIN(IF('Shooter Information'!H33=1,999.99,(D31*5)+E31-F31+(G31*10)+(H31*30)+(I31*999.99)+(J31*999.99)),999.99)","v":0},0,{"$f":"(IF('Shooter Information'!H33=1,\"MDQ\",IF(J31=1,\"SDQ\",IF(I31=1,\"DNF\",SUM(D31+G31+H31+I31+J31)))))","v":0},null,0]
[29,{"$f":"'Shooter Information'!B34","v":0},{"$f":"'Shooter Information'!C34","v":0},null,null,null,null,null,null,null,{"$f":"MIN(IF('Shooter Information'!H34=1,999.99,(D32*5)+E32-F32+(G32*10)+(H32*30)+(I32*999.99)+(J32*999.99)),999.99)","v":0},0,{"$f":"(IF('Shooter Information'!H34=1,\"MDQ\",IF(J32=1,\"SDQ\",IF(I32=1,\"DNF\",SUM(D32+G32+H32+I32+J32)))))","v":0},null,0]
[30,{"$f":"'Shooter Information'!B35","v":0},{"$f":"'Shooter Information'!C35","v":0},null,null,null,null,null,null,null,{"$f":"MIN(IF('Shooter Information'!H35=1,999.99,(D33*5)+E33-F33+(G33*10)+(H33*30)+(I33*999.99)+(J33*999.99)),999.99)","v":0},0,{"$f":"(IF('Shooter Information'!H35=1,\"MDQ\",IF(J33=1,\"SDQ\",IF(I33=1,\"DNF\",SUM(D33+G33+H33+I33+J33)))))","v":0},null,0]
[31,{"$f":"'Shooter Information'!B36","v":0},{"$f":"'Shooter Information'!C36","v":0},null,null,null,null,null,null,null,{"$f":"MIN(IF('Shooter Information'!H36=1,999.99,(D34*5)+E34-F34+(G34*10)+(H34*30)+(I34*999.99)+(J34*999.99)),999.99)","v":0},0,{"$f":"(IF('Shooter Information'!H36=1,\"MDQ\",IF(J34=1,\"SDQ\",IF(I34=1,\"DNF\",SUM(D34+G34+H34+I34+J34)))))","v":0},null,0]
[32,{"$f":"'Shooter Information'!B37","v":0},{"$f":"'Shooter Information'!C37","v":0},null,null,null,null,null,null,null,{"$f":"MIN(IF('Shooter Information'!H37=1,999.99,(D35*5)+E35-F35+(G35*10)+(H35*30)+(I35*999.99)+(J35*999.99)),999.99)","v":0},0,{"$f":"(IF('Shooter Information'!H37=1,\"MDQ\",IF(J35=1,\"SDQ\",IF(I35=1,\"DNF\",SUM(D35+G35+H35+I35+J35)))))","v":0},null,0]
[33,{"$f":"'Shooter Information'!B38","v":0},{"$f":"'Shooter Information'!C38","v":0},null,null,null,null,null,null,null,{"$f":"MIN(IF('Shooter Information'!H38=1,999.99,(D36*5)+E36-F36+(G36*10)+(H36*30)+(I36*999.99)+(J36*999.99)),999.99)","v":0},0,{"$f":"(IF('Shooter Information'!H38=1,\"MDQ\",IF(J36=1,\"SDQ\",IF(I36=1,\"DNF\",SUM(D36+G36+H36+I36+J36)))))","v":0},null,0]
[34,{"$f":"'Shooter Information'!B39","v":0},{"$f":"'Shooter Information'!C39","v":0},null,null,null,null,null,null,null,{"$f":"MIN(IF('Shooter Information'!H39=1,999.99,(D37*5)+E37-F37+(G37*10)+(H37*30)+(I37*999.99)+(J37*999.99)),999.99)","v":0},0,{"$f":"(IF('Shooter Information'!H39=1,\"MDQ\",IF(J37=1,\"SDQ\",IF(I37=1,\"DNF\",SUM(D37+G37+H37+I37+J37)))))","v":0},null,0]
[35,{"$f":"'Shooter Information'!B40","v":0},{"$f":"'Shooter Information'!C40","v":0},null,null,null,null,null,null,null,{"$f":"MIN(IF('Shooter Information'!H40=1,999.99,(D38*5)+E38-F38+(G38*10)+(H38*30)+(I38*999.99)+(J38*999.99)),999.99)","v":0},0,{"$f":"(IF('Shooter Information'!H40=1,\"MDQ\",IF(J38=1,\"SDQ\",IF(I38=1,\"DNF\",SUM(D38+G38+H38+I38+J38)))))","v":0},null,0]
[36,{"$f":"'Shooter Information'!B41","v":0},{"$f":"'Shooter Information'!C41","v":0},null,null,null,null,null,null,null,{"$f":"MIN(IF('Shooter Information'!H41=1,999.99,(D39*5)+E39-F39+(G39*10)+(H39*30)+(I39*999.99)+(J39*999.99)),999.99)","v":0},0,{"$f":"(IF('Shooter Information'!H41=1,\"MDQ\",IF(J39=1,\"SDQ\",IF(I39=1,\"DNF\",SUM(D39+G39+H39+I39+J39)))))","v":0},null,0]
[37,{"$f":"'Shooter Information'!B42","v":0},{"$f":"'Shooter Information'!C42","v":0},null,null,null,null,null,null,null,{"$f":"MIN(IF('Shooter Information'!H42=1,999.99,(D40*5)+E40-F40+(G40*10)+(H40*30)+(I40*999.99)+(J40*999.99)),999.99)","v":0},0,{"$f":"(IF('Shooter Information'!H42=1,\"MDQ\",IF(J40=1,\"SDQ\",IF(I40=1,\"DNF\",SUM(D40+G40+H40+I40+J40)))))","v":0},null,0]
[38,{"$f":"'Shooter Information'!B43","v":0},{"$f":"'Shooter Information'!C43","v":0},null,null,null,null,null,null,null,{"$f":"MIN(IF('Shooter Information'!H43=1,999.99,(D41*5)+E41-F41+(G41*10)+(H41*30)+(I41*999.99)+(J41*999.99)),999.99)","v":0},0,{"$f":"(IF('Shooter Information'!H43=1,\"MDQ\",IF(J41=1,\"SDQ\",IF(I41=1,\"DNF\",SUM(D41+G41+H41+I41+J41)))))","v":0},null,0]
[39,{"$f":"'Shooter Information'!B44","v":0},{"$f":"'Shooter Information'!C44","v":0},null,null,null,null,null,null,null,{"$f":"MIN(IF('Shooter Information'!H44=1,999.99,(D42*5)+E42-F42+(G42*10)+(H42*30)+(I42*999.99)+(J42*999.99)),999.99)","v":0},0,{"$f":"(IF('Shooter Information'!H44=1,\"MDQ\",IF(J42=1,\"SDQ\",IF(I42=1,\"DNF\",SUM(D42+G42+H42+I42+J42)))))","v":0},null,0]
[40,{"$f":"'Shooter Information'!B45","v":0},{"$f":"'Shooter Information'!C45","v":0},null,null,null,null,null,null,null,{"$f":"MIN(IF('Shooter Information'!H45=1,999.99,(D43*5)+E43-F43+(G43*10)+(H43*30)+(I43*999.99)+(J43*999.99)),999.99)","v":0},0,{"$f":"(IF('Shooter Information'!H45=1,\"MDQ\",IF(J43=1,\"SDQ\",IF(I43=1,\"DNF\",SUM(D43+G43+H43+I43+J43)))))","v":0},null,0]
[41,{"$f":"'Shooter Information'!B46","v":0},{"$f":"'Shooter Information'!C46","v":0},null,null,null,null,null,null,null,{"$f":"MIN(IF('Shooter Information'!H46=1,999.99,(D44*5)+E44-F44+(G44*10)+(H44*30)+(I44*999.99)+(J44*999.99)),999.99)","v":0},0,{"$f":"(IF('Shooter Information'!H46=1,\"MDQ\",IF(J44=1,\"SDQ\",IF(I44=1,\"DNF\",SUM(D44+G44+H44+I44+J44)))))","v":0},null,0]
[42,{"$f":"'Shooter Information'!B47","v":0},{"$f":"'Shooter Information'!C47","v":0},null,null,null,null,null,null,null,{"$f":"MIN(IF('Shooter Information'!H47=1,999.99,(D45*5)+E45-F45+(G45*10)+(H45*30)+(I45*999.99)+(J45*999.99)),999.99)","v":0},0,{"$f":"(IF('Shooter Information'!H47=1,\"MDQ\",IF(J45=1,\"SDQ\",IF(I45=1,\"DNF\",SUM(D45+G45+H45+I45+J45)))))","v":0},null,0]
[43,{"$f":"'Shooter Information'!B48","v":0},{"$f":"'Shooter Information'!C48","v":0},null,null,null,null,null,null,null,{"$f":"MIN(IF('Shooter Information'!H48=1,999.99,(D46*5)+E46-F46+(G46*10)+(H46*30)+(I46*999.99)+(J46*999.99)),999.99)","v":0},0,{"$f":"(IF('Shooter Information'!H48=1,\"MDQ\",IF(J46=1,\"SDQ\",IF(I46=1,\"DNF\",SUM(D46+G46+H46+I46+J46)))))","v":0},null,0]
[44,{"$f":"'Shooter Information'!B49","v":0},{"$f":"'Shooter Information'!C49","v":0},null,null,null,null,null,null,null,{"$f":"MIN(IF('Shooter Information'!H49=1,999.99,(D47*5)+E47-F47+(G47*10)+(H47*30)+(I47*999.99)+(J47*999.99)),999.99)","v":0},0,{"$f":"(IF('Shooter Information'!H49=1,\"MDQ\",IF(J47=1,\"SDQ\",IF(I47=1,\"DNF\",SUM(D47+G47+H47+I47+J47)))))","v":0},null,0]
[45,{"$f":"'Shooter Information'!B50","v":0},{"$f":"'Shooter Information'!C50","v":0},null,null,null,null,null,null,null,{"$f":"MIN(IF('Shooter Information'!H50=1,999.99,(D48*5)+E48-F48+(G48*10)+(H48*30)+(I48*999.99)+(J48*999.99)),999.99)","v":0},0,{"$f":"(IF('Shooter Information'!H50=1,\"MDQ\",IF(J48=1,\"SDQ\",IF(I48=1,\"DNF\",SUM(D48+G48+H48+I48+J48)))))","v":0},null,0]
[46,{"$f":"'Shooter Information'!B51","v":0},{"$f":"'Shooter Information'!C51","v":0},null,null,null,null,null,null,null,{"$f":"MIN(IF('Shooter Information'!H51=1,999.99,(D49*5)+E49-F49+(G49*10)+(H49*30)+(I49*999.99)+(J49*999.99)),999.99)","v":0},0,{"$f":"(IF('Shooter Information'!H51=1,\"MDQ\",IF(J49=1,\"SDQ\",IF(I49=1,\"DNF\",SUM(D49+G49+H49+I49+J49)))))","v":0},null,0]
[47,{"$f":"'Shooter Information'!B52","v":0},{"$f":"'Shooter Information'!C52","v":0},null,null,null,null,null,null,null,{"$f":"MIN(IF('Shooter Information'!H52=1,999.99,(D50*5)+E50-F50+(G50*10)+(H50*30)+(I50*999.99)+(J50*999.99)),999.99)","v":0},0,{"$f":"(IF('Shooter Information'!H52=1,\"MDQ\",IF(J50=1,\"SDQ\",IF(I50=1,\"DNF\",SUM(D50+G50+H50+I50+J50)))))","v":0},null,0]
[48,{"$f":"'Shooter Information'!B53","v":0},{"$f":"'Shooter Information'!C53","v":0},null,null,null,null,null,null,null,{"$f":"MIN(IF('Shooter Information'!H53=1,999.99,(D51*5)+E51-F51+(G51*10)+(H51*30)+(I51*999.99)+(J51*999.99)),999.99)","v":0},0,{"$f":"(IF('Shooter Information'!H53=1,\"MDQ\",IF(J51=1,\"SDQ\",IF(I51=1,\"DNF\",SUM(D51+G51+H51+I51+J51)))))","v":0},null,0]
[49,{"$f":"'Shooter Information'!B54","v":0},{"$f":"'Shooter Information'!C54","v":0},null,null,null,null,null,null,null,{"$f":"MIN(IF('Shooter Information'!H54=1,999.99,(D52*5)+E52-F52+(G52*10)+(H52*30)+(I52*999.99)+(J52*999.99)),999.99)","v":0},0,{"$f":"(IF('Shooter Information'!H54=1,\"MDQ\",IF(J52=1,\"SDQ\",IF(I52=1,\"DNF\",SUM(D52+G52+H52+I52+J52)))))","v":0},null,0]
[50,{"$f":"'Shooter Information'!B55","v":0},{"$f":"'Shooter Information'!C55","v":0},null,null,null,null,null,null,null,{"$f":"MIN(IF('Shooter Information'!H55=1,999.99,(D53*5)+E53-F53+(G53*10)+(H53*30)+(I53*999.99)+(J53*999.99)),999.99)","v":0},0,{"$f":"(IF('Shooter Information'!H55=1,\"MDQ\",IF(J53=1,\"SDQ\",IF(I53=1,\"DNF\",SUM(D53+G53+H53+I53+J53)))))","v":0},null,0]
[51,{"$f":"'Shooter Information'!B56","v":0},{"$f":"'Shooter Information'!C56","v":0},null,null,null,null,null,null,null,{"$f":"MIN(IF('Shooter Information'!H56=1,999.99,(D54*5)+E54-F54+(G54*10)+(H54*30)+(I54*999.99)+(J54*999.99)),999.99)","v":0},0,{"$f":"(IF('Shooter Information'!H56=1,\"MDQ\",IF(J54=1,\"SDQ\",IF(I54=1,\"DNF\",SUM(D54+G54+H54+I54+J54)))))","v":0},null,0]
[52,{"$f":"'Shooter Information'!B57","v":0},{"$f":"'Shooter Information'!C57","v":0},null,null,null,null,null,null,null,{"$f":"MIN(IF('Shooter Information'!H57=1,999.99,(D55*5)+E55-F55+(G55*10)+(H55*30)+(I55*999.99)+(J55*999.99)),999.99)","v":0},0,{"$f":"(IF('Shooter Information'!H57=1,\"MDQ\",IF(J55=1,\"SDQ\",IF(I55=1,\"DNF\",SUM(D55+G55+H55+I55+J55)))))","v":0},null,0]
[53,{"$f":"'Shooter Information'!B58","v":0},{"$f":"'Shooter Information'!C58","v":0},null,null,null,null,null,null,null,{"$f":"MIN(IF('Shooter Information'!H58=1,999.99,(D56*5)+E56-F56+(G56*10)+(H56*30)+(I56*999.99)+(J56*999.99)),999.99)","v":0},0,{"$f":"(IF('Shooter Information'!H58=1,\"MDQ\",IF(J56=1,\"SDQ\",IF(I56=1,\"DNF\",SUM(D56+G56+H56+I56+J56)))))","v":0},null,0]
[54,{"$f":"'Shooter Information'!B59","v":0},{"$f":"'Shooter Information'!C59","v":0},null,null,null,null,null,null,null,{"$f":"MIN(IF('Shooter Information'!H59=1,999.99,(D57*5)+E57-F57+(G57*10)+(H57*30)+(I57*999.99)+(J57*999.99)),999.99)","v":0},0,{"$f":"(IF('Shooter Information'!H59=1,\"MDQ\",IF(J57=1,\"SDQ\",IF(I57=1,\"DNF\",SUM(D57+G57+H57+I57+J57)))))","v":0},null,0]
[55,{"$f":"'Shooter Information'!B60","v":0},{"$f":"'Shooter Information'!C60","v":0},null,null,null,null,null,null,null,{"$f":"MIN(IF('Shooter Information'!H60=1,999.99,(D58*5)+E58-F58+(G58*10)+(H58*30)+(I58*999.99)+(J58*999.99)),999.99)","v":0},0,{"$f":"(IF('Shooter Information'!H60=1,\"MDQ\",IF(J58=1,\"SDQ\",IF(I58=1,\"DNF\",SUM(D58+G58+H58+I58+J58)))))","v":0},null,0]
[56,{"$f":"'Shooter Information'!B61","v":0},{"$f":"'Shooter Information'!C61","v":0},null,null,null,null,null,null,null,{"$f":"MIN(IF('Shooter Information'!H61=1,999.99,(D59*5)+E59-F59+(G59*10)+(H59*30)+(I59*999.99)+(J59*999.99)),999.99)","v":0},0,{"$f":"(IF('Shooter Information'!H61=1,\"MDQ\",IF(J59=1,\"SDQ\",IF(I59=1,\"DNF\",SUM(D59+G59+H59+I59+J59)))))","v":0},null,0]
[57,{"$f":"'Shooter Information'!B62","v":0},{"$f":"'Shooter Information'!C62","v":0},null,null,null,null,null,null,null,{"$f":"MIN(IF('Shooter Information'!H62=1,999.99,(D60*5)+E60-F60+(G60*10)+(H60*30)+(I60*999.99)+(J60*999.99)),999.99)","v":0},0,{"$f":"(IF('Shooter Information'!H62=1,\"MDQ\",IF(J60=1,\"SDQ\",IF(I60=1,\"DNF\",SUM(D60+G60+H60+I60+J60)))))","v":0},null,0]
[58,{"$f":"'Shooter Information'!B63","v":0},{"$f":"'Shooter Information'!C63","v":0},null,null,null,null,null,null,null,{"$f":"MIN(IF('Shooter Information'!H63=1,999.99,(D61*5)+E61-F61+(G61*10)+(H61*30)+(I61*999.99)+(J61*999.99)),999.99)","v":0},0,{"$f":"(IF('Shooter Information'!H63=1,\"MDQ\",IF(J61=1,\"SDQ\",IF(I61=1,\"DNF\",SUM(D61+G61+H61+I61+J61)))))","v":0},null,0]
[59,{"$f":"'Shooter Information'!B64","v":0},{"$f":"'Shooter Information'!C64","v":0},null,null,null,null,null,null,null,{"$f":"MIN(IF('Shooter Information'!H64=1,999.99,(D62*5)+E62-F62+(G62*10)+(H62*30)+(I62*999.99)+(J62*999.99)),999.99)","v":0},0,{"$f":"(IF('Shooter Information'!H64=1,\"MDQ\",IF(J62=1,\"SDQ\",IF(I62=1,\"DNF\",SUM(D62+G62+H62+I62+J62)))))","v":0},null,0]
[60,{"$f":"'Shooter Information'!B65","v":0},{"$f":"'Shooter Information'!C65","v":0},null,null,null,null,null,null,null,{"$f":"MIN(IF('Shooter Information'!H65=1,999.99,(D63*5)+E63-F63+(G63*10)+(H63*30)+(I63*999.99)+(J63*999.99)),999.99)","v":0},0,{"$f":"(IF('Shooter Information'!H65=1,\"MDQ\",IF(J63=1,\"SDQ\",IF(I63=1,\"DNF\",SUM(D63+G63+H63+I63+J63)))))","v":0},null,0]
[61,{"$f":"'Shooter Information'!B66","v":0},{"$f":"'Shooter Information'!C66","v":0},null,null,null,null,null,null,null,{"$f":"MIN(IF('Shooter Information'!H66=1,999.99,(D64*5)+E64-F64+(G64*10)+(H64*30)+(I64*999.99)+(J64*999.99)),999.99)","v":0},0,{"$f":"(IF('Shooter Information'!H66=1,\"MDQ\",IF(J64=1,\"SDQ\",IF(I64=1,\"DNF\",SUM(D64+G64+H64+I64+J64)))))","v":0},null,0]
[62,{"$f":"'Shooter Information'!B67","v":0},{"$f":"'Shooter Information'!C67","v":0},null,null,null,null,null,null,null,{"$f":"MIN(IF('Shooter Information'!H67=1,999.99,(D65*5)+E65-F65+(G65*10)+(H65*30)+(I65*999.99)+(J65*999.99)),999.99)","v":0},0,{"$f":"(IF('Shooter Information'!H67=1,\"MDQ\",IF(J65=1,\"SDQ\",IF(I65=1,\"DNF\",SUM(D65+G65+H65+I65+J65)))))","v":0},null,0]
[63,{"$f":"'Shooter Information'!B68","v":0},{"$f":"'Shooter Information'!C68","v":0},null,null,null,null,null,null,null,{"$f":"MIN(IF('Shooter Information'!H68=1,999.99,(D66*5)+E66-F66+(G66*10)+(H66*30)+(I66*999.99)+(J66*999.99)),999.99)","v":0},0,{"$f":"(IF('Shooter Information'!H68=1,\"MDQ\",IF(J66=1,\"SDQ\",IF(I66=1,\"DNF\",SUM(D66+G66+H66+I66+J66)))))","v":0},null,0]
[64,{"$f":"'Shooter Information'!B69","v":0},{"$f":"'Shooter Information'!C69","v":0},null,null,null,null,null,null,null,{"$f":"MIN(IF('Shooter Information'!H69=1,999.99,(D67*5)+E67-F67+(G67*10)+(H67*30)+(I67*999.99)+(J67*999.99)),999.99)","v":0},0,{"$f":"(IF('Shooter Information'!H69=1,\"MDQ\",IF(J67=1,\"SDQ\",IF(I67=1,\"DNF\",SUM(D67+G67+H67+I67+J67)))))","v":0},null,0]
[65,{"$f":"'Shooter Information'!B70","v":0},{"$f":"'Shooter Information'!C70","v":0},null,null,null,null,null,null,null,{"$f":"MIN(IF('Shooter Information'!H70=1,999.99,(D68*5)+E68-F68+(G68*10)+(H68*30)+(I68*999.99)+(J68*999.99)),999.99)","v":0},0,{"$f":"(IF('Shooter Information'!H70=1,\"MDQ\",IF(J68=1,\"SDQ\",IF(I68=1,\"DNF\",SUM(D68+G68+H68+I68+J68)))))","v":0},null,0]
[66,{"$f":"'Shooter Information'!B71","v":0},{"$f":"'Shooter Information'!C71","v":0},null,null,null,null,null,null,null,{"$f":"MIN(IF('Shooter Information'!H71=1,999.99,(D69*5)+E69-F69+(G69*10)+(H69*30)+(I69*999.99)+(J69*999.99)),999.99)","v":0},{"$f":"IF(K69>0,SUMPRODUCT(--(K69>$K$4:$K$78),--($K$4:$K$78>0))+1,0)","v":0},{"$f":"(IF('Shooter Information'!H71=1,\"MDQ\",IF(J69=1,\"SDQ\",IF(I69=1,\"DNF\",SUM(D69+G69+H69+I69+J69)))))","v":0},null,{"$f":"SUM(D69+G69+H69+I69+J69)","v":0}]
[67,{"$f":"'Shooter Information'!B72","v":0},{"$f":"'Shooter Information'!C72","v":0},null,null,null,null,null,null,null,{"$f":"MIN(IF('Shooter Information'!H72=1,999.99,(D70*5)+E70-F70+(G70*10)+(H70*30)+(I70*999.99)+(J70*999.99)),999.99)","v":0},0,{"$f":"(IF('Shooter Information'!H72=1,\"MDQ\",IF(J70=1,\"SDQ\",IF(I70=1,\"DNF\",SUM(D70+G70+H70+I70+J70)))))","v":0},null,0]
[68,{"$f":"'Shooter Information'!B73","v":0},{"$f":"'Shooter Information'!C73","v":0},null,null,null,null,null,null,null,{"$f":"MIN(IF('Shooter Information'!H73=1,999.99,(D71*5)+E71-F71+(G71*10)+(H71*30)+(I71*999.99)+(J71*999.99)),999.99)","v":0},0,{"$f":"(IF('Shooter Information'!H73=1,\"MDQ\",IF(J71=1,\"SDQ\",IF(I71=1,\"DNF\",SUM(D71+G71+H71+I71+J71)))))","v":0},null,0]
[69,{"$f":"'Shooter Information'!B74","v":0},{"$f":"'Shooter Information'!C74","v":0},null,null,null,null,null,null,null,{"$f":"MIN(IF('Shooter Information'!H74=1,999.99,(D72*5)+E72-F72+(G72*10)+(H72*30)+(I72*999.99)+(J72*999.99)),999.99)","v":0},0,{"$f":"(IF('Shooter Information'!H74=1,\"MDQ\",IF(J72=1,\"SDQ\",IF(I72=1,\"DNF\",SUM(D72+G72+H72+I72+J72)))))","v":0},null,0]
[70,{"$f":"'Shooter Information'!B75","v":0},{"$f":"'Shooter Information'!C75","v":0},null,null,null,null,null,null,null,{"$f":"MIN(IF('Shooter Information'!H75=1,999.99,(D73*5)+E73-F73+(G73*10)+(H73*30)+(I73*999.99)+(J73*999.99)),999.99)","v":0},0,{"$f":"(IF('Shooter Information'!H75=1,\"MDQ\",IF(J73=1,\"SDQ\",IF(I73=1,\"DNF\",SUM(D73+G73+H73+I73+J73)))))","v":0},null,0]
[71,{"$f":"'Shooter Information'!B76","v":0},{"$f":"'Shooter Information'!C76","v":0},null,null,null,null,null,null,null,{"$f":"MIN(IF('Shooter Information'!H76=1,999.99,(D74*5)+E74-F74+(G74*10)+(H74*30)+(I74*999.99)+(J74*999.99)),999.99)","v":0},0,{"$f":"(IF('Shooter Information'!H76=1,\"MDQ\",IF(J74=1,\"SDQ\",IF(I74=1,\"DNF\",SUM(D74+G74+H74+I74+J74)))))","v":0},null,0]
[72,{"$f":"'Shooter Information'!B77","v":0},{"$f":"'Shooter Information'!C77","v":0},null,null,null,null,null,null,null,{"$f":"MIN(IF('Shooter Information'!H77=1,999.99,(D75*5)+E75-F75+(G75*10)+(H75*30)+(I75*999.99)+(J75*999.99)),999.99)","v":0},0,{"$f":"(IF('Shooter Information'!H77=1,\"MDQ\",IF(J75=1,\"SDQ\",IF(I75=1,\"DNF\",SUM(D75+G75+H75+I75+J75)))))","v":0},null,0]
[73,{"$f":"'Shooter Information'!B78","v":0},{"$f":"'Shooter Information'!C78","v":0},null,null,null,null,null,null,null,{"$f":"MIN(IF('Shooter Information'!H78=1,999.99,(D76*5)+E76-F76+(G76*10)+(H76*30)+(I76*999.99)+(J76*999.99)),999.99)","v":0},0,{"$f":"(IF('Shooter Information'!H78=1,\"MDQ\",IF(J76=1,\"SDQ\",IF(I76=1,\"DNF\",SUM(D76+G76+H76+I76+J76)))))","v":0},null,0]
[74,{"$f":"'Shooter Information'!B79","v":0},{"$f":"'Shooter Information'!C79","v":0},null,null,null,null,null,null,null,{"$f":"MIN(IF('Shooter Information'!H79=1,999.99,(D77*5)+E77-F77+(G77*10)+(H77*30)+(I77*999.99)+(J77*999.99)),999.99)","v":0},0,{"$f":"(IF('Shooter Information'!H79=1,\"MDQ\",IF(J77=1,\"SDQ\",IF(I77=1,\"DNF\",SUM(D77+G77+H77+I77+J77)))))","v":0},null,0]
[75,{"$f":"'Shooter Information'!B80","v":0},{"$f":"'Shooter Information'!C80","v":0},null,null,null,null,null,null,null,{"$f":"MIN(IF('Shooter Information'!H80=1,999.99,(D78*5)+E78-F78+(G78*10)+(H78*30)+(I78*999.99)+(J78*999.99)),999.99)","v":0},0,{"$f":"(IF('Shooter Information'!H80=1,\"MDQ\",IF(J78=1,\"SDQ\",IF(I78=1,\"DNF\",SUM(D78+G78+H78+I78+J78)))))","v":0},null,0]

{"sheet":"Stage 3","index":4,"n_rows":78,"n_cols":15,"rows_kept":78,"cut":false,"hidden":false,"merged":[]}
[null,"Stage Input Sheet - Stage 3"]
[]
["Shooter #","Shooter","Class","Misses","Raw Time","Bonus","10 Sec","30 Sec","DNF","SDQ","Total","Rank","Penalties",null,"# Penalties"]
[{"$f":"ROW()-3","v":1},{"$f":"'Shooter Information'!B6","v":"Striker"},{"$f":"'Shooter Information'!C6","v":"WW"},null,21.27,null,null,null,null,null,{"$f":"MIN(IF('Shooter Information'!H6=1,999.99,(D4*5)+E4-F4+(G4*10)+(H4*30)+(I4*999.99)+(J4*999.99)),999.99)","v":21.27},{"$f":"IF(K4>0,SUMPRODUCT(--(K4>$K$4:$K$78),--($K$4:$K$78>0))+1,0)","v":5},{"$f":"(IF('Shooter Information'!H6=1,\"MDQ\",IF(J4=1,\"SDQ\",IF(I4=1,\"DNF\",SUM(D4+G4+H4+I4+J4)))))","v":0},null,{"$f":"SUM(D4+G4+H4+I4+J4)","v":0}]
[{"$f":"ROW()-3","v":2},{"$f":"'Shooter Information'!B7","v":"Cody Maverick"},{"$f":"'Shooter Information'!C7","v":"GF"},null,20.03,null,null,null,null,null,{"$f":"MIN(IF('Shooter Information'!H7=1,999.99,(D5*5)+E5-F5+(G5*10)+(H5*30)+(I5*999.99)+(J5*999.99)),999.99)","v":20.03},{"$f":"IF(K5>0,SUMPRODUCT(--(K5>$K$4:$K$78),--($K$4:$K$78>0))+1,0)","v":4},{"$f":"(IF('Shooter Information'!H7=1,\"MDQ\",IF(J5=1,\"SDQ\",IF(I5=1,\"DNF\",SUM(D5+G5+H5+I5+J5)))))","v":0},null,{"$f":"SUM(D5+G5+H5+I5+J5)","v":0}]
[3,{"$f":"'Shooter Information'!B8","v":"Potter County Kid"},{"$f":"'Shooter Information'!C8","v":"WW"},1,25.71,null,null,null,null,null,{"$f":"MIN(IF('Shooter Information'!H8=1,999.99,(D6*5)+E6-F6+(G6*10)+(H6*30)+(I6*999.99)+(J6*999.99)),999.99)","v":30.71},10,{"$f":"(IF('Shooter Information'!H8=1,\"MDQ\",IF(J6=1,\"SDQ\",IF(I6=1,\"DNF\",SUM(D6+G6+H6+I6+J6)))))","v":1},null,1]
[4,{"$f":"'Shooter Information'!B9","v":"Ricochet Kid"},{"$f":"'Shooter Information'!C9","v":"W"},null,25.59,null,null,null,null,null,{"$f":"MIN(IF('Shooter Information'!H9=1,999.99,(D7*5)+E7-F7+(G7*10)+(H7*30)+(I7*999.99)+(J7*999.99)),999.99)","v":25.59},8,{"$f":"(IF('Shooter Information'!H9=1,\"MDQ\",IF(J7=1,\"SDQ\",IF(I7=1,\"DNF\",SUM(D7+G7+H7+I7+J7)))))","v":0},null,0]
[5,{"$f":"'Shooter Information'!B10","v":"Flatboat Bob"},{"$f":"'Shooter Information'!C10","v":"CBAR"},null,32.65,null,null,null,null,null,{"$f":"MIN(IF('Shooter Information'!H10=1,999.99,(D8*5)+E8-F8+(G8*10)+(H8*30)+(I8*999.99)+(J8*999.99)),999.99)","v":32.65},11,{"$f":"(IF('Shooter Information'!H10=1,\"MDQ\",IF(J8=1,\"SDQ\",IF(I8=1,\"DNF\",SUM(D8+G8+H8+I8+J8)))))","v":0},null,0]
[6,{"$f":"'Shooter Information'!B11","v":"Hotshod"},{"$f":"'Shooter Information'!C11","v":"W"},null,34.57,null,null,null,null,null,{"$f":"MIN(IF('Shooter Information'!H11=1,999.99,(D9*5)+E9-F9+(G9*10)+(H9*30)+(I9*999.99)+(J9*999.99)),999.99)","v":34.57},12,{"$f":"(IF('Shooter Information'!H11=1,\"MDQ\",IF(J9=1,\"SDQ\",IF(I9=1,\"DNF\",SUM(D9+G9+H9+I9+J9)))))","v":0},null,0]
[7,{"$f":"'Shooter Information'!B12","v":"Prairie City Slim"},{"$f":"'Shooter Information'!C12","v":"ES"},null,25.52,null,null,null,null,null,{"$f":"MIN(IF('Shooter Information'!H12=1,999.99,(D10*5)+E10-F10+(G10*10)+(H10*30)+(I10*999.99)+(J10*999.99)),999.99)","v":25.52},7,{"$f":"(IF('Shooter Information'!H12=1,\"MDQ\",IF(J10=1,\"SDQ\",IF(I10=1,\"DNF\",SUM(D10+G10+H10+I10+J10)))))","v":0},null,0]
[8,{"$f":"'Shooter Information'!B13","v":"Regret Schofield"},{"$f":"'Shooter Information'!C13","v":"49er"},null,43.22,null,null,null,null,null,{"$f":"MIN(IF('Shooter Information'!H13=1,999.99,(D11*5)+E11-F11+(G11*10)+(H11*30)+(I11*999.99)+(J11*999.99)),999.99)","v":43.22},13,{"$f":"(IF('Shooter Information'!H13=1,\"MDQ\",IF(J11=1,\"SDQ\",IF(I11=1,\"DNF\",SUM(D11+G11+H11+I11+J11)))))","v":0},null,0]
[9,{"$f":"'Shooter Information'!B14","v":"Tumble Weed Tink"},{"$f":"'Shooter Information'!C14","v":"L49"},null,61.13,null,null,null,null,null,{"$f":"MIN(IF('Shooter Information'!H14=1,999.99,(D12*5)+E12-F12+(G12*10)+(H12*30)+(I12*999.99)+(J12*999.99)),999.99)","v":61.13},16,{"$f":"(IF('Shooter Information'!H14=1,\"MDQ\",IF(J12=1,\"SDQ\",IF(I12=1,\"DNF\",SUM(D12+G12+H12+I12+J12)))))","v":0},null,0]
[10,{"$f":"'Shooter Information'!B15","v":"One Eyed Jane"},{"$f":"'Shooter Information'!C15","v":"LSS"},null,51.81,null,null,null,null,null,{"$f":"MIN(IF('Shooter Information'!H15=1,999.99,(D13*5)+E13-F13+(G13*10)+(H13*30)+(I13*999.99)+(J13*999.99)),999.99)","v":51.81},15,{"$f":"(IF('Shooter Information'!H15=1,\"MDQ\",IF(J13=1,\"SDQ\",IF(I13=1,\"DNF\",SUM(D13+G13+H13+I13+J13)))))","v":0},null,0]
[11,{"$f":"'Shooter Information'!B16","v":"Stogie"},{"$f":"'Shooter Information'!C16","v":"49er"},null,36.08,null,1,null,null,null,{"$f":"MIN(IF('Shooter Information'!H16=1,999.99,(D14*5)+E14-F14+(G14*10)+(H14*30)+(I14*999.99)+(J14*999.99)),999.99)","v":46.08},14,{"$f":"(IF('Shooter Information'!H16=1,\"MDQ\",IF(J14=1,\"SDQ\",IF(I14=1,\"DNF\",SUM(D14+G14+H14+I14+J14)))))","v":1},null,1]
[12,{"$f":"'Shooter Information'!B17","v":"Major BS Walker"},{"$f":"'Shooter Information'!C17","v":"WW"},null,19.809999999999999,null,null,null,null,null,{"$f":"MIN(IF('Shooter Information'!H17=1,999.99,(D15*5)+E15-F15+(G15*10)+(H15*30)+(I15*999.99)+(J15*999.99)),999.99)","v":19.809999999999999},2,{"$f":"(IF('Shooter Information'!H17=1,\"MDQ\",IF(J15=1,\"SDQ\",IF(I15=1,\"DNF\",SUM(D15+G15+H15+I15+J15)))))","v":0},null,0]
[13,{"$f":"'Shooter Information'!B18","v":"Sassy Shooting Sours"},{"$f":"'Shooter Information'!C18","v":"S"},null,25,null,null,null,null,null,{"$f":"MIN(IF('Shooter Information'!H18=1,999.99,(D16*5)+E16-F16+(G16*10)+(H16*30)+(I16*999.99)+(J16*999.99)),999.99)","v":25},6,{"$f":"(IF('Shooter Information'!H18=1,\"MDQ\",IF(J16=1,\"SDQ\",IF(I16=1,\"DNF\",SUM(D16+G16+H16+I16+J16)))))","v":0},null,0]
[14,{"$f":"'Shooter Information'!B19","v":"Lefty Spurmaker"},{"$f":"'Shooter Information'!C19","v":"S"},null,18.02,null,null,null,null,null,{"$f":"MIN(IF('Shooter Information'!H19=1,999.99,(D17*5)+E17-F17+(G17*10)+(H17*30)+(I17*999.99)+(J17*999.99)),999.99)","v":18.02},1,{"$f":"(IF('Shooter Information'!H19=1,\"MDQ\",IF(J17=1,\"SDQ\",IF(I17=1,\"DNF\",SUM(D17+G17+H17+I17+J17)))))","v":0},null,0]
[15,{"$f":"'Shooter Information'!B20","v":"Windhorse Rider"},{"$f":"'Shooter Information'!C20","v":"GF"},null,28.2,null,null,null,null,null,{"$f":"MIN(IF('Shooter Information'!H20=1,999.99,(D18*5)+E18-F18+(G18*10)+(H18*30)+(I18*999.99)+(J18*999.99)),999.99)","v":28.2},9,{"$f":"(IF('Shooter Information'!H20=1,\"MDQ\",IF(J18=1,\"SDQ\",IF(I18=1,\"DNF\",SUM(D18+G18+H18+I18+J18)))))","v":0},null,0]
[16,{"$f":"'Shooter Information'!B21","v":"Red Cavanaugh"},{"$f":"'Shooter Information'!C21","v":"49er"},null,20.010000000000002,null,null,null,null,null,{"$f":"MIN(IF('Shooter Information'!H21=1,999.99,(D19*5)+E19-F19+(G19*10)+(H19*30)+(I19*999.99)+(J19*999.99)),999.99)","v":20.010000000000002},3,{"$f":"(IF('Shooter Information'!H21=1,\"MDQ\",IF(J19=1,\"SDQ\",IF(I19=1,\"DNF\",SUM(D19+G19+H19+I19+J19)))))","v":0},null,0]
[17,{"$f":"'Shooter Information'!B22","v":0},{"$f":"'Shooter Information'!C22","v":0},null,null,null,null,null,null,null,{"$f":"MIN(IF('Shooter Information'!H22=1,999.99,(D20*5)+E20-F20+(G20*10)+(H20*30)+(I20*999.99)+(J20*999.99)),999.99)","v":0},0,{"$f":"(IF('Shooter Information'!H22=1,\"MDQ\",IF(J20=1,\"SDQ\",IF(I20=1,\"DNF\",SUM(D20+G20+H20+I20+J20)))))","v":0},null,0]
[18,{"$f":"'Shooter Information'!B23","v":0},{"$f":"'Shooter Information'!C23","v":0},null,null,null,null,null,null,null,{"$f":"MIN(IF('Shooter Information'!H23=1,999.99,(D21*5)+E21-F21+(G21*10)+(H21*30)+(I21*999.99)+(J21*999.99)),999.99)","v":0},0,{"$f":"(IF('Shooter Information'!H23=1,\"MDQ\",IF(J21=1,\"SDQ\",IF(I21=1,\"DNF\",SUM(D21+G21+H21+I21+J21)))))","v":0},null,0]
[19,{"$f":"'Shooter Information'!B24","v":0},{"$f":"'Shooter Information'!C24","v":0},null,null,null,null,null,null,null,{"$f":"MIN(IF('Shooter Information'!H24=1,999.99,(D22*5)+E22-F22+(G22*10)+(H22*30)+(I22*999.99)+(J22*999.99)),999.99)","v":0},0,{"$f":"(IF('Shooter Information'!H24=1,\"MDQ\",IF(J22=1,\"SDQ\",IF(I22=1,\"DNF\",SUM(D22+G22+H22+I22+J22)))))","v":0},null,0]
[20,{"$f":"'Shooter Information'!B25","v":0},{"$f":"'Shooter Information'!C25","v":0},null,null,null,null,null,null,null,{"$f":"MIN(IF('Shooter Information'!H25=1,999.99,(D23*5)+E23-F23+(G23*10)+(H23*30)+(I23*999.99)+(J23*999.99)),999.99)","v":0},0,{"$f":"(IF('Shooter Information'!H25=1,\"MDQ\",IF(J23=1,\"SDQ\",IF(I23=1,\"DNF\",SUM(D23+G23+H23+I23+J23)))))","v":0},null,0]
[21,{"$f":"'Shooter Information'!B26","v":0},{"$f":"'Shooter Information'!C26","v":0},null,null,null,null,null,null,null,{"$f":"MIN(IF('Shooter Information'!H26=1,999.99,(D24*5)+E24-F24+(G24*10)+(H24*30)+(I24*999.99)+(J24*999.99)),999.99)","v":0},0,{"$f":"(IF('Shooter Information'!H26=1,\"MDQ\",IF(J24=1,\"SDQ\",IF(I24=1,\"DNF\",SUM(D24+G24+H24+I24+J24)))))","v":0},null,0]
[22,{"$f":"'Shooter Information'!B27","v":0},{"$f":"'Shooter Information'!C27","v":0},null,null,null,null,null,null,null,{"$f":"MIN(IF('Shooter Information'!H27=1,999.99,(D25*5)+E25-F25+(G25*10)+(H25*30)+(I25*999.99)+(J25*999.99)),999.99)","v":0},0,{"$f":"(IF('Shooter Information'!H27=1,\"MDQ\",IF(J25=1,\"SDQ\",IF(I25=1,\"DNF\",SUM(D25+G25+H25+I25+J25)))))","v":0},null,0]
[23,{"$f":"'Shooter Information'!B28","v":0},{"$f":"'Shooter Information'!C28","v":0},null,null,null,null,null,null,null,{"$f":"MIN(IF('Shooter Information'!H28=1,999.99,(D26*5)+E26-F26+(G26*10)+(H26*30)+(I26*999.99)+(J26*999.99)),999.99)","v":0},0,{"$f":"(IF('Shooter Information'!H28=1,\"MDQ\",IF(J26=1,\"SDQ\",IF(I26=1,\"DNF\",SUM(D26+G26+H26+I26+J26)))))","v":0},null,0]
[24,{"$f":"'Shooter Information'!B29","v":0},{"$f":"'Shooter Information'!C29","v":0},null,null,null,null,null,null,null,{"$f":"MIN(IF('Shooter Information'!H29=1,999.99,(D27*5)+E27-F27+(G27*10)+(H27*30)+(I27*999.99)+(J27*999.99)),999.99)","v":0},0,{"$f":"(IF('Shooter Information'!H29=1,\"MDQ\",IF(J27=1,\"SDQ\",IF(I27=1,\"DNF\",SUM(D27+G27+H27+I27+J27)))))","v":0},null,0]
[25,{"$f":"'Shooter Information'!B30","v":0},{"$f":"'Shooter Information'!C30","v":0},null,null,null,null,null,null,null,{"$f":"MIN(IF('Shooter Information'!H30=1,999.99,(D28*5)+E28-F28+(G28*10)+(H28*30)+(I28*999.99)+(J28*999.99)),999.99)","v":0},0,{"$f":"(IF('Shooter Information'!H30=1,\"MDQ\",IF(J28=1,\"SDQ\",IF(I28=1,\"DNF\",SUM(D28+G28+H28+I28+J28)))))","v":0},null,0]
[26,{"$f":"'Shooter Information'!B31","v":0},{"$f":"'Shooter Information'!C31","v":0},null,null,null,null,null,null,null,{"$f":"MIN(IF('Shooter Information'!H31=1,999.99,(D29*5)+E29-F29+(G29*10)+(H29*30)+(I29*999.99)+(J29*999.99)),999.99)","v":0},0,{"$f":"(IF('Shooter Information'!H31=1,\"MDQ\",IF(J29=1,\"SDQ\",IF(I29=1,\"DNF\",SUM(D29+G29+H29+I29+J29)))))","v":0},null,0]
[27,{"$f":"'Shooter Information'!B32","v":0},{"$f":"'Shooter Information'!C32","v":0},null,null,null,null,null,null,null,{"$f":"MIN(IF('Shooter Information'!H32=1,999.99,(D30*5)+E30-F30+(G30*10)+(H30*30)+(I30*999.99)+(J30*999.99)),999.99)","v":0},0,{"$f":"(IF('Shooter Information'!H32=1,\"MDQ\",IF(J30=1,\"SDQ\",IF(I30=1,\"DNF\",SUM(D30+G30+H30+I30+J30)))))","v":0},null,0]
[28,{"$f":"'Shooter Information'!B33","v":0},{"$f":"'Shooter Information'!C33","v":0},null,null,null,null,null,null,null,{"$f":"MIN(IF('Shooter Information'!H33=1,999.99,(D31*5)+E31-F31+(G31*10)+(H31*30)+(I31*999.99)+(J31*999.99)),999.99)","v":0},0,{"$f":"(IF('Shooter Information'!H33=1,\"MDQ\",IF(J31=1,\"SDQ\",IF(I31=1,\"DNF\",SUM(D31+G31+H31+I31+J31)))))","v":0},null,0]
[29,{"$f":"'Shooter Information'!B34","v":0},{"$f":"'Shooter Information'!C34","v":0},null,null,null,null,null,null,null,{"$f":"MIN(IF('Shooter Information'!H34=1,999.99,(D32*5)+E32-F32+(G32*10)+(H32*30)+(I32*999.99)+(J32*999.99)),999.99)","v":0},0,{"$f":"(IF('Shooter Information'!H34=1,\"MDQ\",IF(J32=1,\"SDQ\",IF(I32=1,\"DNF\",SUM(D32+G32+H32+I32+J32)))))","v":0},null,0]
[30,{"$f":"'Shooter Information'!B35","v":0},{"$f":"'Shooter Information'!C35","v":0},null,null,null,null,null,null,null,{"$f":"MIN(IF('Shooter Information'!H35=1,999.99,(D33*5)+E33-F33+(G33*10)+(H33*30)+(I33*999.99)+(J33*999.99)),999.99)","v":0},0,{"$f":"(IF('Shooter Information'!H35=1,\"MDQ\",IF(J33=1,\"SDQ\",IF(I33=1,\"DNF\",SUM(D33+G33+H33+I33+J33)))))","v":0},null,0]
[31,{"$f":"'Shooter Information'!B36","v":0},{"$f":"'Shooter Information'!C36","v":0},null,null,null,null,null,null,null,{"$f":"MIN(IF('Shooter Information'!H36=1,999.99,(D34*5)+E34-F34+(G34*10)+(H34*30)+(I34*999.99)+(J34*999.99)),999.99)","v":0},0,{"$f":"(IF('Shooter Information'!H36=1,\"MDQ\",IF(J34=1,\"SDQ\",IF(I34=1,\"DNF\",SUM(D34+G34+H34+I34+J34)))))","v":0},null,0]
[32,{"$f":"'Shooter Information'!B37","v":0},{"$f":"'Shooter Information'!C37","v":0},null,null,null,null,null,null,null,{"$f":"MIN(IF('Shooter Information'!H37=1,999.99,(D35*5)+E35-F35+(G35*10)+(H35*30)+(I35*999.99)+(J35*999.99)),999.99)","v":0},0,{"$f":"(IF('Shooter Information'!H37=1,\"MDQ\",IF(J35=1,\"SDQ\",IF(I35=1,\"DNF\",SUM(D35+G35+H35+I35+J35)))))","v":0},null,0]
[33,{"$f":"'Shooter Information'!B38","v":0},{"$f":"'Shooter Information'!C38","v":0},null,null,null,null,null,null,null,{"$f":"MIN(IF('Shooter Information'!H38=1,999.99,(D36*5)+E36-F36+(G36*10)+(H36*30)+(I36*999.99)+(J36*999.99)),999.99)","v":0},0,{"$f":"(IF('Shooter Information'!H38=1,\"MDQ\",IF(J36=1,\"SDQ\",IF(I36=1,\"DNF\",SUM(D36+G36+H36+I36+J36)))))","v":0},null,0]
[34,{"$f":"'Shooter Information'!B39","v":0},{"$f":"'Shooter Information'!C39","v":0},null,null,null,null,null,null,null,{"$f":"MIN(IF('Shooter Information'!H39=1,999.99,(D37*5)+E37-F37+(G37*10)+(H37*30)+(I37*999.99)+(J37*999.99)),999.99)","v":0},0,{"$f":"(IF('Shooter Information'!H39=1,\"MDQ\",IF(J37=1,\"SDQ\",IF(I37=1,\"DNF\",SUM(D37+G37+H37+I37+J37)))))","v":0},null,0]
[35,{"$f":"'Shooter Information'!B40","v":0},{"$f":"'Shooter Information'!C40","v":0},null,null,null,null,null,null,null,{"$f":"MIN(IF('Shooter Information'!H40=1,999.99,(D38*5)+E38-F38+(G38*10)+(H38*30)+(I38*999.99)+(J38*999.99)),999.99)","v":0},0,{"$f":"(IF('Shooter Information'!H40=1,\"MDQ\",IF(J38=1,\"SDQ\",IF(I38=1,\"DNF\",SUM(D38+G38+H38+I38+J38)))))","v":0},null,0]
[36,{"$f":"'Shooter Information'!B41","v":0},{"$f":"'Shooter Information'!C41","v":0},null,null,null,null,null,null,null,{"$f":"MIN(IF('Shooter Information'!H41=1,999.99,(D39*5)+E39-F39+(G39*10)+(H39*30)+(I39*999.99)+(J39*999.99)),999.99)","v":0},0,{"$f":"(IF('Shooter Information'!H41=1,\"MDQ\",IF(J39=1,\"SDQ\",IF(I39=1,\"DNF\",SUM(D39+G39+H39+I39+J39)))))","v":0},null,0]
[37,{"$f":"'Shooter Information'!B42","v":0},{"$f":"'Shooter Information'!C42","v":0},null,null,null,null,null,null,null,{"$f":"MIN(IF('Shooter Information'!H42=1,999.99,(D40*5)+E40-F40+(G40*10)+(H40*30)+(I40*999.99)+(J40*999.99)),999.99)","v":0},0,{"$f":"(IF('Shooter Information'!H42=1,\"MDQ\",IF(J40=1,\"SDQ\",IF(I40=1,\"DNF\",SUM(D40+G40+H40+I40+J40)))))","v":0},null,0]
[38,{"$f":"'Shooter Information'!B43","v":0},{"$f":"'Shooter Information'!C43","v":0},null,null,null,null,null,null,null,{"$f":"MIN(IF('Shooter Information'!H43=1,999.99,(D41*5)+E41-F41+(G41*10)+(H41*30)+(I41*999.99)+(J41*999.99)),999.99)","v":0},0,{"$f":"(IF('Shooter Information'!H43=1,\"MDQ\",IF(J41=1,\"SDQ\",IF(I41=1,\"DNF\",SUM(D41+G41+H41+I41+J41)))))","v":0},null,0]
[39,{"$f":"'Shooter Information'!B44","v":0},{"$f":"'Shooter Information'!C44","v":0},null,null,null,null,null,null,null,{"$f":"MIN(IF('Shooter Information'!H44=1,999.99,(D42*5)+E42-F42+(G42*10)+(H42*30)+(I42*999.99)+(J42*999.99)),999.99)","v":0},0,{"$f":"(IF('Shooter Information'!H44=1,\"MDQ\",IF(J42=1,\"SDQ\",IF(I42=1,\"DNF\",SUM(D42+G42+H42+I42+J42)))))","v":0},null,0]
[40,{"$f":"'Shooter Information'!B45","v":0},{"$f":"'Shooter Information'!C45","v":0},null,null,null,null,null,null,null,{"$f":"MIN(IF('Shooter Information'!H45=1,999.99,(D43*5)+E43-F43+(G43*10)+(H43*30)+(I43*999.99)+(J43*999.99)),999.99)","v":0},0,{"$f":"(IF('Shooter Information'!H45=1,\"MDQ\",IF(J43=1,\"SDQ\",IF(I43=1,\"DNF\",SUM(D43+G43+H43+I43+J43)))))","v":0},null,0]
[41,{"$f":"'Shooter Information'!B46","v":0},{"$f":"'Shooter Information'!C46","v":0},null,null,null,null,null,null,null,{"$f":"MIN(IF('Shooter Information'!H46=1,999.99,(D44*5)+E44-F44+(G44*10)+(H44*30)+(I44*999.99)+(J44*999.99)),999.99)","v":0},0,{"$f":"(IF('Shooter Information'!H46=1,\"MDQ\",IF(J44=1,\"SDQ\",IF(I44=1,\"DNF\",SUM(D44+G44+H44+I44+J44)))))","v":0},null,0]
[42,{"$f":"'Shooter Information'!B47","v":0},{"$f":"'Shooter Information'!C47","v":0},null,null,null,null,null,null,null,{"$f":"MIN(IF('Shooter Information'!H47=1,999.99,(D45*5)+E45-F45+(G45*10)+(H45*30)+(I45*999.99)+(J45*999.99)),999.99)","v":0},0,{"$f":"(IF('Shooter Information'!H47=1,\"MDQ\",IF(J45=1,\"SDQ\",IF(I45=1,\"DNF\",SUM(D45+G45+H45+I45+J45)))))","v":0},null,0]
[43,{"$f":"'Shooter Information'!B48","v":0},{"$f":"'Shooter Information'!C48","v":0},null,null,null,null,null,null,null,{"$f":"MIN(IF('Shooter Information'!H48=1,999.99,(D46*5)+E46-F46+(G46*10)+(H46*30)+(I46*999.99)+(J46*999.99)),999.99)","v":0},0,{"$f":"(IF('Shooter Information'!H48=1,\"MDQ\",IF(J46=1,\"SDQ\",IF(I46=1,\"DNF\",SUM(D46+G46+H46+I46+J46)))))","v":0},null,0]
[44,{"$f":"'Shooter Information'!B49","v":0},{"$f":"'Shooter Information'!C49","v":0},null,null,null,null,null,null,null,{"$f":"MIN(IF('Shooter Information'!H49=1,999.99,(D47*5)+E47-F47+(G47*10)+(H47*30)+(I47*999.99)+(J47*999.99)),999.99)","v":0},0,{"$f":"(IF('Shooter Information'!H49=1,\"MDQ\",IF(J47=1,\"SDQ\",IF(I47=1,\"DNF\",SUM(D47+G47+H47+I47+J47)))))","v":0},null,0]
[45,{"$f":"'Shooter Information'!B50","v":0},{"$f":"'Shooter Information'!C50","v":0},null,null,null,null,null,null,null,{"$f":"MIN(IF('Shooter Information'!H50=1,999.99,(D48*5)+E48-F48+(G48*10)+(H48*30)+(I48*999.99)+(J48*999.99)),999.99)","v":0},0,{"$f":"(IF('Shooter Information'!H50=1,\"MDQ\",IF(J48=1,\"SDQ\",IF(I48=1,\"DNF\",SUM(D48+G48+H48+I48+J48)))))","v":0},null,0]
[46,{"$f":"'Shooter Information'!B51","v":0},{"$f":"'Shooter Information'!C51","v":0},null,null,null,null,null,null,null,{"$f":"MIN(IF('Shooter Information'!H51=1,999.99,(D49*5)+E49-F49+(G49*10)+(H49*30)+(I49*999.99)+(J49*999.99)),999.99)","v":0},0,{"$f":"(IF('Shooter Information'!H51=1,\"MDQ\",IF(J49=1,\"SDQ\",IF(I49=1,\"DNF\",SUM(D49+G49+H49+I49+J49)))))","v":0},null,0]
[47,{"$f":"'Shooter Information'!B52","v":0},{"$f":"'Shooter Information'!C52","v":0},null,null,null,null,null,null,null,{"$f":"MIN(IF('Shooter Information'!H52=1,999.99,(D50*5)+E50-F50+(G50*10)+(H50*30)+(I50*999.99)+(J50*999.99)),999.99)","v":0},0,{"$f":"(IF('Shooter Information'!H52=1,\"MDQ\",IF(J50=1,\"SDQ\",IF(I50=1,\"DNF\",SUM(D50+G50+H50+I50+J50)))))","v":0},null,0]
[48,{"$f":"'Shooter Information'!B53","v":0},{"$f":"'Shooter Information'!C53","v":0},null,null,null,null,null,null,null,{"$f":"MIN(IF('Shooter Information'!H53=1,999.99,(D51*5)+E51-F51+(G51*10)+(H51*30)+(I51*999.99)+(J51*999.99)),999.99)","v":0},0,{"$f":"(IF('Shooter Information'!H53=1,\"MDQ\",IF(J51=1,\"SDQ\",IF(I51=1,\"DNF\",SUM(D51+G51+H51+I51+J51)))))","v":0},null,0]
[49,{"$f":"'Shooter Information'!B54","v":0},{"$f":"'Shooter Information'!C54","v":0},null,null,null,null,null,null,null,{"$f":"MIN(IF('Shooter Information'!H54=1,999.99,(D52*5)+E52-F52+(G52*10)+(H52*30)+(I52*999.99)+(J52*999.99)),999.99)","v":0},0,{"$f":"(IF('Shooter Information'!H54=1,\"MDQ\",IF(J52=1,\"SDQ\",IF(I52=1,\"DNF\",SUM(D52+G52+H52+I52+J52)))))","v":0},null,0]
[50,{"$f":"'Shooter Information'!B55","v":0},{"$f":"'Shooter Information'!C55","v":0},null,null,null,null,null,null,null,{"$f":"MIN(IF('Shooter Information'!H55=1,999.99,(D53*5)+E53-F53+(G53*10)+(H53*30)+(I53*999.99)+(J53*999.99)),999.99)","v":0},0,{"$f":"(IF('Shooter Information'!H55=1,\"MDQ\",IF(J53=1,\"SDQ\",IF(I53=1,\"DNF\",SUM(D53+G53+H53+I53+J53)))))","v":0},null,0]
[51,{"$f":"'Shooter Information'!B56","v":0},{"$f":"'Shooter Information'!C56","v":0},null,null,null,null,null,null,null,{"$f":"MIN(IF('Shooter Information'!H56=1,999.99,(D54*5)+E54-F54+(G54*10)+(H54*30)+(I54*999.99)+(J54*999.99)),999.99)","v":0},0,{"$f":"(IF('Shooter Information'!H56=1,\"MDQ\",IF(J54=1,\"SDQ\",IF(I54=1,\"DNF\",SUM(D54+G54+H54+I54+J54)))))","v":0},null,0]
[52,{"$f":"'Shooter Information'!B57","v":0},{"$f":"'Shooter Information'!C57","v":0},null,null,null,null,null,null,null,{"$f":"MIN(IF('Shooter Information'!H57=1,999.99,(D55*5)+E55-F55+(G55*10)+(H55*30)+(I55*999.99)+(J55*999.99)),999.99)","v":0},0,{"$f":"(IF('Shooter Information'!H57=1,\"MDQ\",IF(J55=1,\"SDQ\",IF(I55=1,\"DNF\",SUM(D55+G55+H55+I55+J55)))))","v":0},null,0]
[53,{"$f":"'Shooter Information'!B58","v":0},{"$f":"'Shooter Information'!C58","v":0},null,null,null,null,null,null,null,{"$f":"MIN(IF('Shooter Information'!H58=1,999.99,(D56*5)+E56-F56+(G56*10)+(H56*30)+(I56*999.99)+(J56*999.99)),999.99)","v":0},0,{"$f":"(IF('Shooter Information'!H58=1,\"MDQ\",IF(J56=1,\"SDQ\",IF(I56=1,\"DNF\",SUM(D56+G56+H56+I56+J56)))))","v":0},null,0]
[54,{"$f":"'Shooter Information'!B59","v":0},{"$f":"'Shooter Information'!C59","v":0},null,null,null,null,null,null,null,{"$f":"MIN(IF('Shooter Information'!H59=1,999.99,(D57*5)+E57-F57+(G57*10)+(H57*30)+(I57*999.99)+(J57*999.99)),999.99)","v":0},0,{"$f":"(IF('Shooter Information'!H59=1,\"MDQ\",IF(J57=1,\"SDQ\",IF(I57=1,\"DNF\",SUM(D57+G57+H57+I57+J57)))))","v":0},null,0]
[55,{"$f":"'Shooter Information'!B60","v":0},{"$f":"'Shooter Information'!C60","v":0},null,null,null,null,null,null,null,{"$f":"MIN(IF('Shooter Information'!H60=1,999.99,(D58*5)+E58-F58+(G58*10)+(H58*30)+(I58*999.99)+(J58*999.99)),999.99)","v":0},0,{"$f":"(IF('Shooter Information'!H60=1,\"MDQ\",IF(J58=1,\"SDQ\",IF(I58=1,\"DNF\",SUM(D58+G58+H58+I58+J58)))))","v":0},null,0]
[56,{"$f":"'Shooter Information'!B61","v":0},{"$f":"'Shooter Information'!C61","v":0},null,null,null,null,null,null,null,{"$f":"MIN(IF('Shooter Information'!H61=1,999.99,(D59*5)+E59-F59+(G59*10)+(H59*30)+(I59*999.99)+(J59*999.99)),999.99)","v":0},0,{"$f":"(IF('Shooter Information'!H61=1,\"MDQ\",IF(J59=1,\"SDQ\",IF(I59=1,\"DNF\",SUM(D59+G59+H59+I59+J59)))))","v":0},null,0]
[57,{"$f":"'Shooter Information'!B62","v":0},{"$f":"'Shooter Information'!C62","v":0},null,null,null,null,null,null,null,{"$f":"MIN(IF('Shooter Information'!H62=1,999.99,(D60*5)+E60-F60+(G60*10)+(H60*30)+(I60*999.99)+(J60*999.99)),999.99)","v":0},0,{"$f":"(IF('Shooter Information'!H62=1,\"MDQ\",IF(J60=1,\"SDQ\",IF(I60=1,\"DNF\",SUM(D60+G60+H60+I60+J60)))))","v":0},null,0]
[58,{"$f":"'Shooter Information'!B63","v":0},{"$f":"'Shooter Information'!C63","v":0},null,null,null,null,null,null,null,{"$f":"MIN(IF('Shooter Information'!H63=1,999.99,(D61*5)+E61-F61+(G61*10)+(H61*30)+(I61*999.99)+(J61*999.99)),999.99)","v":0},0,{"$f":"(IF('Shooter Information'!H63=1,\"MDQ\",IF(J61=1,\"SDQ\",IF(I61=1,\"DNF\",SUM(D61+G61+H61+I61+J61)))))","v":0},null,0]
[59,{"$f":"'Shooter Information'!B64","v":0},{"$f":"'Shooter Information'!C64","v":0},null,null,null,null,null,null,null,{"$f":"MIN(IF('Shooter Information'!H64=1,999.99,(D62*5)+E62-F62+(G62*10)+(H62*30)+(I62*999.99)+(J62*999.99)),999.99)","v":0},0,{"$f":"(IF('Shooter Information'!H64=1,\"MDQ\",IF(J62=1,\"SDQ\",IF(I62=1,\"DNF\",SUM(D62+G62+H62+I62+J62)))))","v":0},null,0]
[60,{"$f":"'Shooter Information'!B65","v":0},{"$f":"'Shooter Information'!C65","v":0},null,null,null,null,null,null,null,{"$f":"MIN(IF('Shooter Information'!H65=1,999.99,(D63*5)+E63-F63+(G63*10)+(H63*30)+(I63*999.99)+(J63*999.99)),999.99)","v":0},0,{"$f":"(IF('Shooter Information'!H65=1,\"MDQ\",IF(J63=1,\"SDQ\",IF(I63=1,\"DNF\",SUM(D63+G63+H63+I63+J63)))))","v":0},null,0]
[61,{"$f":"'Shooter Information'!B66","v":0},{"$f":"'Shooter Information'!C66","v":0},null,null,null,null,null,null,null,{"$f":"MIN(IF('Shooter Information'!H66=1,999.99,(D64*5)+E64-F64+(G64*10)+(H64*30)+(I64*999.99)+(J64*999.99)),999.99)","v":0},0,{"$f":"(IF('Shooter Information'!H66=1,\"MDQ\",IF(J64=1,\"SDQ\",IF(I64=1,\"DNF\",SUM(D64+G64+H64+I64+J64)))))","v":0},null,0]
[62,{"$f":"'Shooter Information'!B67","v":0},{"$f":"'Shooter Information'!C67","v":0},null,null,null,null,null,null,null,{"$f":"MIN(IF('Shooter Information'!H67=1,999.99,(D65*5)+E65-F65+(G65*10)+(H65*30)+(I65*999.99)+(J65*999.99)),999.99)","v":0},0,{"$f":"(IF('Shooter Information'!H67=1,\"MDQ\",IF(J65=1,\"SDQ\",IF(I65=1,\"DNF\",SUM(D65+G65+H65+I65+J65)))))","v":0},null,0]
[63,{"$f":"'Shooter Information'!B68","v":0},{"$f":"'Shooter Information'!C68","v":0},null,null,null,null,null,null,null,{"$f":"MIN(IF('Shooter Information'!H68=1,999.99,(D66*5)+E66-F66+(G66*10)+(H66*30)+(I66*999.99)+(J66*999.99)),999.99)","v":0},0,{"$f":"(IF('Shooter Information'!H68=1,\"MDQ\",IF(J66=1,\"SDQ\",IF(I66=1,\"DNF\",SUM(D66+G66+H66+I66+J66)))))","v":0},null,0]
[64,{"$f":"'Shooter Information'!B69","v":0},{"$f":"'Shooter Information'!C69","v":0},null,null,null,null,null,null,null,{"$f":"MIN(IF('Shooter Information'!H69=1,999.99,(D67*5)+E67-F67+(G67*10)+(H67*30)+(I67*999.99)+(J67*999.99)),999.99)","v":0},0,{"$f":"(IF('Shooter Information'!H69=1,\"MDQ\",IF(J67=1,\"SDQ\",IF(I67=1,\"DNF\",SUM(D67+G67+H67+I67+J67)))))","v":0},null,0]
[65,{"$f":"'Shooter Information'!B70","v":0},{"$f":"'Shooter Information'!C70","v":0},null,null,null,null,null,null,null,{"$f":"MIN(IF('Shooter Information'!H70=1,999.99,(D68*5)+E68-F68+(G68*10)+(H68*30)+(I68*999.99)+(J68*999.99)),999.99)","v":0},0,{"$f":"(IF('Shooter Information'!H70=1,\"MDQ\",IF(J68=1,\"SDQ\",IF(I68=1,\"DNF\",SUM(D68+G68+H68+I68+J68)))))","v":0},null,0]
[66,{"$f":"'Shooter Information'!B71","v":0},{"$f":"'Shooter Information'!C71","v":0},null,null,null,null,null,null,null,{"$f":"MIN(IF('Shooter Information'!H71=1,999.99,(D69*5)+E69-F69+(G69*10)+(H69*30)+(I69*999.99)+(J69*999.99)),999.99)","v":0},{"$f":"IF(K69>0,SUMPRODUCT(--(K69>$K$4:$K$78),--($K$4:$K$78>0))+1,0)","v":0},{"$f":"(IF('Shooter Information'!H71=1,\"MDQ\",IF(J69=1,\"SDQ\",IF(I69=1,\"DNF\",SUM(D69+G69+H69+I69+J69)))))","v":0},null,{"$f":"SUM(D69+G69+H69+I69+J69)","v":0}]
[67,{"$f":"'Shooter Information'!B72","v":0},{"$f":"'Shooter Information'!C72","v":0},null,null,null,null,null,null,null,{"$f":"MIN(IF('Shooter Information'!H72=1,999.99,(D70*5)+E70-F70+(G70*10)+(H70*30)+(I70*999.99)+(J70*999.99)),999.99)","v":0},0,{"$f":"(IF('Shooter Information'!H72=1,\"MDQ\",IF(J70=1,\"SDQ\",IF(I70=1,\"DNF\",SUM(D70+G70+H70+I70+J70)))))","v":0},null,0]
[68,{"$f":"'Shooter Information'!B73","v":0},{"$f":"'Shooter Information'!C73","v":0},null,null,null,null,null,null,null,{"$f":"MIN(IF('Shooter Information'!H73=1,999.99,(D71*5)+E71-F71+(G71*10)+(H71*30)+(I71*999.99)+(J71*999.99)),999.99)","v":0},0,{"$f":"(IF('Shooter Information'!H73=1,\"MDQ\",IF(J71=1,\"SDQ\",IF(I71=1,\"DNF\",SUM(D71+G71+H71+I71+J71)))))","v":0},null,0]
[69,{"$f":"'Shooter Information'!B74","v":0},{"$f":"'Shooter Information'!C74","v":0},null,null,null,null,null,null,null,{"$f":"MIN(IF('Shooter Information'!H74=1,999.99,(D72*5)+E72-F72+(G72*10)+(H72*30)+(I72*999.99)+(J72*999.99)),999.99)","v":0},0,{"$f":"(IF('Shooter Information'!H74=1,\"MDQ\",IF(J72=1,\"SDQ\",IF(I72=1,\"DNF\",SUM(D72+G72+H72+I72+J72)))))","v":0},null,0]
[70,{"$f":"'Shooter Information'!B75","v":0},{"$f":"'Shooter Information'!C75","v":0},null,null,null,null,null,null,null,{"$f":"MIN(IF('Shooter Information'!H75=1,999.99,(D73*5)+E73-F73+(G73*10)+(H73*30)+(I73*999.99)+(J73*999.99)),999.99)","v":0},0,{"$f":"(IF('Shooter Information'!H75=1,\"MDQ\",IF(J73=1,\"SDQ\",IF(I73=1,\"DNF\",SUM(D73+G73+H73+I73+J73)))))","v":0},null,0]
[71,{"$f":"'Shooter Information'!B76","v":0},{"$f":"'Shooter Information'!C76","v":0},null,null,null,null,null,null,null,{"$f":"MIN(IF('Shooter Information'!H76=1,999.99,(D74*5)+E74-F74+(G74*10)+(H74*30)+(I74*999.99)+(J74*999.99)),999.99)","v":0},0,{"$f":"(IF('Shooter Information'!H76=1,\"MDQ\",IF(J74=1,\"SDQ\",IF(I74=1,\"DNF\",SUM(D74+G74+H74+I74+J74)))))","v":0},null,0]
[72,{"$f":"'Shooter Information'!B77","v":0},{"$f":"'Shooter Information'!C77","v":0},null,null,null,null,null,null,null,{"$f":"MIN(IF('Shooter Information'!H77=1,999.99,(D75*5)+E75-F75+(G75*10)+(H75*30)+(I75*999.99)+(J75*999.99)),999.99)","v":0},0,{"$f":"(IF('Shooter Information'!H77=1,\"MDQ\",IF(J75=1,\"SDQ\",IF(I75=1,\"DNF\",SUM(D75+G75+H75+I75+J75)))))","v":0},null,0]
[73,{"$f":"'Shooter Information'!B78","v":0},{"$f":"'Shooter Information'!C78","v":0},null,null,null,null,null,null,null,{"$f":"MIN(IF('Shooter Information'!H78=1,999.99,(D76*5)+E76-F76+(G76*10)+(H76*30)+(I76*999.99)+(J76*999.99)),999.99)","v":0},0,{"$f":"(IF('Shooter Information'!H78=1,\"MDQ\",IF(J76=1,\"SDQ\",IF(I76=1,\"DNF\",SUM(D76+G76+H76+I76+J76)))))","v":0},null,0]
[74,{"$f":"'Shooter Information'!B79","v":0},{"$f":"'Shooter Information'!C79","v":0},null,null,null,null,null,null,null,{"$f":"MIN(IF('Shooter Information'!H79=1,999.99,(D77*5)+E77-F77+(G77*10)+(H77*30)+(I77*999.99)+(J77*999.99)),999.99)","v":0},0,{"$f":"(IF('Shooter Information'!H79=1,\"MDQ\",IF(J77=1,\"SDQ\",IF(I77=1,\"DNF\",SUM(D77+G77+H77+I77+J77)))))","v":0},null,0]
[75,{"$f":"'Shooter Information'!B80","v":0},{"$f":"'Shooter Information'!C80","v":0},null,null,null,null,null,null,null,{"$f":"MIN(IF('Shooter Information'!H80=1,999.99,(D78*5)+E78-F78+(G78*10)+(H78*30)+(I78*999.99)+(J78*999.99)),999.99)","v":0},0,{"$f":"(IF('Shooter Information'!H80=1,\"MDQ\",IF(J78=1,\"SDQ\",IF(I78=1,\"DNF\",SUM(D78+G78+H78+I78+J78)))))","v":0},null,0]

{"sheet":"Stage 4","index":5,"n_rows":78,"n_cols":15,"rows_kept":78,"cut":false,"hidden":false,"merged":[]}
[null,"Stage Input Sheet - Stage 4"]
[]
["Shooter #","Shooter","Class","Misses","Raw Time","Bonus","10 Sec","30 Sec","DNF","SDQ","Total","Rank","Penalties",null,"# Penalties"]
[{"$f":"ROW()-3","v":1},{"$f":"'Shooter Information'!B6","v":"Striker"},{"$f":"'Shooter Information'!C6","v":"WW"},null,25.89,null,null,null,null,null,{"$f":"MIN(IF('Shooter Information'!H6=1,999.99,(D4*5)+E4-F4+(G4*10)+(H4*30)+(I4*999.99)+(J4*999.99)),999.99)","v":25.89},{"$f":"IF(K4>0,SUMPRODUCT(--(K4>$K$4:$K$78),--($K$4:$K$78>0))+1,0)","v":3},{"$f":"(IF('Shooter Information'!H6=1,\"MDQ\",IF(J4=1,\"SDQ\",IF(I4=1,\"DNF\",SUM(D4+G4+H4+I4+J4)))))","v":0},null,{"$f":"SUM(D4+G4+H4+I4+J4)","v":0}]
[{"$f":"ROW()-3","v":2},{"$f":"'Shooter Information'!B7","v":"Cody Maverick"},{"$f":"'Shooter Information'!C7","v":"GF"},null,26.33,null,null,null,null,null,{"$f":"MIN(IF('Shooter Information'!H7=1,999.99,(D5*5)+E5-F5+(G5*10)+(H5*30)+(I5*999.99)+(J5*999.99)),999.99)","v":26.33},{"$f":"IF(K5>0,SUMPRODUCT(--(K5>$K$4:$K$78),--($K$4:$K$78>0))+1,0)","v":4},{"$f":"(IF('Shooter Information'!H7=1,\"MDQ\",IF(J5=1,\"SDQ\",IF(I5=1,\"DNF\",SUM(D5+G5+H5+I5+J5)))))","v":0},null,{"$f":"SUM(D5+G5+H5+I5+J5)","v":0}]
[3,{"$f":"'Shooter Information'!B8","v":"Potter County Kid"},{"$f":"'Shooter Information'!C8","v":"WW"},1,36.659999999999997,null,null,null,null,null,{"$f":"MIN(IF('Shooter Information'!H8=1,999.99,(D6*5)+E6-F6+(G6*10)+(H6*30)+(I6*999.99)+(J6*999.99)),999.99)","v":41.66},11,{"$f":"(IF('Shooter Information'!H8=1,\"MDQ\",IF(J6=1,\"SDQ\",IF(I6=1,\"DNF\",SUM(D6+G6+H6+I6+J6)))))","v":1},null,1]
[4,{"$f":"'Shooter Information'!B9","v":"Ricochet Kid"},{"$f":"'Shooter Information'!C9","v":"W"},2,47.1,null,null,null,null,null,{"$f":"MIN(IF('Shooter Information'!H9=1,999.99,(D7*5)+E7-F7+(G7*10)+(H7*30)+(I7*999.99)+(J7*999.99)),999.99)","v":57.1},14,{"$f":"(IF('Shooter Information'!H9=1,\"MDQ\",IF(J7=1,\"SDQ\",IF(I7=1,\"DNF\",SUM(D7+G7+H7+I7+J7)))))","v":2},null,2]
[5,{"$f":"'Shooter Information'!B10","v":"Flatboat Bob"},{"$f":"'Shooter Information'!C10","v":"CBAR"},null,30.79,null,null,null,null,null,{"$f":"MIN(IF('Shooter Information'!H10=1,999.99,(D8*5)+E8-F8+(G8*10)+(H8*30)+(I8*999.99)+(J8*999.99)),999.99)","v":30.79},8,{"$f":"(IF('Shooter Information'!H10=1,\"MDQ\",IF(J8=1,\"SDQ\",IF(I8=1,\"DNF\",SUM(D8+G8+H8+I8+J8)))))","v":0},null,0]
[6,{"$f":"'Shooter Information'!B11","v":"Hotshod"},{"$f":"'Shooter Information'!C11","v":"W"},null,29.61,null,null,null,null,null,{"$f":"MIN(IF('Shooter Information'!H11=1,999.99,(D9*5)+E9-F9+(G9*10)+(H9*30)+(I9*999.99)+(J9*999.99)),999.99)","v":29.61},7,{"$f":"(IF('Shooter Information'!H11=1,\"MDQ\",IF(J9=1,\"SDQ\",IF(I9=1,\"DNF\",SUM(D9+G9+H9+I9+J9)))))","v":0},null,0]
[7,{"$f":"'Shooter Information'!B12","v":"Prairie City Slim"},{"$f":"'Shooter Information'!C12","v":"ES"},null,32.15,null,null,null,null,null,{"$f":"MIN(IF('Shooter Information'!H12=1,999.99,(D10*5)+E10-F10+(G10*10)+(H10*30)+(I10*999.99)+(J10*999.99)),999.99)","v":32.15},9,{"$f":"(IF('Shooter Information'!H12=1,\"MDQ\",IF(J10=1,\"SDQ\",IF(I10=1,\"DNF\",SUM(D10+G10+H10+I10+J10)))))","v":0},null,0]
[8,{"$f":"'Shooter Information'!B13","v":"Regret Schofield"},{"$f":"'Shooter Information'!C13","v":"49er"},null,61.5,null,null,null,null,null,{"$f":"MIN(IF('Shooter Information'!H13=1,999.99,(D11*5)+E11-F11+(G11*10)+(H11*30)+(I11*999.99)+(J11*999.99)),999.99)","v":61.5},16,{"$f":"(IF('Shooter Information'!H13=1,\"MDQ\",IF(J11=1,\"SDQ\",IF(I11=1,\"DNF\",SUM(D11+G11+H11+I11+J11)))))","v":0},null,0]
[9,{"$f":"'Shooter Information'!B14","v":"Tumble Weed Tink"},{"$f":"'Shooter Information'!C14","v":"L49"},null,51.83,null,null,null,null,null,{"$f":"MIN(IF('Shooter Information'!H14=1,999.99,(D12*5)+E12-F12+(G12*10)+(H12*30)+(I12*999.99)+(J12*999.99)),999.99)","v":51.83},13,{"$f":"(IF('Shooter Information'!H14=1,\"MDQ\",IF(J12=1,\"SDQ\",IF(I12=1,\"DNF\",SUM(D12+G12+H12+I12+J12)))))","v":0},null,0]
[10,{"$f":"'Shooter Information'!B15","v":"One Eyed Jane"},{"$f":"'Shooter Information'!C15","v":"LSS"},null,58.58,null,null,null,null,null,{"$f":"MIN(IF('Shooter Information'!H15=1,999.99,(D13*5)+E13-F13+(G13*10)+(H13*30)+(I13*999.99)+(J13*999.99)),999.99)","v":58.58},15,{"$f":"(IF('Shooter Information'!H15=1,\"MDQ\",IF(J13=1,\"SDQ\",IF(I13=1,\"DNF\",SUM(D13+G13+H13+I13+J13)))))","v":0},null,0]
[11,{"$f":"'Shooter Information'!B16","v":"Stogie"},{"$f":"'Shooter Information'!C16","v":"49er"},null,27.61,null,null,null,null,null,{"$f":"MIN(IF('Shooter Information'!H16=1,999.99,(D14*5)+E14-F14+(G14*10)+(H14*30)+(I14*999.99)+(J14*999.99)),999.99)","v":27.61},6,{"$f":"(IF('Shooter Information'!H16=1,\"MDQ\",IF(J14=1,\"SDQ\",IF(I14=1,\"DNF\",SUM(D14+G14+H14+I14+J14)))))","v":0},null,0]
[12,{"$f":"'Shooter Information'!B17","v":"Major BS Walker"},{"$f":"'Shooter Information'!C17","v":"WW"},null,27.36,null,null,null,null,null,{"$f":"MIN(IF('Shooter Information'!H17=1,999.99,(D15*5)+E15-F15+(G15*10)+(H15*30)+(I15*999.99)+(J15*999.99)),999.99)","v":27.36},5,{"$f":"(IF('Shooter Information'!H17=1,\"MDQ\",IF(J15=1,\"SDQ\",IF(I15=1,\"DNF\",SUM(D15+G15+H15+I15+J15)))))","v":0},null,0]
[13,{"$f":"'Shooter Information'!B18","v":"Sassy Shooting Sours"},{"$f":"'Shooter Information'!C18","v":"S"},null,32.81,null,null,null,null,null,{"$f":"MIN(IF('Shooter Information'!H18=1,999.99,(D16*5)+E16-F16+(G16*10)+(H16*30)+(I16*999.99)+(J16*999.99)),999.99)","v":32.81},10,{"$f":"(IF('Shooter Information'!H18=1,\"MDQ\",IF(J16=1,\"SDQ\",IF(I16=1,\"DNF\",SUM(D16+G16+H16+I16+J16)))))","v":0},null,0]
[14,{"$f":"'Shooter Information'!B19","v":"Lefty Spurmaker"},{"$f":"'Shooter Information'!C19","v":"S"},null,25.37,null,null,null,null,null,{"$f":"MIN(IF('Shooter Information'!H19=1,999.99,(D17*5)+E17-F17+(G17*10)+(H17*30)+(I17*999.99)+(J17*999.99)),999.99)","v":25.37},2,{"$f":"(IF('Shooter Information'!H19=1,\"MDQ\",IF(J17=1,\"SDQ\",IF(I17=1,\"DNF\",SUM(D17+G17+H17+I17+J17)))))","v":0},null,0]
[15,{"$f":"'Shooter Information'!B20","v":"Windhorse Rider"},{"$f":"'Shooter Information'!C20","v":"GF"},1,40.869999999999997,null,null,null,null,null,{"$f":"MIN(IF('Shooter Information'!H20=1,999.99,(D18*5)+E18-F18+(G18*10)+(H18*30)+(I18*999.99)+(J18*999.99)),999.99)","v":45.87},12,{"$f":"(IF('Shooter Information'!H20=1,\"MDQ\",IF(J18=1,\"SDQ\",IF(I18=1,\"DNF\",SUM(D18+G18+H18+I18+J18)))))","v":1},null,1]
[16,{"$f":"'Shooter Information'!B21","v":"Red Cavanaugh"},{"$f":"'Shooter Information'!C21","v":"49er"},null,23.21,null,null,null,null,null,{"$f":"MIN(IF('Shooter Information'!H21=1,999.99,(D19*5)+E19-F19+(G19*10)+(H19*30)+(I19*999.99)+(J19*999.99)),999.99)","v":23.21},1,{"$f":"(IF('Shooter Information'!H21=1,\"MDQ\",IF(J19=1,\"SDQ\",IF(I19=1,\"DNF\",SUM(D19+G19+H19+I19+J19)))))","v":0},null,0]
[17,{"$f":"'Shooter Information'!B22","v":0},{"$f":"'Shooter Information'!C22","v":0},null,null,null,null,null,null,null,{"$f":"MIN(IF('Shooter Information'!H22=1,999.99,(D20*5)+E20-F20+(G20*10)+(H20*30)+(I20*999.99)+(J20*999.99)),999.99)","v":0},0,{"$f":"(IF('Shooter Information'!H22=1,\"MDQ\",IF(J20=1,\"SDQ\",IF(I20=1,\"DNF\",SUM(D20+G20+H20+I20+J20)))))","v":0},null,0]
[18,{"$f":"'Shooter Information'!B23","v":0},{"$f":"'Shooter Information'!C23","v":0},null,null,null,null,null,null,null,{"$f":"MIN(IF('Shooter Information'!H23=1,999.99,(D21*5)+E21-F21+(G21*10)+(H21*30)+(I21*999.99)+(J21*999.99)),999.99)","v":0},0,{"$f":"(IF('Shooter Information'!H23=1,\"MDQ\",IF(J21=1,\"SDQ\",IF(I21=1,\"DNF\",SUM(D21+G21+H21+I21+J21)))))","v":0},null,0]
[19,{"$f":"'Shooter Information'!B24","v":0},{"$f":"'Shooter Information'!C24","v":0},null,null,null,null,null,null,null,{"$f":"MIN(IF('Shooter Information'!H24=1,999.99,(D22*5)+E22-F22+(G22*10)+(H22*30)+(I22*999.99)+(J22*999.99)),999.99)","v":0},0,{"$f":"(IF('Shooter Information'!H24=1,\"MDQ\",IF(J22=1,\"SDQ\",IF(I22=1,\"DNF\",SUM(D22+G22+H22+I22+J22)))))","v":0},null,0]
[20,{"$f":"'Shooter Information'!B25","v":0},{"$f":"'Shooter Information'!C25","v":0},null,null,null,null,null,null,null,{"$f":"MIN(IF('Shooter Information'!H25=1,999.99,(D23*5)+E23-F23+(G23*10)+(H23*30)+(I23*999.99)+(J23*999.99)),999.99)","v":0},0,{"$f":"(IF('Shooter Information'!H25=1,\"MDQ\",IF(J23=1,\"SDQ\",IF(I23=1,\"DNF\",SUM(D23+G23+H23+I23+J23)))))","v":0},null,0]
[21,{"$f":"'Shooter Information'!B26","v":0},{"$f":"'Shooter Information'!C26","v":0},null,null,null,null,null,null,null,{"$f":"MIN(IF('Shooter Information'!H26=1,999.99,(D24*5)+E24-F24+(G24*10)+(H24*30)+(I24*999.99)+(J24*999.99)),999.99)","v":0},0,{"$f":"(IF('Shooter Information'!H26=1,\"MDQ\",IF(J24=1,\"SDQ\",IF(I24=1,\"DNF\",SUM(D24+G24+H24+I24+J24)))))","v":0},null,0]
[22,{"$f":"'Shooter Information'!B27","v":0},{"$f":"'Shooter Information'!C27","v":0},null,null,null,null,null,null,null,{"$f":"MIN(IF('Shooter Information'!H27=1,999.99,(D25*5)+E25-F25+(G25*10)+(H25*30)+(I25*999.99)+(J25*999.99)),999.99)","v":0},0,{"$f":"(IF('Shooter Information'!H27=1,\"MDQ\",IF(J25=1,\"SDQ\",IF(I25=1,\"DNF\",SUM(D25+G25+H25+I25+J25)))))","v":0},null,0]
[23,{"$f":"'Shooter Information'!B28","v":0},{"$f":"'Shooter Information'!C28","v":0},null,null,null,null,null,null,null,{"$f":"MIN(IF('Shooter Information'!H28=1,999.99,(D26*5)+E26-F26+(G26*10)+(H26*30)+(I26*999.99)+(J26*999.99)),999.99)","v":0},0,{"$f":"(IF('Shooter Information'!H28=1,\"MDQ\",IF(J26=1,\"SDQ\",IF(I26=1,\"DNF\",SUM(D26+G26+H26+I26+J26)))))","v":0},null,0]
[24,{"$f":"'Shooter Information'!B29","v":0},{"$f":"'Shooter Information'!C29","v":0},null,null,null,null,null,null,null,{"$f":"MIN(IF('Shooter Information'!H29=1,999.99,(D27*5)+E27-F27+(G27*10)+(H27*30)+(I27*999.99)+(J27*999.99)),999.99)","v":0},0,{"$f":"(IF('Shooter Information'!H29=1,\"MDQ\",IF(J27=1,\"SDQ\",IF(I27=1,\"DNF\",SUM(D27+G27+H27+I27+J27)))))","v":0},null,0]
[25,{"$f":"'Shooter Information'!B30","v":0},{"$f":"'Shooter Information'!C30","v":0},null,null,null,null,null,null,null,{"$f":"MIN(IF('Shooter Information'!H30=1,999.99,(D28*5)+E28-F28+(G28*10)+(H28*30)+(I28*999.99)+(J28*999.99)),999.99)","v":0},0,{"$f":"(IF('Shooter Information'!H30=1,\"MDQ\",IF(J28=1,\"SDQ\",IF(I28=1,\"DNF\",SUM(D28+G28+H28+I28+J28)))))","v":0},null,0]
[26,{"$f":"'Shooter Information'!B31","v":0},{"$f":"'Shooter Information'!C31","v":0},null,null,null,null,null,null,null,{"$f":"MIN(IF('Shooter Information'!H31=1,999.99,(D29*5)+E29-F29+(G29*10)+(H29*30)+(I29*999.99)+(J29*999.99)),999.99)","v":0},0,{"$f":"(IF('Shooter Information'!H31=1,\"MDQ\",IF(J29=1,\"SDQ\",IF(I29=1,\"DNF\",SUM(D29+G29+H29+I29+J29)))))","v":0},null,0]
[27,{"$f":"'Shooter Information'!B32","v":0},{"$f":"'Shooter Information'!C32","v":0},null,null,null,null,null,null,null,{"$f":"MIN(IF('Shooter Information'!H32=1,999.99,(D30*5)+E30-F30+(G30*10)+(H30*30)+(I30*999.99)+(J30*999.99)),999.99)","v":0},0,{"$f":"(IF('Shooter Information'!H32=1,\"MDQ\",IF(J30=1,\"SDQ\",IF(I30=1,\"DNF\",SUM(D30+G30+H30+I30+J30)))))","v":0},null,0]
[28,{"$f":"'Shooter Information'!B33","v":0},{"$f":"'Shooter Information'!C33","v":0},null,null,null,null,null,null,null,{"$f":"MIN(IF('Shooter Information'!H33=1,999.99,(D31*5)+E31-F31+(G31*10)+(H31*30)+(I31*999.99)+(J31*999.99)),999.99)","v":0},0,{"$f":"(IF('Shooter Information'!H33=1,\"MDQ\",IF(J31=1,\"SDQ\",IF(I31=1,\"DNF\",SUM(D31+G31+H31+I31+J31)))))","v":0},null,0]
[29,{"$f":"'Shooter Information'!B34","v":0},{"$f":"'Shooter Information'!C34","v":0},null,null,null,null,null,null,null,{"$f":"MIN(IF('Shooter Information'!H34=1,999.99,(D32*5)+E32-F32+(G32*10)+(H32*30)+(I32*999.99)+(J32*999.99)),999.99)","v":0},0,{"$f":"(IF('Shooter Information'!H34=1,\"MDQ\",IF(J32=1,\"SDQ\",IF(I32=1,\"DNF\",SUM(D32+G32+H32+I32+J32)))))","v":0},null,0]
[30,{"$f":"'Shooter Information'!B35","v":0},{"$f":"'Shooter Information'!C35","v":0},null,null,null,null,null,null,null,{"$f":"MIN(IF('Shooter Information'!H35=1,999.99,(D33*5)+E33-F33+(G33*10)+(H33*30)+(I33*999.99)+(J33*999.99)),999.99)","v":0},0,{"$f":"(IF('Shooter Information'!H35=1,\"MDQ\",IF(J33=1,\"SDQ\",IF(I33=1,\"DNF\",SUM(D33+G33+H33+I33+J33)))))","v":0},null,0]
[31,{"$f":"'Shooter Information'!B36","v":0},{"$f":"'Shooter Information'!C36","v":0},null,null,null,null,null,null,null,{"$f":"MIN(IF('Shooter Information'!H36=1,999.99,(D34*5)+E34-F34+(G34*10)+(H34*30)+(I34*999.99)+(J34*999.99)),999.99)","v":0},0,{"$f":"(IF('Shooter Information'!H36=1,\"MDQ\",IF(J34=1,\"SDQ\",IF(I34=1,\"DNF\",SUM(D34+G34+H34+I34+J34)))))","v":0},null,0]
[32,{"$f":"'Shooter Information'!B37","v":0},{"$f":"'Shooter Information'!C37","v":0},null,null,null,null,null,null,null,{"$f":"MIN(IF('Shooter Information'!H37=1,999.99,(D35*5)+E35-F35+(G35*10)+(H35*30)+(I35*999.99)+(J35*999.99)),999.99)","v":0},0,{"$f":"(IF('Shooter Information'!H37=1,\"MDQ\",IF(J35=1,\"SDQ\",IF(I35=1,\"DNF\",SUM(D35+G35+H35+I35+J35)))))","v":0},null,0]
[33,{"$f":"'Shooter Information'!B38","v":0},{"$f":"'Shooter Information'!C38","v":0},null,null,null,null,null,null,null,{"$f":"MIN(IF('Shooter Information'!H38=1,999.99,(D36*5)+E36-F36+(G36*10)+(H36*30)+(I36*999.99)+(J36*999.99)),999.99)","v":0},0,{"$f":"(IF('Shooter Information'!H38=1,\"MDQ\",IF(J36=1,\"SDQ\",IF(I36=1,\"DNF\",SUM(D36+G36+H36+I36+J36)))))","v":0},null,0]
[34,{"$f":"'Shooter Information'!B39","v":0},{"$f":"'Shooter Information'!C39","v":0},null,null,null,null,null,null,null,{"$f":"MIN(IF('Shooter Information'!H39=1,999.99,(D37*5)+E37-F37+(G37*10)+(H37*30)+(I37*999.99)+(J37*999.99)),999.99)","v":0},0,{"$f":"(IF('Shooter Information'!H39=1,\"MDQ\",IF(J37=1,\"SDQ\",IF(I37=1,\"DNF\",SUM(D37+G37+H37+I37+J37)))))","v":0},null,0]
[35,{"$f":"'Shooter Information'!B40","v":0},{"$f":"'Shooter Information'!C40","v":0},null,null,null,null,null,null,null,{"$f":"MIN(IF('Shooter Information'!H40=1,999.99,(D38*5)+E38-F38+(G38*10)+(H38*30)+(I38*999.99)+(J38*999.99)),999.99)","v":0},0,{"$f":"(IF('Shooter Information'!H40=1,\"MDQ\",IF(J38=1,\"SDQ\",IF(I38=1,\"DNF\",SUM(D38+G38+H38+I38+J38)))))","v":0},null,0]
[36,{"$f":"'Shooter Information'!B41","v":0},{"$f":"'Shooter Information'!C41","v":0},null,null,null,null,null,null,null,{"$f":"MIN(IF('Shooter Information'!H41=1,999.99,(D39*5)+E39-F39+(G39*10)+(H39*30)+(I39*999.99)+(J39*999.99)),999.99)","v":0},0,{"$f":"(IF('Shooter Information'!H41=1,\"MDQ\",IF(J39=1,\"SDQ\",IF(I39=1,\"DNF\",SUM(D39+G39+H39+I39+J39)))))","v":0},null,0]
[37,{"$f":"'Shooter Information'!B42","v":0},{"$f":"'Shooter Information'!C42","v":0},null,null,null,null,null,null,null,{"$f":"MIN(IF('Shooter Information'!H42=1,999.99,(D40*5)+E40-F40+(G40*10)+(H40*30)+(I40*999.99)+(J40*999.99)),999.99)","v":0},0,{"$f":"(IF('Shooter Information'!H42=1,\"MDQ\",IF(J40=1,\"SDQ\",IF(I40=1,\"DNF\",SUM(D40+G40+H40+I40+J40)))))","v":0},null,0]
[38,{"$f":"'Shooter Information'!B43","v":0},{"$f":"'Shooter Information'!C43","v":0},null,null,null,null,null,null,null,{"$f":"MIN(IF('Shooter Information'!H43=1,999.99,(D41*5)+E41-F41+(G41*10)+(H41*30)+(I41*999.99)+(J41*999.99)),999.99)","v":0},0,{"$f":"(IF('Shooter Information'!H43=1,\"MDQ\",IF(J41=1,\"SDQ\",IF(I41=1,\"DNF\",SUM(D41+G41+H41+I41+J41)))))","v":0},null,0]
[39,{"$f":"'Shooter Information'!B44","v":0},{"$f":"'Shooter Information'!C44","v":0},null,null,null,null,null,null,null,{"$f":"MIN(IF('Shooter Information'!H44=1,999.99,(D42*5)+E42-F42+(G42*10)+(H42*30)+(I42*999.99)+(J42*999.99)),999.99)","v":0},0,{"$f":"(IF('Shooter Information'!H44=1,\"MDQ\",IF(J42=1,\"SDQ\",IF(I42=1,\"DNF\",SUM(D42+G42+H42+I42+J42)))))","v":0},null,0]
[40,{"$f":"'Shooter Information'!B45","v":0},{"$f":"'Shooter Information'!C45","v":0},null,null,null,null,null,null,null,{"$f":"MIN(IF('Shooter Information'!H45=1,999.99,(D43*5)+E43-F43+(G43*10)+(H43*30)+(I43*999.99)+(J43*999.99)),999.99)","v":0},0,{"$f":"(IF('Shooter Information'!H45=1,\"MDQ\",IF(J43=1,\"SDQ\",IF(I43=1,\"DNF\",SUM(D43+G43+H43+I43+J43)))))","v":0},null,0]
[41,{"$f":"'Shooter Information'!B46","v":0},{"$f":"'Shooter Information'!C46","v":0},null,null,null,null,null,null,null,{"$f":"MIN(IF('Shooter Information'!H46=1,999.99,(D44*5)+E44-F44+(G44*10)+(H44*30)+(I44*999.99)+(J44*999.99)),999.99)","v":0},0,{"$f":"(IF('Shooter Information'!H46=1,\"MDQ\",IF(J44=1,\"SDQ\",IF(I44=1,\"DNF\",SUM(D44+G44+H44+I44+J44)))))","v":0},null,0]
[42,{"$f":"'Shooter Information'!B47","v":0},{"$f":"'Shooter Information'!C47","v":0},null,null,null,null,null,null,null,{"$f":"MIN(IF('Shooter Information'!H47=1,999.99,(D45*5)+E45-F45+(G45*10)+(H45*30)+(I45*999.99)+(J45*999.99)),999.99)","v":0},0,{"$f":"(IF('Shooter Information'!H47=1,\"MDQ\",IF(J45=1,\"SDQ\",IF(I45=1,\"DNF\",SUM(D45+G45+H45+I45+J45)))))","v":0},null,0]
[43,{"$f":"'Shooter Information'!B48","v":0},{"$f":"'Shooter Information'!C48","v":0},null,null,null,null,null,null,null,{"$f":"MIN(IF('Shooter Information'!H48=1,999.99,(D46*5)+E46-F46+(G46*10)+(H46*30)+(I46*999.99)+(J46*999.99)),999.99)","v":0},0,{"$f":"(IF('Shooter Information'!H48=1,\"MDQ\",IF(J46=1,\"SDQ\",IF(I46=1,\"DNF\",SUM(D46+G46+H46+I46+J46)))))","v":0},null,0]
[44,{"$f":"'Shooter Information'!B49","v":0},{"$f":"'Shooter Information'!C49","v":0},null,null,null,null,null,null,null,{"$f":"MIN(IF('Shooter Information'!H49=1,999.99,(D47*5)+E47-F47+(G47*10)+(H47*30)+(I47*999.99)+(J47*999.99)),999.99)","v":0},0,{"$f":"(IF('Shooter Information'!H49=1,\"MDQ\",IF(J47=1,\"SDQ\",IF(I47=1,\"DNF\",SUM(D47+G47+H47+I47+J47)))))","v":0},null,0]
[45,{"$f":"'Shooter Information'!B50","v":0},{"$f":"'Shooter Information'!C50","v":0},null,null,null,null,null,null,null,{"$f":"MIN(IF('Shooter Information'!H50=1,999.99,(D48*5)+E48-F48+(G48*10)+(H48*30)+(I48*999.99)+(J48*999.99)),999.99)","v":0},0,{"$f":"(IF('Shooter Information'!H50=1,\"MDQ\",IF(J48=1,\"SDQ\",IF(I48=1,\"DNF\",SUM(D48+G48+H48+I48+J48)))))","v":0},null,0]
[46,{"$f":"'Shooter Information'!B51","v":0},{"$f":"'Shooter Information'!C51","v":0},null,null,null,null,null,null,null,{"$f":"MIN(IF('Shooter Information'!H51=1,999.99,(D49*5)+E49-F49+(G49*10)+(H49*30)+(I49*999.99)+(J49*999.99)),999.99)","v":0},0,{"$f":"(IF('Shooter Information'!H51=1,\"MDQ\",IF(J49=1,\"SDQ\",IF(I49=1,\"DNF\",SUM(D49+G49+H49+I49+J49)))))","v":0},null,0]
[47,{"$f":"'Shooter Information'!B52","v":0},{"$f":"'Shooter Information'!C52","v":0},null,null,null,null,null,null,null,{"$f":"MIN(IF('Shooter Information'!H52=1,999.99,(D50*5)+E50-F50+(G50*10)+(H50*30)+(I50*999.99)+(J50*999.99)),999.99)","v":0},0,{"$f":"(IF('Shooter Information'!H52=1,\"MDQ\",IF(J50=1,\"SDQ\",IF(I50=1,\"DNF\",SUM(D50+G50+H50+I50+J50)))))","v":0},null,0]
[48,{"$f":"'Shooter Information'!B53","v":0},{"$f":"'Shooter Information'!C53","v":0},null,null,null,null,null,null,null,{"$f":"MIN(IF('Shooter Information'!H53=1,999.99,(D51*5)+E51-F51+(G51*10)+(H51*30)+(I51*999.99)+(J51*999.99)),999.99)","v":0},0,{"$f":"(IF('Shooter Information'!H53=1,\"MDQ\",IF(J51=1,\"SDQ\",IF(I51=1,\"DNF\",SUM(D51+G51+H51+I51+J51)))))","v":0},null,0]
[49,{"$f":"'Shooter Information'!B54","v":0},{"$f":"'Shooter Information'!C54","v":0},null,null,null,null,null,null,null,{"$f":"MIN(IF('Shooter Information'!H54=1,999.99,(D52*5)+E52-F52+(G52*10)+(H52*30)+(I52*999.99)+(J52*999.99)),999.99)","v":0},0,{"$f":"(IF('Shooter Information'!H54=1,\"MDQ\",IF(J52=1,\"SDQ\",IF(I52=1,\"DNF\",SUM(D52+G52+H52+I52+J52)))))","v":0},null,0]
[50,{"$f":"'Shooter Information'!B55","v":0},{"$f":"'Shooter Information'!C55","v":0},null,null,null,null,null,null,null,{"$f":"MIN(IF('Shooter Information'!H55=1,999.99,(D53*5)+E53-F53+(G53*10)+(H53*30)+(I53*999.99)+(J53*999.99)),999.99)","v":0},0,{"$f":"(IF('Shooter Information'!H55=1,\"MDQ\",IF(J53=1,\"SDQ\",IF(I53=1,\"DNF\",SUM(D53+G53+H53+I53+J53)))))","v":0},null,0]
[51,{"$f":"'Shooter Information'!B56","v":0},{"$f":"'Shooter Information'!C56","v":0},null,null,null,null,null,null,null,{"$f":"MIN(IF('Shooter Information'!H56=1,999.99,(D54*5)+E54-F54+(G54*10)+(H54*30)+(I54*999.99)+(J54*999.99)),999.99)","v":0},0,{"$f":"(IF('Shooter Information'!H56=1,\"MDQ\",IF(J54=1,\"SDQ\",IF(I54=1,\"DNF\",SUM(D54+G54+H54+I54+J54)))))","v":0},null,0]
[52,{"$f":"'Shooter Information'!B57","v":0},{"$f":"'Shooter Information'!C57","v":0},null,null,null,null,null,null,null,{"$f":"MIN(IF('Shooter Information'!H57=1,999.99,(D55*5)+E55-F55+(G55*10)+(H55*30)+(I55*999.99)+(J55*999.99)),999.99)","v":0},0,{"$f":"(IF('Shooter Information'!H57=1,\"MDQ\",IF(J55=1,\"SDQ\",IF(I55=1,\"DNF\",SUM(D55+G55+H55+I55+J55)))))","v":0},null,0]
[53,{"$f":"'Shooter Information'!B58","v":0},{"$f":"'Shooter Information'!C58","v":0},null,null,null,null,null,null,null,{"$f":"MIN(IF('Shooter Information'!H58=1,999.99,(D56*5)+E56-F56+(G56*10)+(H56*30)+(I56*999.99)+(J56*999.99)),999.99)","v":0},0,{"$f":"(IF('Shooter Information'!H58=1,\"MDQ\",IF(J56=1,\"SDQ\",IF(I56=1,\"DNF\",SUM(D56+G56+H56+I56+J56)))))","v":0},null,0]
[54,{"$f":"'Shooter Information'!B59","v":0},{"$f":"'Shooter Information'!C59","v":0},null,null,null,null,null,null,null,{"$f":"MIN(IF('Shooter Information'!H59=1,999.99,(D57*5)+E57-F57+(G57*10)+(H57*30)+(I57*999.99)+(J57*999.99)),999.99)","v":0},0,{"$f":"(IF('Shooter Information'!H59=1,\"MDQ\",IF(J57=1,\"SDQ\",IF(I57=1,\"DNF\",SUM(D57+G57+H57+I57+J57)))))","v":0},null,0]
[55,{"$f":"'Shooter Information'!B60","v":0},{"$f":"'Shooter Information'!C60","v":0},null,null,null,null,null,null,null,{"$f":"MIN(IF('Shooter Information'!H60=1,999.99,(D58*5)+E58-F58+(G58*10)+(H58*30)+(I58*999.99)+(J58*999.99)),999.99)","v":0},0,{"$f":"(IF('Shooter Information'!H60=1,\"MDQ\",IF(J58=1,\"SDQ\",IF(I58=1,\"DNF\",SUM(D58+G58+H58+I58+J58)))))","v":0},null,0]
[56,{"$f":"'Shooter Information'!B61","v":0},{"$f":"'Shooter Information'!C61","v":0},null,null,null,null,null,null,null,{"$f":"MIN(IF('Shooter Information'!H61=1,999.99,(D59*5)+E59-F59+(G59*10)+(H59*30)+(I59*999.99)+(J59*999.99)),999.99)","v":0},0,{"$f":"(IF('Shooter Information'!H61=1,\"MDQ\",IF(J59=1,\"SDQ\",IF(I59=1,\"DNF\",SUM(D59+G59+H59+I59+J59)))))","v":0},null,0]
[57,{"$f":"'Shooter Information'!B62","v":0},{"$f":"'Shooter Information'!C62","v":0},null,null,null,null,null,null,null,{"$f":"MIN(IF('Shooter Information'!H62=1,999.99,(D60*5)+E60-F60+(G60*10)+(H60*30)+(I60*999.99)+(J60*999.99)),999.99)","v":0},0,{"$f":"(IF('Shooter Information'!H62=1,\"MDQ\",IF(J60=1,\"SDQ\",IF(I60=1,\"DNF\",SUM(D60+G60+H60+I60+J60)))))","v":0},null,0]
[58,{"$f":"'Shooter Information'!B63","v":0},{"$f":"'Shooter Information'!C63","v":0},null,null,null,null,null,null,null,{"$f":"MIN(IF('Shooter Information'!H63=1,999.99,(D61*5)+E61-F61+(G61*10)+(H61*30)+(I61*999.99)+(J61*999.99)),999.99)","v":0},0,{"$f":"(IF('Shooter Information'!H63=1,\"MDQ\",IF(J61=1,\"SDQ\",IF(I61=1,\"DNF\",SUM(D61+G61+H61+I61+J61)))))","v":0},null,0]
[59,{"$f":"'Shooter Information'!B64","v":0},{"$f":"'Shooter Information'!C64","v":0},null,null,null,null,null,null,null,{"$f":"MIN(IF('Shooter Information'!H64=1,999.99,(D62*5)+E62-F62+(G62*10)+(H62*30)+(I62*999.99)+(J62*999.99)),999.99)","v":0},0,{"$f":"(IF('Shooter Information'!H64=1,\"MDQ\",IF(J62=1,\"SDQ\",IF(I62=1,\"DNF\",SUM(D62+G62+H62+I62+J62)))))","v":0},null,0]
[60,{"$f":"'Shooter Information'!B65","v":0},{"$f":"'Shooter Information'!C65","v":0},null,null,null,null,null,null,null,{"$f":"MIN(IF('Shooter Information'!H65=1,999.99,(D63*5)+E63-F63+(G63*10)+(H63*30)+(I63*999.99)+(J63*999.99)),999.99)","v":0},0,{"$f":"(IF('Shooter Information'!H65=1,\"MDQ\",IF(J63=1,\"SDQ\",IF(I63=1,\"DNF\",SUM(D63+G63+H63+I63+J63)))))","v":0},null,0]
[61,{"$f":"'Shooter Information'!B66","v":0},{"$f":"'Shooter Information'!C66","v":0},null,null,null,null,null,null,null,{"$f":"MIN(IF('Shooter Information'!H66=1,999.99,(D64*5)+E64-F64+(G64*10)+(H64*30)+(I64*999.99)+(J64*999.99)),999.99)","v":0},0,{"$f":"(IF('Shooter Information'!H66=1,\"MDQ\",IF(J64=1,\"SDQ\",IF(I64=1,\"DNF\",SUM(D64+G64+H64+I64+J64)))))","v":0},null,0]
[62,{"$f":"'Shooter Information'!B67","v":0},{"$f":"'Shooter Information'!C67","v":0},null,null,null,null,null,null,null,{"$f":"MIN(IF('Shooter Information'!H67=1,999.99,(D65*5)+E65-F65+(G65*10)+(H65*30)+(I65*999.99)+(J65*999.99)),999.99)","v":0},0,{"$f":"(IF('Shooter Information'!H67=1,\"MDQ\",IF(J65=1,\"SDQ\",IF(I65=1,\"DNF\",SUM(D65+G65+H65+I65+J65)))))","v":0},null,0]
[63,{"$f":"'Shooter Information'!B68","v":0},{"$f":"'Shooter Information'!C68","v":0},null,null,null,null,null,null,null,{"$f":"MIN(IF('Shooter Information'!H68=1,999.99,(D66*5)+E66-F66+(G66*10)+(H66*30)+(I66*999.99)+(J66*999.99)),999.99)","v":0},0,{"$f":"(IF('Shooter Information'!H68=1,\"MDQ\",IF(J66=1,\"SDQ\",IF(I66=1,\"DNF\",SUM(D66+G66+H66+I66+J66)))))","v":0},null,0]
[64,{"$f":"'Shooter Information'!B69","v":0},{"$f":"'Shooter Information'!C69","v":0},null,null,null,null,null,null,null,{"$f":"MIN(IF('Shooter Information'!H69=1,999.99,(D67*5)+E67-F67+(G67*10)+(H67*30)+(I67*999.99)+(J67*999.99)),999.99)","v":0},0,{"$f":"(IF('Shooter Information'!H69=1,\"MDQ\",IF(J67=1,\"SDQ\",IF(I67=1,\"DNF\",SUM(D67+G67+H67+I67+J67)))))","v":0},null,0]
[65,{"$f":"'Shooter Information'!B70","v":0},{"$f":"'Shooter Information'!C70","v":0},null,null,null,null,null,null,null,{"$f":"MIN(IF('Shooter Information'!H70=1,999.99,(D68*5)+E68-F68+(G68*10)+(H68*30)+(I68*999.99)+(J68*999.99)),999.99)","v":0},0,{"$f":"(IF('Shooter Information'!H70=1,\"MDQ\",IF(J68=1,\"SDQ\",IF(I68=1,\"DNF\",SUM(D68+G68+H68+I68+J68)))))","v":0},null,0]
[66,{"$f":"'Shooter Information'!B71","v":0},{"$f":"'Shooter Information'!C71","v":0},null,null,null,null,null,null,null,{"$f":"MIN(IF('Shooter Information'!H71=1,999.99,(D69*5)+E69-F69+(G69*10)+(H69*30)+(I69*999.99)+(J69*999.99)),999.99)","v":0},{"$f":"IF(K69>0,SUMPRODUCT(--(K69>$K$4:$K$78),--($K$4:$K$78>0))+1,0)","v":0},{"$f":"(IF('Shooter Information'!H71=1,\"MDQ\",IF(J69=1,\"SDQ\",IF(I69=1,\"DNF\",SUM(D69+G69+H69+I69+J69)))))","v":0},null,{"$f":"SUM(D69+G69+H69+I69+J69)","v":0}]
[67,{"$f":"'Shooter Information'!B72","v":0},{"$f":"'Shooter Information'!C72","v":0},null,null,null,null,null,null,null,{"$f":"MIN(IF('Shooter Information'!H72=1,999.99,(D70*5)+E70-F70+(G70*10)+(H70*30)+(I70*999.99)+(J70*999.99)),999.99)","v":0},0,{"$f":"(IF('Shooter Information'!H72=1,\"MDQ\",IF(J70=1,\"SDQ\",IF(I70=1,\"DNF\",SUM(D70+G70+H70+I70+J70)))))","v":0},null,0]
[68,{"$f":"'Shooter Information'!B73","v":0},{"$f":"'Shooter Information'!C73","v":0},null,null,null,null,null,null,null,{"$f":"MIN(IF('Shooter Information'!H73=1,999.99,(D71*5)+E71-F71+(G71*10)+(H71*30)+(I71*999.99)+(J71*999.99)),999.99)","v":0},0,{"$f":"(IF('Shooter Information'!H73=1,\"MDQ\",IF(J71=1,\"SDQ\",IF(I71=1,\"DNF\",SUM(D71+G71+H71+I71+J71)))))","v":0},null,0]
[69,{"$f":"'Shooter Information'!B74","v":0},{"$f":"'Shooter Information'!C74","v":0},null,null,null,null,null,null,null,{"$f":"MIN(IF('Shooter Information'!H74=1,999.99,(D72*5)+E72-F72+(G72*10)+(H72*30)+(I72*999.99)+(J72*999.99)),999.99)","v":0},0,{"$f":"(IF('Shooter Information'!H74=1,\"MDQ\",IF(J72=1,\"SDQ\",IF(I72=1,\"DNF\",SUM(D72+G72+H72+I72+J72)))))","v":0},null,0]
[70,{"$f":"'Shooter Information'!B75","v":0},{"$f":"'Shooter Information'!C75","v":0},null,null,null,null,null,null,null,{"$f":"MIN(IF('Shooter Information'!H75=1,999.99,(D73*5)+E73-F73+(G73*10)+(H73*30)+(I73*999.99)+(J73*999.99)),999.99)","v":0},0,{"$f":"(IF('Shooter Information'!H75=1,\"MDQ\",IF(J73=1,\"SDQ\",IF(I73=1,\"DNF\",SUM(D73+G73+H73+I73+J73)))))","v":0},null,0]
[71,{"$f":"'Shooter Information'!B76","v":0},{"$f":"'Shooter Information'!C76","v":0},null,null,null,null,null,null,null,{"$f":"MIN(IF('Shooter Information'!H76=1,999.99,(D74*5)+E74-F74+(G74*10)+(H74*30)+(I74*999.99)+(J74*999.99)),999.99)","v":0},0,{"$f":"(IF('Shooter Information'!H76=1,\"MDQ\",IF(J74=1,\"SDQ\",IF(I74=1,\"DNF\",SUM(D74+G74+H74+I74+J74)))))","v":0},null,0]
[72,{"$f":"'Shooter Information'!B77","v":0},{"$f":"'Shooter Information'!C77","v":0},null,null,null,null,null,null,null,{"$f":"MIN(IF('Shooter Information'!H77=1,999.99,(D75*5)+E75-F75+(G75*10)+(H75*30)+(I75*999.99)+(J75*999.99)),999.99)","v":0},0,{"$f":"(IF('Shooter Information'!H77=1,\"MDQ\",IF(J75=1,\"SDQ\",IF(I75=1,\"DNF\",SUM(D75+G75+H75+I75+J75)))))","v":0},null,0]
[73,{"$f":"'Shooter Information'!B78","v":0},{"$f":"'Shooter Information'!C78","v":0},null,null,null,null,null,null,null,{"$f":"MIN(IF('Shooter Information'!H78=1,999.99,(D76*5)+E76-F76+(G76*10)+(H76*30)+(I76*999.99)+(J76*999.99)),999.99)","v":0},0,{"$f":"(IF('Shooter Information'!H78=1,\"MDQ\",IF(J76=1,\"SDQ\",IF(I76=1,\"DNF\",SUM(D76+G76+H76+I76+J76)))))","v":0},null,0]
[74,{"$f":"'Shooter Information'!B79","v":0},{"$f":"'Shooter Information'!C79","v":0},null,null,null,null,null,null,null,{"$f":"MIN(IF('Shooter Information'!H79=1,999.99,(D77*5)+E77-F77+(G77*10)+(H77*30)+(I77*999.99)+(J77*999.99)),999.99)","v":0},0,{"$f":"(IF('Shooter Information'!H79=1,\"MDQ\",IF(J77=1,\"SDQ\",IF(I77=1,\"DNF\",SUM(D77+G77+H77+I77+J77)))))","v":0},null,0]
[75,{"$f":"'Shooter Information'!B80","v":0},{"$f":"'Shooter Information'!C80","v":0},null,null,null,null,null,null,null,{"$f":"MIN(IF('Shooter Information'!H80=1,999.99,(D78*5)+E78-F78+(G78*10)+(H78*30)+(I78*999.99)+(J78*999.99)),999.99)","v":0},0,{"$f":"(IF('Shooter Information'!H80=1,\"MDQ\",IF(J78=1,\"SDQ\",IF(I78=1,\"DNF\",SUM(D78+G78+H78+I78+J78)))))","v":0},null,0]

{"sheet":"Stage 5","index":6,"n_rows":78,"n_cols":15,"rows_kept":78,"cut":false,"hidden":false,"merged":[]}
[null,"Stage Input Sheet - Stage 5"]
[]
["Shooter #","Shooter","Class","Misses","Raw Time","Bonus","10 Sec","30 Sec","DNF","SDQ","Total","Rank","Penalties",null,"# Penalties"]
[{"$f":"ROW()-3","v":1},{"$f":"'Shooter Information'!B6","v":"Striker"},{"$f":"'Shooter Information'!C6","v":"WW"},1,33.729999999999997,null,null,null,null,null,{"$f":"MIN(IF('Shooter Information'!H6=1,999.99,(D4*5)+E4-F4+(G4*10)+(H4*30)+(I4*999.99)+(J4*999.99)),999.99)","v":38.729999999999997},{"$f":"IF(K4>0,SUMPRODUCT(--(K4>$K$4:$K$78),--($K$4:$K$78>0))+1,0)","v":10},{"$f":"(IF('Shooter Information'!H6=1,\"MDQ\",IF(J4=1,\"SDQ\",IF(I4=1,\"DNF\",SUM(D4+G4+H4+I4+J4)))))","v":1},null,{"$f":"SUM(D4+G4+H4+I4+J4)","v":1}]
[{"$f":"ROW()-3","v":2},{"$f":"'Shooter Information'!B7","v":"Cody Maverick"},{"$f":"'Shooter Information'!C7","v":"GF"},null,31.27,null,null,null,null,null,{"$f":"MIN(IF('Shooter Information'!H7=1,999.99,(D5*5)+E5-F5+(G5*10)+(H5*30)+(I5*999.99)+(J5*999.99)),999.99)","v":31.27},{"$f":"IF(K5>0,SUMPRODUCT(--(K5>$K$4:$K$78),--($K$4:$K$78>0))+1,0)","v":4},{"$f":"(IF('Shooter Information'!H7=1,\"MDQ\",IF(J5=1,\"SDQ\",IF(I5=1,\"DNF\",SUM(D5+G5+H5+I5+J5)))))","v":0},null,{"$f":"SUM(D5+G5+H5+I5+J5)","v":0}]
[3,{"$f":"'Shooter Information'!B8","v":"Potter County Kid"},{"$f":"'Shooter Information'!C8","v":"WW"},1,37.770000000000003,null,null,null,null,null,{"$f":"MIN(IF('Shooter Information'!H8=1,999.99,(D6*5)+E6-F6+(G6*10)+(H6*30)+(I6*999.99)+(J6*999.99)),999.99)","v":42.77},13,{"$f":"(IF('Shooter Information'!H8=1,\"MDQ\",IF(J6=1,\"SDQ\",IF(I6=1,\"DNF\",SUM(D6+G6+H6+I6+J6)))))","v":1},null,1]
[4,{"$f":"'Shooter Information'!B9","v":"Ricochet Kid"},{"$f":"'Shooter Information'!C9","v":"W"},null,41.5,null,null,null,null,null,{"$f":"MIN(IF('Shooter Information'!H9=1,999.99,(D7*5)+E7-F7+(G7*10)+(H7*30)+(I7*999.99)+(J7*999.99)),999.99)","v":41.5},12,{"$f":"(IF('Shooter Information'!H9=1,\"MDQ\",IF(J7=1,\"SDQ\",IF(I7=1,\"DNF\",SUM(D7+G7+H7+I7+J7)))))","v":0},null,0]
[5,{"$f":"'Shooter Information'!B10","v":"Flatboat Bob"},{"$f":"'Shooter Information'!C10","v":"CBAR"},null,34.76,null,null,null,null,null,{"$f":"MIN(IF('Shooter Information'!H10=1,999.99,(D8*5)+E8-F8+(G8*10)+(H8*30)+(I8*999.99)+(J8*999.99)),999.99)","v":34.76},7,{"$f":"(IF('Shooter Information'!H10=1,\"MDQ\",IF(J8=1,\"SDQ\",IF(I8=1,\"DNF\",SUM(D8+G8+H8+I8+J8)))))","v":0},null,0]
[6,{"$f":"'Shooter Information'!B11","v":"Hotshod"},{"$f":"'Shooter Information'!C11","v":"W"},null,33.130000000000003,null,null,null,null,null,{"$f":"MIN(IF('Shooter Information'!H11=1,999.99,(D9*5)+E9-F9+(G9*10)+(H9*30)+(I9*999.99)+(J9*999.99)),999.99)","v":33.130000000000003},6,{"$f":"(IF('Shooter Information'!H11=1,\"MDQ\",IF(J9=1,\"SDQ\",IF(I9=1,\"DNF\",SUM(D9+G9+H9+I9+J9)))))","v":0},null,0]
[7,{"$f":"'Shooter Information'!B12","v":"Prairie City Slim"},{"$f":"'Shooter Information'!C12","v":"ES"},null,36.950000000000003,null,null,null,null,null,{"$f":"MIN(IF('Shooter Information'!H12=1,999.99,(D10*5)+E10-F10+(G10*10)+(H10*30)+(I10*999.99)+(J10*999.99)),999.99)","v":36.950000000000003},8,{"$f":"(IF('Shooter Information'!H12=1,\"MDQ\",IF(J10=1,\"SDQ\",IF(I10=1,\"DNF\",SUM(D10+G10+H10+I10+J10)))))","v":0},null,0]
[8,{"$f":"'Shooter Information'!B13","v":"Regret Schofield"},{"$f":"'Shooter Information'!C13","v":"49er"},null,57,null,null,null,null,null,{"$f":"MIN(IF('Shooter Information'!H13=1,999.99,(D11*5)+E11-F11+(G11*10)+(H11*30)+(I11*999.99)+(J11*999.99)),999.99)","v":57},14,{"$f":"(IF('Shooter Information'!H13=1,\"MDQ\",IF(J11=1,\"SDQ\",IF(I11=1,\"DNF\",SUM(D11+G11+H11+I11+J11)))))","v":0},null,0]
[9,{"$f":"'Shooter Information'!B14","v":"Tumble Weed Tink"},{"$f":"'Shooter Information'!C14","v":"L49"},1,63.61,null,null,null,null,null,{"$f":"MIN(IF('Shooter Information'!H14=1,999.99,(D12*5)+E12-F12+(G12*10)+(H12*30)+(I12*999.99)+(J12*999.99)),999.99)","v":68.61},16,{"$f":"(IF('Shooter Information'!H14=1,\"MDQ\",IF(J12=1,\"SDQ\",IF(I12=1,\"DNF\",SUM(D12+G12+H12+I12+J12)))))","v":1},null,1]
[10,{"$f":"'Shooter Information'!B15","v":"One Eyed Jane"},{"$f":"'Shooter Information'!C15","v":"LSS"},null,65.010000000000005,null,null,null,null,null,{"$f":"MIN(IF('Shooter Information'!H15=1,999.99,(D13*5)+E13-F13+(G13*10)+(H13*30)+(I13*999.99)+(J13*999.99)),999.99)","v":65.010000000000005},15,{"$f":"(IF('Shooter Information'!H15=1,\"MDQ\",IF(J13=1,\"SDQ\",IF(I13=1,\"DNF\",SUM(D13+G13+H13+I13+J13)))))","v":0},null,0]
[11,{"$f":"'Shooter Information'!B16","v":"Stogie"},{"$f":"'Shooter Information'!C16","v":"49er"},null,29.32,null,null,null,null,null,{"$f":"MIN(IF('Shooter Information'!H16=1,999.99,(D14*5)+E14-F14+(G14*10)+(H14*30)+(I14*999.99)+(J14*999.99)),999.99)","v":29.32},2,{"$f":"(IF('Shooter Information'!H16=1,\"MDQ\",IF(J14=1,\"SDQ\",IF(I14=1,\"DNF\",SUM(D14+G14+H14+I14+J14)))))","v":0},null,0]
[12,{"$f":"'Shooter Information'!B17","v":"Major BS Walker"},{"$f":"'Shooter Information'!C17","v":"WW"},null,28.16,null,null,null,null,null,{"$f":"MIN(IF('Shooter Information'!H17=1,999.99,(D15*5)+E15-F15+(G15*10)+(H15*30)+(I15*999.99)+(J15*999.99)),999.99)","v":28.16},1,{"$f":"(IF('Shooter Information'!H17=1,\"MDQ\",IF(J15=1,\"SDQ\",IF(I15=1,\"DNF\",SUM(D15+G15+H15+I15+J15)))))","v":0},null,0]
[13,{"$f":"'Shooter Information'!B18","v":"Sassy Shooting Sours"},{"$f":"'Shooter Information'!C18","v":"S"},null,37.93,null,null,null,null,null,{"$f":"MIN(IF('Shooter Information'!H18=1,999.99,(D16*5)+E16-F16+(G16*10)+(H16*30)+(I16*999.99)+(J16*999.99)),999.99)","v":37.93},9,{"$f":"(IF('Shooter Information'!H18=1,\"MDQ\",IF(J16=1,\"SDQ\",IF(I16=1,\"DNF\",SUM(D16+G16+H16+I16+J16)))))","v":0},null,0]
[14,{"$f":"'Shooter Information'!B19","v":"Lefty Spurmaker"},{"$f":"'Shooter Information'!C19","v":"S"},null,31.98,null,null,null,null,null,{"$f":"MIN(IF('Shooter Information'!H19=1,999.99,(D17*5)+E17-F17+(G17*10)+(H17*30)+(I17*999.99)+(J17*999.99)),999.99)","v":31.98},5,{"$f":"(IF('Shooter Information'!H19=1,\"MDQ\",IF(J17=1,\"SDQ\",IF(I17=1,\"DNF\",SUM(D17+G17+H17+I17+J17)))))","v":0},null,0]
[15,{"$f":"'Shooter Information'!B20","v":"Windhorse Rider"},{"$f":"'Shooter Information'!C20","v":"GF"},null,40.020000000000003,null,null,null,null,null,{"$f":"MIN(IF('Shooter Information'!H20=1,999.99,(D18*5)+E18-F18+(G18*10)+(H18*30)+(I18*999.99)+(J18*999.99)),999.99)","v":40.020000000000003},11,{"$f":"(IF('Shooter Information'!H20=1,\"MDQ\",IF(J18=1,\"SDQ\",IF(I18=1,\"DNF\",SUM(D18+G18+H18+I18+J18)))))","v":0},null,0]
[16,{"$f":"'Shooter Information'!B21","v":"Red Cavanaugh"},{"$f":"'Shooter Information'!C21","v":"49er"},null,29.94,null,null,null,null,null,{"$f":"MIN(IF('Shooter Information'!H21=1,999.99,(D19*5)+E19-F19+(G19*10)+(H19*30)+(I19*999.99)+(J19*999.99)),999.99)","v":29.94},3,{"$f":"(IF('Shooter Information'!H21=1,\"MDQ\",IF(J19=1,\"SDQ\",IF(I19=1,\"DNF\",SUM(D19+G19+H19+I19+J19)))))","v":0},null,0]
[17,{"$f":"'Shooter Information'!B22","v":0},{"$f":"'Shooter Information'!C22","v":0},null,null,null,null,null,null,null,{"$f":"MIN(IF('Shooter Information'!H22=1,999.99,(D20*5)+E20-F20+(G20*10)+(H20*30)+(I20*999.99)+(J20*999.99)),999.99)","v":0},0,{"$f":"(IF('Shooter Information'!H22=1,\"MDQ\",IF(J20=1,\"SDQ\",IF(I20=1,\"DNF\",SUM(D20+G20+H20+I20+J20)))))","v":0},null,0]
[18,{"$f":"'Shooter Information'!B23","v":0},{"$f":"'Shooter Information'!C23","v":0},null,null,null,null,null,null,null,{"$f":"MIN(IF('Shooter Information'!H23=1,999.99,(D21*5)+E21-F21+(G21*10)+(H21*30)+(I21*999.99)+(J21*999.99)),999.99)","v":0},0,{"$f":"(IF('Shooter Information'!H23=1,\"MDQ\",IF(J21=1,\"SDQ\",IF(I21=1,\"DNF\",SUM(D21+G21+H21+I21+J21)))))","v":0},null,0]
[19,{"$f":"'Shooter Information'!B24","v":0},{"$f":"'Shooter Information'!C24","v":0},null,null,null,null,null,null,null,{"$f":"MIN(IF('Shooter Information'!H24=1,999.99,(D22*5)+E22-F22+(G22*10)+(H22*30)+(I22*999.99)+(J22*999.99)),999.99)","v":0},0,{"$f":"(IF('Shooter Information'!H24=1,\"MDQ\",IF(J22=1,\"SDQ\",IF(I22=1,\"DNF\",SUM(D22+G22+H22+I22+J22)))))","v":0},null,0]
[20,{"$f":"'Shooter Information'!B25","v":0},{"$f":"'Shooter Information'!C25","v":0},null,null,null,null,null,null,null,{"$f":"MIN(IF('Shooter Information'!H25=1,999.99,(D23*5)+E23-F23+(G23*10)+(H23*30)+(I23*999.99)+(J23*999.99)),999.99)","v":0},0,{"$f":"(IF('Shooter Information'!H25=1,\"MDQ\",IF(J23=1,\"SDQ\",IF(I23=1,\"DNF\",SUM(D23+G23+H23+I23+J23)))))","v":0},null,0]
[21,{"$f":"'Shooter Information'!B26","v":0},{"$f":"'Shooter Information'!C26","v":0},null,null,null,null,null,null,null,{"$f":"MIN(IF('Shooter Information'!H26=1,999.99,(D24*5)+E24-F24+(G24*10)+(H24*30)+(I24*999.99)+(J24*999.99)),999.99)","v":0},0,{"$f":"(IF('Shooter Information'!H26=1,\"MDQ\",IF(J24=1,\"SDQ\",IF(I24=1,\"DNF\",SUM(D24+G24+H24+I24+J24)))))","v":0},null,0]
[22,{"$f":"'Shooter Information'!B27","v":0},{"$f":"'Shooter Information'!C27","v":0},null,null,null,null,null,null,null,{"$f":"MIN(IF('Shooter Information'!H27=1,999.99,(D25*5)+E25-F25+(G25*10)+(H25*30)+(I25*999.99)+(J25*999.99)),999.99)","v":0},0,{"$f":"(IF('Shooter Information'!H27=1,\"MDQ\",IF(J25=1,\"SDQ\",IF(I25=1,\"DNF\",SUM(D25+G25+H25+I25+J25)))))","v":0},null,0]
[23,{"$f":"'Shooter Information'!B28","v":0},{"$f":"'Shooter Information'!C28","v":0},null,null,null,null,null,null,null,{"$f":"MIN(IF('Shooter Information'!H28=1,999.99,(D26*5)+E26-F26+(G26*10)+(H26*30)+(I26*999.99)+(J26*999.99)),999.99)","v":0},0,{"$f":"(IF('Shooter Information'!H28=1,\"MDQ\",IF(J26=1,\"SDQ\",IF(I26=1,\"DNF\",SUM(D26+G26+H26+I26+J26)))))","v":0},null,0]
[24,{"$f":"'Shooter Information'!B29","v":0},{"$f":"'Shooter Information'!C29","v":0},null,null,null,null,null,null,null,{"$f":"MIN(IF('Shooter Information'!H29=1,999.99,(D27*5)+E27-F27+(G27*10)+(H27*30)+(I27*999.99)+(J27*999.99)),999.99)","v":0},0,{"$f":"(IF('Shooter Information'!H29=1,\"MDQ\",IF(J27=1,\"SDQ\",IF(I27=1,\"DNF\",SUM(D27+G27+H27+I27+J27)))))","v":0},null,0]
[25,{"$f":"'Shooter Information'!B30","v":0},{"$f":"'Shooter Information'!C30","v":0},null,null,null,null,null,null,null,{"$f":"MIN(IF('Shooter Information'!H30=1,999.99,(D28*5)+E28-F28+(G28*10)+(H28*30)+(I28*999.99)+(J28*999.99)),999.99)","v":0},0,{"$f":"(IF('Shooter Information'!H30=1,\"MDQ\",IF(J28=1,\"SDQ\",IF(I28=1,\"DNF\",SUM(D28+G28+H28+I28+J28)))))","v":0},null,0]
[26,{"$f":"'Shooter Information'!B31","v":0},{"$f":"'Shooter Information'!C31","v":0},null,null,null,null,null,null,null,{"$f":"MIN(IF('Shooter Information'!H31=1,999.99,(D29*5)+E29-F29+(G29*10)+(H29*30)+(I29*999.99)+(J29*999.99)),999.99)","v":0},0,{"$f":"(IF('Shooter Information'!H31=1,\"MDQ\",IF(J29=1,\"SDQ\",IF(I29=1,\"DNF\",SUM(D29+G29+H29+I29+J29)))))","v":0},null,0]
[27,{"$f":"'Shooter Information'!B32","v":0},{"$f":"'Shooter Information'!C32","v":0},null,null,null,null,null,null,null,{"$f":"MIN(IF('Shooter Information'!H32=1,999.99,(D30*5)+E30-F30+(G30*10)+(H30*30)+(I30*999.99)+(J30*999.99)),999.99)","v":0},0,{"$f":"(IF('Shooter Information'!H32=1,\"MDQ\",IF(J30=1,\"SDQ\",IF(I30=1,\"DNF\",SUM(D30+G30+H30+I30+J30)))))","v":0},null,0]
[28,{"$f":"'Shooter Information'!B33","v":0},{"$f":"'Shooter Information'!C33","v":0},null,null,null,null,null,null,null,{"$f":"MIN(IF('Shooter Information'!H33=1,999.99,(D31*5)+E31-F31+(G31*10)+(H31*30)+(I31*999.99)+(J31*999.99)),999.99)","v":0},0,{"$f":"(IF('Shooter Information'!H33=1,\"MDQ\",IF(J31=1,\"SDQ\",IF(I31=1,\"DNF\",SUM(D31+G31+H31+I31+J31)))))","v":0},null,0]
[29,{"$f":"'Shooter Information'!B34","v":0},{"$f":"'Shooter Information'!C34","v":0},null,null,null,null,null,null,null,{"$f":"MIN(IF('Shooter Information'!H34=1,999.99,(D32*5)+E32-F32+(G32*10)+(H32*30)+(I32*999.99)+(J32*999.99)),999.99)","v":0},0,{"$f":"(IF('Shooter Information'!H34=1,\"MDQ\",IF(J32=1,\"SDQ\",IF(I32=1,\"DNF\",SUM(D32+G32+H32+I32+J32)))))","v":0},null,0]
[30,{"$f":"'Shooter Information'!B35","v":0},{"$f":"'Shooter Information'!C35","v":0},null,null,null,null,null,null,null,{"$f":"MIN(IF('Shooter Information'!H35=1,999.99,(D33*5)+E33-F33+(G33*10)+(H33*30)+(I33*999.99)+(J33*999.99)),999.99)","v":0},0,{"$f":"(IF('Shooter Information'!H35=1,\"MDQ\",IF(J33=1,\"SDQ\",IF(I33=1,\"DNF\",SUM(D33+G33+H33+I33+J33)))))","v":0},null,0]
[31,{"$f":"'Shooter Information'!B36","v":0},{"$f":"'Shooter Information'!C36","v":0},null,null,null,null,null,null,null,{"$f":"MIN(IF('Shooter Information'!H36=1,999.99,(D34*5)+E34-F34+(G34*10)+(H34*30)+(I34*999.99)+(J34*999.99)),999.99)","v":0},0,{"$f":"(IF('Shooter Information'!H36=1,\"MDQ\",IF(J34=1,\"SDQ\",IF(I34=1,\"DNF\",SUM(D34+G34+H34+I34+J34)))))","v":0},null,0]
[32,{"$f":"'Shooter Information'!B37","v":0},{"$f":"'Shooter Information'!C37","v":0},null,null,null,null,null,null,null,{"$f":"MIN(IF('Shooter Information'!H37=1,999.99,(D35*5)+E35-F35+(G35*10)+(H35*30)+(I35*999.99)+(J35*999.99)),999.99)","v":0},0,{"$f":"(IF('Shooter Information'!H37=1,\"MDQ\",IF(J35=1,\"SDQ\",IF(I35=1,\"DNF\",SUM(D35+G35+H35+I35+J35)))))","v":0},null,0]
[33,{"$f":"'Shooter Information'!B38","v":0},{"$f":"'Shooter Information'!C38","v":0},null,null,null,null,null,null,null,{"$f":"MIN(IF('Shooter Information'!H38=1,999.99,(D36*5)+E36-F36+(G36*10)+(H36*30)+(I36*999.99)+(J36*999.99)),999.99)","v":0},0,{"$f":"(IF('Shooter Information'!H38=1,\"MDQ\",IF(J36=1,\"SDQ\",IF(I36=1,\"DNF\",SUM(D36+G36+H36+I36+J36)))))","v":0},null,0]
[34,{"$f":"'Shooter Information'!B39","v":0},{"$f":"'Shooter Information'!C39","v":0},null,null,null,null,null,null,null,{"$f":"MIN(IF('Shooter Information'!H39=1,999.99,(D37*5)+E37-F37+(G37*10)+(H37*30)+(I37*999.99)+(J37*999.99)),999.99)","v":0},0,{"$f":"(IF('Shooter Information'!H39=1,\"MDQ\",IF(J37=1,\"SDQ\",IF(I37=1,\"DNF\",SUM(D37+G37+H37+I37+J37)))))","v":0},null,0]
[35,{"$f":"'Shooter Information'!B40","v":0},{"$f":"'Shooter Information'!C40","v":0},null,null,null,null,null,null,null,{"$f":"MIN(IF('Shooter Information'!H40=1,999.99,(D38*5)+E38-F38+(G38*10)+(H38*30)+(I38*999.99)+(J38*999.99)),999.99)","v":0},0,{"$f":"(IF('Shooter Information'!H40=1,\"MDQ\",IF(J38=1,\"SDQ\",IF(I38=1,\"DNF\",SUM(D38+G38+H38+I38+J38)))))","v":0},null,0]
[36,{"$f":"'Shooter Information'!B41","v":0},{"$f":"'Shooter Information'!C41","v":0},null,null,null,null,null,null,null,{"$f":"MIN(IF('Shooter Information'!H41=1,999.99,(D39*5)+E39-F39+(G39*10)+(H39*30)+(I39*999.99)+(J39*999.99)),999.99)","v":0},0,{"$f":"(IF('Shooter Information'!H41=1,\"MDQ\",IF(J39=1,\"SDQ\",IF(I39=1,\"DNF\",SUM(D39+G39+H39+I39+J39)))))","v":0},null,0]
[37,{"$f":"'Shooter Information'!B42","v":0},{"$f":"'Shooter Information'!C42","v":0},null,null,null,null,null,null,null,{"$f":"MIN(IF('Shooter Information'!H42=1,999.99,(D40*5)+E40-F40+(G40*10)+(H40*30)+(I40*999.99)+(J40*999.99)),999.99)","v":0},0,{"$f":"(IF('Shooter Information'!H42=1,\"MDQ\",IF(J40=1,\"SDQ\",IF(I40=1,\"DNF\",SUM(D40+G40+H40+I40+J40)))))","v":0},null,0]
[38,{"$f":"'Shooter Information'!B43","v":0},{"$f":"'Shooter Information'!C43","v":0},null,null,null,null,null,null,null,{"$f":"MIN(IF('Shooter Information'!H43=1,999.99,(D41*5)+E41-F41+(G41*10)+(H41*30)+(I41*999.99)+(J41*999.99)),999.99)","v":0},0,{"$f":"(IF('Shooter Information'!H43=1,\"MDQ\",IF(J41=1,\"SDQ\",IF(I41=1,\"DNF\",SUM(D41+G41+H41+I41+J41)))))","v":0},null,0]
[39,{"$f":"'Shooter Information'!B44","v":0},{"$f":"'Shooter Information'!C44","v":0},null,null,null,null,null,null,null,{"$f":"MIN(IF('Shooter Information'!H44=1,999.99,(D42*5)+E42-F42+(G42*10)+(H42*30)+(I42*999.99)+(J42*999.99)),999.99)","v":0},0,{"$f":"(IF('Shooter Information'!H44=1,\"MDQ\",IF(J42=1,\"SDQ\",IF(I42=1,\"DNF\",SUM(D42+G42+H42+I42+J42)))))","v":0},null,0]
[40,{"$f":"'Shooter Information'!B45","v":0},{"$f":"'Shooter Information'!C45","v":0},null,null,null,null,null,null,null,{"$f":"MIN(IF('Shooter Information'!H45=1,999.99,(D43*5)+E43-F43+(G43*10)+(H43*30)+(I43*999.99)+(J43*999.99)),999.99)","v":0},0,{"$f":"(IF('Shooter Information'!H45=1,\"MDQ\",IF(J43=1,\"SDQ\",IF(I43=1,\"DNF\",SUM(D43+G43+H43+I43+J43)))))","v":0},null,0]
[41,{"$f":"'Shooter Information'!B46","v":0},{"$f":"'Shooter Information'!C46","v":0},null,null,null,null,null,null,null,{"$f":"MIN(IF('Shooter Information'!H46=1,999.99,(D44*5)+E44-F44+(G44*10)+(H44*30)+(I44*999.99)+(J44*999.99)),999.99)","v":0},0,{"$f":"(IF('Shooter Information'!H46=1,\"MDQ\",IF(J44=1,\"SDQ\",IF(I44=1,\"DNF\",SUM(D44+G44+H44+I44+J44)))))","v":0},null,0]
[42,{"$f":"'Shooter Information'!B47","v":0},{"$f":"'Shooter Information'!C47","v":0},null,null,null,null,null,null,null,{"$f":"MIN(IF('Shooter Information'!H47=1,999.99,(D45*5)+E45-F45+(G45*10)+(H45*30)+(I45*999.99)+(J45*999.99)),999.99)","v":0},0,{"$f":"(IF('Shooter Information'!H47=1,\"MDQ\",IF(J45=1,\"SDQ\",IF(I45=1,\"DNF\",SUM(D45+G45+H45+I45+J45)))))","v":0},null,0]
[43,{"$f":"'Shooter Information'!B48","v":0},{"$f":"'Shooter Information'!C48","v":0},null,null,null,null,null,null,null,{"$f":"MIN(IF('Shooter Information'!H48=1,999.99,(D46*5)+E46-F46+(G46*10)+(H46*30)+(I46*999.99)+(J46*999.99)),999.99)","v":0},0,{"$f":"(IF('Shooter Information'!H48=1,\"MDQ\",IF(J46=1,\"SDQ\",IF(I46=1,\"DNF\",SUM(D46+G46+H46+I46+J46)))))","v":0},null,0]
[44,{"$f":"'Shooter Information'!B49","v":0},{"$f":"'Shooter Information'!C49","v":0},null,null,null,null,null,null,null,{"$f":"MIN(IF('Shooter Information'!H49=1,999.99,(D47*5)+E47-F47+(G47*10)+(H47*30)+(I47*999.99)+(J47*999.99)),999.99)","v":0},0,{"$f":"(IF('Shooter Information'!H49=1,\"MDQ\",IF(J47=1,\"SDQ\",IF(I47=1,\"DNF\",SUM(D47+G47+H47+I47+J47)))))","v":0},null,0]
[45,{"$f":"'Shooter Information'!B50","v":0},{"$f":"'Shooter Information'!C50","v":0},null,null,null,null,null,null,null,{"$f":"MIN(IF('Shooter Information'!H50=1,999.99,(D48*5)+E48-F48+(G48*10)+(H48*30)+(I48*999.99)+(J48*999.99)),999.99)","v":0},0,{"$f":"(IF('Shooter Information'!H50=1,\"MDQ\",IF(J48=1,\"SDQ\",IF(I48=1,\"DNF\",SUM(D48+G48+H48+I48+J48)))))","v":0},null,0]
[46,{"$f":"'Shooter Information'!B51","v":0},{"$f":"'Shooter Information'!C51","v":0},null,null,null,null,null,null,null,{"$f":"MIN(IF('Shooter Information'!H51=1,999.99,(D49*5)+E49-F49+(G49*10)+(H49*30)+(I49*999.99)+(J49*999.99)),999.99)","v":0},0,{"$f":"(IF('Shooter Information'!H51=1,\"MDQ\",IF(J49=1,\"SDQ\",IF(I49=1,\"DNF\",SUM(D49+G49+H49+I49+J49)))))","v":0},null,0]
[47,{"$f":"'Shooter Information'!B52","v":0},{"$f":"'Shooter Information'!C52","v":0},null,null,null,null,null,null,null,{"$f":"MIN(IF('Shooter Information'!H52=1,999.99,(D50*5)+E50-F50+(G50*10)+(H50*30)+(I50*999.99)+(J50*999.99)),999.99)","v":0},0,{"$f":"(IF('Shooter Information'!H52=1,\"MDQ\",IF(J50=1,\"SDQ\",IF(I50=1,\"DNF\",SUM(D50+G50+H50+I50+J50)))))","v":0},null,0]
[48,{"$f":"'Shooter Information'!B53","v":0},{"$f":"'Shooter Information'!C53","v":0},null,null,null,null,null,null,null,{"$f":"MIN(IF('Shooter Information'!H53=1,999.99,(D51*5)+E51-F51+(G51*10)+(H51*30)+(I51*999.99)+(J51*999.99)),999.99)","v":0},0,{"$f":"(IF('Shooter Information'!H53=1,\"MDQ\",IF(J51=1,\"SDQ\",IF(I51=1,\"DNF\",SUM(D51+G51+H51+I51+J51)))))","v":0},null,0]
[49,{"$f":"'Shooter Information'!B54","v":0},{"$f":"'Shooter Information'!C54","v":0},null,null,null,null,null,null,null,{"$f":"MIN(IF('Shooter Information'!H54=1,999.99,(D52*5)+E52-F52+(G52*10)+(H52*30)+(I52*999.99)+(J52*999.99)),999.99)","v":0},0,{"$f":"(IF('Shooter Information'!H54=1,\"MDQ\",IF(J52=1,\"SDQ\",IF(I52=1,\"DNF\",SUM(D52+G52+H52+I52+J52)))))","v":0},null,0]
[50,{"$f":"'Shooter Information'!B55","v":0},{"$f":"'Shooter Information'!C55","v":0},null,null,null,null,null,null,null,{"$f":"MIN(IF('Shooter Information'!H55=1,999.99,(D53*5)+E53-F53+(G53*10)+(H53*30)+(I53*999.99)+(J53*999.99)),999.99)","v":0},0,{"$f":"(IF('Shooter Information'!H55=1,\"MDQ\",IF(J53=1,\"SDQ\",IF(I53=1,\"DNF\",SUM(D53+G53+H53+I53+J53)))))","v":0},null,0]
[51,{"$f":"'Shooter Information'!B56","v":0},{"$f":"'Shooter Information'!C56","v":0},null,null,null,null,null,null,null,{"$f":"MIN(IF('Shooter Information'!H56=1,999.99,(D54*5)+E54-F54+(G54*10)+(H54*30)+(I54*999.99)+(J54*999.99)),999.99)","v":0},0,{"$f":"(IF('Shooter Information'!H56=1,\"MDQ\",IF(J54=1,\"SDQ\",IF(I54=1,\"DNF\",SUM(D54+G54+H54+I54+J54)))))","v":0},null,0]
[52,{"$f":"'Shooter Information'!B57","v":0},{"$f":"'Shooter Information'!C57","v":0},null,null,null,null,null,null,null,{"$f":"MIN(IF('Shooter Information'!H57=1,999.99,(D55*5)+E55-F55+(G55*10)+(H55*30)+(I55*999.99)+(J55*999.99)),999.99)","v":0},0,{"$f":"(IF('Shooter Information'!H57=1,\"MDQ\",IF(J55=1,\"SDQ\",IF(I55=1,\"DNF\",SUM(D55+G55+H55+I55+J55)))))","v":0},null,0]
[53,{"$f":"'Shooter Information'!B58","v":0},{"$f":"'Shooter Information'!C58","v":0},null,null,null,null,null,null,null,{"$f":"MIN(IF('Shooter Information'!H58=1,999.99,(D56*5)+E56-F56+(G56*10)+(H56*30)+(I56*999.99)+(J56*999.99)),999.99)","v":0},0,{"$f":"(IF('Shooter Information'!H58=1,\"MDQ\",IF(J56=1,\"SDQ\",IF(I56=1,\"DNF\",SUM(D56+G56+H56+I56+J56)))))","v":0},null,0]
[54,{"$f":"'Shooter Information'!B59","v":0},{"$f":"'Shooter Information'!C59","v":0},null,null,null,null,null,null,null,{"$f":"MIN(IF('Shooter Information'!H59=1,999.99,(D57*5)+E57-F57+(G57*10)+(H57*30)+(I57*999.99)+(J57*999.99)),999.99)","v":0},0,{"$f":"(IF('Shooter Information'!H59=1,\"MDQ\",IF(J57=1,\"SDQ\",IF(I57=1,\"DNF\",SUM(D57+G57+H57+I57+J57)))))","v":0},null,0]
[55,{"$f":"'Shooter Information'!B60","v":0},{"$f":"'Shooter Information'!C60","v":0},null,null,null,null,null,null,null,{"$f":"MIN(IF('Shooter Information'!H60=1,999.99,(D58*5)+E58-F58+(G58*10)+(H58*30)+(I58*999.99)+(J58*999.99)),999.99)","v":0},0,{"$f":"(IF('Shooter Information'!H60=1,\"MDQ\",IF(J58=1,\"SDQ\",IF(I58=1,\"DNF\",SUM(D58+G58+H58+I58+J58)))))","v":0},null,0]
[56,{"$f":"'Shooter Information'!B61","v":0},{"$f":"'Shooter Information'!C61","v":0},null,null,null,null,null,null,null,{"$f":"MIN(IF('Shooter Information'!H61=1,999.99,(D59*5)+E59-F59+(G59*10)+(H59*30)+(I59*999.99)+(J59*999.99)),999.99)","v":0},0,{"$f":"(IF('Shooter Information'!H61=1,\"MDQ\",IF(J59=1,\"SDQ\",IF(I59=1,\"DNF\",SUM(D59+G59+H59+I59+J59)))))","v":0},null,0]
[57,{"$f":"'Shooter Information'!B62","v":0},{"$f":"'Shooter Information'!C62","v":0},null,null,null,null,null,null,null,{"$f":"MIN(IF('Shooter Information'!H62=1,999.99,(D60*5)+E60-F60+(G60*10)+(H60*30)+(I60*999.99)+(J60*999.99)),999.99)","v":0},0,{"$f":"(IF('Shooter Information'!H62=1,\"MDQ\",IF(J60=1,\"SDQ\",IF(I60=1,\"DNF\",SUM(D60+G60+H60+I60+J60)))))","v":0},null,0]
[58,{"$f":"'Shooter Information'!B63","v":0},{"$f":"'Shooter Information'!C63","v":0},null,null,null,null,null,null,null,{"$f":"MIN(IF('Shooter Information'!H63=1,999.99,(D61*5)+E61-F61+(G61*10)+(H61*30)+(I61*999.99)+(J61*999.99)),999.99)","v":0},0,{"$f":"(IF('Shooter Information'!H63=1,\"MDQ\",IF(J61=1,\"SDQ\",IF(I61=1,\"DNF\",SUM(D61+G61+H61+I61+J61)))))","v":0},null,0]
[59,{"$f":"'Shooter Information'!B64","v":0},{"$f":"'Shooter Information'!C64","v":0},null,null,null,null,null,null,null,{"$f":"MIN(IF('Shooter Information'!H64=1,999.99,(D62*5)+E62-F62+(G62*10)+(H62*30)+(I62*999.99)+(J62*999.99)),999.99)","v":0},0,{"$f":"(IF('Shooter Information'!H64=1,\"MDQ\",IF(J62=1,\"SDQ\",IF(I62=1,\"DNF\",SUM(D62+G62+H62+I62+J62)))))","v":0},null,0]
[60,{"$f":"'Shooter Information'!B65","v":0},{"$f":"'Shooter Information'!C65","v":0},null,null,null,null,null,null,null,{"$f":"MIN(IF('Shooter Information'!H65=1,999.99,(D63*5)+E63-F63+(G63*10)+(H63*30)+(I63*999.99)+(J63*999.99)),999.99)","v":0},0,{"$f":"(IF('Shooter Information'!H65=1,\"MDQ\",IF(J63=1,\"SDQ\",IF(I63=1,\"DNF\",SUM(D63+G63+H63+I63+J63)))))","v":0},null,0]
[61,{"$f":"'Shooter Information'!B66","v":0},{"$f":"'Shooter Information'!C66","v":0},null,null,null,null,null,null,null,{"$f":"MIN(IF('Shooter Information'!H66=1,999.99,(D64*5)+E64-F64+(G64*10)+(H64*30)+(I64*999.99)+(J64*999.99)),999.99)","v":0},0,{"$f":"(IF('Shooter Information'!H66=1,\"MDQ\",IF(J64=1,\"SDQ\",IF(I64=1,\"DNF\",SUM(D64+G64+H64+I64+J64)))))","v":0},null,0]
[62,{"$f":"'Shooter Information'!B67","v":0},{"$f":"'Shooter Information'!C67","v":0},null,null,null,null,null,null,null,{"$f":"MIN(IF('Shooter Information'!H67=1,999.99,(D65*5)+E65-F65+(G65*10)+(H65*30)+(I65*999.99)+(J65*999.99)),999.99)","v":0},0,{"$f":"(IF('Shooter Information'!H67=1,\"MDQ\",IF(J65=1,\"SDQ\",IF(I65=1,\"DNF\",SUM(D65+G65+H65+I65+J65)))))","v":0},null,0]
[63,{"$f":"'Shooter Information'!B68","v":0},{"$f":"'Shooter Information'!C68","v":0},null,null,null,null,null,null,null,{"$f":"MIN(IF('Shooter Information'!H68=1,999.99,(D66*5)+E66-F66+(G66*10)+(H66*30)+(I66*999.99)+(J66*999.99)),999.99)","v":0},0,{"$f":"(IF('Shooter Information'!H68=1,\"MDQ\",IF(J66=1,\"SDQ\",IF(I66=1,\"DNF\",SUM(D66+G66+H66+I66+J66)))))","v":0},null,0]
[64,{"$f":"'Shooter Information'!B69","v":0},{"$f":"'Shooter Information'!C69","v":0},null,null,null,null,null,null,null,{"$f":"MIN(IF('Shooter Information'!H69=1,999.99,(D67*5)+E67-F67+(G67*10)+(H67*30)+(I67*999.99)+(J67*999.99)),999.99)","v":0},0,{"$f":"(IF('Shooter Information'!H69=1,\"MDQ\",IF(J67=1,\"SDQ\",IF(I67=1,\"DNF\",SUM(D67+G67+H67+I67+J67)))))","v":0},null,0]
[65,{"$f":"'Shooter Information'!B70","v":0},{"$f":"'Shooter Information'!C70","v":0},null,null,null,null,null,null,null,{"$f":"MIN(IF('Shooter Information'!H70=1,999.99,(D68*5)+E68-F68+(G68*10)+(H68*30)+(I68*999.99)+(J68*999.99)),999.99)","v":0},0,{"$f":"(IF('Shooter Information'!H70=1,\"MDQ\",IF(J68=1,\"SDQ\",IF(I68=1,\"DNF\",SUM(D68+G68+H68+I68+J68)))))","v":0},null,0]
[66,{"$f":"'Shooter Information'!B71","v":0},{"$f":"'Shooter Information'!C71","v":0},null,null,null,null,null,null,null,{"$f":"MIN(IF('Shooter Information'!H71=1,999.99,(D69*5)+E69-F69+(G69*10)+(H69*30)+(I69*999.99)+(J69*999.99)),999.99)","v":0},{"$f":"IF(K69>0,SUMPRODUCT(--(K69>$K$4:$K$78),--($K$4:$K$78>0))+1,0)","v":0},{"$f":"(IF('Shooter Information'!H71=1,\"MDQ\",IF(J69=1,\"SDQ\",IF(I69=1,\"DNF\",SUM(D69+G69+H69+I69+J69)))))","v":0},null,{"$f":"SUM(D69+G69+H69+I69+J69)","v":0}]
[67,{"$f":"'Shooter Information'!B72","v":0},{"$f":"'Shooter Information'!C72","v":0},null,null,null,null,null,null,null,{"$f":"MIN(IF('Shooter Information'!H72=1,999.99,(D70*5)+E70-F70+(G70*10)+(H70*30)+(I70*999.99)+(J70*999.99)),999.99)","v":0},0,{"$f":"(IF('Shooter Information'!H72=1,\"MDQ\",IF(J70=1,\"SDQ\",IF(I70=1,\"DNF\",SUM(D70+G70+H70+I70+J70)))))","v":0},null,0]
[68,{"$f":"'Shooter Information'!B73","v":0},{"$f":"'Shooter Information'!C73","v":0},null,null,null,null,null,null,null,{"$f":"MIN(IF('Shooter Information'!H73=1,999.99,(D71*5)+E71-F71+(G71*10)+(H71*30)+(I71*999.99)+(J71*999.99)),999.99)","v":0},0,{"$f":"(IF('Shooter Information'!H73=1,\"MDQ\",IF(J71=1,\"SDQ\",IF(I71=1,\"DNF\",SUM(D71+G71+H71+I71+J71)))))","v":0},null,0]
[69,{"$f":"'Shooter Information'!B74","v":0},{"$f":"'Shooter Information'!C74","v":0},null,null,null,null,null,null,null,{"$f":"MIN(IF('Shooter Information'!H74=1,999.99,(D72*5)+E72-F72+(G72*10)+(H72*30)+(I72*999.99)+(J72*999.99)),999.99)","v":0},0,{"$f":"(IF('Shooter Information'!H74=1,\"MDQ\",IF(J72=1,\"SDQ\",IF(I72=1,\"DNF\",SUM(D72+G72+H72+I72+J72)))))","v":0},null,0]
[70,{"$f":"'Shooter Information'!B75","v":0},{"$f":"'Shooter Information'!C75","v":0},null,null,null,null,null,null,null,{"$f":"MIN(IF('Shooter Information'!H75=1,999.99,(D73*5)+E73-F73+(G73*10)+(H73*30)+(I73*999.99)+(J73*999.99)),999.99)","v":0},0,{"$f":"(IF('Shooter Information'!H75=1,\"MDQ\",IF(J73=1,\"SDQ\",IF(I73=1,\"DNF\",SUM(D73+G73+H73+I73+J73)))))","v":0},null,0]
[71,{"$f":"'Shooter Information'!B76","v":0},{"$f":"'Shooter Information'!C76","v":0},null,null,null,null,null,null,null,{"$f":"MIN(IF('Shooter Information'!H76=1,999.99,(D74*5)+E74-F74+(G74*10)+(H74*30)+(I74*999.99)+(J74*999.99)),999.99)","v":0},0,{"$f":"(IF('Shooter Information'!H76=1,\"MDQ\",IF(J74=1,\"SDQ\",IF(I74=1,\"DNF\",SUM(D74+G74+H74+I74+J74)))))","v":0},null,0]
[72,{"$f":"'Shooter Information'!B77","v":0},{"$f":"'Shooter Information'!C77","v":0},null,null,null,null,null,null,null,{"$f":"MIN(IF('Shooter Information'!H77=1,999.99,(D75*5)+E75-F75+(G75*10)+(H75*30)+(I75*999.99)+(J75*999.99)),999.99)","v":0},0,{"$f":"(IF('Shooter Information'!H77=1,\"MDQ\",IF(J75=1,\"SDQ\",IF(I75=1,\"DNF\",SUM(D75+G75+H75+I75+J75)))))","v":0},null,0]
[73,{"$f":"'Shooter Information'!B78","v":0},{"$f":"'Shooter Information'!C78","v":0},null,null,null,null,null,null,null,{"$f":"MIN(IF('Shooter Information'!H78=1,999.99,(D76*5)+E76-F76+(G76*10)+(H76*30)+(I76*999.99)+(J76*999.99)),999.99)","v":0},0,{"$f":"(IF('Shooter Information'!H78=1,\"MDQ\",IF(J76=1,\"SDQ\",IF(I76=1,\"DNF\",SUM(D76+G76+H76+I76+J76)))))","v":0},null,0]
[74,{"$f":"'Shooter Information'!B79","v":0},{"$f":"'Shooter Information'!C79","v":0},null,null,null,null,null,null,null,{"$f":"MIN(IF('Shooter Information'!H79=1,999.99,(D77*5)+E77-F77+(G77*10)+(H77*30)+(I77*999.99)+(J77*999.99)),999.99)","v":0},0,{"$f":"(IF('Shooter Information'!H79=1,\"MDQ\",IF(J77=1,\"SDQ\",IF(I77=1,\"DNF\",SUM(D77+G77+H77+I77+J77)))))","v":0},null,0]
[75,{"$f":"'Shooter Information'!B80","v":0},{"$f":"'Shooter Information'!C80","v":0},null,null,null,null,null,null,null,{"$f":"MIN(IF('Shooter Information'!H80=1,999.99,(D78*5)+E78-F78+(G78*10)+(H78*30)+(I78*999.99)+(J78*999.99)),999.99)","v":0},0,{"$f":"(IF('Shooter Information'!H80=1,\"MDQ\",IF(J78=1,\"SDQ\",IF(I78=1,\"DNF\",SUM(D78+G78+H78+I78+J78)))))","v":0},null,0]

{"sheet":"Stage 6","index":7,"n_rows":78,"n_cols":15,"rows_kept":78,"cut":false,"hidden":false,"merged":[]}
[null,"Stage Input Sheet - Stage 6"]
[]
["Shooter #","Shooter","Class","Misses","Raw Time","Bonus","10 Sec","30 Sec","DNF","SDQ","Total","Rank","Penalties",null,"# Penalties"]
[{"$f":"ROW()-3","v":1},{"$f":"'Shooter Information'!B6","v":"Striker"},{"$f":"'Shooter Information'!C6","v":"WW"},null,23.39,null,null,null,null,null,{"$f":"MIN(IF('Shooter Information'!H6=1,999.99,(D4*5)+E4-F4+(G4*10)+(H4*30)+(I4*999.99)+(J4*999.99)),999.99)","v":23.39},{"$f":"IF(K4>0,SUMPRODUCT(--(K4>$K$4:$K$78),--($K$4:$K$78>0))+1,0)","v":5},{"$f":"(IF('Shooter Information'!H6=1,\"MDQ\",IF(J4=1,\"SDQ\",IF(I4=1,\"DNF\",SUM(D4+G4+H4+I4+J4)))))","v":0},null,{"$f":"SUM(D4+G4+H4+I4+J4)","v":0}]
[{"$f":"ROW()-3","v":2},{"$f":"'Shooter Information'!B7","v":"Cody Maverick"},{"$f":"'Shooter Information'!C7","v":"GF"},1,21.81,null,null,null,null,null,{"$f":"MIN(IF('Shooter Information'!H7=1,999.99,(D5*5)+E5-F5+(G5*10)+(H5*30)+(I5*999.99)+(J5*999.99)),999.99)","v":26.81},{"$f":"IF(K5>0,SUMPRODUCT(--(K5>$K$4:$K$78),--($K$4:$K$78>0))+1,0)","v":8},{"$f":"(IF('Shooter Information'!H7=1,\"MDQ\",IF(J5=1,\"SDQ\",IF(I5=1,\"DNF\",SUM(D5+G5+H5+I5+J5)))))","v":1},null,{"$f":"SUM(D5+G5+H5+I5+J5)","v":1}]
[3,{"$f":"'Shooter Information'!B8","v":"Potter County Kid"},{"$f":"'Shooter Information'!C8","v":"WW"},null,28.32,null,null,null,null,null,{"$f":"MIN(IF('Shooter Information'!H8=1,999.99,(D6*5)+E6-F6+(G6*10)+(H6*30)+(I6*999.99)+(J6*999.99)),999.99)","v":28.32},9,{"$f":"(IF('Shooter Information'!H8=1,\"MDQ\",IF(J6=1,\"SDQ\",IF(I6=1,\"DNF\",SUM(D6+G6+H6+I6+J6)))))","v":0},null,0]
[4,{"$f":"'Shooter Information'!B9","v":"Ricochet Kid"},{"$f":"'Shooter Information'!C9","v":"W"},null,29.13,null,null,null,null,null,{"$f":"MIN(IF('Shooter Information'!H9=1,999.99,(D7*5)+E7-F7+(G7*10)+(H7*30)+(I7*999.99)+(J7*999.99)),999.99)","v":29.13},10,{"$f":"(IF('Shooter Information'!H9=1,\"MDQ\",IF(J7=1,\"SDQ\",IF(I7=1,\"DNF\",SUM(D7+G7+H7+I7+J7)))))","v":0},null,0]
[5,{"$f":"'Shooter Information'!B10","v":"Flatboat Bob"},{"$f":"'Shooter Information'!C10","v":"CBAR"},null,23.37,null,null,null,null,null,{"$f":"MIN(IF('Shooter Information'!H10=1,999.99,(D8*5)+E8-F8+(G8*10)+(H8*30)+(I8*999.99)+(J8*999.99)),999.99)","v":23.37},4,{"$f":"(IF('Shooter Information'!H10=1,\"MDQ\",IF(J8=1,\"SDQ\",IF(I8=1,\"DNF\",SUM(D8+G8+H8+I8+J8)))))","v":0},null,0]
[6,{"$f":"'Shooter Information'!B11","v":"Hotshod"},{"$f":"'Shooter Information'!C11","v":"W"},1,24.87,null,null,null,null,null,{"$f":"MIN(IF('Shooter Information'!H11=1,999.99,(D9*5)+E9-F9+(G9*10)+(H9*30)+(I9*999.99)+(J9*999.99)),999.99)","v":29.87},13,{"$f":"(IF('Shooter Information'!H11=1,\"MDQ\",IF(J9=1,\"SDQ\",IF(I9=1,\"DNF\",SUM(D9+G9+H9+I9+J9)))))","v":1},null,1]
[7,{"$f":"'Shooter Information'!B12","v":"Prairie City Slim"},{"$f":"'Shooter Information'!C12","v":"ES"},null,24.52,null,null,null,null,null,{"$f":"MIN(IF('Shooter Information'!H12=1,999.99,(D10*5)+E10-F10+(G10*10)+(H10*30)+(I10*999.99)+(J10*999.99)),999.99)","v":24.52},7,{"$f":"(IF('Shooter Information'!H12=1,\"MDQ\",IF(J10=1,\"SDQ\",IF(I10=1,\"DNF\",SUM(D10+G10+H10+I10+J10)))))","v":0},null,0]
[8,{"$f":"'Shooter Information'!B13","v":"Regret Schofield"},{"$f":"'Shooter Information'!C13","v":"49er"},null,43.78,null,null,null,null,null,{"$f":"MIN(IF('Shooter Information'!H13=1,999.99,(D11*5)+E11-F11+(G11*10)+(H11*30)+(I11*999.99)+(J11*999.99)),999.99)","v":43.78},14,{"$f":"(IF('Shooter Information'!H13=1,\"MDQ\",IF(J11=1,\"SDQ\",IF(I11=1,\"DNF\",SUM(D11+G11+H11+I11+J11)))))","v":0},null,0]
[9,{"$f":"'Shooter Information'!B14","v":"Tumble Weed Tink"},{"$f":"'Shooter Information'!C14","v":"L49"},3,45.77,null,null,null,null,null,{"$f":"MIN(IF('Shooter Information'!H14=1,999.99,(D12*5)+E12-F12+(G12*10)+(H12*30)+(I12*999.99)+(J12*999.99)),999.99)","v":60.77},16,{"$f":"(IF('Shooter Information'!H14=1,\"MDQ\",IF(J12=1,\"SDQ\",IF(I12=1,\"DNF\",SUM(D12+G12+H12+I12+J12)))))","v":3},null,3]
[10,{"$f":"'Shooter Information'!B15","v":"One Eyed Jane"},{"$f":"'Shooter Information'!C15","v":"LSS"},null,55.54,null,null,null,null,null,{"$f":"MIN(IF('Shooter Information'!H15=1,999.99,(D13*5)+E13-F13+(G13*10)+(H13*30)+(I13*999.99)+(J13*999.99)),999.99)","v":55.54},15,{"$f":"(IF('Shooter Information'!H15=1,\"MDQ\",IF(J13=1,\"SDQ\",IF(I13=1,\"DNF\",SUM(D13+G13+H13+I13+J13)))))","v":0},null,0]
[11,{"$f":"'Shooter Information'!B16","v":"Stogie"},{"$f":"'Shooter Information'!C16","v":"49er"},null,21.22,null,null,null,null,null,{"$f":"MIN(IF('Shooter Information'!H16=1,999.99,(D14*5)+E14-F14+(G14*10)+(H14*30)+(I14*999.99)+(J14*999.99)),999.99)","v":21.22},3,{"$f":"(IF('Shooter Information'!H16=1,\"MDQ\",IF(J14=1,\"SDQ\",IF(I14=1,\"DNF\",SUM(D14+G14+H14+I14+J14)))))","v":0},null,0]
[12,{"$f":"'Shooter Information'!B17","v":"Major BS Walker"},{"$f":"'Shooter Information'!C17","v":"WW"},null,20.36,null,null,null,null,null,{"$f":"MIN(IF('Shooter Information'!H17=1,999.99,(D15*5)+E15-F15+(G15*10)+(H15*30)+(I15*999.99)+(J15*999.99)),999.99)","v":20.36},2,{"$f":"(IF('Shooter Information'!H17=1,\"MDQ\",IF(J15=1,\"SDQ\",IF(I15=1,\"DNF\",SUM(D15+G15+H15+I15+J15)))))","v":0},null,0]
[13,{"$f":"'Shooter Information'!B18","v":"Sassy Shooting Sours"},{"$f":"'Shooter Information'!C18","v":"S"},null,29.18,null,null,null,null,null,{"$f":"MIN(IF('Shooter Information'!H18=1,999.99,(D16*5)+E16-F16+(G16*10)+(H16*30)+(I16*999.99)+(J16*999.99)),999.99)","v":29.18},11,{"$f":"(IF('Shooter Information'!H18=1,\"MDQ\",IF(J16=1,\"SDQ\",IF(I16=1,\"DNF\",SUM(D16+G16+H16+I16+J16)))))","v":0},null,0]
[14,{"$f":"'Shooter Information'!B19","v":"Lefty Spurmaker"},{"$f":"'Shooter Information'!C19","v":"S"},null,18.329999999999998,null,null,null,null,null,{"$f":"MIN(IF('Shooter Information'!H19=1,999.99,(D17*5)+E17-F17+(G17*10)+(H17*30)+(I17*999.99)+(J17*999.99)),999.99)","v":18.329999999999998},1,{"$f":"(IF('Shooter Information'!H19=1,\"MDQ\",IF(J17=1,\"SDQ\",IF(I17=1,\"DNF\",SUM(D17+G17+H17+I17+J17)))))","v":0},null,0]
[15,{"$f":"'Shooter Information'!B20","v":"Windhorse Rider"},{"$f":"'Shooter Information'!C20","v":"GF"},null,29.72,null,null,null,null,null,{"$f":"MIN(IF('Shooter Information'!H20=1,999.99,(D18*5)+E18-F18+(G18*10)+(H18*30)+(I18*999.99)+(J18*999.99)),999.99)","v":29.72},12,{"$f":"(IF('Shooter Information'!H20=1,\"MDQ\",IF(J18=1,\"SDQ\",IF(I18=1,\"DNF\",SUM(D18+G18+H18+I18+J18)))))","v":0},null,0]
[16,{"$f":"'Shooter Information'!B21","v":"Red Cavanaugh"},{"$f":"'Shooter Information'!C21","v":"49er"},1,19.14,null,null,null,null,null,{"$f":"MIN(IF('Shooter Information'!H21=1,999.99,(D19*5)+E19-F19+(G19*10)+(H19*30)+(I19*999.99)+(J19*999.99)),999.99)","v":24.14},6,{"$f":"(IF('Shooter Information'!H21=1,\"MDQ\",IF(J19=1,\"SDQ\",IF(I19=1,\"DNF\",SUM(D19+G19+H19+I19+J19)))))","v":1},null,1]
[17,{"$f":"'Shooter Information'!B22","v":0},{"$f":"'Shooter Information'!C22","v":0},null,null,null,null,null,null,null,{"$f":"MIN(IF('Shooter Information'!H22=1,999.99,(D20*5)+E20-F20+(G20*10)+(H20*30)+(I20*999.99)+(J20*999.99)),999.99)","v":0},0,{"$f":"(IF('Shooter Information'!H22=1,\"MDQ\",IF(J20=1,\"SDQ\",IF(I20=1,\"DNF\",SUM(D20+G20+H20+I20+J20)))))","v":0},null,0]
[18,{"$f":"'Shooter Information'!B23","v":0},{"$f":"'Shooter Information'!C23","v":0},null,null,null,null,null,null,null,{"$f":"MIN(IF('Shooter Information'!H23=1,999.99,(D21*5)+E21-F21+(G21*10)+(H21*30)+(I21*999.99)+(J21*999.99)),999.99)","v":0},0,{"$f":"(IF('Shooter Information'!H23=1,\"MDQ\",IF(J21=1,\"SDQ\",IF(I21=1,\"DNF\",SUM(D21+G21+H21+I21+J21)))))","v":0},null,0]
[19,{"$f":"'Shooter Information'!B24","v":0},{"$f":"'Shooter Information'!C24","v":0},null,null,null,null,null,null,null,{"$f":"MIN(IF('Shooter Information'!H24=1,999.99,(D22*5)+E22-F22+(G22*10)+(H22*30)+(I22*999.99)+(J22*999.99)),999.99)","v":0},0,{"$f":"(IF('Shooter Information'!H24=1,\"MDQ\",IF(J22=1,\"SDQ\",IF(I22=1,\"DNF\",SUM(D22+G22+H22+I22+J22)))))","v":0},null,0]
[20,{"$f":"'Shooter Information'!B25","v":0},{"$f":"'Shooter Information'!C25","v":0},null,null,null,null,null,null,null,{"$f":"MIN(IF('Shooter Information'!H25=1,999.99,(D23*5)+E23-F23+(G23*10)+(H23*30)+(I23*999.99)+(J23*999.99)),999.99)","v":0},0,{"$f":"(IF('Shooter Information'!H25=1,\"MDQ\",IF(J23=1,\"SDQ\",IF(I23=1,\"DNF\",SUM(D23+G23+H23+I23+J23)))))","v":0},null,0]
[21,{"$f":"'Shooter Information'!B26","v":0},{"$f":"'Shooter Information'!C26","v":0},null,null,null,null,null,null,null,{"$f":"MIN(IF('Shooter Information'!H26=1,999.99,(D24*5)+E24-F24+(G24*10)+(H24*30)+(I24*999.99)+(J24*999.99)),999.99)","v":0},0,{"$f":"(IF('Shooter Information'!H26=1,\"MDQ\",IF(J24=1,\"SDQ\",IF(I24=1,\"DNF\",SUM(D24+G24+H24+I24+J24)))))","v":0},null,0]
[22,{"$f":"'Shooter Information'!B27","v":0},{"$f":"'Shooter Information'!C27","v":0},null,null,null,null,null,null,null,{"$f":"MIN(IF('Shooter Information'!H27=1,999.99,(D25*5)+E25-F25+(G25*10)+(H25*30)+(I25*999.99)+(J25*999.99)),999.99)","v":0},0,{"$f":"(IF('Shooter Information'!H27=1,\"MDQ\",IF(J25=1,\"SDQ\",IF(I25=1,\"DNF\",SUM(D25+G25+H25+I25+J25)))))","v":0},null,0]
[23,{"$f":"'Shooter Information'!B28","v":0},{"$f":"'Shooter Information'!C28","v":0},null,null,null,null,null,null,null,{"$f":"MIN(IF('Shooter Information'!H28=1,999.99,(D26*5)+E26-F26+(G26*10)+(H26*30)+(I26*999.99)+(J26*999.99)),999.99)","v":0},0,{"$f":"(IF('Shooter Information'!H28=1,\"MDQ\",IF(J26=1,\"SDQ\",IF(I26=1,\"DNF\",SUM(D26+G26+H26+I26+J26)))))","v":0},null,0]
[24,{"$f":"'Shooter Information'!B29","v":0},{"$f":"'Shooter Information'!C29","v":0},null,null,null,null,null,null,null,{"$f":"MIN(IF('Shooter Information'!H29=1,999.99,(D27*5)+E27-F27+(G27*10)+(H27*30)+(I27*999.99)+(J27*999.99)),999.99)","v":0},0,{"$f":"(IF('Shooter Information'!H29=1,\"MDQ\",IF(J27=1,\"SDQ\",IF(I27=1,\"DNF\",SUM(D27+G27+H27+I27+J27)))))","v":0},null,0]
[25,{"$f":"'Shooter Information'!B30","v":0},{"$f":"'Shooter Information'!C30","v":0},null,null,null,null,null,null,null,{"$f":"MIN(IF('Shooter Information'!H30=1,999.99,(D28*5)+E28-F28+(G28*10)+(H28*30)+(I28*999.99)+(J28*999.99)),999.99)","v":0},0,{"$f":"(IF('Shooter Information'!H30=1,\"MDQ\",IF(J28=1,\"SDQ\",IF(I28=1,\"DNF\",SUM(D28+G28+H28+I28+J28)))))","v":0},null,0]
[26,{"$f":"'Shooter Information'!B31","v":0},{"$f":"'Shooter Information'!C31","v":0},null,null,null,null,null,null,null,{"$f":"MIN(IF('Shooter Information'!H31=1,999.99,(D29*5)+E29-F29+(G29*10)+(H29*30)+(I29*999.99)+(J29*999.99)),999.99)","v":0},0,{"$f":"(IF('Shooter Information'!H31=1,\"MDQ\",IF(J29=1,\"SDQ\",IF(I29=1,\"DNF\",SUM(D29+G29+H29+I29+J29)))))","v":0},null,0]
[27,{"$f":"'Shooter Information'!B32","v":0},{"$f":"'Shooter Information'!C32","v":0},null,null,null,null,null,null,null,{"$f":"MIN(IF('Shooter Information'!H32=1,999.99,(D30*5)+E30-F30+(G30*10)+(H30*30)+(I30*999.99)+(J30*999.99)),999.99)","v":0},0,{"$f":"(IF('Shooter Information'!H32=1,\"MDQ\",IF(J30=1,\"SDQ\",IF(I30=1,\"DNF\",SUM(D30+G30+H30+I30+J30)))))","v":0},null,0]
[28,{"$f":"'Shooter Information'!B33","v":0},{"$f":"'Shooter Information'!C33","v":0},null,null,null,null,null,null,null,{"$f":"MIN(IF('Shooter Information'!H33=1,999.99,(D31*5)+E31-F31+(G31*10)+(H31*30)+(I31*999.99)+(J31*999.99)),999.99)","v":0},0,{"$f":"(IF('Shooter Information'!H33=1,\"MDQ\",IF(J31=1,\"SDQ\",IF(I31=1,\"DNF\",SUM(D31+G31+H31+I31+J31)))))","v":0},null,0]
[29,{"$f":"'Shooter Information'!B34","v":0},{"$f":"'Shooter Information'!C34","v":0},null,null,null,null,null,null,null,{"$f":"MIN(IF('Shooter Information'!H34=1,999.99,(D32*5)+E32-F32+(G32*10)+(H32*30)+(I32*999.99)+(J32*999.99)),999.99)","v":0},0,{"$f":"(IF('Shooter Information'!H34=1,\"MDQ\",IF(J32=1,\"SDQ\",IF(I32=1,\"DNF\",SUM(D32+G32+H32+I32+J32)))))","v":0},null,0]
[30,{"$f":"'Shooter Information'!B35","v":0},{"$f":"'Shooter Information'!C35","v":0},null,null,null,null,null,null,null,{"$f":"MIN(IF('Shooter Information'!H35=1,999.99,(D33*5)+E33-F33+(G33*10)+(H33*30)+(I33*999.99)+(J33*999.99)),999.99)","v":0},0,{"$f":"(IF('Shooter Information'!H35=1,\"MDQ\",IF(J33=1,\"SDQ\",IF(I33=1,\"DNF\",SUM(D33+G33+H33+I33+J33)))))","v":0},null,0]
[31,{"$f":"'Shooter Information'!B36","v":0},{"$f":"'Shooter Information'!C36","v":0},null,null,null,null,null,null,null,{"$f":"MIN(IF('Shooter Information'!H36=1,999.99,(D34*5)+E34-F34+(G34*10)+(H34*30)+(I34*999.99)+(J34*999.99)),999.99)","v":0},0,{"$f":"(IF('Shooter Information'!H36=1,\"MDQ\",IF(J34=1,\"SDQ\",IF(I34=1,\"DNF\",SUM(D34+G34+H34+I34+J34)))))","v":0},null,0]
[32,{"$f":"'Shooter Information'!B37","v":0},{"$f":"'Shooter Information'!C37","v":0},null,null,null,null,null,null,null,{"$f":"MIN(IF('Shooter Information'!H37=1,999.99,(D35*5)+E35-F35+(G35*10)+(H35*30)+(I35*999.99)+(J35*999.99)),999.99)","v":0},0,{"$f":"(IF('Shooter Information'!H37=1,\"MDQ\",IF(J35=1,\"SDQ\",IF(I35=1,\"DNF\",SUM(D35+G35+H35+I35+J35)))))","v":0},null,0]
[33,{"$f":"'Shooter Information'!B38","v":0},{"$f":"'Shooter Information'!C38","v":0},null,null,null,null,null,null,null,{"$f":"MIN(IF('Shooter Information'!H38=1,999.99,(D36*5)+E36-F36+(G36*10)+(H36*30)+(I36*999.99)+(J36*999.99)),999.99)","v":0},0,{"$f":"(IF('Shooter Information'!H38=1,\"MDQ\",IF(J36=1,\"SDQ\",IF(I36=1,\"DNF\",SUM(D36+G36+H36+I36+J36)))))","v":0},null,0]
[34,{"$f":"'Shooter Information'!B39","v":0},{"$f":"'Shooter Information'!C39","v":0},null,null,null,null,null,null,null,{"$f":"MIN(IF('Shooter Information'!H39=1,999.99,(D37*5)+E37-F37+(G37*10)+(H37*30)+(I37*999.99)+(J37*999.99)),999.99)","v":0},0,{"$f":"(IF('Shooter Information'!H39=1,\"MDQ\",IF(J37=1,\"SDQ\",IF(I37=1,\"DNF\",SUM(D37+G37+H37+I37+J37)))))","v":0},null,0]
[35,{"$f":"'Shooter Information'!B40","v":0},{"$f":"'Shooter Information'!C40","v":0},null,null,null,null,null,null,null,{"$f":"MIN(IF('Shooter Information'!H40=1,999.99,(D38*5)+E38-F38+(G38*10)+(H38*30)+(I38*999.99)+(J38*999.99)),999.99)","v":0},0,{"$f":"(IF('Shooter Information'!H40=1,\"MDQ\",IF(J38=1,\"SDQ\",IF(I38=1,\"DNF\",SUM(D38+G38+H38+I38+J38)))))","v":0},null,0]
[36,{"$f":"'Shooter Information'!B41","v":0},{"$f":"'Shooter Information'!C41","v":0},null,null,null,null,null,null,null,{"$f":"MIN(IF('Shooter Information'!H41=1,999.99,(D39*5)+E39-F39+(G39*10)+(H39*30)+(I39*999.99)+(J39*999.99)),999.99)","v":0},0,{"$f":"(IF('Shooter Information'!H41=1,\"MDQ\",IF(J39=1,\"SDQ\",IF(I39=1,\"DNF\",SUM(D39+G39+H39+I39+J39)))))","v":0},null,0]
[37,{"$f":"'Shooter Information'!B42","v":0},{"$f":"'Shooter Information'!C42","v":0},null,null,null,null,null,null,null,{"$f":"MIN(IF('Shooter Information'!H42=1,999.99,(D40*5)+E40-F40+(G40*10)+(H40*30)+(I40*999.99)+(J40*999.99)),999.99)","v":0},0,{"$f":"(IF('Shooter Information'!H42=1,\"MDQ\",IF(J40=1,\"SDQ\",IF(I40=1,\"DNF\",SUM(D40+G40+H40+I40+J40)))))","v":0},null,0]
[38,{"$f":"'Shooter Information'!B43","v":0},{"$f":"'Shooter Information'!C43","v":0},null,null,null,null,null,null,null,{"$f":"MIN(IF('Shooter Information'!H43=1,999.99,(D41*5)+E41-F41+(G41*10)+(H41*30)+(I41*999.99)+(J41*999.99)),999.99)","v":0},0,{"$f":"(IF('Shooter Information'!H43=1,\"MDQ\",IF(J41=1,\"SDQ\",IF(I41=1,\"DNF\",SUM(D41+G41+H41+I41+J41)))))","v":0},null,0]
[39,{"$f":"'Shooter Information'!B44","v":0},{"$f":"'Shooter Information'!C44","v":0},null,null,null,null,null,null,null,{"$f":"MIN(IF('Shooter Information'!H44=1,999.99,(D42*5)+E42-F42+(G42*10)+(H42*30)+(I42*999.99)+(J42*999.99)),999.99)","v":0},0,{"$f":"(IF('Shooter Information'!H44=1,\"MDQ\",IF(J42=1,\"SDQ\",IF(I42=1,\"DNF\",SUM(D42+G42+H42+I42+J42)))))","v":0},null,0]
[40,{"$f":"'Shooter Information'!B45","v":0},{"$f":"'Shooter Information'!C45","v":0},null,null,null,null,null,null,null,{"$f":"MIN(IF('Shooter Information'!H45=1,999.99,(D43*5)+E43-F43+(G43*10)+(H43*30)+(I43*999.99)+(J43*999.99)),999.99)","v":0},0,{"$f":"(IF('Shooter Information'!H45=1,\"MDQ\",IF(J43=1,\"SDQ\",IF(I43=1,\"DNF\",SUM(D43+G43+H43+I43+J43)))))","v":0},null,0]
[41,{"$f":"'Shooter Information'!B46","v":0},{"$f":"'Shooter Information'!C46","v":0},null,null,null,null,null,null,null,{"$f":"MIN(IF('Shooter Information'!H46=1,999.99,(D44*5)+E44-F44+(G44*10)+(H44*30)+(I44*999.99)+(J44*999.99)),999.99)","v":0},0,{"$f":"(IF('Shooter Information'!H46=1,\"MDQ\",IF(J44=1,\"SDQ\",IF(I44=1,\"DNF\",SUM(D44+G44+H44+I44+J44)))))","v":0},null,0]
[42,{"$f":"'Shooter Information'!B47","v":0},{"$f":"'Shooter Information'!C47","v":0},null,null,null,null,null,null,null,{"$f":"MIN(IF('Shooter Information'!H47=1,999.99,(D45*5)+E45-F45+(G45*10)+(H45*30)+(I45*999.99)+(J45*999.99)),999.99)","v":0},0,{"$f":"(IF('Shooter Information'!H47=1,\"MDQ\",IF(J45=1,\"SDQ\",IF(I45=1,\"DNF\",SUM(D45+G45+H45+I45+J45)))))","v":0},null,0]
[43,{"$f":"'Shooter Information'!B48","v":0},{"$f":"'Shooter Information'!C48","v":0},null,null,null,null,null,null,null,{"$f":"MIN(IF('Shooter Information'!H48=1,999.99,(D46*5)+E46-F46+(G46*10)+(H46*30)+(I46*999.99)+(J46*999.99)),999.99)","v":0},0,{"$f":"(IF('Shooter Information'!H48=1,\"MDQ\",IF(J46=1,\"SDQ\",IF(I46=1,\"DNF\",SUM(D46+G46+H46+I46+J46)))))","v":0},null,0]
[44,{"$f":"'Shooter Information'!B49","v":0},{"$f":"'Shooter Information'!C49","v":0},null,null,null,null,null,null,null,{"$f":"MIN(IF('Shooter Information'!H49=1,999.99,(D47*5)+E47-F47+(G47*10)+(H47*30)+(I47*999.99)+(J47*999.99)),999.99)","v":0},0,{"$f":"(IF('Shooter Information'!H49=1,\"MDQ\",IF(J47=1,\"SDQ\",IF(I47=1,\"DNF\",SUM(D47+G47+H47+I47+J47)))))","v":0},null,0]
[45,{"$f":"'Shooter Information'!B50","v":0},{"$f":"'Shooter Information'!C50","v":0},null,null,null,null,null,null,null,{"$f":"MIN(IF('Shooter Information'!H50=1,999.99,(D48*5)+E48-F48+(G48*10)+(H48*30)+(I48*999.99)+(J48*999.99)),999.99)","v":0},0,{"$f":"(IF('Shooter Information'!H50=1,\"MDQ\",IF(J48=1,\"SDQ\",IF(I48=1,\"DNF\",SUM(D48+G48+H48+I48+J48)))))","v":0},null,0]
[46,{"$f":"'Shooter Information'!B51","v":0},{"$f":"'Shooter Information'!C51","v":0},null,null,null,null,null,null,null,{"$f":"MIN(IF('Shooter Information'!H51=1,999.99,(D49*5)+E49-F49+(G49*10)+(H49*30)+(I49*999.99)+(J49*999.99)),999.99)","v":0},0,{"$f":"(IF('Shooter Information'!H51=1,\"MDQ\",IF(J49=1,\"SDQ\",IF(I49=1,\"DNF\",SUM(D49+G49+H49+I49+J49)))))","v":0},null,0]
[47,{"$f":"'Shooter Information'!B52","v":0},{"$f":"'Shooter Information'!C52","v":0},null,null,null,null,null,null,null,{"$f":"MIN(IF('Shooter Information'!H52=1,999.99,(D50*5)+E50-F50+(G50*10)+(H50*30)+(I50*999.99)+(J50*999.99)),999.99)","v":0},0,{"$f":"(IF('Shooter Information'!H52=1,\"MDQ\",IF(J50=1,\"SDQ\",IF(I50=1,\"DNF\",SUM(D50+G50+H50+I50+J50)))))","v":0},null,0]
[48,{"$f":"'Shooter Information'!B53","v":0},{"$f":"'Shooter Information'!C53","v":0},null,null,null,null,null,null,null,{"$f":"MIN(IF('Shooter Information'!H53=1,999.99,(D51*5)+E51-F51+(G51*10)+(H51*30)+(I51*999.99)+(J51*999.99)),999.99)","v":0},0,{"$f":"(IF('Shooter Information'!H53=1,\"MDQ\",IF(J51=1,\"SDQ\",IF(I51=1,\"DNF\",SUM(D51+G51+H51+I51+J51)))))","v":0},null,0]
[49,{"$f":"'Shooter Information'!B54","v":0},{"$f":"'Shooter Information'!C54","v":0},null,null,null,null,null,null,null,{"$f":"MIN(IF('Shooter Information'!H54=1,999.99,(D52*5)+E52-F52+(G52*10)+(H52*30)+(I52*999.99)+(J52*999.99)),999.99)","v":0},0,{"$f":"(IF('Shooter Information'!H54=1,\"MDQ\",IF(J52=1,\"SDQ\",IF(I52=1,\"DNF\",SUM(D52+G52+H52+I52+J52)))))","v":0},null,0]
[50,{"$f":"'Shooter Information'!B55","v":0},{"$f":"'Shooter Information'!C55","v":0},null,null,null,null,null,null,null,{"$f":"MIN(IF('Shooter Information'!H55=1,999.99,(D53*5)+E53-F53+(G53*10)+(H53*30)+(I53*999.99)+(J53*999.99)),999.99)","v":0},0,{"$f":"(IF('Shooter Information'!H55=1,\"MDQ\",IF(J53=1,\"SDQ\",IF(I53=1,\"DNF\",SUM(D53+G53+H53+I53+J53)))))","v":0},null,0]
[51,{"$f":"'Shooter Information'!B56","v":0},{"$f":"'Shooter Information'!C56","v":0},null,null,null,null,null,null,null,{"$f":"MIN(IF('Shooter Information'!H56=1,999.99,(D54*5)+E54-F54+(G54*10)+(H54*30)+(I54*999.99)+(J54*999.99)),999.99)","v":0},0,{"$f":"(IF('Shooter Information'!H56=1,\"MDQ\",IF(J54=1,\"SDQ\",IF(I54=1,\"DNF\",SUM(D54+G54+H54+I54+J54)))))","v":0},null,0]
[52,{"$f":"'Shooter Information'!B57","v":0},{"$f":"'Shooter Information'!C57","v":0},null,null,null,null,null,null,null,{"$f":"MIN(IF('Shooter Information'!H57=1,999.99,(D55*5)+E55-F55+(G55*10)+(H55*30)+(I55*999.99)+(J55*999.99)),999.99)","v":0},0,{"$f":"(IF('Shooter Information'!H57=1,\"MDQ\",IF(J55=1,\"SDQ\",IF(I55=1,\"DNF\",SUM(D55+G55+H55+I55+J55)))))","v":0},null,0]
[53,{"$f":"'Shooter Information'!B58","v":0},{"$f":"'Shooter Information'!C58","v":0},null,null,null,null,null,null,null,{"$f":"MIN(IF('Shooter Information'!H58=1,999.99,(D56*5)+E56-F56+(G56*10)+(H56*30)+(I56*999.99)+(J56*999.99)),999.99)","v":0},0,{"$f":"(IF('Shooter Information'!H58=1,\"MDQ\",IF(J56=1,\"SDQ\",IF(I56=1,\"DNF\",SUM(D56+G56+H56+I56+J56)))))","v":0},null,0]
[54,{"$f":"'Shooter Information'!B59","v":0},{"$f":"'Shooter Information'!C59","v":0},null,null,null,null,null,null,null,{"$f":"MIN(IF('Shooter Information'!H59=1,999.99,(D57*5)+E57-F57+(G57*10)+(H57*30)+(I57*999.99)+(J57*999.99)),999.99)","v":0},0,{"$f":"(IF('Shooter Information'!H59=1,\"MDQ\",IF(J57=1,\"SDQ\",IF(I57=1,\"DNF\",SUM(D57+G57+H57+I57+J57)))))","v":0},null,0]
[55,{"$f":"'Shooter Information'!B60","v":0},{"$f":"'Shooter Information'!C60","v":0},null,null,null,null,null,null,null,{"$f":"MIN(IF('Shooter Information'!H60=1,999.99,(D58*5)+E58-F58+(G58*10)+(H58*30)+(I58*999.99)+(J58*999.99)),999.99)","v":0},0,{"$f":"(IF('Shooter Information'!H60=1,\"MDQ\",IF(J58=1,\"SDQ\",IF(I58=1,\"DNF\",SUM(D58+G58+H58+I58+J58)))))","v":0},null,0]
[56,{"$f":"'Shooter Information'!B61","v":0},{"$f":"'Shooter Information'!C61","v":0},null,null,null,null,null,null,null,{"$f":"MIN(IF('Shooter Information'!H61=1,999.99,(D59*5)+E59-F59+(G59*10)+(H59*30)+(I59*999.99)+(J59*999.99)),999.99)","v":0},0,{"$f":"(IF('Shooter Information'!H61=1,\"MDQ\",IF(J59=1,\"SDQ\",IF(I59=1,\"DNF\",SUM(D59+G59+H59+I59+J59)))))","v":0},null,0]
[57,{"$f":"'Shooter Information'!B62","v":0},{"$f":"'Shooter Information'!C62","v":0},null,null,null,null,null,null,null,{"$f":"MIN(IF('Shooter Information'!H62=1,999.99,(D60*5)+E60-F60+(G60*10)+(H60*30)+(I60*999.99)+(J60*999.99)),999.99)","v":0},0,{"$f":"(IF('Shooter Information'!H62=1,\"MDQ\",IF(J60=1,\"SDQ\",IF(I60=1,\"DNF\",SUM(D60+G60+H60+I60+J60)))))","v":0},null,0]
[58,{"$f":"'Shooter Information'!B63","v":0},{"$f":"'Shooter Information'!C63","v":0},null,null,null,null,null,null,null,{"$f":"MIN(IF('Shooter Information'!H63=1,999.99,(D61*5)+E61-F61+(G61*10)+(H61*30)+(I61*999.99)+(J61*999.99)),999.99)","v":0},0,{"$f":"(IF('Shooter Information'!H63=1,\"MDQ\",IF(J61=1,\"SDQ\",IF(I61=1,\"DNF\",SUM(D61+G61+H61+I61+J61)))))","v":0},null,0]
[59,{"$f":"'Shooter Information'!B64","v":0},{"$f":"'Shooter Information'!C64","v":0},null,null,null,null,null,null,null,{"$f":"MIN(IF('Shooter Information'!H64=1,999.99,(D62*5)+E62-F62+(G62*10)+(H62*30)+(I62*999.99)+(J62*999.99)),999.99)","v":0},0,{"$f":"(IF('Shooter Information'!H64=1,\"MDQ\",IF(J62=1,\"SDQ\",IF(I62=1,\"DNF\",SUM(D62+G62+H62+I62+J62)))))","v":0},null,0]
[60,{"$f":"'Shooter Information'!B65","v":0},{"$f":"'Shooter Information'!C65","v":0},null,null,null,null,null,null,null,{"$f":"MIN(IF('Shooter Information'!H65=1,999.99,(D63*5)+E63-F63+(G63*10)+(H63*30)+(I63*999.99)+(J63*999.99)),999.99)","v":0},0,{"$f":"(IF('Shooter Information'!H65=1,\"MDQ\",IF(J63=1,\"SDQ\",IF(I63=1,\"DNF\",SUM(D63+G63+H63+I63+J63)))))","v":0},null,0]
[61,{"$f":"'Shooter Information'!B66","v":0},{"$f":"'Shooter Information'!C66","v":0},null,null,null,null,null,null,null,{"$f":"MIN(IF('Shooter Information'!H66=1,999.99,(D64*5)+E64-F64+(G64*10)+(H64*30)+(I64*999.99)+(J64*999.99)),999.99)","v":0},0,{"$f":"(IF('Shooter Information'!H66=1,\"MDQ\",IF(J64=1,\"SDQ\",IF(I64=1,\"DNF\",SUM(D64+G64+H64+I64+J64)))))","v":0},null,0]
[62,{"$f":"'Shooter Information'!B67","v":0},{"$f":"'Shooter Information'!C67","v":0},null,null,null,null,null,null,null,{"$f":"MIN(IF('Shooter Information'!H67=1,999.99,(D65*5)+E65-F65+(G65*10)+(H65*30)+(I65*999.99)+(J65*999.99)),999.99)","v":0},0,{"$f":"(IF('Shooter Information'!H67=1,\"MDQ\",IF(J65=1,\"SDQ\",IF(I65=1,\"DNF\",SUM(D65+G65+H65+I65+J65)))))","v":0},null,0]
[63,{"$f":"'Shooter Information'!B68","v":0},{"$f":"'Shooter Information'!C68","v":0},null,null,null,null,null,null,null,{"$f":"MIN(IF('Shooter Information'!H68=1,999.99,(D66*5)+E66-F66+(G66*10)+(H66*30)+(I66*999.99)+(J66*999.99)),999.99)","v":0},0,{"$f":"(IF('Shooter Information'!H68=1,\"MDQ\",IF(J66=1,\"SDQ\",IF(I66=1,\"DNF\",SUM(D66+G66+H66+I66+J66)))))","v":0},null,0]
[64,{"$f":"'Shooter Information'!B69","v":0},{"$f":"'Shooter Information'!C69","v":0},null,null,null,null,null,null,null,{"$f":"MIN(IF('Shooter Information'!H69=1,999.99,(D67*5)+E67-F67+(G67*10)+(H67*30)+(I67*999.99)+(J67*999.99)),999.99)","v":0},0,{"$f":"(IF('Shooter Information'!H69=1,\"MDQ\",IF(J67=1,\"SDQ\",IF(I67=1,\"DNF\",SUM(D67+G67+H67+I67+J67)))))","v":0},null,0]
[65,{"$f":"'Shooter Information'!B70","v":0},{"$f":"'Shooter Information'!C70","v":0},null,null,null,null,null,null,null,{"$f":"MIN(IF('Shooter Information'!H70=1,999.99,(D68*5)+E68-F68+(G68*10)+(H68*30)+(I68*999.99)+(J68*999.99)),999.99)","v":0},0,{"$f":"(IF('Shooter Information'!H70=1,\"MDQ\",IF(J68=1,\"SDQ\",IF(I68=1,\"DNF\",SUM(D68+G68+H68+I68+J68)))))","v":0},null,0]
[66,{"$f":"'Shooter Information'!B71","v":0},{"$f":"'Shooter Information'!C71","v":0},null,null,null,null,null,null,null,{"$f":"MIN(IF('Shooter Information'!H71=1,999.99,(D69*5)+E69-F69+(G69*10)+(H69*30)+(I69*999.99)+(J69*999.99)),999.99)","v":0},{"$f":"IF(K69>0,SUMPRODUCT(--(K69>$K$4:$K$78),--($K$4:$K$78>0))+1,0)","v":0},{"$f":"(IF('Shooter Information'!H71=1,\"MDQ\",IF(J69=1,\"SDQ\",IF(I69=1,\"DNF\",SUM(D69+G69+H69+I69+J69)))))","v":0},null,{"$f":"SUM(D69+G69+H69+I69+J69)","v":0}]
[67,{"$f":"'Shooter Information'!B72","v":0},{"$f":"'Shooter Information'!C72","v":0},null,null,null,null,null,null,null,{"$f":"MIN(IF('Shooter Information'!H72=1,999.99,(D70*5)+E70-F70+(G70*10)+(H70*30)+(I70*999.99)+(J70*999.99)),999.99)","v":0},0,{"$f":"(IF('Shooter Information'!H72=1,\"MDQ\",IF(J70=1,\"SDQ\",IF(I70=1,\"DNF\",SUM(D70+G70+H70+I70+J70)))))","v":0},null,0]
[68,{"$f":"'Shooter Information'!B73","v":0},{"$f":"'Shooter Information'!C73","v":0},null,null,null,null,null,null,null,{"$f":"MIN(IF('Shooter Information'!H73=1,999.99,(D71*5)+E71-F71+(G71*10)+(H71*30)+(I71*999.99)+(J71*999.99)),999.99)","v":0},0,{"$f":"(IF('Shooter Information'!H73=1,\"MDQ\",IF(J71=1,\"SDQ\",IF(I71=1,\"DNF\",SUM(D71+G71+H71+I71+J71)))))","v":0},null,0]
[69,{"$f":"'Shooter Information'!B74","v":0},{"$f":"'Shooter Information'!C74","v":0},null,null,null,null,null,null,null,{"$f":"MIN(IF('Shooter Information'!H74=1,999.99,(D72*5)+E72-F72+(G72*10)+(H72*30)+(I72*999.99)+(J72*999.99)),999.99)","v":0},0,{"$f":"(IF('Shooter Information'!H74=1,\"MDQ\",IF(J72=1,\"SDQ\",IF(I72=1,\"DNF\",SUM(D72+G72+H72+I72+J72)))))","v":0},null,0]
[70,{"$f":"'Shooter Information'!B75","v":0},{"$f":"'Shooter Information'!C75","v":0},null,null,null,null,null,null,null,{"$f":"MIN(IF('Shooter Information'!H75=1,999.99,(D73*5)+E73-F73+(G73*10)+(H73*30)+(I73*999.99)+(J73*999.99)),999.99)","v":0},0,{"$f":"(IF('Shooter Information'!H75=1,\"MDQ\",IF(J73=1,\"SDQ\",IF(I73=1,\"DNF\",SUM(D73+G73+H73+I73+J73)))))","v":0},null,0]
[71,{"$f":"'Shooter Information'!B76","v":0},{"$f":"'Shooter Information'!C76","v":0},null,null,null,null,null,null,null,{"$f":"MIN(IF('Shooter Information'!H76=1,999.99,(D74*5)+E74-F74+(G74*10)+(H74*30)+(I74*999.99)+(J74*999.99)),999.99)","v":0},0,{"$f":"(IF('Shooter Information'!H76=1,\"MDQ\",IF(J74=1,\"SDQ\",IF(I74=1,\"DNF\",SUM(D74+G74+H74+I74+J74)))))","v":0},null,0]
[72,{"$f":"'Shooter Information'!B77","v":0},{"$f":"'Shooter Information'!C77","v":0},null,null,null,null,null,null,null,{"$f":"MIN(IF('Shooter Information'!H77=1,999.99,(D75*5)+E75-F75+(G75*10)+(H75*30)+(I75*999.99)+(J75*999.99)),999.99)","v":0},0,{"$f":"(IF('Shooter Information'!H77=1,\"MDQ\",IF(J75=1,\"SDQ\",IF(I75=1,\"DNF\",SUM(D75+G75+H75+I75+J75)))))","v":0},null,0]
[73,{"$f":"'Shooter Information'!B78","v":0},{"$f":"'Shooter Information'!C78","v":0},null,null,null,null,null,null,null,{"$f":"MIN(IF('Shooter Information'!H78=1,999.99,(D76*5)+E76-F76+(G76*10)+(H76*30)+(I76*999.99)+(J76*999.99)),999.99)","v":0},0,{"$f":"(IF('Shooter Information'!H78=1,\"MDQ\",IF(J76=1,\"SDQ\",IF(I76=1,\"DNF\",SUM(D76+G76+H76+I76+J76)))))","v":0},null,0]
[74,{"$f":"'Shooter Information'!B79","v":0},{"$f":"'Shooter Information'!C79","v":0},null,null,null,null,null,null,null,{"$f":"MIN(IF('Shooter Information'!H79=1,999.99,(D77*5)+E77-F77+(G77*10)+(H77*30)+(I77*999.99)+(J77*999.99)),999.99)","v":0},0,{"$f":"(IF('Shooter Information'!H79=1,\"MDQ\",IF(J77=1,\"SDQ\",IF(I77=1,\"DNF\",SUM(D77+G77+H77+I77+J77)))))","v":0},null,0]
[75,{"$f":"'Shooter Information'!B80","v":0},{"$f":"'Shooter Information'!C80","v":0},null,null,null,null,null,null,null,{"$f":"MIN(IF('Shooter Information'!H80=1,999.99,(D78*5)+E78-F78+(G78*10)+(H78*30)+(I78*999.99)+(J78*999.99)),999.99)","v":0},0,{"$f":"(IF('Shooter Information'!H80=1,\"MDQ\",IF(J78=1,\"SDQ\",IF(I78=1,\"DNF\",SUM(D78+G78+H78+I78+J78)))))","v":0},null,0]

{"sheet":"Stage 7","index":8,"n_rows":78,"n_cols":15,"rows_kept":78,"cut":false,"hidden":true,"merged":[]}
[null,"Stage Input Sheet - Stage 7"]
[]
["Shooter #","Shooter","Class","Misses","Raw Time","Bonus","10 Sec","30 Sec","DNF","SDQ","Total","Rank","Penalties",null,"# Penalties"]
[{"$f":"ROW()-3","v":1},{"$f":"'Shooter Information'!B6","v":"Striker"},{"$f":"'Shooter Information'!C6","v":"WW"},null,null,null,null,null,null,null,{"$f":"MIN(IF('Shooter Information'!H6=1,999.99,(D4*5)+E4-F4+(G4*10)+(H4*30)+(I4*999.99)+(J4*999.99)),999.99)","v":0},{"$f":"IF('Shooter Information'!$E$3-('Shooter Information'!$G$3-RANK(K4,K$4:K$78,1))<0,0,'Shooter Information'!$E$3-('Shooter Information'!$G$3-RANK(K4,K$4:K$78,1)))","v":0},{"$f":"(IF('Shooter Information'!H6=1,\"MDQ\",IF(J4=1,\"SDQ\",IF(I4=1,\"DNF\",SUM(D4+G4+H4+I4+J4)))))","v":0},null,{"$f":"SUM(D4+G4+H4+I4+J4)","v":0}]
[{"$f":"ROW()-3","v":2},{"$f":"'Shooter Information'!B7","v":"Cody Maverick"},{"$f":"'Shooter Information'!C7","v":"GF"},null,null,null,null,null,null,null,{"$f":"MIN(IF('Shooter Information'!H7=1,999.99,(D5*5)+E5-F5+(G5*10)+(H5*30)+(I5*999.99)+(J5*999.99)),999.99)","v":0},{"$f":"IF('Shooter Information'!$E$3-('Shooter Information'!$G$3-RANK(K5,K$4:K$78,1))<0,0,'Shooter Information'!$E$3-('Shooter Information'!$G$3-RANK(K5,K$4:K$78,1)))","v":0},{"$f":"(IF('Shooter Information'!H7=1,\"MDQ\",IF(J5=1,\"SDQ\",IF(I5=1,\"DNF\",SUM(D5+G5+H5+I5+J5)))))","v":0},null,{"$f":"SUM(D5+G5+H5+I5+J5)","v":0}]
[3,{"$f":"'Shooter Information'!B8","v":"Potter County Kid"},{"$f":"'Shooter Information'!C8","v":"WW"},null,null,null,null,null,null,null,{"$f":"MIN(IF('Shooter Information'!H8=1,999.99,(D6*5)+E6-F6+(G6*10)+(H6*30)+(I6*999.99)+(J6*999.99)),999.99)","v":0},{"$f":"IF('Shooter Information'!$E$3-('Shooter Information'!$G$3-RANK(K6,K$4:K$78,1))<0,0,'Shooter Information'!$E$3-('Shooter Information'!$G$3-RANK(K6,K$4:K$78,1)))","v":0},{"$f":"(IF('Shooter Information'!H8=1,\"MDQ\",IF(J6=1,\"SDQ\",IF(I6=1,\"DNF\",SUM(D6+G6+H6+I6+J6)))))","v":0},null,0]
[4,{"$f":"'Shooter Information'!B9","v":"Ricochet Kid"},{"$f":"'Shooter Information'!C9","v":"W"},null,null,null,null,null,null,null,{"$f":"MIN(IF('Shooter Information'!H9=1,999.99,(D7*5)+E7-F7+(G7*10)+(H7*30)+(I7*999.99)+(J7*999.99)),999.99)","v":0},{"$f":"IF('Shooter Information'!$E$3-('Shooter Information'!$G$3-RANK(K7,K$4:K$78,1))<0,0,'Shooter Information'!$E$3-('Shooter Information'!$G$3-RANK(K7,K$4:K$78,1)))","v":0},{"$f":"(IF('Shooter Information'!H9=1,\"MDQ\",IF(J7=1,\"SDQ\",IF(I7=1,\"DNF\",SUM(D7+G7+H7+I7+J7)))))","v":0},null,0]
[5,{"$f":"'Shooter Information'!B10","v":"Flatboat Bob"},{"$f":"'Shooter Information'!C10","v":"CBAR"},null,null,null,null,null,null,null,{"$f":"MIN(IF('Shooter Information'!H10=1,999.99,(D8*5)+E8-F8+(G8*10)+(H8*30)+(I8*999.99)+(J8*999.99)),999.99)","v":0},{"$f":"IF('Shooter Information'!$E$3-('Shooter Information'!$G$3-RANK(K8,K$4:K$78,1))<0,0,'Shooter Information'!$E$3-('Shooter Information'!$G$3-RANK(K8,K$4:K$78,1)))","v":0},{"$f":"(IF('Shooter Information'!H10=1,\"MDQ\",IF(J8=1,\"SDQ\",IF(I8=1,\"DNF\",SUM(D8+G8+H8+I8+J8)))))","v":0},null,0]
[6,{"$f":"'Shooter Information'!B11","v":"Hotshod"},{"$f":"'Shooter Information'!C11","v":"W"},null,null,null,null,null,null,null,{"$f":"MIN(IF('Shooter Information'!H11=1,999.99,(D9*5)+E9-F9+(G9*10)+(H9*30)+(I9*999.99)+(J9*999.99)),999.99)","v":0},{"$f":"IF('Shooter Information'!$E$3-('Shooter Information'!$G$3-RANK(K9,K$4:K$78,1))<0,0,'Shooter Information'!$E$3-('Shooter Information'!$G$3-RANK(K9,K$4:K$78,1)))","v":0},{"$f":"(IF('Shooter Information'!H11=1,\"MDQ\",IF(J9=1,\"SDQ\",IF(I9=1,\"DNF\",SUM(D9+G9+H9+I9+J9)))))","v":0},null,0]
[7,{"$f":"'Shooter Information'!B12","v":"Prairie City Slim"},{"$f":"'Shooter Information'!C12","v":"ES"},null,null,null,null,null,null,null,{"$f":"MIN(IF('Shooter Information'!H12=1,999.99,(D10*5)+E10-F10+(G10*10)+(H10*30)+(I10*999.99)+(J10*999.99)),999.99)","v":0},{"$f":"IF('Shooter Information'!$E$3-('Shooter Information'!$G$3-RANK(K10,K$4:K$78,1))<0,0,'Shooter Information'!$E$3-('Shooter Information'!$G$3-RANK(K10,K$4:K$78,1)))","v":0},{"$f":"(IF('Shooter Information'!H12=1,\"MDQ\",IF(J10=1,\"SDQ\",IF(I10=1,\"DNF\",SUM(D10+G10+H10+I10+J10)))))","v":0},null,0]
[8,{"$f":"'Shooter Information'!B13","v":"Regret Schofield"},{"$f":"'Shooter Information'!C13","v":"49er"},null,null,null,null,null,null,null,{"$f":"MIN(IF('Shooter Information'!H13=1,999.99,(D11*5)+E11-F11+(G11*10)+(H11*30)+(I11*999.99)+(J11*999.99)),999.99)","v":0},{"$f":"IF('Shooter Information'!$E$3-('Shooter Information'!$G$3-RANK(K11,K$4:K$78,1))<0,0,'Shooter Information'!$E$3-('Shooter Information'!$G$3-RANK(K11,K$4:K$78,1)))","v":0},{"$f":"(IF('Shooter Information'!H13=1,\"MDQ\",IF(J11=1,\"SDQ\",IF(I11=1,\"DNF\",SUM(D11+G11+H11+I11+J11)))))","v":0},null,0]
[9,{"$f":"'Shooter Information'!B14","v":"Tumble Weed Tink"},{"$f":"'Shooter Information'!C14","v":"L49"},null,null,null,null,null,null,null,{"$f":"MIN(IF('Shooter Information'!H14=1,999.99,(D12*5)+E12-F12+(G12*10)+(H12*30)+(I12*999.99)+(J12*999.99)),999.99)","v":0},{"$f":"IF('Shooter Information'!$E$3-('Shooter Information'!$G$3-RANK(K12,K$4:K$78,1))<0,0,'Shooter Information'!$E$3-('Shooter Information'!$G$3-RANK(K12,K$4:K$78,1)))","v":0},{"$f":"(IF('Shooter Information'!H14=1,\"MDQ\",IF(J12=1,\"SDQ\",IF(I12=1,\"DNF\",SUM(D12+G12+H12+I12+J12)))))","v":0},null,0]
[10,{"$f":"'Shooter Information'!B15","v":"One Eyed Jane"},{"$f":"'Shooter Information'!C15","v":"LSS"},null,null,null,null,null,null,null,{"$f":"MIN(IF('Shooter Information'!H15=1,999.99,(D13*5)+E13-F13+(G13*10)+(H13*30)+(I13*999.99)+(J13*999.99)),999.99)","v":0},{"$f":"IF('Shooter Information'!$E$3-('Shooter Information'!$G$3-RANK(K13,K$4:K$78,1))<0,0,'Shooter Information'!$E$3-('Shooter Information'!$G$3-RANK(K13,K$4:K$78,1)))","v":0},{"$f":"(IF('Shooter Information'!H15=1,\"MDQ\",IF(J13=1,\"SDQ\",IF(I13=1,\"DNF\",SUM(D13+G13+H13+I13+J13)))))","v":0},null,0]
[11,{"$f":"'Shooter Information'!B16","v":"Stogie"},{"$f":"'Shooter Information'!C16","v":"49er"},null,null,null,null,null,null,null,{"$f":"MIN(IF('Shooter Information'!H16=1,999.99,(D14*5)+E14-F14+(G14*10)+(H14*30)+(I14*999.99)+(J14*999.99)),999.99)","v":0},{"$f":"IF('Shooter Information'!$E$3-('Shooter Information'!$G$3-RANK(K14,K$4:K$78,1))<0,0,'Shooter Information'!$E$3-('Shooter Information'!$G$3-RANK(K14,K$4:K$78,1)))","v":0},{"$f":"(IF('Shooter Information'!H16=1,\"MDQ\",IF(J14=1,\"SDQ\",IF(I14=1,\"DNF\",SUM(D14+G14+H14+I14+J14)))))","v":0},null,0]
[12,{"$f":"'Shooter Information'!B17","v":"Major BS Walker"},{"$f":"'Shooter Information'!C17","v":"WW"},null,null,null,null,null,null,null,{"$f":"MIN(IF('Shooter Information'!H17=1,999.99,(D15*5)+E15-F15+(G15*10)+(H15*30)+(I15*999.99)+(J15*999.99)),999.99)","v":0},{"$f":"IF('Shooter Information'!$E$3-('Shooter Information'!$G$3-RANK(K15,K$4:K$78,1))<0,0,'Shooter Information'!$E$3-('Shooter Information'!$G$3-RANK(K15,K$4:K$78,1)))","v":0},{"$f":"(IF('Shooter Information'!H17=1,\"MDQ\",IF(J15=1,\"SDQ\",IF(I15=1,\"DNF\",SUM(D15+G15+H15+I15+J15)))))","v":0},null,0]
[13,{"$f":"'Shooter Information'!B18","v":"Sassy Shooting Sours"},{"$f":"'Shooter Information'!C18","v":"S"},null,null,null,null,null,null,null,{"$f":"MIN(IF('Shooter Information'!H18=1,999.99,(D16*5)+E16-F16+(G16*10)+(H16*30)+(I16*999.99)+(J16*999.99)),999.99)","v":0},{"$f":"IF('Shooter Information'!$E$3-('Shooter Information'!$G$3-RANK(K16,K$4:K$78,1))<0,0,'Shooter Information'!$E$3-('Shooter Information'!$G$3-RANK(K16,K$4:K$78,1)))","v":0},{"$f":"(IF('Shooter Information'!H18=1,\"MDQ\",IF(J16=1,\"SDQ\",IF(I16=1,\"DNF\",SUM(D16+G16+H16+I16+J16)))))","v":0},null,0]
[14,{"$f":"'Shooter Information'!B19","v":"Lefty Spurmaker"},{"$f":"'Shooter Information'!C19","v":"S"},null,null,null,null,null,null,null,{"$f":"MIN(IF('Shooter Information'!H19=1,999.99,(D17*5)+E17-F17+(G17*10)+(H17*30)+(I17*999.99)+(J17*999.99)),999.99)","v":0},{"$f":"IF('Shooter Information'!$E$3-('Shooter Information'!$G$3-RANK(K17,K$4:K$78,1))<0,0,'Shooter Information'!$E$3-('Shooter Information'!$G$3-RANK(K17,K$4:K$78,1)))","v":0},{"$f":"(IF('Shooter Information'!H19=1,\"MDQ\",IF(J17=1,\"SDQ\",IF(I17=1,\"DNF\",SUM(D17+G17+H17+I17+J17)))))","v":0},null,0]
[15,{"$f":"'Shooter Information'!B20","v":"Windhorse Rider"},{"$f":"'Shooter Information'!C20","v":"GF"},null,null,null,null,null,null,null,{"$f":"MIN(IF('Shooter Information'!H20=1,999.99,(D18*5)+E18-F18+(G18*10)+(H18*30)+(I18*999.99)+(J18*999.99)),999.99)","v":0},{"$f":"IF('Shooter Information'!$E$3-('Shooter Information'!$G$3-RANK(K18,K$4:K$78,1))<0,0,'Shooter Information'!$E$3-('Shooter Information'!$G$3-RANK(K18,K$4:K$78,1)))","v":0},{"$f":"(IF('Shooter Information'!H20=1,\"MDQ\",IF(J18=1,\"SDQ\",IF(I18=1,\"DNF\",SUM(D18+G18+H18+I18+J18)))))","v":0},null,0]
[16,{"$f":"'Shooter Information'!B21","v":"Red Cavanaugh"},{"$f":"'Shooter Information'!C21","v":"49er"},null,null,null,null,null,null,null,{"$f":"MIN(IF('Shooter Information'!H21=1,999.99,(D19*5)+E19-F19+(G19*10)+(H19*30)+(I19*999.99)+(J19*999.99)),999.99)","v":0},{"$f":"IF('Shooter Information'!$E$3-('Shooter Information'!$G$3-RANK(K19,K$4:K$78,1))<0,0,'Shooter Information'!$E$3-('Shooter Information'!$G$3-RANK(K19,K$4:K$78,1)))","v":0},{"$f":"(IF('Shooter Information'!H21=1,\"MDQ\",IF(J19=1,\"SDQ\",IF(I19=1,\"DNF\",SUM(D19+G19+H19+I19+J19)))))","v":0},null,0]
[17,{"$f":"'Shooter Information'!B22","v":0},{"$f":"'Shooter Information'!C22","v":0},null,null,null,null,null,null,null,{"$f":"MIN(IF('Shooter Information'!H22=1,999.99,(D20*5)+E20-F20+(G20*10)+(H20*30)+(I20*999.99)+(J20*999.99)),999.99)","v":0},{"$f":"IF('Shooter Information'!$E$3-('Shooter Information'!$G$3-RANK(K20,K$4:K$78,1))<0,0,'Shooter Information'!$E$3-('Shooter Information'!$G$3-RANK(K20,K$4:K$78,1)))","v":0},{"$f":"(IF('Shooter Information'!H22=1,\"MDQ\",IF(J20=1,\"SDQ\",IF(I20=1,\"DNF\",SUM(D20+G20+H20+I20+J20)))))","v":0},null,0]
[18,{"$f":"'Shooter Information'!B23","v":0},{"$f":"'Shooter Information'!C23","v":0},null,null,null,null,null,null,null,{"$f":"MIN(IF('Shooter Information'!H23=1,999.99,(D21*5)+E21-F21+(G21*10)+(H21*30)+(I21*999.99)+(J21*999.99)),999.99)","v":0},{"$f":"IF('Shooter Information'!$E$3-('Shooter Information'!$G$3-RANK(K21,K$4:K$78,1))<0,0,'Shooter Information'!$E$3-('Shooter Information'!$G$3-RANK(K21,K$4:K$78,1)))","v":0},{"$f":"(IF('Shooter Information'!H23=1,\"MDQ\",IF(J21=1,\"SDQ\",IF(I21=1,\"DNF\",SUM(D21+G21+H21+I21+J21)))))","v":0},null,0]
[19,{"$f":"'Shooter Information'!B24","v":0},{"$f":"'Shooter Information'!C24","v":0},null,null,null,null,null,null,null,{"$f":"MIN(IF('Shooter Information'!H24=1,999.99,(D22*5)+E22-F22+(G22*10)+(H22*30)+(I22*999.99)+(J22*999.99)),999.99)","v":0},{"$f":"IF('Shooter Information'!$E$3-('Shooter Information'!$G$3-RANK(K22,K$4:K$78,1))<0,0,'Shooter Information'!$E$3-('Shooter Information'!$G$3-RANK(K22,K$4:K$78,1)))","v":0},{"$f":"(IF('Shooter Information'!H24=1,\"MDQ\",IF(J22=1,\"SDQ\",IF(I22=1,\"DNF\",SUM(D22+G22+H22+I22+J22)))))","v":0},null,0]
[20,{"$f":"'Shooter Information'!B25","v":0},{"$f":"'Shooter Information'!C25","v":0},null,null,null,null,null,null,null,{"$f":"MIN(IF('Shooter Information'!H25=1,999.99,(D23*5)+E23-F23+(G23*10)+(H23*30)+(I23*999.99)+(J23*999.99)),999.99)","v":0},{"$f":"IF('Shooter Information'!$E$3-('Shooter Information'!$G$3-RANK(K23,K$4:K$78,1))<0,0,'Shooter Information'!$E$3-('Shooter Information'!$G$3-RANK(K23,K$4:K$78,1)))","v":0},{"$f":"(IF('Shooter Information'!H25=1,\"MDQ\",IF(J23=1,\"SDQ\",IF(I23=1,\"DNF\",SUM(D23+G23+H23+I23+J23)))))","v":0},null,0]
[21,{"$f":"'Shooter Information'!B26","v":0},{"$f":"'Shooter Information'!C26","v":0},null,null,null,null,null,null,null,{"$f":"MIN(IF('Shooter Information'!H26=1,999.99,(D24*5)+E24-F24+(G24*10)+(H24*30)+(I24*999.99)+(J24*999.99)),999.99)","v":0},{"$f":"IF('Shooter Information'!$E$3-('Shooter Information'!$G$3-RANK(K24,K$4:K$78,1))<0,0,'Shooter Information'!$E$3-('Shooter Information'!$G$3-RANK(K24,K$4:K$78,1)))","v":0},{"$f":"(IF('Shooter Information'!H26=1,\"MDQ\",IF(J24=1,\"SDQ\",IF(I24=1,\"DNF\",SUM(D24+G24+H24+I24+J24)))))","v":0},null,0]
[22,{"$f":"'Shooter Information'!B27","v":0},{"$f":"'Shooter Information'!C27","v":0},null,null,null,null,null,null,null,{"$f":"MIN(IF('Shooter Information'!H27=1,999.99,(D25*5)+E25-F25+(G25*10)+(H25*30)+(I25*999.99)+(J25*999.99)),999.99)","v":0},{"$f":"IF('Shooter Information'!$E$3-('Shooter Information'!$G$3-RANK(K25,K$4:K$78,1))<0,0,'Shooter Information'!$E$3-('Shooter Information'!$G$3-RANK(K25,K$4:K$78,1)))","v":0},{"$f":"(IF('Shooter Information'!H27=1,\"MDQ\",IF(J25=1,\"SDQ\",IF(I25=1,\"DNF\",SUM(D25+G25+H25+I25+J25)))))","v":0},null,0]
[23,{"$f":"'Shooter Information'!B28","v":0},{"$f":"'Shooter Information'!C28","v":0},null,null,null,null,null,null,null,{"$f":"MIN(IF('Shooter Information'!H28=1,999.99,(D26*5)+E26-F26+(G26*10)+(H26*30)+(I26*999.99)+(J26*999.99)),999.99)","v":0},{"$f":"IF('Shooter Information'!$E$3-('Shooter Information'!$G$3-RANK(K26,K$4:K$78,1))<0,0,'Shooter Information'!$E$3-('Shooter Information'!$G$3-RANK(K26,K$4:K$78,1)))","v":0},{"$f":"(IF('Shooter Information'!H28=1,\"MDQ\",IF(J26=1,\"SDQ\",IF(I26=1,\"DNF\",SUM(D26+G26+H26+I26+J26)))))","v":0},null,0]
[24,{"$f":"'Shooter Information'!B29","v":0},{"$f":"'Shooter Information'!C29","v":0},null,null,null,null,null,null,null,{"$f":"MIN(IF('Shooter Information'!H29=1,999.99,(D27*5)+E27-F27+(G27*10)+(H27*30)+(I27*999.99)+(J27*999.99)),999.99)","v":0},{"$f":"IF('Shooter Information'!$E$3-('Shooter Information'!$G$3-RANK(K27,K$4:K$78,1))<0,0,'Shooter Information'!$E$3-('Shooter Information'!$G$3-RANK(K27,K$4:K$78,1)))","v":0},{"$f":"(IF('Shooter Information'!H29=1,\"MDQ\",IF(J27=1,\"SDQ\",IF(I27=1,\"DNF\",SUM(D27+G27+H27+I27+J27)))))","v":0},null,0]
[25,{"$f":"'Shooter Information'!B30","v":0},{"$f":"'Shooter Information'!C30","v":0},null,null,null,null,null,null,null,{"$f":"MIN(IF('Shooter Information'!H30=1,999.99,(D28*5)+E28-F28+(G28*10)+(H28*30)+(I28*999.99)+(J28*999.99)),999.99)","v":0},{"$f":"IF('Shooter Information'!$E$3-('Shooter Information'!$G$3-RANK(K28,K$4:K$78,1))<0,0,'Shooter Information'!$E$3-('Shooter Information'!$G$3-RANK(K28,K$4:K$78,1)))","v":0},{"$f":"(IF('Shooter Information'!H30=1,\"MDQ\",IF(J28=1,\"SDQ\",IF(I28=1,\"DNF\",SUM(D28+G28+H28+I28+J28)))))","v":0},null,0]
[26,{"$f":"'Shooter Information'!B31","v":0},{"$f":"'Shooter Information'!C31","v":0},null,null,null,null,null,null,null,{"$f":"MIN(IF('Shooter Information'!H31=1,999.99,(D29*5)+E29-F29+(G29*10)+(H29*30)+(I29*999.99)+(J29*999.99)),999.99)","v":0},{"$f":"IF('Shooter Information'!$E$3-('Shooter Information'!$G$3-RANK(K29,K$4:K$78,1))<0,0,'Shooter Information'!$E$3-('Shooter Information'!$G$3-RANK(K29,K$4:K$78,1)))","v":0},{"$f":"(IF('Shooter Information'!H31=1,\"MDQ\",IF(J29=1,\"SDQ\",IF(I29=1,\"DNF\",SUM(D29+G29+H29+I29+J29)))))","v":0},null,0]
[27,{"$f":"'Shooter Information'!B32","v":0},{"$f":"'Shooter Information'!C32","v":0},null,null,null,null,null,null,null,{"$f":"MIN(IF('Shooter Information'!H32=1,999.99,(D30*5)+E30-F30+(G30*10)+(H30*30)+(I30*999.99)+(J30*999.99)),999.99)","v":0},{"$f":"IF('Shooter Information'!$E$3-('Shooter Information'!$G$3-RANK(K30,K$4:K$78,1))<0,0,'Shooter Information'!$E$3-('Shooter Information'!$G$3-RANK(K30,K$4:K$78,1)))","v":0},{"$f":"(IF('Shooter Information'!H32=1,\"MDQ\",IF(J30=1,\"SDQ\",IF(I30=1,\"DNF\",SUM(D30+G30+H30+I30+J30)))))","v":0},null,0]
[28,{"$f":"'Shooter Information'!B33","v":0},{"$f":"'Shooter Information'!C33","v":0},null,null,null,null,null,null,null,{"$f":"MIN(IF('Shooter Information'!H33=1,999.99,(D31*5)+E31-F31+(G31*10)+(H31*30)+(I31*999.99)+(J31*999.99)),999.99)","v":0},{"$f":"IF('Shooter Information'!$E$3-('Shooter Information'!$G$3-RANK(K31,K$4:K$78,1))<0,0,'Shooter Information'!$E$3-('Shooter Information'!$G$3-RANK(K31,K$4:K$78,1)))","v":0},{"$f":"(IF('Shooter Information'!H33=1,\"MDQ\",IF(J31=1,\"SDQ\",IF(I31=1,\"DNF\",SUM(D31+G31+H31+I31+J31)))))","v":0},null,0]
[29,{"$f":"'Shooter Information'!B34","v":0},{"$f":"'Shooter Information'!C34","v":0},null,null,null,null,null,null,null,{"$f":"MIN(IF('Shooter Information'!H34=1,999.99,(D32*5)+E32-F32+(G32*10)+(H32*30)+(I32*999.99)+(J32*999.99)),999.99)","v":0},{"$f":"IF('Shooter Information'!$E$3-('Shooter Information'!$G$3-RANK(K32,K$4:K$78,1))<0,0,'Shooter Information'!$E$3-('Shooter Information'!$G$3-RANK(K32,K$4:K$78,1)))","v":0},{"$f":"(IF('Shooter Information'!H34=1,\"MDQ\",IF(J32=1,\"SDQ\",IF(I32=1,\"DNF\",SUM(D32+G32+H32+I32+J32)))))","v":0},null,0]
[30,{"$f":"'Shooter Information'!B35","v":0},{"$f":"'Shooter Information'!C35","v":0},null,null,null,null,null,null,null,{"$f":"MIN(IF('Shooter Information'!H35=1,999.99,(D33*5)+E33-F33+(G33*10)+(H33*30)+(I33*999.99)+(J33*999.99)),999.99)","v":0},{"$f":"IF('Shooter Information'!$E$3-('Shooter Information'!$G$3-RANK(K33,K$4:K$78,1))<0,0,'Shooter Information'!$E$3-('Shooter Information'!$G$3-RANK(K33,K$4:K$78,1)))","v":0},{"$f":"(IF('Shooter Information'!H35=1,\"MDQ\",IF(J33=1,\"SDQ\",IF(I33=1,\"DNF\",SUM(D33+G33+H33+I33+J33)))))","v":0},null,0]
[31,{"$f":"'Shooter Information'!B36","v":0},{"$f":"'Shooter Information'!C36","v":0},null,null,null,null,null,null,null,{"$f":"MIN(IF('Shooter Information'!H36=1,999.99,(D34*5)+E34-F34+(G34*10)+(H34*30)+(I34*999.99)+(J34*999.99)),999.99)","v":0},{"$f":"IF('Shooter Information'!$E$3-('Shooter Information'!$G$3-RANK(K34,K$4:K$78,1))<0,0,'Shooter Information'!$E$3-('Shooter Information'!$G$3-RANK(K34,K$4:K$78,1)))","v":0},{"$f":"(IF('Shooter Information'!H36=1,\"MDQ\",IF(J34=1,\"SDQ\",IF(I34=1,\"DNF\",SUM(D34+G34+H34+I34+J34)))))","v":0},null,0]
[32,{"$f":"'Shooter Information'!B37","v":0},{"$f":"'Shooter Information'!C37","v":0},null,null,null,null,null,null,null,{"$f":"MIN(IF('Shooter Information'!H37=1,999.99,(D35*5)+E35-F35+(G35*10)+(H35*30)+(I35*999.99)+(J35*999.99)),999.99)","v":0},{"$f":"IF('Shooter Information'!$E$3-('Shooter Information'!$G$3-RANK(K35,K$4:K$78,1))<0,0,'Shooter Information'!$E$3-('Shooter Information'!$G$3-RANK(K35,K$4:K$78,1)))","v":0},{"$f":"(IF('Shooter Information'!H37=1,\"MDQ\",IF(J35=1,\"SDQ\",IF(I35=1,\"DNF\",SUM(D35+G35+H35+I35+J35)))))","v":0},null,0]
[33,{"$f":"'Shooter Information'!B38","v":0},{"$f":"'Shooter Information'!C38","v":0},null,null,null,null,null,null,null,{"$f":"MIN(IF('Shooter Information'!H38=1,999.99,(D36*5)+E36-F36+(G36*10)+(H36*30)+(I36*999.99)+(J36*999.99)),999.99)","v":0},{"$f":"IF('Shooter Information'!$E$3-('Shooter Information'!$G$3-RANK(K36,K$4:K$78,1))<0,0,'Shooter Information'!$E$3-('Shooter Information'!$G$3-RANK(K36,K$4:K$78,1)))","v":0},{"$f":"(IF('Shooter Information'!H38=1,\"MDQ\",IF(J36=1,\"SDQ\",IF(I36=1,\"DNF\",SUM(D36+G36+H36+I36+J36)))))","v":0},null,0]
[34,{"$f":"'Shooter Information'!B39","v":0},{"$f":"'Shooter Information'!C39","v":0},null,null,null,null,null,null,null,{"$f":"MIN(IF('Shooter Information'!H39=1,999.99,(D37*5)+E37-F37+(G37*10)+(H37*30)+(I37*999.99)+(J37*999.99)),999.99)","v":0},{"$f":"IF('Shooter Information'!$E$3-('Shooter Information'!$G$3-RANK(K37,K$4:K$78,1))<0,0,'Shooter Information'!$E$3-('Shooter Information'!$G$3-RANK(K37,K$4:K$78,1)))","v":0},{"$f":"(IF('Shooter Information'!H39=1,\"MDQ\",IF(J37=1,\"SDQ\",IF(I37=1,\"DNF\",SUM(D37+G37+H37+I37+J37)))))","v":0},null,0]
[35,{"$f":"'Shooter Information'!B40","v":0},{"$f":"'Shooter Information'!C40","v":0},null,null,null,null,null,null,null,{"$f":"MIN(IF('Shooter Information'!H40=1,999.99,(D38*5)+E38-F38+(G38*10)+(H38*30)+(I38*999.99)+(J38*999.99)),999.99)","v":0},{"$f":"IF('Shooter Information'!$E$3-('Shooter Information'!$G$3-RANK(K38,K$4:K$78,1))<0,0,'Shooter Information'!$E$3-('Shooter Information'!$G$3-RANK(K38,K$4:K$78,1)))","v":0},{"$f":"(IF('Shooter Information'!H40=1,\"MDQ\",IF(J38=1,\"SDQ\",IF(I38=1,\"DNF\",SUM(D38+G38+H38+I38+J38)))))","v":0},null,0]
[36,{"$f":"'Shooter Information'!B41","v":0},{"$f":"'Shooter Information'!C41","v":0},null,null,null,null,null,null,null,{"$f":"MIN(IF('Shooter Information'!H41=1,999.99,(D39*5)+E39-F39+(G39*10)+(H39*30)+(I39*999.99)+(J39*999.99)),999.99)","v":0},{"$f":"IF('Shooter Information'!$E$3-('Shooter Information'!$G$3-RANK(K39,K$4:K$78,1))<0,0,'Shooter Information'!$E$3-('Shooter Information'!$G$3-RANK(K39,K$4:K$78,1)))","v":0},{"$f":"(IF('Shooter Information'!H41=1,\"MDQ\",IF(J39=1,\"SDQ\",IF(I39=1,\"DNF\",SUM(D39+G39+H39+I39+J39)))))","v":0},null,0]
[37,{"$f":"'Shooter Information'!B42","v":0},{"$f":"'Shooter Information'!C42","v":0},null,null,null,null,null,null,null,{"$f":"MIN(IF('Shooter Information'!H42=1,999.99,(D40*5)+E40-F40+(G40*10)+(H40*30)+(I40*999.99)+(J40*999.99)),999.99)","v":0},{"$f":"IF('Shooter Information'!$E$3-('Shooter Information'!$G$3-RANK(K40,K$4:K$78,1))<0,0,'Shooter Information'!$E$3-('Shooter Information'!$G$3-RANK(K40,K$4:K$78,1)))","v":0},{"$f":"(IF('Shooter Information'!H42=1,\"MDQ\",IF(J40=1,\"SDQ\",IF(I40=1,\"DNF\",SUM(D40+G40+H40+I40+J40)))))","v":0},null,0]
[38,{"$f":"'Shooter Information'!B43","v":0},{"$f":"'Shooter Information'!C43","v":0},null,null,null,null,null,null,null,{"$f":"MIN(IF('Shooter Information'!H43=1,999.99,(D41*5)+E41-F41+(G41*10)+(H41*30)+(I41*999.99)+(J41*999.99)),999.99)","v":0},{"$f":"IF('Shooter Information'!$E$3-('Shooter Information'!$G$3-RANK(K41,K$4:K$78,1))<0,0,'Shooter Information'!$E$3-('Shooter Information'!$G$3-RANK(K41,K$4:K$78,1)))","v":0},{"$f":"(IF('Shooter Information'!H43=1,\"MDQ\",IF(J41=1,\"SDQ\",IF(I41=1,\"DNF\",SUM(D41+G41+H41+I41+J41)))))","v":0},null,0]
[39,{"$f":"'Shooter Information'!B44","v":0},{"$f":"'Shooter Information'!C44","v":0},null,null,null,null,null,null,null,{"$f":"MIN(IF('Shooter Information'!H44=1,999.99,(D42*5)+E42-F42+(G42*10)+(H42*30)+(I42*999.99)+(J42*999.99)),999.99)","v":0},{"$f":"IF('Shooter Information'!$E$3-('Shooter Information'!$G$3-RANK(K42,K$4:K$78,1))<0,0,'Shooter Information'!$E$3-('Shooter Information'!$G$3-RANK(K42,K$4:K$78,1)))","v":0},{"$f":"(IF('Shooter Information'!H44=1,\"MDQ\",IF(J42=1,\"SDQ\",IF(I42=1,\"DNF\",SUM(D42+G42+H42+I42+J42)))))","v":0},null,0]
[40,{"$f":"'Shooter Information'!B45","v":0},{"$f":"'Shooter Information'!C45","v":0},null,null,null,null,null,null,null,{"$f":"MIN(IF('Shooter Information'!H45=1,999.99,(D43*5)+E43-F43+(G43*10)+(H43*30)+(I43*999.99)+(J43*999.99)),999.99)","v":0},{"$f":"IF('Shooter Information'!$E$3-('Shooter Information'!$G$3-RANK(K43,K$4:K$78,1))<0,0,'Shooter Information'!$E$3-('Shooter Information'!$G$3-RANK(K43,K$4:K$78,1)))","v":0},{"$f":"(IF('Shooter Information'!H45=1,\"MDQ\",IF(J43=1,\"SDQ\",IF(I43=1,\"DNF\",SUM(D43+G43+H43+I43+J43)))))","v":0},null,0]
[41,{"$f":"'Shooter Information'!B46","v":0},{"$f":"'Shooter Information'!C46","v":0},null,null,null,null,null,null,null,{"$f":"MIN(IF('Shooter Information'!H46=1,999.99,(D44*5)+E44-F44+(G44*10)+(H44*30)+(I44*999.99)+(J44*999.99)),999.99)","v":0},{"$f":"IF('Shooter Information'!$E$3-('Shooter Information'!$G$3-RANK(K44,K$4:K$78,1))<0,0,'Shooter Information'!$E$3-('Shooter Information'!$G$3-RANK(K44,K$4:K$78,1)))","v":0},{"$f":"(IF('Shooter Information'!H46=1,\"MDQ\",IF(J44=1,\"SDQ\",IF(I44=1,\"DNF\",SUM(D44+G44+H44+I44+J44)))))","v":0},null,0]
[42,{"$f":"'Shooter Information'!B47","v":0},{"$f":"'Shooter Information'!C47","v":0},null,null,null,null,null,null,null,{"$f":"MIN(IF('Shooter Information'!H47=1,999.99,(D45*5)+E45-F45+(G45*10)+(H45*30)+(I45*999.99)+(J45*999.99)),999.99)","v":0},{"$f":"IF('Shooter Information'!$E$3-('Shooter Information'!$G$3-RANK(K45,K$4:K$78,1))<0,0,'Shooter Information'!$E$3-('Shooter Information'!$G$3-RANK(K45,K$4:K$78,1)))","v":0},{"$f":"(IF('Shooter Information'!H47=1,\"MDQ\",IF(J45=1,\"SDQ\",IF(I45=1,\"DNF\",SUM(D45+G45+H45+I45+J45)))))","v":0},null,0]
[43,{"$f":"'Shooter Information'!B48","v":0},{"$f":"'Shooter Information'!C48","v":0},null,null,null,null,null,null,null,{"$f":"MIN(IF('Shooter Information'!H48=1,999.99,(D46*5)+E46-F46+(G46*10)+(H46*30)+(I46*999.99)+(J46*999.99)),999.99)","v":0},{"$f":"IF('Shooter Information'!$E$3-('Shooter Information'!$G$3-RANK(K46,K$4:K$78,1))<0,0,'Shooter Information'!$E$3-('Shooter Information'!$G$3-RANK(K46,K$4:K$78,1)))","v":0},{"$f":"(IF('Shooter Information'!H48=1,\"MDQ\",IF(J46=1,\"SDQ\",IF(I46=1,\"DNF\",SUM(D46+G46+H46+I46+J46)))))","v":0},null,0]
[44,{"$f":"'Shooter Information'!B49","v":0},{"$f":"'Shooter Information'!C49","v":0},null,null,null,null,null,null,null,{"$f":"MIN(IF('Shooter Information'!H49=1,999.99,(D47*5)+E47-F47+(G47*10)+(H47*30)+(I47*999.99)+(J47*999.99)),999.99)","v":0},{"$f":"IF('Shooter Information'!$E$3-('Shooter Information'!$G$3-RANK(K47,K$4:K$78,1))<0,0,'Shooter Information'!$E$3-('Shooter Information'!$G$3-RANK(K47,K$4:K$78,1)))","v":0},{"$f":"(IF('Shooter Information'!H49=1,\"MDQ\",IF(J47=1,\"SDQ\",IF(I47=1,\"DNF\",SUM(D47+G47+H47+I47+J47)))))","v":0},null,0]
[45,{"$f":"'Shooter Information'!B50","v":0},{"$f":"'Shooter Information'!C50","v":0},null,null,null,null,null,null,null,{"$f":"MIN(IF('Shooter Information'!H50=1,999.99,(D48*5)+E48-F48+(G48*10)+(H48*30)+(I48*999.99)+(J48*999.99)),999.99)","v":0},{"$f":"IF('Shooter Information'!$E$3-('Shooter Information'!$G$3-RANK(K48,K$4:K$78,1))<0,0,'Shooter Information'!$E$3-('Shooter Information'!$G$3-RANK(K48,K$4:K$78,1)))","v":0},{"$f":"(IF('Shooter Information'!H50=1,\"MDQ\",IF(J48=1,\"SDQ\",IF(I48=1,\"DNF\",SUM(D48+G48+H48+I48+J48)))))","v":0},null,0]
[46,{"$f":"'Shooter Information'!B51","v":0},{"$f":"'Shooter Information'!C51","v":0},null,null,null,null,null,null,null,{"$f":"MIN(IF('Shooter Information'!H51=1,999.99,(D49*5)+E49-F49+(G49*10)+(H49*30)+(I49*999.99)+(J49*999.99)),999.99)","v":0},{"$f":"IF('Shooter Information'!$E$3-('Shooter Information'!$G$3-RANK(K49,K$4:K$78,1))<0,0,'Shooter Information'!$E$3-('Shooter Information'!$G$3-RANK(K49,K$4:K$78,1)))","v":0},{"$f":"(IF('Shooter Information'!H51=1,\"MDQ\",IF(J49=1,\"SDQ\",IF(I49=1,\"DNF\",SUM(D49+G49+H49+I49+J49)))))","v":0},null,0]
[47,{"$f":"'Shooter Information'!B52","v":0},{"$f":"'Shooter Information'!C52","v":0},null,null,null,null,null,null,null,{"$f":"MIN(IF('Shooter Information'!H52=1,999.99,(D50*5)+E50-F50+(G50*10)+(H50*30)+(I50*999.99)+(J50*999.99)),999.99)","v":0},{"$f":"IF('Shooter Information'!$E$3-('Shooter Information'!$G$3-RANK(K50,K$4:K$78,1))<0,0,'Shooter Information'!$E$3-('Shooter Information'!$G$3-RANK(K50,K$4:K$78,1)))","v":0},{"$f":"(IF('Shooter Information'!H52=1,\"MDQ\",IF(J50=1,\"SDQ\",IF(I50=1,\"DNF\",SUM(D50+G50+H50+I50+J50)))))","v":0},null,0]
[48,{"$f":"'Shooter Information'!B53","v":0},{"$f":"'Shooter Information'!C53","v":0},null,null,null,null,null,null,null,{"$f":"MIN(IF('Shooter Information'!H53=1,999.99,(D51*5)+E51-F51+(G51*10)+(H51*30)+(I51*999.99)+(J51*999.99)),999.99)","v":0},{"$f":"IF('Shooter Information'!$E$3-('Shooter Information'!$G$3-RANK(K51,K$4:K$78,1))<0,0,'Shooter Information'!$E$3-('Shooter Information'!$G$3-RANK(K51,K$4:K$78,1)))","v":0},{"$f":"(IF('Shooter Information'!H53=1,\"MDQ\",IF(J51=1,\"SDQ\",IF(I51=1,\"DNF\",SUM(D51+G51+H51+I51+J51)))))","v":0},null,0]
[49,{"$f":"'Shooter Information'!B54","v":0},{"$f":"'Shooter Information'!C54","v":0},null,null,null,null,null,null,null,{"$f":"MIN(IF('Shooter Information'!H54=1,999.99,(D52*5)+E52-F52+(G52*10)+(H52*30)+(I52*999.99)+(J52*999.99)),999.99)","v":0},{"$f":"IF('Shooter Information'!$E$3-('Shooter Information'!$G$3-RANK(K52,K$4:K$78,1))<0,0,'Shooter Information'!$E$3-('Shooter Information'!$G$3-RANK(K52,K$4:K$78,1)))","v":0},{"$f":"(IF('Shooter Information'!H54=1,\"MDQ\",IF(J52=1,\"SDQ\",IF(I52=1,\"DNF\",SUM(D52+G52+H52+I52+J52)))))","v":0},null,0]
[50,{"$f":"'Shooter Information'!B55","v":0},{"$f":"'Shooter Information'!C55","v":0},null,null,null,null,null,null,null,{"$f":"MIN(IF('Shooter Information'!H55=1,999.99,(D53*5)+E53-F53+(G53*10)+(H53*30)+(I53*999.99)+(J53*999.99)),999.99)","v":0},{"$f":"IF('Shooter Information'!$E$3-('Shooter Information'!$G$3-RANK(K53,K$4:K$78,1))<0,0,'Shooter Information'!$E$3-('Shooter Information'!$G$3-RANK(K53,K$4:K$78,1)))","v":0},{"$f":"(IF('Shooter Information'!H55=1,\"MDQ\",IF(J53=1,\"SDQ\",IF(I53=1,\"DNF\",SUM(D53+G53+H53+I53+J53)))))","v":0},null,0]
[51,{"$f":"'Shooter Information'!B56","v":0},{"$f":"'Shooter Information'!C56","v":0},null,null,null,null,null,null,null,{"$f":"MIN(IF('Shooter Information'!H56=1,999.99,(D54*5)+E54-F54+(G54*10)+(H54*30)+(I54*999.99)+(J54*999.99)),999.99)","v":0},{"$f":"IF('Shooter Information'!$E$3-('Shooter Information'!$G$3-RANK(K54,K$4:K$78,1))<0,0,'Shooter Information'!$E$3-('Shooter Information'!$G$3-RANK(K54,K$4:K$78,1)))","v":0},{"$f":"(IF('Shooter Information'!H56=1,\"MDQ\",IF(J54=1,\"SDQ\",IF(I54=1,\"DNF\",SUM(D54+G54+H54+I54+J54)))))","v":0},null,0]
[52,{"$f":"'Shooter Information'!B57","v":0},{"$f":"'Shooter Information'!C57","v":0},null,null,null,null,null,null,null,{"$f":"MIN(IF('Shooter Information'!H57=1,999.99,(D55*5)+E55-F55+(G55*10)+(H55*30)+(I55*999.99)+(J55*999.99)),999.99)","v":0},{"$f":"IF('Shooter Information'!$E$3-('Shooter Information'!$G$3-RANK(K55,K$4:K$78,1))<0,0,'Shooter Information'!$E$3-('Shooter Information'!$G$3-RANK(K55,K$4:K$78,1)))","v":0},{"$f":"(IF('Shooter Information'!H57=1,\"MDQ\",IF(J55=1,\"SDQ\",IF(I55=1,\"DNF\",SUM(D55+G55+H55+I55+J55)))))","v":0},null,0]
[53,{"$f":"'Shooter Information'!B58","v":0},{"$f":"'Shooter Information'!C58","v":0},null,null,null,null,null,null,null,{"$f":"MIN(IF('Shooter Information'!H58=1,999.99,(D56*5)+E56-F56+(G56*10)+(H56*30)+(I56*999.99)+(J56*999.99)),999.99)","v":0},{"$f":"IF('Shooter Information'!$E$3-('Shooter Information'!$G$3-RANK(K56,K$4:K$78,1))<0,0,'Shooter Information'!$E$3-('Shooter Information'!$G$3-RANK(K56,K$4:K$78,1)))","v":0},{"$f":"(IF('Shooter Information'!H58=1,\"MDQ\",IF(J56=1,\"SDQ\",IF(I56=1,\"DNF\",SUM(D56+G56+H56+I56+J56)))))","v":0},null,0]
[54,{"$f":"'Shooter Information'!B59","v":0},{"$f":"'Shooter Information'!C59","v":0},null,null,null,null,null,null,null,{"$f":"MIN(IF('Shooter Information'!H59=1,999.99,(D57*5)+E57-F57+(G57*10)+(H57*30)+(I57*999.99)+(J57*999.99)),999.99)","v":0},{"$f":"IF('Shooter Information'!$E$3-('Shooter Information'!$G$3-RANK(K57,K$4:K$78,1))<0,0,'Shooter Information'!$E$3-('Shooter Information'!$G$3-RANK(K57,K$4:K$78,1)))","v":0},{"$f":"(IF('Shooter Information'!H59=1,\"MDQ\",IF(J57=1,\"SDQ\",IF(I57=1,\"DNF\",SUM(D57+G57+H57+I57+J57)))))","v":0},null,0]
[55,{"$f":"'Shooter Information'!B60","v":0},{"$f":"'Shooter Information'!C60","v":0},null,null,null,null,null,null,null,{"$f":"MIN(IF('Shooter Information'!H60=1,999.99,(D58*5)+E58-F58+(G58*10)+(H58*30)+(I58*999.99)+(J58*999.99)),999.99)","v":0},{"$f":"IF('Shooter Information'!$E$3-('Shooter Information'!$G$3-RANK(K58,K$4:K$78,1))<0,0,'Shooter Information'!$E$3-('Shooter Information'!$G$3-RANK(K58,K$4:K$78,1)))","v":0},{"$f":"(IF('Shooter Information'!H60=1,\"MDQ\",IF(J58=1,\"SDQ\",IF(I58=1,\"DNF\",SUM(D58+G58+H58+I58+J58)))))","v":0},null,0]
[56,{"$f":"'Shooter Information'!B61","v":0},{"$f":"'Shooter Information'!C61","v":0},null,null,null,null,null,null,null,{"$f":"MIN(IF('Shooter Information'!H61=1,999.99,(D59*5)+E59-F59+(G59*10)+(H59*30)+(I59*999.99)+(J59*999.99)),999.99)","v":0},{"$f":"IF('Shooter Information'!$E$3-('Shooter Information'!$G$3-RANK(K59,K$4:K$78,1))<0,0,'Shooter Information'!$E$3-('Shooter Information'!$G$3-RANK(K59,K$4:K$78,1)))","v":0},{"$f":"(IF('Shooter Information'!H61=1,\"MDQ\",IF(J59=1,\"SDQ\",IF(I59=1,\"DNF\",SUM(D59+G59+H59+I59+J59)))))","v":0},null,0]
[57,{"$f":"'Shooter Information'!B62","v":0},{"$f":"'Shooter Information'!C62","v":0},null,null,null,null,null,null,null,{"$f":"MIN(IF('Shooter Information'!H62=1,999.99,(D60*5)+E60-F60+(G60*10)+(H60*30)+(I60*999.99)+(J60*999.99)),999.99)","v":0},{"$f":"IF('Shooter Information'!$E$3-('Shooter Information'!$G$3-RANK(K60,K$4:K$78,1))<0,0,'Shooter Information'!$E$3-('Shooter Information'!$G$3-RANK(K60,K$4:K$78,1)))","v":0},{"$f":"(IF('Shooter Information'!H62=1,\"MDQ\",IF(J60=1,\"SDQ\",IF(I60=1,\"DNF\",SUM(D60+G60+H60+I60+J60)))))","v":0},null,0]
[58,{"$f":"'Shooter Information'!B63","v":0},{"$f":"'Shooter Information'!C63","v":0},null,null,null,null,null,null,null,{"$f":"MIN(IF('Shooter Information'!H63=1,999.99,(D61*5)+E61-F61+(G61*10)+(H61*30)+(I61*999.99)+(J61*999.99)),999.99)","v":0},{"$f":"IF('Shooter Information'!$E$3-('Shooter Information'!$G$3-RANK(K61,K$4:K$78,1))<0,0,'Shooter Information'!$E$3-('Shooter Information'!$G$3-RANK(K61,K$4:K$78,1)))","v":0},{"$f":"(IF('Shooter Information'!H63=1,\"MDQ\",IF(J61=1,\"SDQ\",IF(I61=1,\"DNF\",SUM(D61+G61+H61+I61+J61)))))","v":0},null,0]
[59,{"$f":"'Shooter Information'!B64","v":0},{"$f":"'Shooter Information'!C64","v":0},null,null,null,null,null,null,null,{"$f":"MIN(IF('Shooter Information'!H64=1,999.99,(D62*5)+E62-F62+(G62*10)+(H62*30)+(I62*999.99)+(J62*999.99)),999.99)","v":0},{"$f":"IF('Shooter Information'!$E$3-('Shooter Information'!$G$3-RANK(K62,K$4:K$78,1))<0,0,'Shooter Information'!$E$3-('Shooter Information'!$G$3-RANK(K62,K$4:K$78,1)))","v":0},{"$f":"(IF('Shooter Information'!H64=1,\"MDQ\",IF(J62=1,\"SDQ\",IF(I62=1,\"DNF\",SUM(D62+G62+H62+I62+J62)))))","v":0},null,0]
[60,{"$f":"'Shooter Information'!B65","v":0},{"$f":"'Shooter Information'!C65","v":0},null,null,null,null,null,null,null,{"$f":"MIN(IF('Shooter Information'!H65=1,999.99,(D63*5)+E63-F63+(G63*10)+(H63*30)+(I63*999.99)+(J63*999.99)),999.99)","v":0},{"$f":"IF('Shooter Information'!$E$3-('Shooter Information'!$G$3-RANK(K63,K$4:K$78,1))<0,0,'Shooter Information'!$E$3-('Shooter Information'!$G$3-RANK(K63,K$4:K$78,1)))","v":0},{"$f":"(IF('Shooter Information'!H65=1,\"MDQ\",IF(J63=1,\"SDQ\",IF(I63=1,\"DNF\",SUM(D63+G63+H63+I63+J63)))))","v":0},null,0]
[61,{"$f":"'Shooter Information'!B66","v":0},{"$f":"'Shooter Information'!C66","v":0},null,null,null,null,null,null,null,{"$f":"MIN(IF('Shooter Information'!H66=1,999.99,(D64*5)+E64-F64+(G64*10)+(H64*30)+(I64*999.99)+(J64*999.99)),999.99)","v":0},{"$f":"IF('Shooter Information'!$E$3-('Shooter Information'!$G$3-RANK(K64,K$4:K$78,1))<0,0,'Shooter Information'!$E$3-('Shooter Information'!$G$3-RANK(K64,K$4:K$78,1)))","v":0},{"$f":"(IF('Shooter Information'!H66=1,\"MDQ\",IF(J64=1,\"SDQ\",IF(I64=1,\"DNF\",SUM(D64+G64+H64+I64+J64)))))","v":0},null,0]
[62,{"$f":"'Shooter Information'!B67","v":0},{"$f":"'Shooter Information'!C67","v":0},null,null,null,null,null,null,null,{"$f":"MIN(IF('Shooter Information'!H67=1,999.99,(D65*5)+E65-F65+(G65*10)+(H65*30)+(I65*999.99)+(J65*999.99)),999.99)","v":0},{"$f":"IF('Shooter Information'!$E$3-('Shooter Information'!$G$3-RANK(K65,K$4:K$78,1))<0,0,'Shooter Information'!$E$3-('Shooter Information'!$G$3-RANK(K65,K$4:K$78,1)))","v":0},{"$f":"(IF('Shooter Information'!H67=1,\"MDQ\",IF(J65=1,\"SDQ\",IF(I65=1,\"DNF\",SUM(D65+G65+H65+I65+J65)))))","v":0},null,0]
[63,{"$f":"'Shooter Information'!B68","v":0},{"$f":"'Shooter Information'!C68","v":0},null,null,null,null,null,null,null,{"$f":"MIN(IF('Shooter Information'!H68=1,999.99,(D66*5)+E66-F66+(G66*10)+(H66*30)+(I66*999.99)+(J66*999.99)),999.99)","v":0},{"$f":"IF('Shooter Information'!$E$3-('Shooter Information'!$G$3-RANK(K66,K$4:K$78,1))<0,0,'Shooter Information'!$E$3-('Shooter Information'!$G$3-RANK(K66,K$4:K$78,1)))","v":0},{"$f":"(IF('Shooter Information'!H68=1,\"MDQ\",IF(J66=1,\"SDQ\",IF(I66=1,\"DNF\",SUM(D66+G66+H66+I66+J66)))))","v":0},null,0]
[64,{"$f":"'Shooter Information'!B69","v":0},{"$f":"'Shooter Information'!C69","v":0},null,null,null,null,null,null,null,{"$f":"MIN(IF('Shooter Information'!H69=1,999.99,(D67*5)+E67-F67+(G67*10)+(H67*30)+(I67*999.99)+(J67*999.99)),999.99)","v":0},{"$f":"IF('Shooter Information'!$E$3-('Shooter Information'!$G$3-RANK(K67,K$4:K$78,1))<0,0,'Shooter Information'!$E$3-('Shooter Information'!$G$3-RANK(K67,K$4:K$78,1)))","v":0},{"$f":"(IF('Shooter Information'!H69=1,\"MDQ\",IF(J67=1,\"SDQ\",IF(I67=1,\"DNF\",SUM(D67+G67+H67+I67+J67)))))","v":0},null,0]
[65,{"$f":"'Shooter Information'!B70","v":0},{"$f":"'Shooter Information'!C70","v":0},null,null,null,null,null,null,null,{"$f":"MIN(IF('Shooter Information'!H70=1,999.99,(D68*5)+E68-F68+(G68*10)+(H68*30)+(I68*999.99)+(J68*999.99)),999.99)","v":0},{"$f":"IF('Shooter Information'!$E$3-('Shooter Information'!$G$3-RANK(K68,K$4:K$78,1))<0,0,'Shooter Information'!$E$3-('Shooter Information'!$G$3-RANK(K68,K$4:K$78,1)))","v":0},{"$f":"(IF('Shooter Information'!H70=1,\"MDQ\",IF(J68=1,\"SDQ\",IF(I68=1,\"DNF\",SUM(D68+G68+H68+I68+J68)))))","v":0},null,0]
[66,{"$f":"'Shooter Information'!B71","v":0},{"$f":"'Shooter Information'!C71","v":0},null,null,null,null,null,null,null,{"$f":"MIN(IF('Shooter Information'!H71=1,999.99,(D69*5)+E69-F69+(G69*10)+(H69*30)+(I69*999.99)+(J69*999.99)),999.99)","v":0},{"$f":"IF('Shooter Information'!$E$3-('Shooter Information'!$G$3-RANK(K69,K$4:K$78,1))<0,0,'Shooter Information'!$E$3-('Shooter Information'!$G$3-RANK(K69,K$4:K$78,1)))","v":0},{"$f":"(IF('Shooter Information'!H71=1,\"MDQ\",IF(J69=1,\"SDQ\",IF(I69=1,\"DNF\",SUM(D69+G69+H69+I69+J69)))))","v":0},null,{"$f":"SUM(D69+G69+H69+I69+J69)","v":0}]
[67,{"$f":"'Shooter Information'!B72","v":0},{"$f":"'Shooter Information'!C72","v":0},null,null,null,null,null,null,null,{"$f":"MIN(IF('Shooter Information'!H72=1,999.99,(D70*5)+E70-F70+(G70*10)+(H70*30)+(I70*999.99)+(J70*999.99)),999.99)","v":0},{"$f":"IF('Shooter Information'!$E$3-('Shooter Information'!$G$3-RANK(K70,K$4:K$78,1))<0,0,'Shooter Information'!$E$3-('Shooter Information'!$G$3-RANK(K70,K$4:K$78,1)))","v":0},{"$f":"(IF('Shooter Information'!H72=1,\"MDQ\",IF(J70=1,\"SDQ\",IF(I70=1,\"DNF\",SUM(D70+G70+H70+I70+J70)))))","v":0},null,0]
[68,{"$f":"'Shooter Information'!B73","v":0},{"$f":"'Shooter Information'!C73","v":0},null,null,null,null,null,null,null,{"$f":"MIN(IF('Shooter Information'!H73=1,999.99,(D71*5)+E71-F71+(G71*10)+(H71*30)+(I71*999.99)+(J71*999.99)),999.99)","v":0},{"$f":"IF('Shooter Information'!$E$3-('Shooter Information'!$G$3-RANK(K71,K$4:K$78,1))<0,0,'Shooter Information'!$E$3-('Shooter Information'!$G$3-RANK(K71,K$4:K$78,1)))","v":0},{"$f":"(IF('Shooter Information'!H73=1,\"MDQ\",IF(J71=1,\"SDQ\",IF(I71=1,\"DNF\",SUM(D71+G71+H71+I71+J71)))))","v":0},null,0]
[69,{"$f":"'Shooter Information'!B74","v":0},{"$f":"'Shooter Information'!C74","v":0},null,null,null,null,null,null,null,{"$f":"MIN(IF('Shooter Information'!H74=1,999.99,(D72*5)+E72-F72+(G72*10)+(H72*30)+(I72*999.99)+(J72*999.99)),999.99)","v":0},{"$f":"IF('Shooter Information'!$E$3-('Shooter Information'!$G$3-RANK(K72,K$4:K$78,1))<0,0,'Shooter Information'!$E$3-('Shooter Information'!$G$3-RANK(K72,K$4:K$78,1)))","v":0},{"$f":"(IF('Shooter Information'!H74=1,\"MDQ\",IF(J72=1,\"SDQ\",IF(I72=1,\"DNF\",SUM(D72+G72+H72+I72+J72)))))","v":0},null,0]
[70,{"$f":"'Shooter Information'!B75","v":0},{"$f":"'Shooter Information'!C75","v":0},null,null,null,null,null,null,null,{"$f":"MIN(IF('Shooter Information'!H75=1,999.99,(D73*5)+E73-F73+(G73*10)+(H73*30)+(I73*999.99)+(J73*999.99)),999.99)","v":0},{"$f":"IF('Shooter Information'!$E$3-('Shooter Information'!$G$3-RANK(K73,K$4:K$78,1))<0,0,'Shooter Information'!$E$3-('Shooter Information'!$G$3-RANK(K73,K$4:K$78,1)))","v":0},{"$f":"(IF('Shooter Information'!H75=1,\"MDQ\",IF(J73=1,\"SDQ\",IF(I73=1,\"DNF\",SUM(D73+G73+H73+I73+J73)))))","v":0},null,0]
[71,{"$f":"'Shooter Information'!B76","v":0},{"$f":"'Shooter Information'!C76","v":0},null,null,null,null,null,null,null,{"$f":"MIN(IF('Shooter Information'!H76=1,999.99,(D74*5)+E74-F74+(G74*10)+(H74*30)+(I74*999.99)+(J74*999.99)),999.99)","v":0},{"$f":"IF('Shooter Information'!$E$3-('Shooter Information'!$G$3-RANK(K74,K$4:K$78,1))<0,0,'Shooter Information'!$E$3-('Shooter Information'!$G$3-RANK(K74,K$4:K$78,1)))","v":0},{"$f":"(IF('Shooter Information'!H76=1,\"MDQ\",IF(J74=1,\"SDQ\",IF(I74=1,\"DNF\",SUM(D74+G74+H74+I74+J74)))))","v":0},null,0]
[72,{"$f":"'Shooter Information'!B77","v":0},{"$f":"'Shooter Information'!C77","v":0},null,null,null,null,null,null,null,{"$f":"MIN(IF('Shooter Information'!H77=1,999.99,(D75*5)+E75-F75+(G75*10)+(H75*30)+(I75*999.99)+(J75*999.99)),999.99)","v":0},{"$f":"IF('Shooter Information'!$E$3-('Shooter Information'!$G$3-RANK(K75,K$4:K$78,1))<0,0,'Shooter Information'!$E$3-('Shooter Information'!$G$3-RANK(K75,K$4:K$78,1)))","v":0},{"$f":"(IF('Shooter Information'!H77=1,\"MDQ\",IF(J75=1,\"SDQ\",IF(I75=1,\"DNF\",SUM(D75+G75+H75+I75+J75)))))","v":0},null,0]
[73,{"$f":"'Shooter Information'!B78","v":0},{"$f":"'Shooter Information'!C78","v":0},null,null,null,null,null,null,null,{"$f":"MIN(IF('Shooter Information'!H78=1,999.99,(D76*5)+E76-F76+(G76*10)+(H76*30)+(I76*999.99)+(J76*999.99)),999.99)","v":0},{"$f":"IF('Shooter Information'!$E$3-('Shooter Information'!$G$3-RANK(K76,K$4:K$78,1))<0,0,'Shooter Information'!$E$3-('Shooter Information'!$G$3-RANK(K76,K$4:K$78,1)))","v":0},{"$f":"(IF('Shooter Information'!H78=1,\"MDQ\",IF(J76=1,\"SDQ\",IF(I76=1,\"DNF\",SUM(D76+G76+H76+I76+J76)))))","v":0},null,0]
[74,{"$f":"'Shooter Information'!B79","v":0},{"$f":"'Shooter Information'!C79","v":0},null,null,null,null,null,null,null,{"$f":"MIN(IF('Shooter Information'!H79=1,999.99,(D77*5)+E77-F77+(G77*10)+(H77*30)+(I77*999.99)+(J77*999.99)),999.99)","v":0},{"$f":"IF('Shooter Information'!$E$3-('Shooter Information'!$G$3-RANK(K77,K$4:K$78,1))<0,0,'Shooter Information'!$E$3-('Shooter Information'!$G$3-RANK(K77,K$4:K$78,1)))","v":0},{"$f":"(IF('Shooter Information'!H79=1,\"MDQ\",IF(J77=1,\"SDQ\",IF(I77=1,\"DNF\",SUM(D77+G77+H77+I77+J77)))))","v":0},null,0]
[75,{"$f":"'Shooter Information'!B80","v":0},{"$f":"'Shooter Information'!C80","v":0},null,null,null,null,null,null,null,{"$f":"MIN(IF('Shooter Information'!H80=1,999.99,(D78*5)+E78-F78+(G78*10)+(H78*30)+(I78*999.99)+(J78*999.99)),999.99)","v":0},{"$f":"IF('Shooter Information'!$E$3-('Shooter Information'!$G$3-RANK(K78,K$4:K$78,1))<0,0,'Shooter Information'!$E$3-('Shooter Information'!$G$3-RANK(K78,K$4:K$78,1)))","v":0},{"$f":"(IF('Shooter Information'!H80=1,\"MDQ\",IF(J78=1,\"SDQ\",IF(I78=1,\"DNF\",SUM(D78+G78+H78+I78+J78)))))","v":0},null,0]

{"sheet":"Stage 8","index":9,"n_rows":78,"n_cols":15,"rows_kept":78,"cut":false,"hidden":true,"merged":[]}
[null,"Stage Input Sheet - Stage 8"]
[]
["Shooter #","Shooter","Class","Misses","Raw Time","Bonus","10 Sec","30 Sec","DNF","SDQ","Total","Rank","Penalties",null,"# Penalties"]
[{"$f":"ROW()-3","v":1},{"$f":"'Shooter Information'!B6","v":"Striker"},{"$f":"'Shooter Information'!C6","v":"WW"},null,null,null,null,null,null,null,{"$f":"MIN(IF('Shooter Information'!H6=1,999.99,(D4*5)+E4-F4+(G4*10)+(H4*30)+(I4*999.99)+(J4*999.99)),999.99)","v":0},{"$f":"IF('Shooter Information'!$E$3-('Shooter Information'!$G$3-RANK(K4,K$4:K$78,1))<0,0,'Shooter Information'!$E$3-('Shooter Information'!$G$3-RANK(K4,K$4:K$78,1)))","v":0},{"$f":"(IF('Shooter Information'!H6=1,\"MDQ\",IF(J4=1,\"SDQ\",IF(I4=1,\"DNF\",SUM(D4+G4+H4+I4+J4)))))","v":0},null,{"$f":"SUM(D4+G4+H4+I4+J4)","v":0}]
[{"$f":"ROW()-3","v":2},{"$f":"'Shooter Information'!B7","v":"Cody Maverick"},{"$f":"'Shooter Information'!C7","v":"GF"},null,null,null,null,null,null,null,{"$f":"MIN(IF('Shooter Information'!H7=1,999.99,(D5*5)+E5-F5+(G5*10)+(H5*30)+(I5*999.99)+(J5*999.99)),999.99)","v":0},{"$f":"IF('Shooter Information'!$E$3-('Shooter Information'!$G$3-RANK(K5,K$4:K$78,1))<0,0,'Shooter Information'!$E$3-('Shooter Information'!$G$3-RANK(K5,K$4:K$78,1)))","v":0},{"$f":"(IF('Shooter Information'!H7=1,\"MDQ\",IF(J5=1,\"SDQ\",IF(I5=1,\"DNF\",SUM(D5+G5+H5+I5+J5)))))","v":0},null,{"$f":"SUM(D5+G5+H5+I5+J5)","v":0}]
[3,{"$f":"'Shooter Information'!B8","v":"Potter County Kid"},{"$f":"'Shooter Information'!C8","v":"WW"},null,null,null,null,null,null,null,{"$f":"MIN(IF('Shooter Information'!H8=1,999.99,(D6*5)+E6-F6+(G6*10)+(H6*30)+(I6*999.99)+(J6*999.99)),999.99)","v":0},{"$f":"IF('Shooter Information'!$E$3-('Shooter Information'!$G$3-RANK(K6,K$4:K$78,1))<0,0,'Shooter Information'!$E$3-('Shooter Information'!$G$3-RANK(K6,K$4:K$78,1)))","v":0},{"$f":"(IF('Shooter Information'!H8=1,\"MDQ\",IF(J6=1,\"SDQ\",IF(I6=1,\"DNF\",SUM(D6+G6+H6+I6+J6)))))","v":0},null,0]
[4,{"$f":"'Shooter Information'!B9","v":"Ricochet Kid"},{"$f":"'Shooter Information'!C9","v":"W"},null,null,null,null,null,null,null,{"$f":"MIN(IF('Shooter Information'!H9=1,999.99,(D7*5)+E7-F7+(G7*10)+(H7*30)+(I7*999.99)+(J7*999.99)),999.99)","v":0},{"$f":"IF('Shooter Information'!$E$3-('Shooter Information'!$G$3-RANK(K7,K$4:K$78,1))<0,0,'Shooter Information'!$E$3-('Shooter Information'!$G$3-RANK(K7,K$4:K$78,1)))","v":0},{"$f":"(IF('Shooter Information'!H9=1,\"MDQ\",IF(J7=1,\"SDQ\",IF(I7=1,\"DNF\",SUM(D7+G7+H7+I7+J7)))))","v":0},null,0]
[5,{"$f":"'Shooter Information'!B10","v":"Flatboat Bob"},{"$f":"'Shooter Information'!C10","v":"CBAR"},null,null,null,null,null,null,null,{"$f":"MIN(IF('Shooter Information'!H10=1,999.99,(D8*5)+E8-F8+(G8*10)+(H8*30)+(I8*999.99)+(J8*999.99)),999.99)","v":0},{"$f":"IF('Shooter Information'!$E$3-('Shooter Information'!$G$3-RANK(K8,K$4:K$78,1))<0,0,'Shooter Information'!$E$3-('Shooter Information'!$G$3-RANK(K8,K$4:K$78,1)))","v":0},{"$f":"(IF('Shooter Information'!H10=1,\"MDQ\",IF(J8=1,\"SDQ\",IF(I8=1,\"DNF\",SUM(D8+G8+H8+I8+J8)))))","v":0},null,0]
[6,{"$f":"'Shooter Information'!B11","v":"Hotshod"},{"$f":"'Shooter Information'!C11","v":"W"},null,null,null,null,null,null,null,{"$f":"MIN(IF('Shooter Information'!H11=1,999.99,(D9*5)+E9-F9+(G9*10)+(H9*30)+(I9*999.99)+(J9*999.99)),999.99)","v":0},{"$f":"IF('Shooter Information'!$E$3-('Shooter Information'!$G$3-RANK(K9,K$4:K$78,1))<0,0,'Shooter Information'!$E$3-('Shooter Information'!$G$3-RANK(K9,K$4:K$78,1)))","v":0},{"$f":"(IF('Shooter Information'!H11=1,\"MDQ\",IF(J9=1,\"SDQ\",IF(I9=1,\"DNF\",SUM(D9+G9+H9+I9+J9)))))","v":0},null,0]
[7,{"$f":"'Shooter Information'!B12","v":"Prairie City Slim"},{"$f":"'Shooter Information'!C12","v":"ES"},null,null,null,null,null,null,null,{"$f":"MIN(IF('Shooter Information'!H12=1,999.99,(D10*5)+E10-F10+(G10*10)+(H10*30)+(I10*999.99)+(J10*999.99)),999.99)","v":0},{"$f":"IF('Shooter Information'!$E$3-('Shooter Information'!$G$3-RANK(K10,K$4:K$78,1))<0,0,'Shooter Information'!$E$3-('Shooter Information'!$G$3-RANK(K10,K$4:K$78,1)))","v":0},{"$f":"(IF('Shooter Information'!H12=1,\"MDQ\",IF(J10=1,\"SDQ\",IF(I10=1,\"DNF\",SUM(D10+G10+H10+I10+J10)))))","v":0},null,0]
[8,{"$f":"'Shooter Information'!B13","v":"Regret Schofield"},{"$f":"'Shooter Information'!C13","v":"49er"},null,null,null,null,null,null,null,{"$f":"MIN(IF('Shooter Information'!H13=1,999.99,(D11*5)+E11-F11+(G11*10)+(H11*30)+(I11*999.99)+(J11*999.99)),999.99)","v":0},{"$f":"IF('Shooter Information'!$E$3-('Shooter Information'!$G$3-RANK(K11,K$4:K$78,1))<0,0,'Shooter Information'!$E$3-('Shooter Information'!$G$3-RANK(K11,K$4:K$78,1)))","v":0},{"$f":"(IF('Shooter Information'!H13=1,\"MDQ\",IF(J11=1,\"SDQ\",IF(I11=1,\"DNF\",SUM(D11+G11+H11+I11+J11)))))","v":0},null,0]
[9,{"$f":"'Shooter Information'!B14","v":"Tumble Weed Tink"},{"$f":"'Shooter Information'!C14","v":"L49"},null,null,null,null,null,null,null,{"$f":"MIN(IF('Shooter Information'!H14=1,999.99,(D12*5)+E12-F12+(G12*10)+(H12*30)+(I12*999.99)+(J12*999.99)),999.99)","v":0},{"$f":"IF('Shooter Information'!$E$3-('Shooter Information'!$G$3-RANK(K12,K$4:K$78,1))<0,0,'Shooter Information'!$E$3-('Shooter Information'!$G$3-RANK(K12,K$4:K$78,1)))","v":0},{"$f":"(IF('Shooter Information'!H14=1,\"MDQ\",IF(J12=1,\"SDQ\",IF(I12=1,\"DNF\",SUM(D12+G12+H12+I12+J12)))))","v":0},null,0]
[10,{"$f":"'Shooter Information'!B15","v":"One Eyed Jane"},{"$f":"'Shooter Information'!C15","v":"LSS"},null,null,null,null,null,null,null,{"$f":"MIN(IF('Shooter Information'!H15=1,999.99,(D13*5)+E13-F13+(G13*10)+(H13*30)+(I13*999.99)+(J13*999.99)),999.99)","v":0},{"$f":"IF('Shooter Information'!$E$3-('Shooter Information'!$G$3-RANK(K13,K$4:K$78,1))<0,0,'Shooter Information'!$E$3-('Shooter Information'!$G$3-RANK(K13,K$4:K$78,1)))","v":0},{"$f":"(IF('Shooter Information'!H15=1,\"MDQ\",IF(J13=1,\"SDQ\",IF(I13=1,\"DNF\",SUM(D13+G13+H13+I13+J13)))))","v":0},null,0]
[11,{"$f":"'Shooter Information'!B16","v":"Stogie"},{"$f":"'Shooter Information'!C16","v":"49er"},null,null,null,null,null,null,null,{"$f":"MIN(IF('Shooter Information'!H16=1,999.99,(D14*5)+E14-F14+(G14*10)+(H14*30)+(I14*999.99)+(J14*999.99)),999.99)","v":0},{"$f":"IF('Shooter Information'!$E$3-('Shooter Information'!$G$3-RANK(K14,K$4:K$78,1))<0,0,'Shooter Information'!$E$3-('Shooter Information'!$G$3-RANK(K14,K$4:K$78,1)))","v":0},{"$f":"(IF('Shooter Information'!H16=1,\"MDQ\",IF(J14=1,\"SDQ\",IF(I14=1,\"DNF\",SUM(D14+G14+H14+I14+J14)))))","v":0},null,0]
[12,{"$f":"'Shooter Information'!B17","v":"Major BS Walker"},{"$f":"'Shooter Information'!C17","v":"WW"},null,null,null,null,null,null,null,{"$f":"MIN(IF('Shooter Information'!H17=1,999.99,(D15*5)+E15-F15+(G15*10)+(H15*30)+(I15*999.99)+(J15*999.99)),999.99)","v":0},{"$f":"IF('Shooter Information'!$E$3-('Shooter Information'!$G$3-RANK(K15,K$4:K$78,1))<0,0,'Shooter Information'!$E$3-('Shooter Information'!$G$3-RANK(K15,K$4:K$78,1)))","v":0},{"$f":"(IF('Shooter Information'!H17=1,\"MDQ\",IF(J15=1,\"SDQ\",IF(I15=1,\"DNF\",SUM(D15+G15+H15+I15+J15)))))","v":0},null,0]
[13,{"$f":"'Shooter Information'!B18","v":"Sassy Shooting Sours"},{"$f":"'Shooter Information'!C18","v":"S"},null,null,null,null,null,null,null,{"$f":"MIN(IF('Shooter Information'!H18=1,999.99,(D16*5)+E16-F16+(G16*10)+(H16*30)+(I16*999.99)+(J16*999.99)),999.99)","v":0},{"$f":"IF('Shooter Information'!$E$3-('Shooter Information'!$G$3-RANK(K16,K$4:K$78,1))<0,0,'Shooter Information'!$E$3-('Shooter Information'!$G$3-RANK(K16,K$4:K$78,1)))","v":0},{"$f":"(IF('Shooter Information'!H18=1,\"MDQ\",IF(J16=1,\"SDQ\",IF(I16=1,\"DNF\",SUM(D16+G16+H16+I16+J16)))))","v":0},null,0]
[14,{"$f":"'Shooter Information'!B19","v":"Lefty Spurmaker"},{"$f":"'Shooter Information'!C19","v":"S"},null,null,null,null,null,null,null,{"$f":"MIN(IF('Shooter Information'!H19=1,999.99,(D17*5)+E17-F17+(G17*10)+(H17*30)+(I17*999.99)+(J17*999.99)),999.99)","v":0},{"$f":"IF('Shooter Information'!$E$3-('Shooter Information'!$G$3-RANK(K17,K$4:K$78,1))<0,0,'Shooter Information'!$E$3-('Shooter Information'!$G$3-RANK(K17,K$4:K$78,1)))","v":0},{"$f":"(IF('Shooter Information'!H19=1,\"MDQ\",IF(J17=1,\"SDQ\",IF(I17=1,\"DNF\",SUM(D17+G17+H17+I17+J17)))))","v":0},null,0]
[15,{"$f":"'Shooter Information'!B20","v":"Windhorse Rider"},{"$f":"'Shooter Information'!C20","v":"GF"},null,null,null,null,null,null,null,{"$f":"MIN(IF('Shooter Information'!H20=1,999.99,(D18*5)+E18-F18+(G18*10)+(H18*30)+(I18*999.99)+(J18*999.99)),999.99)","v":0},{"$f":"IF('Shooter Information'!$E$3-('Shooter Information'!$G$3-RANK(K18,K$4:K$78,1))<0,0,'Shooter Information'!$E$3-('Shooter Information'!$G$3-RANK(K18,K$4:K$78,1)))","v":0},{"$f":"(IF('Shooter Information'!H20=1,\"MDQ\",IF(J18=1,\"SDQ\",IF(I18=1,\"DNF\",SUM(D18+G18+H18+I18+J18)))))","v":0},null,0]
[16,{"$f":"'Shooter Information'!B21","v":"Red Cavanaugh"},{"$f":"'Shooter Information'!C21","v":"49er"},null,null,null,null,null,null,null,{"$f":"MIN(IF('Shooter Information'!H21=1,999.99,(D19*5)+E19-F19+(G19*10)+(H19*30)+(I19*999.99)+(J19*999.99)),999.99)","v":0},{"$f":"IF('Shooter Information'!$E$3-('Shooter Information'!$G$3-RANK(K19,K$4:K$78,1))<0,0,'Shooter Information'!$E$3-('Shooter Information'!$G$3-RANK(K19,K$4:K$78,1)))","v":0},{"$f":"(IF('Shooter Information'!H21=1,\"MDQ\",IF(J19=1,\"SDQ\",IF(I19=1,\"DNF\",SUM(D19+G19+H19+I19+J19)))))","v":0},null,0]
[17,{"$f":"'Shooter Information'!B22","v":0},{"$f":"'Shooter Information'!C22","v":0},null,null,null,null,null,null,null,{"$f":"MIN(IF('Shooter Information'!H22=1,999.99,(D20*5)+E20-F20+(G20*10)+(H20*30)+(I20*999.99)+(J20*999.99)),999.99)","v":0},{"$f":"IF('Shooter Information'!$E$3-('Shooter Information'!$G$3-RANK(K20,K$4:K$78,1))<0,0,'Shooter Information'!$E$3-('Shooter Information'!$G$3-RANK(K20,K$4:K$78,1)))","v":0},{"$f":"(IF('Shooter Information'!H22=1,\"MDQ\",IF(J20=1,\"SDQ\",IF(I20=1,\"DNF\",SUM(D20+G20+H20+I20+J20)))))","v":0},null,0]
[18,{"$f":"'Shooter Information'!B23","v":0},{"$f":"'Shooter Information'!C23","v":0},null,null,null,null,null,null,null,{"$f":"MIN(IF('Shooter Information'!H23=1,999.99,(D21*5)+E21-F21+(G21*10)+(H21*30)+(I21*999.99)+(J21*999.99)),999.99)","v":0},{"$f":"IF('Shooter Information'!$E$3-('Shooter Information'!$G$3-RANK(K21,K$4:K$78,1))<0,0,'Shooter Information'!$E$3-('Shooter Information'!$G$3-RANK(K21,K$4:K$78,1)))","v":0},{"$f":"(IF('Shooter Information'!H23=1,\"MDQ\",IF(J21=1,\"SDQ\",IF(I21=1,\"DNF\",SUM(D21+G21+H21+I21+J21)))))","v":0},null,0]
[19,{"$f":"'Shooter Information'!B24","v":0},{"$f":"'Shooter Information'!C24","v":0},null,null,null,null,null,null,null,{"$f":"MIN(IF('Shooter Information'!H24=1,999.99,(D22*5)+E22-F22+(G22*10)+(H22*30)+(I22*999.99)+(J22*999.99)),999.99)","v":0},{"$f":"IF('Shooter Information'!$E$3-('Shooter Information'!$G$3-RANK(K22,K$4:K$78,1))<0,0,'Shooter Information'!$E$3-('Shooter Information'!$G$3-RANK(K22,K$4:K$78,1)))","v":0},{"$f":"(IF('Shooter Information'!H24=1,\"MDQ\",IF(J22=1,\"SDQ\",IF(I22=1,\"DNF\",SUM(D22+G22+H22+I22+J22)))))","v":0},null,0]
[20,{"$f":"'Shooter Information'!B25","v":0},{"$f":"'Shooter Information'!C25","v":0},null,null,null,null,null,null,null,{"$f":"MIN(IF('Shooter Information'!H25=1,999.99,(D23*5)+E23-F23+(G23*10)+(H23*30)+(I23*999.99)+(J23*999.99)),999.99)","v":0},{"$f":"IF('Shooter Information'!$E$3-('Shooter Information'!$G$3-RANK(K23,K$4:K$78,1))<0,0,'Shooter Information'!$E$3-('Shooter Information'!$G$3-RANK(K23,K$4:K$78,1)))","v":0},{"$f":"(IF('Shooter Information'!H25=1,\"MDQ\",IF(J23=1,\"SDQ\",IF(I23=1,\"DNF\",SUM(D23+G23+H23+I23+J23)))))","v":0},null,0]
[21,{"$f":"'Shooter Information'!B26","v":0},{"$f":"'Shooter Information'!C26","v":0},null,null,null,null,null,null,null,{"$f":"MIN(IF('Shooter Information'!H26=1,999.99,(D24*5)+E24-F24+(G24*10)+(H24*30)+(I24*999.99)+(J24*999.99)),999.99)","v":0},{"$f":"IF('Shooter Information'!$E$3-('Shooter Information'!$G$3-RANK(K24,K$4:K$78,1))<0,0,'Shooter Information'!$E$3-('Shooter Information'!$G$3-RANK(K24,K$4:K$78,1)))","v":0},{"$f":"(IF('Shooter Information'!H26=1,\"MDQ\",IF(J24=1,\"SDQ\",IF(I24=1,\"DNF\",SUM(D24+G24+H24+I24+J24)))))","v":0},null,0]
[22,{"$f":"'Shooter Information'!B27","v":0},{"$f":"'Shooter Information'!C27","v":0},null,null,null,null,null,null,null,{"$f":"MIN(IF('Shooter Information'!H27=1,999.99,(D25*5)+E25-F25+(G25*10)+(H25*30)+(I25*999.99)+(J25*999.99)),999.99)","v":0},{"$f":"IF('Shooter Information'!$E$3-('Shooter Information'!$G$3-RANK(K25,K$4:K$78,1))<0,0,'Shooter Information'!$E$3-('Shooter Information'!$G$3-RANK(K25,K$4:K$78,1)))","v":0},{"$f":"(IF('Shooter Information'!H27=1,\"MDQ\",IF(J25=1,\"SDQ\",IF(I25=1,\"DNF\",SUM(D25+G25+H25+I25+J25)))))","v":0},null,0]
[23,{"$f":"'Shooter Information'!B28","v":0},{"$f":"'Shooter Information'!C28","v":0},null,null,null,null,null,null,null,{"$f":"MIN(IF('Shooter Information'!H28=1,999.99,(D26*5)+E26-F26+(G26*10)+(H26*30)+(I26*999.99)+(J26*999.99)),999.99)","v":0},{"$f":"IF('Shooter Information'!$E$3-('Shooter Information'!$G$3-RANK(K26,K$4:K$78,1))<0,0,'Shooter Information'!$E$3-('Shooter Information'!$G$3-RANK(K26,K$4:K$78,1)))","v":0},{"$f":"(IF('Shooter Information'!H28=1,\"MDQ\",IF(J26=1,\"SDQ\",IF(I26=1,\"DNF\",SUM(D26+G26+H26+I26+J26)))))","v":0},null,0]
[24,{"$f":"'Shooter Information'!B29","v":0},{"$f":"'Shooter Information'!C29","v":0},null,null,null,null,null,null,null,{"$f":"MIN(IF('Shooter Information'!H29=1,999.99,(D27*5)+E27-F27+(G27*10)+(H27*30)+(I27*999.99)+(J27*999.99)),999.99)","v":0},{"$f":"IF('Shooter Information'!$E$3-('Shooter Information'!$G$3-RANK(K27,K$4:K$78,1))<0,0,'Shooter Information'!$E$3-('Shooter Information'!$G$3-RANK(K27,K$4:K$78,1)))","v":0},{"$f":"(IF('Shooter Information'!H29=1,\"MDQ\",IF(J27=1,\"SDQ\",IF(I27=1,\"DNF\",SUM(D27+G27+H27+I27+J27)))))","v":0},null,0]
[25,{"$f":"'Shooter Information'!B30","v":0},{"$f":"'Shooter Information'!C30","v":0},null,null,null,null,null,null,null,{"$f":"MIN(IF('Shooter Information'!H30=1,999.99,(D28*5)+E28-F28+(G28*10)+(H28*30)+(I28*999.99)+(J28*999.99)),999.99)","v":0},{"$f":"IF('Shooter Information'!$E$3-('Shooter Information'!$G$3-RANK(K28,K$4:K$78,1))<0,0,'Shooter Information'!$E$3-('Shooter Information'!$G$3-RANK(K28,K$4:K$78,1)))","v":0},{"$f":"(IF('Shooter Information'!H30=1,\"MDQ\",IF(J28=1,\"SDQ\",IF(I28=1,\"DNF\",SUM(D28+G28+H28+I28+J28)))))","v":0},null,0]
[26,{"$f":"'Shooter Information'!B31","v":0},{"$f":"'Shooter Information'!C31","v":0},null,null,null,null,null,null,null,{"$f":"MIN(IF('Shooter Information'!H31=1,999.99,(D29*5)+E29-F29+(G29*10)+(H29*30)+(I29*999.99)+(J29*999.99)),999.99)","v":0},{"$f":"IF('Shooter Information'!$E$3-('Shooter Information'!$G$3-RANK(K29,K$4:K$78,1))<0,0,'Shooter Information'!$E$3-('Shooter Information'!$G$3-RANK(K29,K$4:K$78,1)))","v":0},{"$f":"(IF('Shooter Information'!H31=1,\"MDQ\",IF(J29=1,\"SDQ\",IF(I29=1,\"DNF\",SUM(D29+G29+H29+I29+J29)))))","v":0},null,0]
[27,{"$f":"'Shooter Information'!B32","v":0},{"$f":"'Shooter Information'!C32","v":0},null,null,null,null,null,null,null,{"$f":"MIN(IF('Shooter Information'!H32=1,999.99,(D30*5)+E30-F30+(G30*10)+(H30*30)+(I30*999.99)+(J30*999.99)),999.99)","v":0},{"$f":"IF('Shooter Information'!$E$3-('Shooter Information'!$G$3-RANK(K30,K$4:K$78,1))<0,0,'Shooter Information'!$E$3-('Shooter Information'!$G$3-RANK(K30,K$4:K$78,1)))","v":0},{"$f":"(IF('Shooter Information'!H32=1,\"MDQ\",IF(J30=1,\"SDQ\",IF(I30=1,\"DNF\",SUM(D30+G30+H30+I30+J30)))))","v":0},null,0]
[28,{"$f":"'Shooter Information'!B33","v":0},{"$f":"'Shooter Information'!C33","v":0},null,null,null,null,null,null,null,{"$f":"MIN(IF('Shooter Information'!H33=1,999.99,(D31*5)+E31-F31+(G31*10)+(H31*30)+(I31*999.99)+(J31*999.99)),999.99)","v":0},{"$f":"IF('Shooter Information'!$E$3-('Shooter Information'!$G$3-RANK(K31,K$4:K$78,1))<0,0,'Shooter Information'!$E$3-('Shooter Information'!$G$3-RANK(K31,K$4:K$78,1)))","v":0},{"$f":"(IF('Shooter Information'!H33=1,\"MDQ\",IF(J31=1,\"SDQ\",IF(I31=1,\"DNF\",SUM(D31+G31+H31+I31+J31)))))","v":0},null,0]
[29,{"$f":"'Shooter Information'!B34","v":0},{"$f":"'Shooter Information'!C34","v":0},null,null,null,null,null,null,null,{"$f":"MIN(IF('Shooter Information'!H34=1,999.99,(D32*5)+E32-F32+(G32*10)+(H32*30)+(I32*999.99)+(J32*999.99)),999.99)","v":0},{"$f":"IF('Shooter Information'!$E$3-('Shooter Information'!$G$3-RANK(K32,K$4:K$78,1))<0,0,'Shooter Information'!$E$3-('Shooter Information'!$G$3-RANK(K32,K$4:K$78,1)))","v":0},{"$f":"(IF('Shooter Information'!H34=1,\"MDQ\",IF(J32=1,\"SDQ\",IF(I32=1,\"DNF\",SUM(D32+G32+H32+I32+J32)))))","v":0},null,0]
[30,{"$f":"'Shooter Information'!B35","v":0},{"$f":"'Shooter Information'!C35","v":0},null,null,null,null,null,null,null,{"$f":"MIN(IF('Shooter Information'!H35=1,999.99,(D33*5)+E33-F33+(G33*10)+(H33*30)+(I33*999.99)+(J33*999.99)),999.99)","v":0},{"$f":"IF('Shooter Information'!$E$3-('Shooter Information'!$G$3-RANK(K33,K$4:K$78,1))<0,0,'Shooter Information'!$E$3-('Shooter Information'!$G$3-RANK(K33,K$4:K$78,1)))","v":0},{"$f":"(IF('Shooter Information'!H35=1,\"MDQ\",IF(J33=1,\"SDQ\",IF(I33=1,\"DNF\",SUM(D33+G33+H33+I33+J33)))))","v":0},null,0]
[31,{"$f":"'Shooter Information'!B36","v":0},{"$f":"'Shooter Information'!C36","v":0},null,null,null,null,null,null,null,{"$f":"MIN(IF('Shooter Information'!H36=1,999.99,(D34*5)+E34-F34+(G34*10)+(H34*30)+(I34*999.99)+(J34*999.99)),999.99)","v":0},{"$f":"IF('Shooter Information'!$E$3-('Shooter Information'!$G$3-RANK(K34,K$4:K$78,1))<0,0,'Shooter Information'!$E$3-('Shooter Information'!$G$3-RANK(K34,K$4:K$78,1)))","v":0},{"$f":"(IF('Shooter Information'!H36=1,\"MDQ\",IF(J34=1,\"SDQ\",IF(I34=1,\"DNF\",SUM(D34+G34+H34+I34+J34)))))","v":0},null,0]
[32,{"$f":"'Shooter Information'!B37","v":0},{"$f":"'Shooter Information'!C37","v":0},null,null,null,null,null,null,null,{"$f":"MIN(IF('Shooter Information'!H37=1,999.99,(D35*5)+E35-F35+(G35*10)+(H35*30)+(I35*999.99)+(J35*999.99)),999.99)","v":0},{"$f":"IF('Shooter Information'!$E$3-('Shooter Information'!$G$3-RANK(K35,K$4:K$78,1))<0,0,'Shooter Information'!$E$3-('Shooter Information'!$G$3-RANK(K35,K$4:K$78,1)))","v":0},{"$f":"(IF('Shooter Information'!H37=1,\"MDQ\",IF(J35=1,\"SDQ\",IF(I35=1,\"DNF\",SUM(D35+G35+H35+I35+J35)))))","v":0},null,0]
[33,{"$f":"'Shooter Information'!B38","v":0},{"$f":"'Shooter Information'!C38","v":0},null,null,null,null,null,null,null,{"$f":"MIN(IF('Shooter Information'!H38=1,999.99,(D36*5)+E36-F36+(G36*10)+(H36*30)+(I36*999.99)+(J36*999.99)),999.99)","v":0},{"$f":"IF('Shooter Information'!$E$3-('Shooter Information'!$G$3-RANK(K36,K$4:K$78,1))<0,0,'Shooter Information'!$E$3-('Shooter Information'!$G$3-RANK(K36,K$4:K$78,1)))","v":0},{"$f":"(IF('Shooter Information'!H38=1,\"MDQ\",IF(J36=1,\"SDQ\",IF(I36=1,\"DNF\",SUM(D36+G36+H36+I36+J36)))))","v":0},null,0]
[34,{"$f":"'Shooter Information'!B39","v":0},{"$f":"'Shooter Information'!C39","v":0},null,null,null,null,null,null,null,{"$f":"MIN(IF('Shooter Information'!H39=1,999.99,(D37*5)+E37-F37+(G37*10)+(H37*30)+(I37*999.99)+(J37*999.99)),999.99)","v":0},{"$f":"IF('Shooter Information'!$E$3-('Shooter Information'!$G$3-RANK(K37,K$4:K$78,1))<0,0,'Shooter Information'!$E$3-('Shooter Information'!$G$3-RANK(K37,K$4:K$78,1)))","v":0},{"$f":"(IF('Shooter Information'!H39=1,\"MDQ\",IF(J37=1,\"SDQ\",IF(I37=1,\"DNF\",SUM(D37+G37+H37+I37+J37)))))","v":0},null,0]
[35,{"$f":"'Shooter Information'!B40","v":0},{"$f":"'Shooter Information'!C40","v":0},null,null,null,null,null,null,null,{"$f":"MIN(IF('Shooter Information'!H40=1,999.99,(D38*5)+E38-F38+(G38*10)+(H38*30)+(I38*999.99)+(J38*999.99)),999.99)","v":0},{"$f":"IF('Shooter Information'!$E$3-('Shooter Information'!$G$3-RANK(K38,K$4:K$78,1))<0,0,'Shooter Information'!$E$3-('Shooter Information'!$G$3-RANK(K38,K$4:K$78,1)))","v":0},{"$f":"(IF('Shooter Information'!H40=1,\"MDQ\",IF(J38=1,\"SDQ\",IF(I38=1,\"DNF\",SUM(D38+G38+H38+I38+J38)))))","v":0},null,0]
[36,{"$f":"'Shooter Information'!B41","v":0},{"$f":"'Shooter Information'!C41","v":0},null,null,null,null,null,null,null,{"$f":"MIN(IF('Shooter Information'!H41=1,999.99,(D39*5)+E39-F39+(G39*10)+(H39*30)+(I39*999.99)+(J39*999.99)),999.99)","v":0},{"$f":"IF('Shooter Information'!$E$3-('Shooter Information'!$G$3-RANK(K39,K$4:K$78,1))<0,0,'Shooter Information'!$E$3-('Shooter Information'!$G$3-RANK(K39,K$4:K$78,1)))","v":0},{"$f":"(IF('Shooter Information'!H41=1,\"MDQ\",IF(J39=1,\"SDQ\",IF(I39=1,\"DNF\",SUM(D39+G39+H39+I39+J39)))))","v":0},null,0]
[37,{"$f":"'Shooter Information'!B42","v":0},{"$f":"'Shooter Information'!C42","v":0},null,null,null,null,null,null,null,{"$f":"MIN(IF('Shooter Information'!H42=1,999.99,(D40*5)+E40-F40+(G40*10)+(H40*30)+(I40*999.99)+(J40*999.99)),999.99)","v":0},{"$f":"IF('Shooter Information'!$E$3-('Shooter Information'!$G$3-RANK(K40,K$4:K$78,1))<0,0,'Shooter Information'!$E$3-('Shooter Information'!$G$3-RANK(K40,K$4:K$78,1)))","v":0},{"$f":"(IF('Shooter Information'!H42=1,\"MDQ\",IF(J40=1,\"SDQ\",IF(I40=1,\"DNF\",SUM(D40+G40+H40+I40+J40)))))","v":0},null,0]
[38,{"$f":"'Shooter Information'!B43","v":0},{"$f":"'Shooter Information'!C43","v":0},null,null,null,null,null,null,null,{"$f":"MIN(IF('Shooter Information'!H43=1,999.99,(D41*5)+E41-F41+(G41*10)+(H41*30)+(I41*999.99)+(J41*999.99)),999.99)","v":0},{"$f":"IF('Shooter Information'!$E$3-('Shooter Information'!$G$3-RANK(K41,K$4:K$78,1))<0,0,'Shooter Information'!$E$3-('Shooter Information'!$G$3-RANK(K41,K$4:K$78,1)))","v":0},{"$f":"(IF('Shooter Information'!H43=1,\"MDQ\",IF(J41=1,\"SDQ\",IF(I41=1,\"DNF\",SUM(D41+G41+H41+I41+J41)))))","v":0},null,0]
[39,{"$f":"'Shooter Information'!B44","v":0},{"$f":"'Shooter Information'!C44","v":0},null,null,null,null,null,null,null,{"$f":"MIN(IF('Shooter Information'!H44=1,999.99,(D42*5)+E42-F42+(G42*10)+(H42*30)+(I42*999.99)+(J42*999.99)),999.99)","v":0},{"$f":"IF('Shooter Information'!$E$3-('Shooter Information'!$G$3-RANK(K42,K$4:K$78,1))<0,0,'Shooter Information'!$E$3-('Shooter Information'!$G$3-RANK(K42,K$4:K$78,1)))","v":0},{"$f":"(IF('Shooter Information'!H44=1,\"MDQ\",IF(J42=1,\"SDQ\",IF(I42=1,\"DNF\",SUM(D42+G42+H42+I42+J42)))))","v":0},null,0]
[40,{"$f":"'Shooter Information'!B45","v":0},{"$f":"'Shooter Information'!C45","v":0},null,null,null,null,null,null,null,{"$f":"MIN(IF('Shooter Information'!H45=1,999.99,(D43*5)+E43-F43+(G43*10)+(H43*30)+(I43*999.99)+(J43*999.99)),999.99)","v":0},{"$f":"IF('Shooter Information'!$E$3-('Shooter Information'!$G$3-RANK(K43,K$4:K$78,1))<0,0,'Shooter Information'!$E$3-('Shooter Information'!$G$3-RANK(K43,K$4:K$78,1)))","v":0},{"$f":"(IF('Shooter Information'!H45=1,\"MDQ\",IF(J43=1,\"SDQ\",IF(I43=1,\"DNF\",SUM(D43+G43+H43+I43+J43)))))","v":0},null,0]
[41,{"$f":"'Shooter Information'!B46","v":0},{"$f":"'Shooter Information'!C46","v":0},null,null,null,null,null,null,null,{"$f":"MIN(IF('Shooter Information'!H46=1,999.99,(D44*5)+E44-F44+(G44*10)+(H44*30)+(I44*999.99)+(J44*999.99)),999.99)","v":0},{"$f":"IF('Shooter Information'!$E$3-('Shooter Information'!$G$3-RANK(K44,K$4:K$78,1))<0,0,'Shooter Information'!$E$3-('Shooter Information'!$G$3-RANK(K44,K$4:K$78,1)))","v":0},{"$f":"(IF('Shooter Information'!H46=1,\"MDQ\",IF(J44=1,\"SDQ\",IF(I44=1,\"DNF\",SUM(D44+G44+H44+I44+J44)))))","v":0},null,0]
[42,{"$f":"'Shooter Information'!B47","v":0},{"$f":"'Shooter Information'!C47","v":0},null,null,null,null,null,null,null,{"$f":"MIN(IF('Shooter Information'!H47=1,999.99,(D45*5)+E45-F45+(G45*10)+(H45*30)+(I45*999.99)+(J45*999.99)),999.99)","v":0},{"$f":"IF('Shooter Information'!$E$3-('Shooter Information'!$G$3-RANK(K45,K$4:K$78,1))<0,0,'Shooter Information'!$E$3-('Shooter Information'!$G$3-RANK(K45,K$4:K$78,1)))","v":0},{"$f":"(IF('Shooter Information'!H47=1,\"MDQ\",IF(J45=1,\"SDQ\",IF(I45=1,\"DNF\",SUM(D45+G45+H45+I45+J45)))))","v":0},null,0]
[43,{"$f":"'Shooter Information'!B48","v":0},{"$f":"'Shooter Information'!C48","v":0},null,null,null,null,null,null,null,{"$f":"MIN(IF('Shooter Information'!H48=1,999.99,(D46*5)+E46-F46+(G46*10)+(H46*30)+(I46*999.99)+(J46*999.99)),999.99)","v":0},{"$f":"IF('Shooter Information'!$E$3-('Shooter Information'!$G$3-RANK(K46,K$4:K$78,1))<0,0,'Shooter Information'!$E$3-('Shooter Information'!$G$3-RANK(K46,K$4:K$78,1)))","v":0},{"$f":"(IF('Shooter Information'!H48=1,\"MDQ\",IF(J46=1,\"SDQ\",IF(I46=1,\"DNF\",SUM(D46+G46+H46+I46+J46)))))","v":0},null,0]
[44,{"$f":"'Shooter Information'!B49","v":0},{"$f":"'Shooter Information'!C49","v":0},null,null,null,null,null,null,null,{"$f":"MIN(IF('Shooter Information'!H49=1,999.99,(D47*5)+E47-F47+(G47*10)+(H47*30)+(I47*999.99)+(J47*999.99)),999.99)","v":0},{"$f":"IF('Shooter Information'!$E$3-('Shooter Information'!$G$3-RANK(K47,K$4:K$78,1))<0,0,'Shooter Information'!$E$3-('Shooter Information'!$G$3-RANK(K47,K$4:K$78,1)))","v":0},{"$f":"(IF('Shooter Information'!H49=1,\"MDQ\",IF(J47=1,\"SDQ\",IF(I47=1,\"DNF\",SUM(D47+G47+H47+I47+J47)))))","v":0},null,0]
[45,{"$f":"'Shooter Information'!B50","v":0},{"$f":"'Shooter Information'!C50","v":0},null,null,null,null,null,null,null,{"$f":"MIN(IF('Shooter Information'!H50=1,999.99,(D48*5)+E48-F48+(G48*10)+(H48*30)+(I48*999.99)+(J48*999.99)),999.99)","v":0},{"$f":"IF('Shooter Information'!$E$3-('Shooter Information'!$G$3-RANK(K48,K$4:K$78,1))<0,0,'Shooter Information'!$E$3-('Shooter Information'!$G$3-RANK(K48,K$4:K$78,1)))","v":0},{"$f":"(IF('Shooter Information'!H50=1,\"MDQ\",IF(J48=1,\"SDQ\",IF(I48=1,\"DNF\",SUM(D48+G48+H48+I48+J48)))))","v":0},null,0]
[46,{"$f":"'Shooter Information'!B51","v":0},{"$f":"'Shooter Information'!C51","v":0},null,null,null,null,null,null,null,{"$f":"MIN(IF('Shooter Information'!H51=1,999.99,(D49*5)+E49-F49+(G49*10)+(H49*30)+(I49*999.99)+(J49*999.99)),999.99)","v":0},{"$f":"IF('Shooter Information'!$E$3-('Shooter Information'!$G$3-RANK(K49,K$4:K$78,1))<0,0,'Shooter Information'!$E$3-('Shooter Information'!$G$3-RANK(K49,K$4:K$78,1)))","v":0},{"$f":"(IF('Shooter Information'!H51=1,\"MDQ\",IF(J49=1,\"SDQ\",IF(I49=1,\"DNF\",SUM(D49+G49+H49+I49+J49)))))","v":0},null,0]
[47,{"$f":"'Shooter Information'!B52","v":0},{"$f":"'Shooter Information'!C52","v":0},null,null,null,null,null,null,null,{"$f":"MIN(IF('Shooter Information'!H52=1,999.99,(D50*5)+E50-F50+(G50*10)+(H50*30)+(I50*999.99)+(J50*999.99)),999.99)","v":0},{"$f":"IF('Shooter Information'!$E$3-('Shooter Information'!$G$3-RANK(K50,K$4:K$78,1))<0,0,'Shooter Information'!$E$3-('Shooter Information'!$G$3-RANK(K50,K$4:K$78,1)))","v":0},{"$f":"(IF('Shooter Information'!H52=1,\"MDQ\",IF(J50=1,\"SDQ\",IF(I50=1,\"DNF\",SUM(D50+G50+H50+I50+J50)))))","v":0},null,0]
[48,{"$f":"'Shooter Information'!B53","v":0},{"$f":"'Shooter Information'!C53","v":0},null,null,null,null,null,null,null,{"$f":"MIN(IF('Shooter Information'!H53=1,999.99,(D51*5)+E51-F51+(G51*10)+(H51*30)+(I51*999.99)+(J51*999.99)),999.99)","v":0},{"$f":"IF('Shooter Information'!$E$3-('Shooter Information'!$G$3-RANK(K51,K$4:K$78,1))<0,0,'Shooter Information'!$E$3-('Shooter Information'!$G$3-RANK(K51,K$4:K$78,1)))","v":0},{"$f":"(IF('Shooter Information'!H53=1,\"MDQ\",IF(J51=1,\"SDQ\",IF(I51=1,\"DNF\",SUM(D51+G51+H51+I51+J51)))))","v":0},null,0]
[49,{"$f":"'Shooter Information'!B54","v":0},{"$f":"'Shooter Information'!C54","v":0},null,null,null,null,null,null,null,{"$f":"MIN(IF('Shooter Information'!H54=1,999.99,(D52*5)+E52-F52+(G52*10)+(H52*30)+(I52*999.99)+(J52*999.99)),999.99)","v":0},{"$f":"IF('Shooter Information'!$E$3-('Shooter Information'!$G$3-RANK(K52,K$4:K$78,1))<0,0,'Shooter Information'!$E$3-('Shooter Information'!$G$3-RANK(K52,K$4:K$78,1)))","v":0},{"$f":"(IF('Shooter Information'!H54=1,\"MDQ\",IF(J52=1,\"SDQ\",IF(I52=1,\"DNF\",SUM(D52+G52+H52+I52+J52)))))","v":0},null,0]
[50,{"$f":"'Shooter Information'!B55","v":0},{"$f":"'Shooter Information'!C55","v":0},null,null,null,null,null,null,null,{"$f":"MIN(IF('Shooter Information'!H55=1,999.99,(D53*5)+E53-F53+(G53*10)+(H53*30)+(I53*999.99)+(J53*999.99)),999.99)","v":0},{"$f":"IF('Shooter Information'!$E$3-('Shooter Information'!$G$3-RANK(K53,K$4:K$78,1))<0,0,'Shooter Information'!$E$3-('Shooter Information'!$G$3-RANK(K53,K$4:K$78,1)))","v":0},{"$f":"(IF('Shooter Information'!H55=1,\"MDQ\",IF(J53=1,\"SDQ\",IF(I53=1,\"DNF\",SUM(D53+G53+H53+I53+J53)))))","v":0},null,0]
[51,{"$f":"'Shooter Information'!B56","v":0},{"$f":"'Shooter Information'!C56","v":0},null,null,null,null,null,null,null,{"$f":"MIN(IF('Shooter Information'!H56=1,999.99,(D54*5)+E54-F54+(G54*10)+(H54*30)+(I54*999.99)+(J54*999.99)),999.99)","v":0},{"$f":"IF('Shooter Information'!$E$3-('Shooter Information'!$G$3-RANK(K54,K$4:K$78,1))<0,0,'Shooter Information'!$E$3-('Shooter Information'!$G$3-RANK(K54,K$4:K$78,1)))","v":0},{"$f":"(IF('Shooter Information'!H56=1,\"MDQ\",IF(J54=1,\"SDQ\",IF(I54=1,\"DNF\",SUM(D54+G54+H54+I54+J54)))))","v":0},null,0]
[52,{"$f":"'Shooter Information'!B57","v":0},{"$f":"'Shooter Information'!C57","v":0},null,null,null,null,null,null,null,{"$f":"MIN(IF('Shooter Information'!H57=1,999.99,(D55*5)+E55-F55+(G55*10)+(H55*30)+(I55*999.99)+(J55*999.99)),999.99)","v":0},{"$f":"IF('Shooter Information'!$E$3-('Shooter Information'!$G$3-RANK(K55,K$4:K$78,1))<0,0,'Shooter Information'!$E$3-('Shooter Information'!$G$3-RANK(K55,K$4:K$78,1)))","v":0},{"$f":"(IF('Shooter Information'!H57=1,\"MDQ\",IF(J55=1,\"SDQ\",IF(I55=1,\"DNF\",SUM(D55+G55+H55+I55+J55)))))","v":0},null,0]
[53,{"$f":"'Shooter Information'!B58","v":0},{"$f":"'Shooter Information'!C58","v":0},null,null,null,null,null,null,null,{"$f":"MIN(IF('Shooter Information'!H58=1,999.99,(D56*5)+E56-F56+(G56*10)+(H56*30)+(I56*999.99)+(J56*999.99)),999.99)","v":0},{"$f":"IF('Shooter Information'!$E$3-('Shooter Information'!$G$3-RANK(K56,K$4:K$78,1))<0,0,'Shooter Information'!$E$3-('Shooter Information'!$G$3-RANK(K56,K$4:K$78,1)))","v":0},{"$f":"(IF('Shooter Information'!H58=1,\"MDQ\",IF(J56=1,\"SDQ\",IF(I56=1,\"DNF\",SUM(D56+G56+H56+I56+J56)))))","v":0},null,0]
[54,{"$f":"'Shooter Information'!B59","v":0},{"$f":"'Shooter Information'!C59","v":0},null,null,null,null,null,null,null,{"$f":"MIN(IF('Shooter Information'!H59=1,999.99,(D57*5)+E57-F57+(G57*10)+(H57*30)+(I57*999.99)+(J57*999.99)),999.99)","v":0},{"$f":"IF('Shooter Information'!$E$3-('Shooter Information'!$G$3-RANK(K57,K$4:K$78,1))<0,0,'Shooter Information'!$E$3-('Shooter Information'!$G$3-RANK(K57,K$4:K$78,1)))","v":0},{"$f":"(IF('Shooter Information'!H59=1,\"MDQ\",IF(J57=1,\"SDQ\",IF(I57=1,\"DNF\",SUM(D57+G57+H57+I57+J57)))))","v":0},null,0]
[55,{"$f":"'Shooter Information'!B60","v":0},{"$f":"'Shooter Information'!C60","v":0},null,null,null,null,null,null,null,{"$f":"MIN(IF('Shooter Information'!H60=1,999.99,(D58*5)+E58-F58+(G58*10)+(H58*30)+(I58*999.99)+(J58*999.99)),999.99)","v":0},{"$f":"IF('Shooter Information'!$E$3-('Shooter Information'!$G$3-RANK(K58,K$4:K$78,1))<0,0,'Shooter Information'!$E$3-('Shooter Information'!$G$3-RANK(K58,K$4:K$78,1)))","v":0},{"$f":"(IF('Shooter Information'!H60=1,\"MDQ\",IF(J58=1,\"SDQ\",IF(I58=1,\"DNF\",SUM(D58+G58+H58+I58+J58)))))","v":0},null,0]
[56,{"$f":"'Shooter Information'!B61","v":0},{"$f":"'Shooter Information'!C61","v":0},null,null,null,null,null,null,null,{"$f":"MIN(IF('Shooter Information'!H61=1,999.99,(D59*5)+E59-F59+(G59*10)+(H59*30)+(I59*999.99)+(J59*999.99)),999.99)","v":0},{"$f":"IF('Shooter Information'!$E$3-('Shooter Information'!$G$3-RANK(K59,K$4:K$78,1))<0,0,'Shooter Information'!$E$3-('Shooter Information'!$G$3-RANK(K59,K$4:K$78,1)))","v":0},{"$f":"(IF('Shooter Information'!H61=1,\"MDQ\",IF(J59=1,\"SDQ\",IF(I59=1,\"DNF\",SUM(D59+G59+H59+I59+J59)))))","v":0},null,0]
[57,{"$f":"'Shooter Information'!B62","v":0},{"$f":"'Shooter Information'!C62","v":0},null,null,null,null,null,null,null,{"$f":"MIN(IF('Shooter Information'!H62=1,999.99,(D60*5)+E60-F60+(G60*10)+(H60*30)+(I60*999.99)+(J60*999.99)),999.99)","v":0},{"$f":"IF('Shooter Information'!$E$3-('Shooter Information'!$G$3-RANK(K60,K$4:K$78,1))<0,0,'Shooter Information'!$E$3-('Shooter Information'!$G$3-RANK(K60,K$4:K$78,1)))","v":0},{"$f":"(IF('Shooter Information'!H62=1,\"MDQ\",IF(J60=1,\"SDQ\",IF(I60=1,\"DNF\",SUM(D60+G60+H60+I60+J60)))))","v":0},null,0]
[58,{"$f":"'Shooter Information'!B63","v":0},{"$f":"'Shooter Information'!C63","v":0},null,null,null,null,null,null,null,{"$f":"MIN(IF('Shooter Information'!H63=1,999.99,(D61*5)+E61-F61+(G61*10)+(H61*30)+(I61*999.99)+(J61*999.99)),999.99)","v":0},{"$f":"IF('Shooter Information'!$E$3-('Shooter Information'!$G$3-RANK(K61,K$4:K$78,1))<0,0,'Shooter Information'!$E$3-('Shooter Information'!$G$3-RANK(K61,K$4:K$78,1)))","v":0},{"$f":"(IF('Shooter Information'!H63=1,\"MDQ\",IF(J61=1,\"SDQ\",IF(I61=1,\"DNF\",SUM(D61+G61+H61+I61+J61)))))","v":0},null,0]
[59,{"$f":"'Shooter Information'!B64","v":0},{"$f":"'Shooter Information'!C64","v":0},null,null,null,null,null,null,null,{"$f":"MIN(IF('Shooter Information'!H64=1,999.99,(D62*5)+E62-F62+(G62*10)+(H62*30)+(I62*999.99)+(J62*999.99)),999.99)","v":0},{"$f":"IF('Shooter Information'!$E$3-('Shooter Information'!$G$3-RANK(K62,K$4:K$78,1))<0,0,'Shooter Information'!$E$3-('Shooter Information'!$G$3-RANK(K62,K$4:K$78,1)))","v":0},{"$f":"(IF('Shooter Information'!H64=1,\"MDQ\",IF(J62=1,\"SDQ\",IF(I62=1,\"DNF\",SUM(D62+G62+H62+I62+J62)))))","v":0},null,0]
[60,{"$f":"'Shooter Information'!B65","v":0},{"$f":"'Shooter Information'!C65","v":0},null,null,null,null,null,null,null,{"$f":"MIN(IF('Shooter Information'!H65=1,999.99,(D63*5)+E63-F63+(G63*10)+(H63*30)+(I63*999.99)+(J63*999.99)),999.99)","v":0},{"$f":"IF('Shooter Information'!$E$3-('Shooter Information'!$G$3-RANK(K63,K$4:K$78,1))<0,0,'Shooter Information'!$E$3-('Shooter Information'!$G$3-RANK(K63,K$4:K$78,1)))","v":0},{"$f":"(IF('Shooter Information'!H65=1,\"MDQ\",IF(J63=1,\"SDQ\",IF(I63=1,\"DNF\",SUM(D63+G63+H63+I63+J63)))))","v":0},null,0]
[61,{"$f":"'Shooter Information'!B66","v":0},{"$f":"'Shooter Information'!C66","v":0},null,null,null,null,null,null,null,{"$f":"MIN(IF('Shooter Information'!H66=1,999.99,(D64*5)+E64-F64+(G64*10)+(H64*30)+(I64*999.99)+(J64*999.99)),999.99)","v":0},{"$f":"IF('Shooter Information'!$E$3-('Shooter Information'!$G$3-RANK(K64,K$4:K$78,1))<0,0,'Shooter Information'!$E$3-('Shooter Information'!$G$3-RANK(K64,K$4:K$78,1)))","v":0},{"$f":"(IF('Shooter Information'!H66=1,\"MDQ\",IF(J64=1,\"SDQ\",IF(I64=1,\"DNF\",SUM(D64+G64+H64+I64+J64)))))","v":0},null,0]
[62,{"$f":"'Shooter Information'!B67","v":0},{"$f":"'Shooter Information'!C67","v":0},null,null,null,null,null,null,null,{"$f":"MIN(IF('Shooter Information'!H67=1,999.99,(D65*5)+E65-F65+(G65*10)+(H65*30)+(I65*999.99)+(J65*999.99)),999.99)","v":0},{"$f":"IF('Shooter Information'!$E$3-('Shooter Information'!$G$3-RANK(K65,K$4:K$78,1))<0,0,'Shooter Information'!$E$3-('Shooter Information'!$G$3-RANK(K65,K$4:K$78,1)))","v":0},{"$f":"(IF('Shooter Information'!H67=1,\"MDQ\",IF(J65=1,\"SDQ\",IF(I65=1,\"DNF\",SUM(D65+G65+H65+I65+J65)))))","v":0},null,0]
[63,{"$f":"'Shooter Information'!B68","v":0},{"$f":"'Shooter Information'!C68","v":0},null,null,null,null,null,null,null,{"$f":"MIN(IF('Shooter Information'!H68=1,999.99,(D66*5)+E66-F66+(G66*10)+(H66*30)+(I66*999.99)+(J66*999.99)),999.99)","v":0},{"$f":"IF('Shooter Information'!$E$3-('Shooter Information'!$G$3-RANK(K66,K$4:K$78,1))<0,0,'Shooter Information'!$E$3-('Shooter Information'!$G$3-RANK(K66,K$4:K$78,1)))","v":0},{"$f":"(IF('Shooter Information'!H68=1,\"MDQ\",IF(J66=1,\"SDQ\",IF(I66=1,\"DNF\",SUM(D66+G66+H66+I66+J66)))))","v":0},null,0]
[64,{"$f":"'Shooter Information'!B69","v":0},{"$f":"'Shooter Information'!C69","v":0},null,null,null,null,null,null,null,{"$f":"MIN(IF('Shooter Information'!H69=1,999.99,(D67*5)+E67-F67+(G67*10)+(H67*30)+(I67*999.99)+(J67*999.99)),999.99)","v":0},{"$f":"IF('Shooter Information'!$E$3-('Shooter Information'!$G$3-RANK(K67,K$4:K$78,1))<0,0,'Shooter Information'!$E$3-('Shooter Information'!$G$3-RANK(K67,K$4:K$78,1)))","v":0},{"$f":"(IF('Shooter Information'!H69=1,\"MDQ\",IF(J67=1,\"SDQ\",IF(I67=1,\"DNF\",SUM(D67+G67+H67+I67+J67)))))","v":0},null,0]
[65,{"$f":"'Shooter Information'!B70","v":0},{"$f":"'Shooter Information'!C70","v":0},null,null,null,null,null,null,null,{"$f":"MIN(IF('Shooter Information'!H70=1,999.99,(D68*5)+E68-F68+(G68*10)+(H68*30)+(I68*999.99)+(J68*999.99)),999.99)","v":0},{"$f":"IF('Shooter Information'!$E$3-('Shooter Information'!$G$3-RANK(K68,K$4:K$78,1))<0,0,'Shooter Information'!$E$3-('Shooter Information'!$G$3-RANK(K68,K$4:K$78,1)))","v":0},{"$f":"(IF('Shooter Information'!H70=1,\"MDQ\",IF(J68=1,\"SDQ\",IF(I68=1,\"DNF\",SUM(D68+G68+H68+I68+J68)))))","v":0},null,0]
[66,{"$f":"'Shooter Information'!B71","v":0},{"$f":"'Shooter Information'!C71","v":0},null,null,null,null,null,null,null,{"$f":"MIN(IF('Shooter Information'!H71=1,999.99,(D69*5)+E69-F69+(G69*10)+(H69*30)+(I69*999.99)+(J69*999.99)),999.99)","v":0},{"$f":"IF('Shooter Information'!$E$3-('Shooter Information'!$G$3-RANK(K69,K$4:K$78,1))<0,0,'Shooter Information'!$E$3-('Shooter Information'!$G$3-RANK(K69,K$4:K$78,1)))","v":0},{"$f":"(IF('Shooter Information'!H71=1,\"MDQ\",IF(J69=1,\"SDQ\",IF(I69=1,\"DNF\",SUM(D69+G69+H69+I69+J69)))))","v":0},null,{"$f":"SUM(D69+G69+H69+I69+J69)","v":0}]
[67,{"$f":"'Shooter Information'!B72","v":0},{"$f":"'Shooter Information'!C72","v":0},null,null,null,null,null,null,null,{"$f":"MIN(IF('Shooter Information'!H72=1,999.99,(D70*5)+E70-F70+(G70*10)+(H70*30)+(I70*999.99)+(J70*999.99)),999.99)","v":0},{"$f":"IF('Shooter Information'!$E$3-('Shooter Information'!$G$3-RANK(K70,K$4:K$78,1))<0,0,'Shooter Information'!$E$3-('Shooter Information'!$G$3-RANK(K70,K$4:K$78,1)))","v":0},{"$f":"(IF('Shooter Information'!H72=1,\"MDQ\",IF(J70=1,\"SDQ\",IF(I70=1,\"DNF\",SUM(D70+G70+H70+I70+J70)))))","v":0},null,0]
[68,{"$f":"'Shooter Information'!B73","v":0},{"$f":"'Shooter Information'!C73","v":0},null,null,null,null,null,null,null,{"$f":"MIN(IF('Shooter Information'!H73=1,999.99,(D71*5)+E71-F71+(G71*10)+(H71*30)+(I71*999.99)+(J71*999.99)),999.99)","v":0},{"$f":"IF('Shooter Information'!$E$3-('Shooter Information'!$G$3-RANK(K71,K$4:K$78,1))<0,0,'Shooter Information'!$E$3-('Shooter Information'!$G$3-RANK(K71,K$4:K$78,1)))","v":0},{"$f":"(IF('Shooter Information'!H73=1,\"MDQ\",IF(J71=1,\"SDQ\",IF(I71=1,\"DNF\",SUM(D71+G71+H71+I71+J71)))))","v":0},null,0]
[69,{"$f":"'Shooter Information'!B74","v":0},{"$f":"'Shooter Information'!C74","v":0},null,null,null,null,null,null,null,{"$f":"MIN(IF('Shooter Information'!H74=1,999.99,(D72*5)+E72-F72+(G72*10)+(H72*30)+(I72*999.99)+(J72*999.99)),999.99)","v":0},{"$f":"IF('Shooter Information'!$E$3-('Shooter Information'!$G$3-RANK(K72,K$4:K$78,1))<0,0,'Shooter Information'!$E$3-('Shooter Information'!$G$3-RANK(K72,K$4:K$78,1)))","v":0},{"$f":"(IF('Shooter Information'!H74=1,\"MDQ\",IF(J72=1,\"SDQ\",IF(I72=1,\"DNF\",SUM(D72+G72+H72+I72+J72)))))","v":0},null,0]
[70,{"$f":"'Shooter Information'!B75","v":0},{"$f":"'Shooter Information'!C75","v":0},null,null,null,null,null,null,null,{"$f":"MIN(IF('Shooter Information'!H75=1,999.99,(D73*5)+E73-F73+(G73*10)+(H73*30)+(I73*999.99)+(J73*999.99)),999.99)","v":0},{"$f":"IF('Shooter Information'!$E$3-('Shooter Information'!$G$3-RANK(K73,K$4:K$78,1))<0,0,'Shooter Information'!$E$3-('Shooter Information'!$G$3-RANK(K73,K$4:K$78,1)))","v":0},{"$f":"(IF('Shooter Information'!H75=1,\"MDQ\",IF(J73=1,\"SDQ\",IF(I73=1,\"DNF\",SUM(D73+G73+H73+I73+J73)))))","v":0},null,0]
[71,{"$f":"'Shooter Information'!B76","v":0},{"$f":"'Shooter Information'!C76","v":0},null,null,null,null,null,null,null,{"$f":"MIN(IF('Shooter Information'!H76=1,999.99,(D74*5)+E74-F74+(G74*10)+(H74*30)+(I74*999.99)+(J74*999.99)),999.99)","v":0},{"$f":"IF('Shooter Information'!$E$3-('Shooter Information'!$G$3-RANK(K74,K$4:K$78,1))<0,0,'Shooter Information'!$E$3-('Shooter Information'!$G$3-RANK(K74,K$4:K$78,1)))","v":0},{"$f":"(IF('Shooter Information'!H76=1,\"MDQ\",IF(J74=1,\"SDQ\",IF(I74=1,\"DNF\",SUM(D74+G74+H74+I74+J74)))))","v":0},null,0]
[72,{"$f":"'Shooter Information'!B77","v":0},{"$f":"'Shooter Information'!C77","v":0},null,null,null,null,null,null,null,{"$f":"MIN(IF('Shooter Information'!H77=1,999.99,(D75*5)+E75-F75+(G75*10)+(H75*30)+(I75*999.99)+(J75*999.99)),999.99)","v":0},{"$f":"IF('Shooter Information'!$E$3-('Shooter Information'!$G$3-RANK(K75,K$4:K$78,1))<0,0,'Shooter Information'!$E$3-('Shooter Information'!$G$3-RANK(K75,K$4:K$78,1)))","v":0},{"$f":"(IF('Shooter Information'!H77=1,\"MDQ\",IF(J75=1,\"SDQ\",IF(I75=1,\"DNF\",SUM(D75+G75+H75+I75+J75)))))","v":0},null,0]
[73,{"$f":"'Shooter Information'!B78","v":0},{"$f":"'Shooter Information'!C78","v":0},null,null,null,null,null,null,null,{"$f":"MIN(IF('Shooter Information'!H78=1,999.99,(D76*5)+E76-F76+(G76*10)+(H76*30)+(I76*999.99)+(J76*999.99)),999.99)","v":0},{"$f":"IF('Shooter Information'!$E$3-('Shooter Information'!$G$3-RANK(K76,K$4:K$78,1))<0,0,'Shooter Information'!$E$3-('Shooter Information'!$G$3-RANK(K76,K$4:K$78,1)))","v":0},{"$f":"(IF('Shooter Information'!H78=1,\"MDQ\",IF(J76=1,\"SDQ\",IF(I76=1,\"DNF\",SUM(D76+G76+H76+I76+J76)))))","v":0},null,0]
[74,{"$f":"'Shooter Information'!B79","v":0},{"$f":"'Shooter Information'!C79","v":0},null,null,null,null,null,null,null,{"$f":"MIN(IF('Shooter Information'!H79=1,999.99,(D77*5)+E77-F77+(G77*10)+(H77*30)+(I77*999.99)+(J77*999.99)),999.99)","v":0},{"$f":"IF('Shooter Information'!$E$3-('Shooter Information'!$G$3-RANK(K77,K$4:K$78,1))<0,0,'Shooter Information'!$E$3-('Shooter Information'!$G$3-RANK(K77,K$4:K$78,1)))","v":0},{"$f":"(IF('Shooter Information'!H79=1,\"MDQ\",IF(J77=1,\"SDQ\",IF(I77=1,\"DNF\",SUM(D77+G77+H77+I77+J77)))))","v":0},null,0]
[75,{"$f":"'Shooter Information'!B80","v":0},{"$f":"'Shooter Information'!C80","v":0},null,null,null,null,null,null,null,{"$f":"MIN(IF('Shooter Information'!H80=1,999.99,(D78*5)+E78-F78+(G78*10)+(H78*30)+(I78*999.99)+(J78*999.99)),999.99)","v":0},{"$f":"IF('Shooter Information'!$E$3-('Shooter Information'!$G$3-RANK(K78,K$4:K$78,1))<0,0,'Shooter Information'!$E$3-('Shooter Information'!$G$3-RANK(K78,K$4:K$78,1)))","v":0},{"$f":"(IF('Shooter Information'!H80=1,\"MDQ\",IF(J78=1,\"SDQ\",IF(I78=1,\"DNF\",SUM(D78+G78+H78+I78+J78)))))","v":0},null,0]

{"sheet":"Stage 9","index":10,"n_rows":78,"n_cols":15,"rows_kept":78,"cut":false,"hidden":true,"merged":[]}
[null,"Stage Input Sheet - Stage 9"]
[]
["Shooter #","Shooter","Class","Misses","Raw Time","Bonus","10 Sec","30 Sec","DNF","SDQ","Total","Rank","Penalties",null,"# Penalties"]
[{"$f":"ROW()-3","v":1},{"$f":"'Shooter Information'!B6","v":"Striker"},{"$f":"'Shooter Information'!C6","v":"WW"},null,null,null,null,null,null,null,{"$f":"MIN(IF('Shooter Information'!H6=1,999.99,(D4*5)+E4-F4+(G4*10)+(H4*30)+(I4*999.99)+(J4*999.99)),999.99)","v":0},{"$f":"IF('Shooter Information'!$E$3-('Shooter Information'!$G$3-RANK(K4,K$4:K$78,1))<0,0,'Shooter Information'!$E$3-('Shooter Information'!$G$3-RANK(K4,K$4:K$78,1)))","v":0},{"$f":"(IF('Shooter Information'!H6=1,\"MDQ\",IF(J4=1,\"SDQ\",IF(I4=1,\"DNF\",SUM(D4+G4+H4+I4+J4)))))","v":0},null,{"$f":"SUM(D4+G4+H4+I4+J4)","v":0}]
[{"$f":"ROW()-3","v":2},{"$f":"'Shooter Information'!B7","v":"Cody Maverick"},{"$f":"'Shooter Information'!C7","v":"GF"},null,null,null,null,null,null,null,{"$f":"MIN(IF('Shooter Information'!H7=1,999.99,(D5*5)+E5-F5+(G5*10)+(H5*30)+(I5*999.99)+(J5*999.99)),999.99)","v":0},{"$f":"IF('Shooter Information'!$E$3-('Shooter Information'!$G$3-RANK(K5,K$4:K$78,1))<0,0,'Shooter Information'!$E$3-('Shooter Information'!$G$3-RANK(K5,K$4:K$78,1)))","v":0},{"$f":"(IF('Shooter Information'!H7=1,\"MDQ\",IF(J5=1,\"SDQ\",IF(I5=1,\"DNF\",SUM(D5+G5+H5+I5+J5)))))","v":0},null,{"$f":"SUM(D5+G5+H5+I5+J5)","v":0}]
[3,{"$f":"'Shooter Information'!B8","v":"Potter County Kid"},{"$f":"'Shooter Information'!C8","v":"WW"},null,null,null,null,null,null,null,{"$f":"MIN(IF('Shooter Information'!H8=1,999.99,(D6*5)+E6-F6+(G6*10)+(H6*30)+(I6*999.99)+(J6*999.99)),999.99)","v":0},{"$f":"IF('Shooter Information'!$E$3-('Shooter Information'!$G$3-RANK(K6,K$4:K$78,1))<0,0,'Shooter Information'!$E$3-('Shooter Information'!$G$3-RANK(K6,K$4:K$78,1)))","v":0},{"$f":"(IF('Shooter Information'!H8=1,\"MDQ\",IF(J6=1,\"SDQ\",IF(I6=1,\"DNF\",SUM(D6+G6+H6+I6+J6)))))","v":0},null,0]
[4,{"$f":"'Shooter Information'!B9","v":"Ricochet Kid"},{"$f":"'Shooter Information'!C9","v":"W"},null,null,null,null,null,null,null,{"$f":"MIN(IF('Shooter Information'!H9=1,999.99,(D7*5)+E7-F7+(G7*10)+(H7*30)+(I7*999.99)+(J7*999.99)),999.99)","v":0},{"$f":"IF('Shooter Information'!$E$3-('Shooter Information'!$G$3-RANK(K7,K$4:K$78,1))<0,0,'Shooter Information'!$E$3-('Shooter Information'!$G$3-RANK(K7,K$4:K$78,1)))","v":0},{"$f":"(IF('Shooter Information'!H9=1,\"MDQ\",IF(J7=1,\"SDQ\",IF(I7=1,\"DNF\",SUM(D7+G7+H7+I7+J7)))))","v":0},null,0]
[5,{"$f":"'Shooter Information'!B10","v":"Flatboat Bob"},{"$f":"'Shooter Information'!C10","v":"CBAR"},null,null,null,null,null,null,null,{"$f":"MIN(IF('Shooter Information'!H10=1,999.99,(D8*5)+E8-F8+(G8*10)+(H8*30)+(I8*999.99)+(J8*999.99)),999.99)","v":0},{"$f":"IF('Shooter Information'!$E$3-('Shooter Information'!$G$3-RANK(K8,K$4:K$78,1))<0,0,'Shooter Information'!$E$3-('Shooter Information'!$G$3-RANK(K8,K$4:K$78,1)))","v":0},{"$f":"(IF('Shooter Information'!H10=1,\"MDQ\",IF(J8=1,\"SDQ\",IF(I8=1,\"DNF\",SUM(D8+G8+H8+I8+J8)))))","v":0},null,0]
[6,{"$f":"'Shooter Information'!B11","v":"Hotshod"},{"$f":"'Shooter Information'!C11","v":"W"},null,null,null,null,null,null,null,{"$f":"MIN(IF('Shooter Information'!H11=1,999.99,(D9*5)+E9-F9+(G9*10)+(H9*30)+(I9*999.99)+(J9*999.99)),999.99)","v":0},{"$f":"IF('Shooter Information'!$E$3-('Shooter Information'!$G$3-RANK(K9,K$4:K$78,1))<0,0,'Shooter Information'!$E$3-('Shooter Information'!$G$3-RANK(K9,K$4:K$78,1)))","v":0},{"$f":"(IF('Shooter Information'!H11=1,\"MDQ\",IF(J9=1,\"SDQ\",IF(I9=1,\"DNF\",SUM(D9+G9+H9+I9+J9)))))","v":0},null,0]
[7,{"$f":"'Shooter Information'!B12","v":"Prairie City Slim"},{"$f":"'Shooter Information'!C12","v":"ES"},null,null,null,null,null,null,null,{"$f":"MIN(IF('Shooter Information'!H12=1,999.99,(D10*5)+E10-F10+(G10*10)+(H10*30)+(I10*999.99)+(J10*999.99)),999.99)","v":0},{"$f":"IF('Shooter Information'!$E$3-('Shooter Information'!$G$3-RANK(K10,K$4:K$78,1))<0,0,'Shooter Information'!$E$3-('Shooter Information'!$G$3-RANK(K10,K$4:K$78,1)))","v":0},{"$f":"(IF('Shooter Information'!H12=1,\"MDQ\",IF(J10=1,\"SDQ\",IF(I10=1,\"DNF\",SUM(D10+G10+H10+I10+J10)))))","v":0},null,0]
[8,{"$f":"'Shooter Information'!B13","v":"Regret Schofield"},{"$f":"'Shooter Information'!C13","v":"49er"},null,null,null,null,null,null,null,{"$f":"MIN(IF('Shooter Information'!H13=1,999.99,(D11*5)+E11-F11+(G11*10)+(H11*30)+(I11*999.99)+(J11*999.99)),999.99)","v":0},{"$f":"IF('Shooter Information'!$E$3-('Shooter Information'!$G$3-RANK(K11,K$4:K$78,1))<0,0,'Shooter Information'!$E$3-('Shooter Information'!$G$3-RANK(K11,K$4:K$78,1)))","v":0},{"$f":"(IF('Shooter Information'!H13=1,\"MDQ\",IF(J11=1,\"SDQ\",IF(I11=1,\"DNF\",SUM(D11+G11+H11+I11+J11)))))","v":0},null,0]
[9,{"$f":"'Shooter Information'!B14","v":"Tumble Weed Tink"},{"$f":"'Shooter Information'!C14","v":"L49"},null,null,null,null,null,null,null,{"$f":"MIN(IF('Shooter Information'!H14=1,999.99,(D12*5)+E12-F12+(G12*10)+(H12*30)+(I12*999.99)+(J12*999.99)),999.99)","v":0},{"$f":"IF('Shooter Information'!$E$3-('Shooter Information'!$G$3-RANK(K12,K$4:K$78,1))<0,0,'Shooter Information'!$E$3-('Shooter Information'!$G$3-RANK(K12,K$4:K$78,1)))","v":0},{"$f":"(IF('Shooter Information'!H14=1,\"MDQ\",IF(J12=1,\"SDQ\",IF(I12=1,\"DNF\",SUM(D12+G12+H12+I12+J12)))))","v":0},null,0]
[10,{"$f":"'Shooter Information'!B15","v":"One Eyed Jane"},{"$f":"'Shooter Information'!C15","v":"LSS"},null,null,null,null,null,null,null,{"$f":"MIN(IF('Shooter Information'!H15=1,999.99,(D13*5)+E13-F13+(G13*10)+(H13*30)+(I13*999.99)+(J13*999.99)),999.99)","v":0},{"$f":"IF('Shooter Information'!$E$3-('Shooter Information'!$G$3-RANK(K13,K$4:K$78,1))<0,0,'Shooter Information'!$E$3-('Shooter Information'!$G$3-RANK(K13,K$4:K$78,1)))","v":0},{"$f":"(IF('Shooter Information'!H15=1,\"MDQ\",IF(J13=1,\"SDQ\",IF(I13=1,\"DNF\",SUM(D13+G13+H13+I13+J13)))))","v":0},null,0]
[11,{"$f":"'Shooter Information'!B16","v":"Stogie"},{"$f":"'Shooter Information'!C16","v":"49er"},null,null,null,null,null,null,null,{"$f":"MIN(IF('Shooter Information'!H16=1,999.99,(D14*5)+E14-F14+(G14*10)+(H14*30)+(I14*999.99)+(J14*999.99)),999.99)","v":0},{"$f":"IF('Shooter Information'!$E$3-('Shooter Information'!$G$3-RANK(K14,K$4:K$78,1))<0,0,'Shooter Information'!$E$3-('Shooter Information'!$G$3-RANK(K14,K$4:K$78,1)))","v":0},{"$f":"(IF('Shooter Information'!H16=1,\"MDQ\",IF(J14=1,\"SDQ\",IF(I14=1,\"DNF\",SUM(D14+G14+H14+I14+J14)))))","v":0},null,0]
[12,{"$f":"'Shooter Information'!B17","v":"Major BS Walker"},{"$f":"'Shooter Information'!C17","v":"WW"},null,null,null,null,null,null,null,{"$f":"MIN(IF('Shooter Information'!H17=1,999.99,(D15*5)+E15-F15+(G15*10)+(H15*30)+(I15*999.99)+(J15*999.99)),999.99)","v":0},{"$f":"IF('Shooter Information'!$E$3-('Shooter Information'!$G$3-RANK(K15,K$4:K$78,1))<0,0,'Shooter Information'!$E$3-('Shooter Information'!$G$3-RANK(K15,K$4:K$78,1)))","v":0},{"$f":"(IF('Shooter Information'!H17=1,\"MDQ\",IF(J15=1,\"SDQ\",IF(I15=1,\"DNF\",SUM(D15+G15+H15+I15+J15)))))","v":0},null,0]
[13,{"$f":"'Shooter Information'!B18","v":"Sassy Shooting Sours"},{"$f":"'Shooter Information'!C18","v":"S"},null,null,null,null,null,null,null,{"$f":"MIN(IF('Shooter Information'!H18=1,999.99,(D16*5)+E16-F16+(G16*10)+(H16*30)+(I16*999.99)+(J16*999.99)),999.99)","v":0},{"$f":"IF('Shooter Information'!$E$3-('Shooter Information'!$G$3-RANK(K16,K$4:K$78,1))<0,0,'Shooter Information'!$E$3-('Shooter Information'!$G$3-RANK(K16,K$4:K$78,1)))","v":0},{"$f":"(IF('Shooter Information'!H18=1,\"MDQ\",IF(J16=1,\"SDQ\",IF(I16=1,\"DNF\",SUM(D16+G16+H16+I16+J16)))))","v":0},null,0]
[14,{"$f":"'Shooter Information'!B19","v":"Lefty Spurmaker"},{"$f":"'Shooter Information'!C19","v":"S"},null,null,null,null,null,null,null,{"$f":"MIN(IF('Shooter Information'!H19=1,999.99,(D17*5)+E17-F17+(G17*10)+(H17*30)+(I17*999.99)+(J17*999.99)),999.99)","v":0},{"$f":"IF('Shooter Information'!$E$3-('Shooter Information'!$G$3-RANK(K17,K$4:K$78,1))<0,0,'Shooter Information'!$E$3-('Shooter Information'!$G$3-RANK(K17,K$4:K$78,1)))","v":0},{"$f":"(IF('Shooter Information'!H19=1,\"MDQ\",IF(J17=1,\"SDQ\",IF(I17=1,\"DNF\",SUM(D17+G17+H17+I17+J17)))))","v":0},null,0]
[15,{"$f":"'Shooter Information'!B20","v":"Windhorse Rider"},{"$f":"'Shooter Information'!C20","v":"GF"},null,null,null,null,null,null,null,{"$f":"MIN(IF('Shooter Information'!H20=1,999.99,(D18*5)+E18-F18+(G18*10)+(H18*30)+(I18*999.99)+(J18*999.99)),999.99)","v":0},{"$f":"IF('Shooter Information'!$E$3-('Shooter Information'!$G$3-RANK(K18,K$4:K$78,1))<0,0,'Shooter Information'!$E$3-('Shooter Information'!$G$3-RANK(K18,K$4:K$78,1)))","v":0},{"$f":"(IF('Shooter Information'!H20=1,\"MDQ\",IF(J18=1,\"SDQ\",IF(I18=1,\"DNF\",SUM(D18+G18+H18+I18+J18)))))","v":0},null,0]
[16,{"$f":"'Shooter Information'!B21","v":"Red Cavanaugh"},{"$f":"'Shooter Information'!C21","v":"49er"},null,null,null,null,null,null,null,{"$f":"MIN(IF('Shooter Information'!H21=1,999.99,(D19*5)+E19-F19+(G19*10)+(H19*30)+(I19*999.99)+(J19*999.99)),999.99)","v":0},{"$f":"IF('Shooter Information'!$E$3-('Shooter Information'!$G$3-RANK(K19,K$4:K$78,1))<0,0,'Shooter Information'!$E$3-('Shooter Information'!$G$3-RANK(K19,K$4:K$78,1)))","v":0},{"$f":"(IF('Shooter Information'!H21=1,\"MDQ\",IF(J19=1,\"SDQ\",IF(I19=1,\"DNF\",SUM(D19+G19+H19+I19+J19)))))","v":0},null,0]
[17,{"$f":"'Shooter Information'!B22","v":0},{"$f":"'Shooter Information'!C22","v":0},null,null,null,null,null,null,null,{"$f":"MIN(IF('Shooter Information'!H22=1,999.99,(D20*5)+E20-F20+(G20*10)+(H20*30)+(I20*999.99)+(J20*999.99)),999.99)","v":0},{"$f":"IF('Shooter Information'!$E$3-('Shooter Information'!$G$3-RANK(K20,K$4:K$78,1))<0,0,'Shooter Information'!$E$3-('Shooter Information'!$G$3-RANK(K20,K$4:K$78,1)))","v":0},{"$f":"(IF('Shooter Information'!H22=1,\"MDQ\",IF(J20=1,\"SDQ\",IF(I20=1,\"DNF\",SUM(D20+G20+H20+I20+J20)))))","v":0},null,0]
[18,{"$f":"'Shooter Information'!B23","v":0},{"$f":"'Shooter Information'!C23","v":0},null,null,null,null,null,null,null,{"$f":"MIN(IF('Shooter Information'!H23=1,999.99,(D21*5)+E21-F21+(G21*10)+(H21*30)+(I21*999.99)+(J21*999.99)),999.99)","v":0},{"$f":"IF('Shooter Information'!$E$3-('Shooter Information'!$G$3-RANK(K21,K$4:K$78,1))<0,0,'Shooter Information'!$E$3-('Shooter Information'!$G$3-RANK(K21,K$4:K$78,1)))","v":0},{"$f":"(IF('Shooter Information'!H23=1,\"MDQ\",IF(J21=1,\"SDQ\",IF(I21=1,\"DNF\",SUM(D21+G21+H21+I21+J21)))))","v":0},null,0]
[19,{"$f":"'Shooter Information'!B24","v":0},{"$f":"'Shooter Information'!C24","v":0},null,null,null,null,null,null,null,{"$f":"MIN(IF('Shooter Information'!H24=1,999.99,(D22*5)+E22-F22+(G22*10)+(H22*30)+(I22*999.99)+(J22*999.99)),999.99)","v":0},{"$f":"IF('Shooter Information'!$E$3-('Shooter Information'!$G$3-RANK(K22,K$4:K$78,1))<0,0,'Shooter Information'!$E$3-('Shooter Information'!$G$3-RANK(K22,K$4:K$78,1)))","v":0},{"$f":"(IF('Shooter Information'!H24=1,\"MDQ\",IF(J22=1,\"SDQ\",IF(I22=1,\"DNF\",SUM(D22+G22+H22+I22+J22)))))","v":0},null,0]
[20,{"$f":"'Shooter Information'!B25","v":0},{"$f":"'Shooter Information'!C25","v":0},null,null,null,null,null,null,null,{"$f":"MIN(IF('Shooter Information'!H25=1,999.99,(D23*5)+E23-F23+(G23*10)+(H23*30)+(I23*999.99)+(J23*999.99)),999.99)","v":0},{"$f":"IF('Shooter Information'!$E$3-('Shooter Information'!$G$3-RANK(K23,K$4:K$78,1))<0,0,'Shooter Information'!$E$3-('Shooter Information'!$G$3-RANK(K23,K$4:K$78,1)))","v":0},{"$f":"(IF('Shooter Information'!H25=1,\"MDQ\",IF(J23=1,\"SDQ\",IF(I23=1,\"DNF\",SUM(D23+G23+H23+I23+J23)))))","v":0},null,0]
[21,{"$f":"'Shooter Information'!B26","v":0},{"$f":"'Shooter Information'!C26","v":0},null,null,null,null,null,null,null,{"$f":"MIN(IF('Shooter Information'!H26=1,999.99,(D24*5)+E24-F24+(G24*10)+(H24*30)+(I24*999.99)+(J24*999.99)),999.99)","v":0},{"$f":"IF('Shooter Information'!$E$3-('Shooter Information'!$G$3-RANK(K24,K$4:K$78,1))<0,0,'Shooter Information'!$E$3-('Shooter Information'!$G$3-RANK(K24,K$4:K$78,1)))","v":0},{"$f":"(IF('Shooter Information'!H26=1,\"MDQ\",IF(J24=1,\"SDQ\",IF(I24=1,\"DNF\",SUM(D24+G24+H24+I24+J24)))))","v":0},null,0]
[22,{"$f":"'Shooter Information'!B27","v":0},{"$f":"'Shooter Information'!C27","v":0},null,null,null,null,null,null,null,{"$f":"MIN(IF('Shooter Information'!H27=1,999.99,(D25*5)+E25-F25+(G25*10)+(H25*30)+(I25*999.99)+(J25*999.99)),999.99)","v":0},{"$f":"IF('Shooter Information'!$E$3-('Shooter Information'!$G$3-RANK(K25,K$4:K$78,1))<0,0,'Shooter Information'!$E$3-('Shooter Information'!$G$3-RANK(K25,K$4:K$78,1)))","v":0},{"$f":"(IF('Shooter Information'!H27=1,\"MDQ\",IF(J25=1,\"SDQ\",IF(I25=1,\"DNF\",SUM(D25+G25+H25+I25+J25)))))","v":0},null,0]
[23,{"$f":"'Shooter Information'!B28","v":0},{"$f":"'Shooter Information'!C28","v":0},null,null,null,null,null,null,null,{"$f":"MIN(IF('Shooter Information'!H28=1,999.99,(D26*5)+E26-F26+(G26*10)+(H26*30)+(I26*999.99)+(J26*999.99)),999.99)","v":0},{"$f":"IF('Shooter Information'!$E$3-('Shooter Information'!$G$3-RANK(K26,K$4:K$78,1))<0,0,'Shooter Information'!$E$3-('Shooter Information'!$G$3-RANK(K26,K$4:K$78,1)))","v":0},{"$f":"(IF('Shooter Information'!H28=1,\"MDQ\",IF(J26=1,\"SDQ\",IF(I26=1,\"DNF\",SUM(D26+G26+H26+I26+J26)))))","v":0},null,0]
[24,{"$f":"'Shooter Information'!B29","v":0},{"$f":"'Shooter Information'!C29","v":0},null,null,null,null,null,null,null,{"$f":"MIN(IF('Shooter Information'!H29=1,999.99,(D27*5)+E27-F27+(G27*10)+(H27*30)+(I27*999.99)+(J27*999.99)),999.99)","v":0},{"$f":"IF('Shooter Information'!$E$3-('Shooter Information'!$G$3-RANK(K27,K$4:K$78,1))<0,0,'Shooter Information'!$E$3-('Shooter Information'!$G$3-RANK(K27,K$4:K$78,1)))","v":0},{"$f":"(IF('Shooter Information'!H29=1,\"MDQ\",IF(J27=1,\"SDQ\",IF(I27=1,\"DNF\",SUM(D27+G27+H27+I27+J27)))))","v":0},null,0]
[25,{"$f":"'Shooter Information'!B30","v":0},{"$f":"'Shooter Information'!C30","v":0},null,null,null,null,null,null,null,{"$f":"MIN(IF('Shooter Information'!H30=1,999.99,(D28*5)+E28-F28+(G28*10)+(H28*30)+(I28*999.99)+(J28*999.99)),999.99)","v":0},{"$f":"IF('Shooter Information'!$E$3-('Shooter Information'!$G$3-RANK(K28,K$4:K$78,1))<0,0,'Shooter Information'!$E$3-('Shooter Information'!$G$3-RANK(K28,K$4:K$78,1)))","v":0},{"$f":"(IF('Shooter Information'!H30=1,\"MDQ\",IF(J28=1,\"SDQ\",IF(I28=1,\"DNF\",SUM(D28+G28+H28+I28+J28)))))","v":0},null,0]
[26,{"$f":"'Shooter Information'!B31","v":0},{"$f":"'Shooter Information'!C31","v":0},null,null,null,null,null,null,null,{"$f":"MIN(IF('Shooter Information'!H31=1,999.99,(D29*5)+E29-F29+(G29*10)+(H29*30)+(I29*999.99)+(J29*999.99)),999.99)","v":0},{"$f":"IF('Shooter Information'!$E$3-('Shooter Information'!$G$3-RANK(K29,K$4:K$78,1))<0,0,'Shooter Information'!$E$3-('Shooter Information'!$G$3-RANK(K29,K$4:K$78,1)))","v":0},{"$f":"(IF('Shooter Information'!H31=1,\"MDQ\",IF(J29=1,\"SDQ\",IF(I29=1,\"DNF\",SUM(D29+G29+H29+I29+J29)))))","v":0},null,0]
[27,{"$f":"'Shooter Information'!B32","v":0},{"$f":"'Shooter Information'!C32","v":0},null,null,null,null,null,null,null,{"$f":"MIN(IF('Shooter Information'!H32=1,999.99,(D30*5)+E30-F30+(G30*10)+(H30*30)+(I30*999.99)+(J30*999.99)),999.99)","v":0},{"$f":"IF('Shooter Information'!$E$3-('Shooter Information'!$G$3-RANK(K30,K$4:K$78,1))<0,0,'Shooter Information'!$E$3-('Shooter Information'!$G$3-RANK(K30,K$4:K$78,1)))","v":0},{"$f":"(IF('Shooter Information'!H32=1,\"MDQ\",IF(J30=1,\"SDQ\",IF(I30=1,\"DNF\",SUM(D30+G30+H30+I30+J30)))))","v":0},null,0]
[28,{"$f":"'Shooter Information'!B33","v":0},{"$f":"'Shooter Information'!C33","v":0},null,null,null,null,null,null,null,{"$f":"MIN(IF('Shooter Information'!H33=1,999.99,(D31*5)+E31-F31+(G31*10)+(H31*30)+(I31*999.99)+(J31*999.99)),999.99)","v":0},{"$f":"IF('Shooter Information'!$E$3-('Shooter Information'!$G$3-RANK(K31,K$4:K$78,1))<0,0,'Shooter Information'!$E$3-('Shooter Information'!$G$3-RANK(K31,K$4:K$78,1)))","v":0},{"$f":"(IF('Shooter Information'!H33=1,\"MDQ\",IF(J31=1,\"SDQ\",IF(I31=1,\"DNF\",SUM(D31+G31+H31+I31+J31)))))","v":0},null,0]
[29,{"$f":"'Shooter Information'!B34","v":0},{"$f":"'Shooter Information'!C34","v":0},null,null,null,null,null,null,null,{"$f":"MIN(IF('Shooter Information'!H34=1,999.99,(D32*5)+E32-F32+(G32*10)+(H32*30)+(I32*999.99)+(J32*999.99)),999.99)","v":0},{"$f":"IF('Shooter Information'!$E$3-('Shooter Information'!$G$3-RANK(K32,K$4:K$78,1))<0,0,'Shooter Information'!$E$3-('Shooter Information'!$G$3-RANK(K32,K$4:K$78,1)))","v":0},{"$f":"(IF('Shooter Information'!H34=1,\"MDQ\",IF(J32=1,\"SDQ\",IF(I32=1,\"DNF\",SUM(D32+G32+H32+I32+J32)))))","v":0},null,0]
[30,{"$f":"'Shooter Information'!B35","v":0},{"$f":"'Shooter Information'!C35","v":0},null,null,null,null,null,null,null,{"$f":"MIN(IF('Shooter Information'!H35=1,999.99,(D33*5)+E33-F33+(G33*10)+(H33*30)+(I33*999.99)+(J33*999.99)),999.99)","v":0},{"$f":"IF('Shooter Information'!$E$3-('Shooter Information'!$G$3-RANK(K33,K$4:K$78,1))<0,0,'Shooter Information'!$E$3-('Shooter Information'!$G$3-RANK(K33,K$4:K$78,1)))","v":0},{"$f":"(IF('Shooter Information'!H35=1,\"MDQ\",IF(J33=1,\"SDQ\",IF(I33=1,\"DNF\",SUM(D33+G33+H33+I33+J33)))))","v":0},null,0]
[31,{"$f":"'Shooter Information'!B36","v":0},{"$f":"'Shooter Information'!C36","v":0},null,null,null,null,null,null,null,{"$f":"MIN(IF('Shooter Information'!H36=1,999.99,(D34*5)+E34-F34+(G34*10)+(H34*30)+(I34*999.99)+(J34*999.99)),999.99)","v":0},{"$f":"IF('Shooter Information'!$E$3-('Shooter Information'!$G$3-RANK(K34,K$4:K$78,1))<0,0,'Shooter Information'!$E$3-('Shooter Information'!$G$3-RANK(K34,K$4:K$78,1)))","v":0},{"$f":"(IF('Shooter Information'!H36=1,\"MDQ\",IF(J34=1,\"SDQ\",IF(I34=1,\"DNF\",SUM(D34+G34+H34+I34+J34)))))","v":0},null,0]
[32,{"$f":"'Shooter Information'!B37","v":0},{"$f":"'Shooter Information'!C37","v":0},null,null,null,null,null,null,null,{"$f":"MIN(IF('Shooter Information'!H37=1,999.99,(D35*5)+E35-F35+(G35*10)+(H35*30)+(I35*999.99)+(J35*999.99)),999.99)","v":0},{"$f":"IF('Shooter Information'!$E$3-('Shooter Information'!$G$3-RANK(K35,K$4:K$78,1))<0,0,'Shooter Information'!$E$3-('Shooter Information'!$G$3-RANK(K35,K$4:K$78,1)))","v":0},{"$f":"(IF('Shooter Information'!H37=1,\"MDQ\",IF(J35=1,\"SDQ\",IF(I35=1,\"DNF\",SUM(D35+G35+H35+I35+J35)))))","v":0},null,0]
[33,{"$f":"'Shooter Information'!B38","v":0},{"$f":"'Shooter Information'!C38","v":0},null,null,null,null,null,null,null,{"$f":"MIN(IF('Shooter Information'!H38=1,999.99,(D36*5)+E36-F36+(G36*10)+(H36*30)+(I36*999.99)+(J36*999.99)),999.99)","v":0},{"$f":"IF('Shooter Information'!$E$3-('Shooter Information'!$G$3-RANK(K36,K$4:K$78,1))<0,0,'Shooter Information'!$E$3-('Shooter Information'!$G$3-RANK(K36,K$4:K$78,1)))","v":0},{"$f":"(IF('Shooter Information'!H38=1,\"MDQ\",IF(J36=1,\"SDQ\",IF(I36=1,\"DNF\",SUM(D36+G36+H36+I36+J36)))))","v":0},null,0]
[34,{"$f":"'Shooter Information'!B39","v":0},{"$f":"'Shooter Information'!C39","v":0},null,null,null,null,null,null,null,{"$f":"MIN(IF('Shooter Information'!H39=1,999.99,(D37*5)+E37-F37+(G37*10)+(H37*30)+(I37*999.99)+(J37*999.99)),999.99)","v":0},{"$f":"IF('Shooter Information'!$E$3-('Shooter Information'!$G$3-RANK(K37,K$4:K$78,1))<0,0,'Shooter Information'!$E$3-('Shooter Information'!$G$3-RANK(K37,K$4:K$78,1)))","v":0},{"$f":"(IF('Shooter Information'!H39=1,\"MDQ\",IF(J37=1,\"SDQ\",IF(I37=1,\"DNF\",SUM(D37+G37+H37+I37+J37)))))","v":0},null,0]
[35,{"$f":"'Shooter Information'!B40","v":0},{"$f":"'Shooter Information'!C40","v":0},null,null,null,null,null,null,null,{"$f":"MIN(IF('Shooter Information'!H40=1,999.99,(D38*5)+E38-F38+(G38*10)+(H38*30)+(I38*999.99)+(J38*999.99)),999.99)","v":0},{"$f":"IF('Shooter Information'!$E$3-('Shooter Information'!$G$3-RANK(K38,K$4:K$78,1))<0,0,'Shooter Information'!$E$3-('Shooter Information'!$G$3-RANK(K38,K$4:K$78,1)))","v":0},{"$f":"(IF('Shooter Information'!H40=1,\"MDQ\",IF(J38=1,\"SDQ\",IF(I38=1,\"DNF\",SUM(D38+G38+H38+I38+J38)))))","v":0},null,0]
[36,{"$f":"'Shooter Information'!B41","v":0},{"$f":"'Shooter Information'!C41","v":0},null,null,null,null,null,null,null,{"$f":"MIN(IF('Shooter Information'!H41=1,999.99,(D39*5)+E39-F39+(G39*10)+(H39*30)+(I39*999.99)+(J39*999.99)),999.99)","v":0},{"$f":"IF('Shooter Information'!$E$3-('Shooter Information'!$G$3-RANK(K39,K$4:K$78,1))<0,0,'Shooter Information'!$E$3-('Shooter Information'!$G$3-RANK(K39,K$4:K$78,1)))","v":0},{"$f":"(IF('Shooter Information'!H41=1,\"MDQ\",IF(J39=1,\"SDQ\",IF(I39=1,\"DNF\",SUM(D39+G39+H39+I39+J39)))))","v":0},null,0]
[37,{"$f":"'Shooter Information'!B42","v":0},{"$f":"'Shooter Information'!C42","v":0},null,null,null,null,null,null,null,{"$f":"MIN(IF('Shooter Information'!H42=1,999.99,(D40*5)+E40-F40+(G40*10)+(H40*30)+(I40*999.99)+(J40*999.99)),999.99)","v":0},{"$f":"IF('Shooter Information'!$E$3-('Shooter Information'!$G$3-RANK(K40,K$4:K$78,1))<0,0,'Shooter Information'!$E$3-('Shooter Information'!$G$3-RANK(K40,K$4:K$78,1)))","v":0},{"$f":"(IF('Shooter Information'!H42=1,\"MDQ\",IF(J40=1,\"SDQ\",IF(I40=1,\"DNF\",SUM(D40+G40+H40+I40+J40)))))","v":0},null,0]
[38,{"$f":"'Shooter Information'!B43","v":0},{"$f":"'Shooter Information'!C43","v":0},null,null,null,null,null,null,null,{"$f":"MIN(IF('Shooter Information'!H43=1,999.99,(D41*5)+E41-F41+(G41*10)+(H41*30)+(I41*999.99)+(J41*999.99)),999.99)","v":0},{"$f":"IF('Shooter Information'!$E$3-('Shooter Information'!$G$3-RANK(K41,K$4:K$78,1))<0,0,'Shooter Information'!$E$3-('Shooter Information'!$G$3-RANK(K41,K$4:K$78,1)))","v":0},{"$f":"(IF('Shooter Information'!H43=1,\"MDQ\",IF(J41=1,\"SDQ\",IF(I41=1,\"DNF\",SUM(D41+G41+H41+I41+J41)))))","v":0},null,0]
[39,{"$f":"'Shooter Information'!B44","v":0},{"$f":"'Shooter Information'!C44","v":0},null,null,null,null,null,null,null,{"$f":"MIN(IF('Shooter Information'!H44=1,999.99,(D42*5)+E42-F42+(G42*10)+(H42*30)+(I42*999.99)+(J42*999.99)),999.99)","v":0},{"$f":"IF('Shooter Information'!$E$3-('Shooter Information'!$G$3-RANK(K42,K$4:K$78,1))<0,0,'Shooter Information'!$E$3-('Shooter Information'!$G$3-RANK(K42,K$4:K$78,1)))","v":0},{"$f":"(IF('Shooter Information'!H44=1,\"MDQ\",IF(J42=1,\"SDQ\",IF(I42=1,\"DNF\",SUM(D42+G42+H42+I42+J42)))))","v":0},null,0]
[40,{"$f":"'Shooter Information'!B45","v":0},{"$f":"'Shooter Information'!C45","v":0},null,null,null,null,null,null,null,{"$f":"MIN(IF('Shooter Information'!H45=1,999.99,(D43*5)+E43-F43+(G43*10)+(H43*30)+(I43*999.99)+(J43*999.99)),999.99)","v":0},{"$f":"IF('Shooter Information'!$E$3-('Shooter Information'!$G$3-RANK(K43,K$4:K$78,1))<0,0,'Shooter Information'!$E$3-('Shooter Information'!$G$3-RANK(K43,K$4:K$78,1)))","v":0},{"$f":"(IF('Shooter Information'!H45=1,\"MDQ\",IF(J43=1,\"SDQ\",IF(I43=1,\"DNF\",SUM(D43+G43+H43+I43+J43)))))","v":0},null,0]
[41,{"$f":"'Shooter Information'!B46","v":0},{"$f":"'Shooter Information'!C46","v":0},null,null,null,null,null,null,null,{"$f":"MIN(IF('Shooter Information'!H46=1,999.99,(D44*5)+E44-F44+(G44*10)+(H44*30)+(I44*999.99)+(J44*999.99)),999.99)","v":0},{"$f":"IF('Shooter Information'!$E$3-('Shooter Information'!$G$3-RANK(K44,K$4:K$78,1))<0,0,'Shooter Information'!$E$3-('Shooter Information'!$G$3-RANK(K44,K$4:K$78,1)))","v":0},{"$f":"(IF('Shooter Information'!H46=1,\"MDQ\",IF(J44=1,\"SDQ\",IF(I44=1,\"DNF\",SUM(D44+G44+H44+I44+J44)))))","v":0},null,0]
[42,{"$f":"'Shooter Information'!B47","v":0},{"$f":"'Shooter Information'!C47","v":0},null,null,null,null,null,null,null,{"$f":"MIN(IF('Shooter Information'!H47=1,999.99,(D45*5)+E45-F45+(G45*10)+(H45*30)+(I45*999.99)+(J45*999.99)),999.99)","v":0},{"$f":"IF('Shooter Information'!$E$3-('Shooter Information'!$G$3-RANK(K45,K$4:K$78,1))<0,0,'Shooter Information'!$E$3-('Shooter Information'!$G$3-RANK(K45,K$4:K$78,1)))","v":0},{"$f":"(IF('Shooter Information'!H47=1,\"MDQ\",IF(J45=1,\"SDQ\",IF(I45=1,\"DNF\",SUM(D45+G45+H45+I45+J45)))))","v":0},null,0]
[43,{"$f":"'Shooter Information'!B48","v":0},{"$f":"'Shooter Information'!C48","v":0},null,null,null,null,null,null,null,{"$f":"MIN(IF('Shooter Information'!H48=1,999.99,(D46*5)+E46-F46+(G46*10)+(H46*30)+(I46*999.99)+(J46*999.99)),999.99)","v":0},{"$f":"IF('Shooter Information'!$E$3-('Shooter Information'!$G$3-RANK(K46,K$4:K$78,1))<0,0,'Shooter Information'!$E$3-('Shooter Information'!$G$3-RANK(K46,K$4:K$78,1)))","v":0},{"$f":"(IF('Shooter Information'!H48=1,\"MDQ\",IF(J46=1,\"SDQ\",IF(I46=1,\"DNF\",SUM(D46+G46+H46+I46+J46)))))","v":0},null,0]
[44,{"$f":"'Shooter Information'!B49","v":0},{"$f":"'Shooter Information'!C49","v":0},null,null,null,null,null,null,null,{"$f":"MIN(IF('Shooter Information'!H49=1,999.99,(D47*5)+E47-F47+(G47*10)+(H47*30)+(I47*999.99)+(J47*999.99)),999.99)","v":0},{"$f":"IF('Shooter Information'!$E$3-('Shooter Information'!$G$3-RANK(K47,K$4:K$78,1))<0,0,'Shooter Information'!$E$3-('Shooter Information'!$G$3-RANK(K47,K$4:K$78,1)))","v":0},{"$f":"(IF('Shooter Information'!H49=1,\"MDQ\",IF(J47=1,\"SDQ\",IF(I47=1,\"DNF\",SUM(D47+G47+H47+I47+J47)))))","v":0},null,0]
[45,{"$f":"'Shooter Information'!B50","v":0},{"$f":"'Shooter Information'!C50","v":0},null,null,null,null,null,null,null,{"$f":"MIN(IF('Shooter Information'!H50=1,999.99,(D48*5)+E48-F48+(G48*10)+(H48*30)+(I48*999.99)+(J48*999.99)),999.99)","v":0},{"$f":"IF('Shooter Information'!$E$3-('Shooter Information'!$G$3-RANK(K48,K$4:K$78,1))<0,0,'Shooter Information'!$E$3-('Shooter Information'!$G$3-RANK(K48,K$4:K$78,1)))","v":0},{"$f":"(IF('Shooter Information'!H50=1,\"MDQ\",IF(J48=1,\"SDQ\",IF(I48=1,\"DNF\",SUM(D48+G48+H48+I48+J48)))))","v":0},null,0]
[46,{"$f":"'Shooter Information'!B51","v":0},{"$f":"'Shooter Information'!C51","v":0},null,null,null,null,null,null,null,{"$f":"MIN(IF('Shooter Information'!H51=1,999.99,(D49*5)+E49-F49+(G49*10)+(H49*30)+(I49*999.99)+(J49*999.99)),999.99)","v":0},{"$f":"IF('Shooter Information'!$E$3-('Shooter Information'!$G$3-RANK(K49,K$4:K$78,1))<0,0,'Shooter Information'!$E$3-('Shooter Information'!$G$3-RANK(K49,K$4:K$78,1)))","v":0},{"$f":"(IF('Shooter Information'!H51=1,\"MDQ\",IF(J49=1,\"SDQ\",IF(I49=1,\"DNF\",SUM(D49+G49+H49+I49+J49)))))","v":0},null,0]
[47,{"$f":"'Shooter Information'!B52","v":0},{"$f":"'Shooter Information'!C52","v":0},null,null,null,null,null,null,null,{"$f":"MIN(IF('Shooter Information'!H52=1,999.99,(D50*5)+E50-F50+(G50*10)+(H50*30)+(I50*999.99)+(J50*999.99)),999.99)","v":0},{"$f":"IF('Shooter Information'!$E$3-('Shooter Information'!$G$3-RANK(K50,K$4:K$78,1))<0,0,'Shooter Information'!$E$3-('Shooter Information'!$G$3-RANK(K50,K$4:K$78,1)))","v":0},{"$f":"(IF('Shooter Information'!H52=1,\"MDQ\",IF(J50=1,\"SDQ\",IF(I50=1,\"DNF\",SUM(D50+G50+H50+I50+J50)))))","v":0},null,0]
[48,{"$f":"'Shooter Information'!B53","v":0},{"$f":"'Shooter Information'!C53","v":0},null,null,null,null,null,null,null,{"$f":"MIN(IF('Shooter Information'!H53=1,999.99,(D51*5)+E51-F51+(G51*10)+(H51*30)+(I51*999.99)+(J51*999.99)),999.99)","v":0},{"$f":"IF('Shooter Information'!$E$3-('Shooter Information'!$G$3-RANK(K51,K$4:K$78,1))<0,0,'Shooter Information'!$E$3-('Shooter Information'!$G$3-RANK(K51,K$4:K$78,1)))","v":0},{"$f":"(IF('Shooter Information'!H53=1,\"MDQ\",IF(J51=1,\"SDQ\",IF(I51=1,\"DNF\",SUM(D51+G51+H51+I51+J51)))))","v":0},null,0]
[49,{"$f":"'Shooter Information'!B54","v":0},{"$f":"'Shooter Information'!C54","v":0},null,null,null,null,null,null,null,{"$f":"MIN(IF('Shooter Information'!H54=1,999.99,(D52*5)+E52-F52+(G52*10)+(H52*30)+(I52*999.99)+(J52*999.99)),999.99)","v":0},{"$f":"IF('Shooter Information'!$E$3-('Shooter Information'!$G$3-RANK(K52,K$4:K$78,1))<0,0,'Shooter Information'!$E$3-('Shooter Information'!$G$3-RANK(K52,K$4:K$78,1)))","v":0},{"$f":"(IF('Shooter Information'!H54=1,\"MDQ\",IF(J52=1,\"SDQ\",IF(I52=1,\"DNF\",SUM(D52+G52+H52+I52+J52)))))","v":0},null,0]
[50,{"$f":"'Shooter Information'!B55","v":0},{"$f":"'Shooter Information'!C55","v":0},null,null,null,null,null,null,null,{"$f":"MIN(IF('Shooter Information'!H55=1,999.99,(D53*5)+E53-F53+(G53*10)+(H53*30)+(I53*999.99)+(J53*999.99)),999.99)","v":0},{"$f":"IF('Shooter Information'!$E$3-('Shooter Information'!$G$3-RANK(K53,K$4:K$78,1))<0,0,'Shooter Information'!$E$3-('Shooter Information'!$G$3-RANK(K53,K$4:K$78,1)))","v":0},{"$f":"(IF('Shooter Information'!H55=1,\"MDQ\",IF(J53=1,\"SDQ\",IF(I53=1,\"DNF\",SUM(D53+G53+H53+I53+J53)))))","v":0},null,0]
[51,{"$f":"'Shooter Information'!B56","v":0},{"$f":"'Shooter Information'!C56","v":0},null,null,null,null,null,null,null,{"$f":"MIN(IF('Shooter Information'!H56=1,999.99,(D54*5)+E54-F54+(G54*10)+(H54*30)+(I54*999.99)+(J54*999.99)),999.99)","v":0},{"$f":"IF('Shooter Information'!$E$3-('Shooter Information'!$G$3-RANK(K54,K$4:K$78,1))<0,0,'Shooter Information'!$E$3-('Shooter Information'!$G$3-RANK(K54,K$4:K$78,1)))","v":0},{"$f":"(IF('Shooter Information'!H56=1,\"MDQ\",IF(J54=1,\"SDQ\",IF(I54=1,\"DNF\",SUM(D54+G54+H54+I54+J54)))))","v":0},null,0]
[52,{"$f":"'Shooter Information'!B57","v":0},{"$f":"'Shooter Information'!C57","v":0},null,null,null,null,null,null,null,{"$f":"MIN(IF('Shooter Information'!H57=1,999.99,(D55*5)+E55-F55+(G55*10)+(H55*30)+(I55*999.99)+(J55*999.99)),999.99)","v":0},{"$f":"IF('Shooter Information'!$E$3-('Shooter Information'!$G$3-RANK(K55,K$4:K$78,1))<0,0,'Shooter Information'!$E$3-('Shooter Information'!$G$3-RANK(K55,K$4:K$78,1)))","v":0},{"$f":"(IF('Shooter Information'!H57=1,\"MDQ\",IF(J55=1,\"SDQ\",IF(I55=1,\"DNF\",SUM(D55+G55+H55+I55+J55)))))","v":0},null,0]
[53,{"$f":"'Shooter Information'!B58","v":0},{"$f":"'Shooter Information'!C58","v":0},null,null,null,null,null,null,null,{"$f":"MIN(IF('Shooter Information'!H58=1,999.99,(D56*5)+E56-F56+(G56*10)+(H56*30)+(I56*999.99)+(J56*999.99)),999.99)","v":0},{"$f":"IF('Shooter Information'!$E$3-('Shooter Information'!$G$3-RANK(K56,K$4:K$78,1))<0,0,'Shooter Information'!$E$3-('Shooter Information'!$G$3-RANK(K56,K$4:K$78,1)))","v":0},{"$f":"(IF('Shooter Information'!H58=1,\"MDQ\",IF(J56=1,\"SDQ\",IF(I56=1,\"DNF\",SUM(D56+G56+H56+I56+J56)))))","v":0},null,0]
[54,{"$f":"'Shooter Information'!B59","v":0},{"$f":"'Shooter Information'!C59","v":0},null,null,null,null,null,null,null,{"$f":"MIN(IF('Shooter Information'!H59=1,999.99,(D57*5)+E57-F57+(G57*10)+(H57*30)+(I57*999.99)+(J57*999.99)),999.99)","v":0},{"$f":"IF('Shooter Information'!$E$3-('Shooter Information'!$G$3-RANK(K57,K$4:K$78,1))<0,0,'Shooter Information'!$E$3-('Shooter Information'!$G$3-RANK(K57,K$4:K$78,1)))","v":0},{"$f":"(IF('Shooter Information'!H59=1,\"MDQ\",IF(J57=1,\"SDQ\",IF(I57=1,\"DNF\",SUM(D57+G57+H57+I57+J57)))))","v":0},null,0]
[55,{"$f":"'Shooter Information'!B60","v":0},{"$f":"'Shooter Information'!C60","v":0},null,null,null,null,null,null,null,{"$f":"MIN(IF('Shooter Information'!H60=1,999.99,(D58*5)+E58-F58+(G58*10)+(H58*30)+(I58*999.99)+(J58*999.99)),999.99)","v":0},{"$f":"IF('Shooter Information'!$E$3-('Shooter Information'!$G$3-RANK(K58,K$4:K$78,1))<0,0,'Shooter Information'!$E$3-('Shooter Information'!$G$3-RANK(K58,K$4:K$78,1)))","v":0},{"$f":"(IF('Shooter Information'!H60=1,\"MDQ\",IF(J58=1,\"SDQ\",IF(I58=1,\"DNF\",SUM(D58+G58+H58+I58+J58)))))","v":0},null,0]
[56,{"$f":"'Shooter Information'!B61","v":0},{"$f":"'Shooter Information'!C61","v":0},null,null,null,null,null,null,null,{"$f":"MIN(IF('Shooter Information'!H61=1,999.99,(D59*5)+E59-F59+(G59*10)+(H59*30)+(I59*999.99)+(J59*999.99)),999.99)","v":0},{"$f":"IF('Shooter Information'!$E$3-('Shooter Information'!$G$3-RANK(K59,K$4:K$78,1))<0,0,'Shooter Information'!$E$3-('Shooter Information'!$G$3-RANK(K59,K$4:K$78,1)))","v":0},{"$f":"(IF('Shooter Information'!H61=1,\"MDQ\",IF(J59=1,\"SDQ\",IF(I59=1,\"DNF\",SUM(D59+G59+H59+I59+J59)))))","v":0},null,0]
[57,{"$f":"'Shooter Information'!B62","v":0},{"$f":"'Shooter Information'!C62","v":0},null,null,null,null,null,null,null,{"$f":"MIN(IF('Shooter Information'!H62=1,999.99,(D60*5)+E60-F60+(G60*10)+(H60*30)+(I60*999.99)+(J60*999.99)),999.99)","v":0},{"$f":"IF('Shooter Information'!$E$3-('Shooter Information'!$G$3-RANK(K60,K$4:K$78,1))<0,0,'Shooter Information'!$E$3-('Shooter Information'!$G$3-RANK(K60,K$4:K$78,1)))","v":0},{"$f":"(IF('Shooter Information'!H62=1,\"MDQ\",IF(J60=1,\"SDQ\",IF(I60=1,\"DNF\",SUM(D60+G60+H60+I60+J60)))))","v":0},null,0]
[58,{"$f":"'Shooter Information'!B63","v":0},{"$f":"'Shooter Information'!C63","v":0},null,null,null,null,null,null,null,{"$f":"MIN(IF('Shooter Information'!H63=1,999.99,(D61*5)+E61-F61+(G61*10)+(H61*30)+(I61*999.99)+(J61*999.99)),999.99)","v":0},{"$f":"IF('Shooter Information'!$E$3-('Shooter Information'!$G$3-RANK(K61,K$4:K$78,1))<0,0,'Shooter Information'!$E$3-('Shooter Information'!$G$3-RANK(K61,K$4:K$78,1)))","v":0},{"$f":"(IF('Shooter Information'!H63=1,\"MDQ\",IF(J61=1,\"SDQ\",IF(I61=1,\"DNF\",SUM(D61+G61+H61+I61+J61)))))","v":0},null,0]
[59,{"$f":"'Shooter Information'!B64","v":0},{"$f":"'Shooter Information'!C64","v":0},null,null,null,null,null,null,null,{"$f":"MIN(IF('Shooter Information'!H64=1,999.99,(D62*5)+E62-F62+(G62*10)+(H62*30)+(I62*999.99)+(J62*999.99)),999.99)","v":0},{"$f":"IF('Shooter Information'!$E$3-('Shooter Information'!$G$3-RANK(K62,K$4:K$78,1))<0,0,'Shooter Information'!$E$3-('Shooter Information'!$G$3-RANK(K62,K$4:K$78,1)))","v":0},{"$f":"(IF('Shooter Information'!H64=1,\"MDQ\",IF(J62=1,\"SDQ\",IF(I62=1,\"DNF\",SUM(D62+G62+H62+I62+J62)))))","v":0},null,0]
[60,{"$f":"'Shooter Information'!B65","v":0},{"$f":"'Shooter Information'!C65","v":0},null,null,null,null,null,null,null,{"$f":"MIN(IF('Shooter Information'!H65=1,999.99,(D63*5)+E63-F63+(G63*10)+(H63*30)+(I63*999.99)+(J63*999.99)),999.99)","v":0},{"$f":"IF('Shooter Information'!$E$3-('Shooter Information'!$G$3-RANK(K63,K$4:K$78,1))<0,0,'Shooter Information'!$E$3-('Shooter Information'!$G$3-RANK(K63,K$4:K$78,1)))","v":0},{"$f":"(IF('Shooter Information'!H65=1,\"MDQ\",IF(J63=1,\"SDQ\",IF(I63=1,\"DNF\",SUM(D63+G63+H63+I63+J63)))))","v":0},null,0]
[61,{"$f":"'Shooter Information'!B66","v":0},{"$f":"'Shooter Information'!C66","v":0},null,null,null,null,null,null,null,{"$f":"MIN(IF('Shooter Information'!H66=1,999.99,(D64*5)+E64-F64+(G64*10)+(H64*30)+(I64*999.99)+(J64*999.99)),999.99)","v":0},{"$f":"IF('Shooter Information'!$E$3-('Shooter Information'!$G$3-RANK(K64,K$4:K$78,1))<0,0,'Shooter Information'!$E$3-('Shooter Information'!$G$3-RANK(K64,K$4:K$78,1)))","v":0},{"$f":"(IF('Shooter Information'!H66=1,\"MDQ\",IF(J64=1,\"SDQ\",IF(I64=1,\"DNF\",SUM(D64+G64+H64+I64+J64)))))","v":0},null,0]
[62,{"$f":"'Shooter Information'!B67","v":0},{"$f":"'Shooter Information'!C67","v":0},null,null,null,null,null,null,null,{"$f":"MIN(IF('Shooter Information'!H67=1,999.99,(D65*5)+E65-F65+(G65*10)+(H65*30)+(I65*999.99)+(J65*999.99)),999.99)","v":0},{"$f":"IF('Shooter Information'!$E$3-('Shooter Information'!$G$3-RANK(K65,K$4:K$78,1))<0,0,'Shooter Information'!$E$3-('Shooter Information'!$G$3-RANK(K65,K$4:K$78,1)))","v":0},{"$f":"(IF('Shooter Information'!H67=1,\"MDQ\",IF(J65=1,\"SDQ\",IF(I65=1,\"DNF\",SUM(D65+G65+H65+I65+J65)))))","v":0},null,0]
[63,{"$f":"'Shooter Information'!B68","v":0},{"$f":"'Shooter Information'!C68","v":0},null,null,null,null,null,null,null,{"$f":"MIN(IF('Shooter Information'!H68=1,999.99,(D66*5)+E66-F66+(G66*10)+(H66*30)+(I66*999.99)+(J66*999.99)),999.99)","v":0},{"$f":"IF('Shooter Information'!$E$3-('Shooter Information'!$G$3-RANK(K66,K$4:K$78,1))<0,0,'Shooter Information'!$E$3-('Shooter Information'!$G$3-RANK(K66,K$4:K$78,1)))","v":0},{"$f":"(IF('Shooter Information'!H68=1,\"MDQ\",IF(J66=1,\"SDQ\",IF(I66=1,\"DNF\",SUM(D66+G66+H66+I66+J66)))))","v":0},null,0]
[64,{"$f":"'Shooter Information'!B69","v":0},{"$f":"'Shooter Information'!C69","v":0},null,null,null,null,null,null,null,{"$f":"MIN(IF('Shooter Information'!H69=1,999.99,(D67*5)+E67-F67+(G67*10)+(H67*30)+(I67*999.99)+(J67*999.99)),999.99)","v":0},{"$f":"IF('Shooter Information'!$E$3-('Shooter Information'!$G$3-RANK(K67,K$4:K$78,1))<0,0,'Shooter Information'!$E$3-('Shooter Information'!$G$3-RANK(K67,K$4:K$78,1)))","v":0},{"$f":"(IF('Shooter Information'!H69=1,\"MDQ\",IF(J67=1,\"SDQ\",IF(I67=1,\"DNF\",SUM(D67+G67+H67+I67+J67)))))","v":0},null,0]
[65,{"$f":"'Shooter Information'!B70","v":0},{"$f":"'Shooter Information'!C70","v":0},null,null,null,null,null,null,null,{"$f":"MIN(IF('Shooter Information'!H70=1,999.99,(D68*5)+E68-F68+(G68*10)+(H68*30)+(I68*999.99)+(J68*999.99)),999.99)","v":0},{"$f":"IF('Shooter Information'!$E$3-('Shooter Information'!$G$3-RANK(K68,K$4:K$78,1))<0,0,'Shooter Information'!$E$3-('Shooter Information'!$G$3-RANK(K68,K$4:K$78,1)))","v":0},{"$f":"(IF('Shooter Information'!H70=1,\"MDQ\",IF(J68=1,\"SDQ\",IF(I68=1,\"DNF\",SUM(D68+G68+H68+I68+J68)))))","v":0},null,0]
[66,{"$f":"'Shooter Information'!B71","v":0},{"$f":"'Shooter Information'!C71","v":0},null,null,null,null,null,null,null,{"$f":"MIN(IF('Shooter Information'!H71=1,999.99,(D69*5)+E69-F69+(G69*10)+(H69*30)+(I69*999.99)+(J69*999.99)),999.99)","v":0},{"$f":"IF('Shooter Information'!$E$3-('Shooter Information'!$G$3-RANK(K69,K$4:K$78,1))<0,0,'Shooter Information'!$E$3-('Shooter Information'!$G$3-RANK(K69,K$4:K$78,1)))","v":0},{"$f":"(IF('Shooter Information'!H71=1,\"MDQ\",IF(J69=1,\"SDQ\",IF(I69=1,\"DNF\",SUM(D69+G69+H69+I69+J69)))))","v":0},null,{"$f":"SUM(D69+G69+H69+I69+J69)","v":0}]
[67,{"$f":"'Shooter Information'!B72","v":0},{"$f":"'Shooter Information'!C72","v":0},null,null,null,null,null,null,null,{"$f":"MIN(IF('Shooter Information'!H72=1,999.99,(D70*5)+E70-F70+(G70*10)+(H70*30)+(I70*999.99)+(J70*999.99)),999.99)","v":0},{"$f":"IF('Shooter Information'!$E$3-('Shooter Information'!$G$3-RANK(K70,K$4:K$78,1))<0,0,'Shooter Information'!$E$3-('Shooter Information'!$G$3-RANK(K70,K$4:K$78,1)))","v":0},{"$f":"(IF('Shooter Information'!H72=1,\"MDQ\",IF(J70=1,\"SDQ\",IF(I70=1,\"DNF\",SUM(D70+G70+H70+I70+J70)))))","v":0},null,0]
[68,{"$f":"'Shooter Information'!B73","v":0},{"$f":"'Shooter Information'!C73","v":0},null,null,null,null,null,null,null,{"$f":"MIN(IF('Shooter Information'!H73=1,999.99,(D71*5)+E71-F71+(G71*10)+(H71*30)+(I71*999.99)+(J71*999.99)),999.99)","v":0},{"$f":"IF('Shooter Information'!$E$3-('Shooter Information'!$G$3-RANK(K71,K$4:K$78,1))<0,0,'Shooter Information'!$E$3-('Shooter Information'!$G$3-RANK(K71,K$4:K$78,1)))","v":0},{"$f":"(IF('Shooter Information'!H73=1,\"MDQ\",IF(J71=1,\"SDQ\",IF(I71=1,\"DNF\",SUM(D71+G71+H71+I71+J71)))))","v":0},null,0]
[69,{"$f":"'Shooter Information'!B74","v":0},{"$f":"'Shooter Information'!C74","v":0},null,null,null,null,null,null,null,{"$f":"MIN(IF('Shooter Information'!H74=1,999.99,(D72*5)+E72-F72+(G72*10)+(H72*30)+(I72*999.99)+(J72*999.99)),999.99)","v":0},{"$f":"IF('Shooter Information'!$E$3-('Shooter Information'!$G$3-RANK(K72,K$4:K$78,1))<0,0,'Shooter Information'!$E$3-('Shooter Information'!$G$3-RANK(K72,K$4:K$78,1)))","v":0},{"$f":"(IF('Shooter Information'!H74=1,\"MDQ\",IF(J72=1,\"SDQ\",IF(I72=1,\"DNF\",SUM(D72+G72+H72+I72+J72)))))","v":0},null,0]
[70,{"$f":"'Shooter Information'!B75","v":0},{"$f":"'Shooter Information'!C75","v":0},null,null,null,null,null,null,null,{"$f":"MIN(IF('Shooter Information'!H75=1,999.99,(D73*5)+E73-F73+(G73*10)+(H73*30)+(I73*999.99)+(J73*999.99)),999.99)","v":0},{"$f":"IF('Shooter Information'!$E$3-('Shooter Information'!$G$3-RANK(K73,K$4:K$78,1))<0,0,'Shooter Information'!$E$3-('Shooter Information'!$G$3-RANK(K73,K$4:K$78,1)))","v":0},{"$f":"(IF('Shooter Information'!H75=1,\"MDQ\",IF(J73=1,\"SDQ\",IF(I73=1,\"DNF\",SUM(D73+G73+H73+I73+J73)))))","v":0},null,0]
[71,{"$f":"'Shooter Information'!B76","v":0},{"$f":"'Shooter Information'!C76","v":0},null,null,null,null,null,null,null,{"$f":"MIN(IF('Shooter Information'!H76=1,999.99,(D74*5)+E74-F74+(G74*10)+(H74*30)+(I74*999.99)+(J74*999.99)),999.99)","v":0},{"$f":"IF('Shooter Information'!$E$3-('Shooter Information'!$G$3-RANK(K74,K$4:K$78,1))<0,0,'Shooter Information'!$E$3-('Shooter Information'!$G$3-RANK(K74,K$4:K$78,1)))","v":0},{"$f":"(IF('Shooter Information'!H76=1,\"MDQ\",IF(J74=1,\"SDQ\",IF(I74=1,\"DNF\",SUM(D74+G74+H74+I74+J74)))))","v":0},null,0]
[72,{"$f":"'Shooter Information'!B77","v":0},{"$f":"'Shooter Information'!C77","v":0},null,null,null,null,null,null,null,{"$f":"MIN(IF('Shooter Information'!H77=1,999.99,(D75*5)+E75-F75+(G75*10)+(H75*30)+(I75*999.99)+(J75*999.99)),999.99)","v":0},{"$f":"IF('Shooter Information'!$E$3-('Shooter Information'!$G$3-RANK(K75,K$4:K$78,1))<0,0,'Shooter Information'!$E$3-('Shooter Information'!$G$3-RANK(K75,K$4:K$78,1)))","v":0},{"$f":"(IF('Shooter Information'!H77=1,\"MDQ\",IF(J75=1,\"SDQ\",IF(I75=1,\"DNF\",SUM(D75+G75+H75+I75+J75)))))","v":0},null,0]
[73,{"$f":"'Shooter Information'!B78","v":0},{"$f":"'Shooter Information'!C78","v":0},null,null,null,null,null,null,null,{"$f":"MIN(IF('Shooter Information'!H78=1,999.99,(D76*5)+E76-F76+(G76*10)+(H76*30)+(I76*999.99)+(J76*999.99)),999.99)","v":0},{"$f":"IF('Shooter Information'!$E$3-('Shooter Information'!$G$3-RANK(K76,K$4:K$78,1))<0,0,'Shooter Information'!$E$3-('Shooter Information'!$G$3-RANK(K76,K$4:K$78,1)))","v":0},{"$f":"(IF('Shooter Information'!H78=1,\"MDQ\",IF(J76=1,\"SDQ\",IF(I76=1,\"DNF\",SUM(D76+G76+H76+I76+J76)))))","v":0},null,0]
[74,{"$f":"'Shooter Information'!B79","v":0},{"$f":"'Shooter Information'!C79","v":0},null,null,null,null,null,null,null,{"$f":"MIN(IF('Shooter Information'!H79=1,999.99,(D77*5)+E77-F77+(G77*10)+(H77*30)+(I77*999.99)+(J77*999.99)),999.99)","v":0},{"$f":"IF('Shooter Information'!$E$3-('Shooter Information'!$G$3-RANK(K77,K$4:K$78,1))<0,0,'Shooter Information'!$E$3-('Shooter Information'!$G$3-RANK(K77,K$4:K$78,1)))","v":0},{"$f":"(IF('Shooter Information'!H79=1,\"MDQ\",IF(J77=1,\"SDQ\",IF(I77=1,\"DNF\",SUM(D77+G77+H77+I77+J77)))))","v":0},null,0]
[75,{"$f":"'Shooter Information'!B80","v":0},{"$f":"'Shooter Information'!C80","v":0},null,null,null,null,null,null,null,{"$f":"MIN(IF('Shooter Information'!H80=1,999.99,(D78*5)+E78-F78+(G78*10)+(H78*30)+(I78*999.99)+(J78*999.99)),999.99)","v":0},{"$f":"IF('Shooter Information'!$E$3-('Shooter Information'!$G$3-RANK(K78,K$4:K$78,1))<0,0,'Shooter Information'!$E$3-('Shooter Information'!$G$3-RANK(K78,K$4:K$78,1)))","v":0},{"$f":"(IF('Shooter Information'!H80=1,\"MDQ\",IF(J78=1,\"SDQ\",IF(I78=1,\"DNF\",SUM(D78+G78+H78+I78+J78)))))","v":0},null,0]

{"sheet":"Stage 10","index":11,"n_rows":78,"n_cols":15,"rows_kept":78,"cut":false,"hidden":true,"merged":[]}
[null,"Stage Input Sheet - Stage 10"]
[]
["Shooter #","Shooter","Class","Misses","Raw Time","Bonus","10 Sec","30 Sec","DNF","SDQ","Total","Rank","Penalties",null,"# Penalties"]
[{"$f":"ROW()-3","v":1},{"$f":"'Shooter Information'!B6","v":"Striker"},{"$f":"'Shooter Information'!C6","v":"WW"},null,null,null,null,null,null,null,{"$f":"MIN(IF('Shooter Information'!H6=1,999.99,(D4*5)+E4-F4+(G4*10)+(H4*30)+(I4*999.99)+(J4*999.99)),999.99)","v":0},{"$f":"IF('Shooter Information'!$E$3-('Shooter Information'!$G$3-RANK(K4,K$4:K$78,1))<0,0,'Shooter Information'!$E$3-('Shooter Information'!$G$3-RANK(K4,K$4:K$78,1)))","v":0},{"$f":"(IF('Shooter Information'!H6=1,\"MDQ\",IF(J4=1,\"SDQ\",IF(I4=1,\"DNF\",SUM(D4+G4+H4+I4+J4)))))","v":0},null,{"$f":"SUM(D4+G4+H4+I4+J4)","v":0}]
[{"$f":"ROW()-3","v":2},{"$f":"'Shooter Information'!B7","v":"Cody Maverick"},{"$f":"'Shooter Information'!C7","v":"GF"},null,null,null,null,null,null,null,{"$f":"MIN(IF('Shooter Information'!H7=1,999.99,(D5*5)+E5-F5+(G5*10)+(H5*30)+(I5*999.99)+(J5*999.99)),999.99)","v":0},{"$f":"IF('Shooter Information'!$E$3-('Shooter Information'!$G$3-RANK(K5,K$4:K$78,1))<0,0,'Shooter Information'!$E$3-('Shooter Information'!$G$3-RANK(K5,K$4:K$78,1)))","v":0},{"$f":"(IF('Shooter Information'!H7=1,\"MDQ\",IF(J5=1,\"SDQ\",IF(I5=1,\"DNF\",SUM(D5+G5+H5+I5+J5)))))","v":0},null,{"$f":"SUM(D5+G5+H5+I5+J5)","v":0}]
[3,{"$f":"'Shooter Information'!B8","v":"Potter County Kid"},{"$f":"'Shooter Information'!C8","v":"WW"},null,null,null,null,null,null,null,{"$f":"MIN(IF('Shooter Information'!H8=1,999.99,(D6*5)+E6-F6+(G6*10)+(H6*30)+(I6*999.99)+(J6*999.99)),999.99)","v":0},{"$f":"IF('Shooter Information'!$E$3-('Shooter Information'!$G$3-RANK(K6,K$4:K$78,1))<0,0,'Shooter Information'!$E$3-('Shooter Information'!$G$3-RANK(K6,K$4:K$78,1)))","v":0},{"$f":"(IF('Shooter Information'!H8=1,\"MDQ\",IF(J6=1,\"SDQ\",IF(I6=1,\"DNF\",SUM(D6+G6+H6+I6+J6)))))","v":0},null,0]
[4,{"$f":"'Shooter Information'!B9","v":"Ricochet Kid"},{"$f":"'Shooter Information'!C9","v":"W"},null,null,null,null,null,null,null,{"$f":"MIN(IF('Shooter Information'!H9=1,999.99,(D7*5)+E7-F7+(G7*10)+(H7*30)+(I7*999.99)+(J7*999.99)),999.99)","v":0},{"$f":"IF('Shooter Information'!$E$3-('Shooter Information'!$G$3-RANK(K7,K$4:K$78,1))<0,0,'Shooter Information'!$E$3-('Shooter Information'!$G$3-RANK(K7,K$4:K$78,1)))","v":0},{"$f":"(IF('Shooter Information'!H9=1,\"MDQ\",IF(J7=1,\"SDQ\",IF(I7=1,\"DNF\",SUM(D7+G7+H7+I7+J7)))))","v":0},null,0]
[5,{"$f":"'Shooter Information'!B10","v":"Flatboat Bob"},{"$f":"'Shooter Information'!C10","v":"CBAR"},null,null,null,null,null,null,null,{"$f":"MIN(IF('Shooter Information'!H10=1,999.99,(D8*5)+E8-F8+(G8*10)+(H8*30)+(I8*999.99)+(J8*999.99)),999.99)","v":0},{"$f":"IF('Shooter Information'!$E$3-('Shooter Information'!$G$3-RANK(K8,K$4:K$78,1))<0,0,'Shooter Information'!$E$3-('Shooter Information'!$G$3-RANK(K8,K$4:K$78,1)))","v":0},{"$f":"(IF('Shooter Information'!H10=1,\"MDQ\",IF(J8=1,\"SDQ\",IF(I8=1,\"DNF\",SUM(D8+G8+H8+I8+J8)))))","v":0},null,0]
[6,{"$f":"'Shooter Information'!B11","v":"Hotshod"},{"$f":"'Shooter Information'!C11","v":"W"},null,null,null,null,null,null,null,{"$f":"MIN(IF('Shooter Information'!H11=1,999.99,(D9*5)+E9-F9+(G9*10)+(H9*30)+(I9*999.99)+(J9*999.99)),999.99)","v":0},{"$f":"IF('Shooter Information'!$E$3-('Shooter Information'!$G$3-RANK(K9,K$4:K$78,1))<0,0,'Shooter Information'!$E$3-('Shooter Information'!$G$3-RANK(K9,K$4:K$78,1)))","v":0},{"$f":"(IF('Shooter Information'!H11=1,\"MDQ\",IF(J9=1,\"SDQ\",IF(I9=1,\"DNF\",SUM(D9+G9+H9+I9+J9)))))","v":0},null,0]
[7,{"$f":"'Shooter Information'!B12","v":"Prairie City Slim"},{"$f":"'Shooter Information'!C12","v":"ES"},null,null,null,null,null,null,null,{"$f":"MIN(IF('Shooter Information'!H12=1,999.99,(D10*5)+E10-F10+(G10*10)+(H10*30)+(I10*999.99)+(J10*999.99)),999.99)","v":0},{"$f":"IF('Shooter Information'!$E$3-('Shooter Information'!$G$3-RANK(K10,K$4:K$78,1))<0,0,'Shooter Information'!$E$3-('Shooter Information'!$G$3-RANK(K10,K$4:K$78,1)))","v":0},{"$f":"(IF('Shooter Information'!H12=1,\"MDQ\",IF(J10=1,\"SDQ\",IF(I10=1,\"DNF\",SUM(D10+G10+H10+I10+J10)))))","v":0},null,0]
[8,{"$f":"'Shooter Information'!B13","v":"Regret Schofield"},{"$f":"'Shooter Information'!C13","v":"49er"},null,null,null,null,null,null,null,{"$f":"MIN(IF('Shooter Information'!H13=1,999.99,(D11*5)+E11-F11+(G11*10)+(H11*30)+(I11*999.99)+(J11*999.99)),999.99)","v":0},{"$f":"IF('Shooter Information'!$E$3-('Shooter Information'!$G$3-RANK(K11,K$4:K$78,1))<0,0,'Shooter Information'!$E$3-('Shooter Information'!$G$3-RANK(K11,K$4:K$78,1)))","v":0},{"$f":"(IF('Shooter Information'!H13=1,\"MDQ\",IF(J11=1,\"SDQ\",IF(I11=1,\"DNF\",SUM(D11+G11+H11+I11+J11)))))","v":0},null,0]
[9,{"$f":"'Shooter Information'!B14","v":"Tumble Weed Tink"},{"$f":"'Shooter Information'!C14","v":"L49"},null,null,null,null,null,null,null,{"$f":"MIN(IF('Shooter Information'!H14=1,999.99,(D12*5)+E12-F12+(G12*10)+(H12*30)+(I12*999.99)+(J12*999.99)),999.99)","v":0},{"$f":"IF('Shooter Information'!$E$3-('Shooter Information'!$G$3-RANK(K12,K$4:K$78,1))<0,0,'Shooter Information'!$E$3-('Shooter Information'!$G$3-RANK(K12,K$4:K$78,1)))","v":0},{"$f":"(IF('Shooter Information'!H14=1,\"MDQ\",IF(J12=1,\"SDQ\",IF(I12=1,\"DNF\",SUM(D12+G12+H12+I12+J12)))))","v":0},null,0]
[10,{"$f":"'Shooter Information'!B15","v":"One Eyed Jane"},{"$f":"'Shooter Information'!C15","v":"LSS"},null,null,null,null,null,null,null,{"$f":"MIN(IF('Shooter Information'!H15=1,999.99,(D13*5)+E13-F13+(G13*10)+(H13*30)+(I13*999.99)+(J13*999.99)),999.99)","v":0},{"$f":"IF('Shooter Information'!$E$3-('Shooter Information'!$G$3-RANK(K13,K$4:K$78,1))<0,0,'Shooter Information'!$E$3-('Shooter Information'!$G$3-RANK(K13,K$4:K$78,1)))","v":0},{"$f":"(IF('Shooter Information'!H15=1,\"MDQ\",IF(J13=1,\"SDQ\",IF(I13=1,\"DNF\",SUM(D13+G13+H13+I13+J13)))))","v":0},null,0]
[11,{"$f":"'Shooter Information'!B16","v":"Stogie"},{"$f":"'Shooter Information'!C16","v":"49er"},null,null,null,null,null,null,null,{"$f":"MIN(IF('Shooter Information'!H16=1,999.99,(D14*5)+E14-F14+(G14*10)+(H14*30)+(I14*999.99)+(J14*999.99)),999.99)","v":0},{"$f":"IF('Shooter Information'!$E$3-('Shooter Information'!$G$3-RANK(K14,K$4:K$78,1))<0,0,'Shooter Information'!$E$3-('Shooter Information'!$G$3-RANK(K14,K$4:K$78,1)))","v":0},{"$f":"(IF('Shooter Information'!H16=1,\"MDQ\",IF(J14=1,\"SDQ\",IF(I14=1,\"DNF\",SUM(D14+G14+H14+I14+J14)))))","v":0},null,0]
[12,{"$f":"'Shooter Information'!B17","v":"Major BS Walker"},{"$f":"'Shooter Information'!C17","v":"WW"},null,null,null,null,null,null,null,{"$f":"MIN(IF('Shooter Information'!H17=1,999.99,(D15*5)+E15-F15+(G15*10)+(H15*30)+(I15*999.99)+(J15*999.99)),999.99)","v":0},{"$f":"IF('Shooter Information'!$E$3-('Shooter Information'!$G$3-RANK(K15,K$4:K$78,1))<0,0,'Shooter Information'!$E$3-('Shooter Information'!$G$3-RANK(K15,K$4:K$78,1)))","v":0},{"$f":"(IF('Shooter Information'!H17=1,\"MDQ\",IF(J15=1,\"SDQ\",IF(I15=1,\"DNF\",SUM(D15+G15+H15+I15+J15)))))","v":0},null,0]
[13,{"$f":"'Shooter Information'!B18","v":"Sassy Shooting Sours"},{"$f":"'Shooter Information'!C18","v":"S"},null,null,null,null,null,null,null,{"$f":"MIN(IF('Shooter Information'!H18=1,999.99,(D16*5)+E16-F16+(G16*10)+(H16*30)+(I16*999.99)+(J16*999.99)),999.99)","v":0},{"$f":"IF('Shooter Information'!$E$3-('Shooter Information'!$G$3-RANK(K16,K$4:K$78,1))<0,0,'Shooter Information'!$E$3-('Shooter Information'!$G$3-RANK(K16,K$4:K$78,1)))","v":0},{"$f":"(IF('Shooter Information'!H18=1,\"MDQ\",IF(J16=1,\"SDQ\",IF(I16=1,\"DNF\",SUM(D16+G16+H16+I16+J16)))))","v":0},null,0]
[14,{"$f":"'Shooter Information'!B19","v":"Lefty Spurmaker"},{"$f":"'Shooter Information'!C19","v":"S"},null,null,null,null,null,null,null,{"$f":"MIN(IF('Shooter Information'!H19=1,999.99,(D17*5)+E17-F17+(G17*10)+(H17*30)+(I17*999.99)+(J17*999.99)),999.99)","v":0},{"$f":"IF('Shooter Information'!$E$3-('Shooter Information'!$G$3-RANK(K17,K$4:K$78,1))<0,0,'Shooter Information'!$E$3-('Shooter Information'!$G$3-RANK(K17,K$4:K$78,1)))","v":0},{"$f":"(IF('Shooter Information'!H19=1,\"MDQ\",IF(J17=1,\"SDQ\",IF(I17=1,\"DNF\",SUM(D17+G17+H17+I17+J17)))))","v":0},null,0]
[15,{"$f":"'Shooter Information'!B20","v":"Windhorse Rider"},{"$f":"'Shooter Information'!C20","v":"GF"},null,null,null,null,null,null,null,{"$f":"MIN(IF('Shooter Information'!H20=1,999.99,(D18*5)+E18-F18+(G18*10)+(H18*30)+(I18*999.99)+(J18*999.99)),999.99)","v":0},{"$f":"IF('Shooter Information'!$E$3-('Shooter Information'!$G$3-RANK(K18,K$4:K$78,1))<0,0,'Shooter Information'!$E$3-('Shooter Information'!$G$3-RANK(K18,K$4:K$78,1)))","v":0},{"$f":"(IF('Shooter Information'!H20=1,\"MDQ\",IF(J18=1,\"SDQ\",IF(I18=1,\"DNF\",SUM(D18+G18+H18+I18+J18)))))","v":0},null,0]
[16,{"$f":"'Shooter Information'!B21","v":"Red Cavanaugh"},{"$f":"'Shooter Information'!C21","v":"49er"},null,null,null,null,null,null,null,{"$f":"MIN(IF('Shooter Information'!H21=1,999.99,(D19*5)+E19-F19+(G19*10)+(H19*30)+(I19*999.99)+(J19*999.99)),999.99)","v":0},{"$f":"IF('Shooter Information'!$E$3-('Shooter Information'!$G$3-RANK(K19,K$4:K$78,1))<0,0,'Shooter Information'!$E$3-('Shooter Information'!$G$3-RANK(K19,K$4:K$78,1)))","v":0},{"$f":"(IF('Shooter Information'!H21=1,\"MDQ\",IF(J19=1,\"SDQ\",IF(I19=1,\"DNF\",SUM(D19+G19+H19+I19+J19)))))","v":0},null,0]
[17,{"$f":"'Shooter Information'!B22","v":0},{"$f":"'Shooter Information'!C22","v":0},null,null,null,null,null,null,null,{"$f":"MIN(IF('Shooter Information'!H22=1,999.99,(D20*5)+E20-F20+(G20*10)+(H20*30)+(I20*999.99)+(J20*999.99)),999.99)","v":0},{"$f":"IF('Shooter Information'!$E$3-('Shooter Information'!$G$3-RANK(K20,K$4:K$78,1))<0,0,'Shooter Information'!$E$3-('Shooter Information'!$G$3-RANK(K20,K$4:K$78,1)))","v":0},{"$f":"(IF('Shooter Information'!H22=1,\"MDQ\",IF(J20=1,\"SDQ\",IF(I20=1,\"DNF\",SUM(D20+G20+H20+I20+J20)))))","v":0},null,0]
[18,{"$f":"'Shooter Information'!B23","v":0},{"$f":"'Shooter Information'!C23","v":0},null,null,null,null,null,null,null,{"$f":"MIN(IF('Shooter Information'!H23=1,999.99,(D21*5)+E21-F21+(G21*10)+(H21*30)+(I21*999.99)+(J21*999.99)),999.99)","v":0},{"$f":"IF('Shooter Information'!$E$3-('Shooter Information'!$G$3-RANK(K21,K$4:K$78,1))<0,0,'Shooter Information'!$E$3-('Shooter Information'!$G$3-RANK(K21,K$4:K$78,1)))","v":0},{"$f":"(IF('Shooter Information'!H23=1,\"MDQ\",IF(J21=1,\"SDQ\",IF(I21=1,\"DNF\",SUM(D21+G21+H21+I21+J21)))))","v":0},null,0]
[19,{"$f":"'Shooter Information'!B24","v":0},{"$f":"'Shooter Information'!C24","v":0},null,null,null,null,null,null,null,{"$f":"MIN(IF('Shooter Information'!H24=1,999.99,(D22*5)+E22-F22+(G22*10)+(H22*30)+(I22*999.99)+(J22*999.99)),999.99)","v":0},{"$f":"IF('Shooter Information'!$E$3-('Shooter Information'!$G$3-RANK(K22,K$4:K$78,1))<0,0,'Shooter Information'!$E$3-('Shooter Information'!$G$3-RANK(K22,K$4:K$78,1)))","v":0},{"$f":"(IF('Shooter Information'!H24=1,\"MDQ\",IF(J22=1,\"SDQ\",IF(I22=1,\"DNF\",SUM(D22+G22+H22+I22+J22)))))","v":0},null,0]
[20,{"$f":"'Shooter Information'!B25","v":0},{"$f":"'Shooter Information'!C25","v":0},null,null,null,null,null,null,null,{"$f":"MIN(IF('Shooter Information'!H25=1,999.99,(D23*5)+E23-F23+(G23*10)+(H23*30)+(I23*999.99)+(J23*999.99)),999.99)","v":0},{"$f":"IF('Shooter Information'!$E$3-('Shooter Information'!$G$3-RANK(K23,K$4:K$78,1))<0,0,'Shooter Information'!$E$3-('Shooter Information'!$G$3-RANK(K23,K$4:K$78,1)))","v":0},{"$f":"(IF('Shooter Information'!H25=1,\"MDQ\",IF(J23=1,\"SDQ\",IF(I23=1,\"DNF\",SUM(D23+G23+H23+I23+J23)))))","v":0},null,0]
[21,{"$f":"'Shooter Information'!B26","v":0},{"$f":"'Shooter Information'!C26","v":0},null,null,null,null,null,null,null,{"$f":"MIN(IF('Shooter Information'!H26=1,999.99,(D24*5)+E24-F24+(G24*10)+(H24*30)+(I24*999.99)+(J24*999.99)),999.99)","v":0},{"$f":"IF('Shooter Information'!$E$3-('Shooter Information'!$G$3-RANK(K24,K$4:K$78,1))<0,0,'Shooter Information'!$E$3-('Shooter Information'!$G$3-RANK(K24,K$4:K$78,1)))","v":0},{"$f":"(IF('Shooter Information'!H26=1,\"MDQ\",IF(J24=1,\"SDQ\",IF(I24=1,\"DNF\",SUM(D24+G24+H24+I24+J24)))))","v":0},null,0]
[22,{"$f":"'Shooter Information'!B27","v":0},{"$f":"'Shooter Information'!C27","v":0},null,null,null,null,null,null,null,{"$f":"MIN(IF('Shooter Information'!H27=1,999.99,(D25*5)+E25-F25+(G25*10)+(H25*30)+(I25*999.99)+(J25*999.99)),999.99)","v":0},{"$f":"IF('Shooter Information'!$E$3-('Shooter Information'!$G$3-RANK(K25,K$4:K$78,1))<0,0,'Shooter Information'!$E$3-('Shooter Information'!$G$3-RANK(K25,K$4:K$78,1)))","v":0},{"$f":"(IF('Shooter Information'!H27=1,\"MDQ\",IF(J25=1,\"SDQ\",IF(I25=1,\"DNF\",SUM(D25+G25+H25+I25+J25)))))","v":0},null,0]
[23,{"$f":"'Shooter Information'!B28","v":0},{"$f":"'Shooter Information'!C28","v":0},null,null,null,null,null,null,null,{"$f":"MIN(IF('Shooter Information'!H28=1,999.99,(D26*5)+E26-F26+(G26*10)+(H26*30)+(I26*999.99)+(J26*999.99)),999.99)","v":0},{"$f":"IF('Shooter Information'!$E$3-('Shooter Information'!$G$3-RANK(K26,K$4:K$78,1))<0,0,'Shooter Information'!$E$3-('Shooter Information'!$G$3-RANK(K26,K$4:K$78,1)))","v":0},{"$f":"(IF('Shooter Information'!H28=1,\"MDQ\",IF(J26=1,\"SDQ\",IF(I26=1,\"DNF\",SUM(D26+G26+H26+I26+J26)))))","v":0},null,0]
[24,{"$f":"'Shooter Information'!B29","v":0},{"$f":"'Shooter Information'!C29","v":0},null,null,null,null,null,null,null,{"$f":"MIN(IF('Shooter Information'!H29=1,999.99,(D27*5)+E27-F27+(G27*10)+(H27*30)+(I27*999.99)+(J27*999.99)),999.99)","v":0},{"$f":"IF('Shooter Information'!$E$3-('Shooter Information'!$G$3-RANK(K27,K$4:K$78,1))<0,0,'Shooter Information'!$E$3-('Shooter Information'!$G$3-RANK(K27,K$4:K$78,1)))","v":0},{"$f":"(IF('Shooter Information'!H29=1,\"MDQ\",IF(J27=1,\"SDQ\",IF(I27=1,\"DNF\",SUM(D27+G27+H27+I27+J27)))))","v":0},null,0]
[25,{"$f":"'Shooter Information'!B30","v":0},{"$f":"'Shooter Information'!C30","v":0},null,null,null,null,null,null,null,{"$f":"MIN(IF('Shooter Information'!H30=1,999.99,(D28*5)+E28-F28+(G28*10)+(H28*30)+(I28*999.99)+(J28*999.99)),999.99)","v":0},{"$f":"IF('Shooter Information'!$E$3-('Shooter Information'!$G$3-RANK(K28,K$4:K$78,1))<0,0,'Shooter Information'!$E$3-('Shooter Information'!$G$3-RANK(K28,K$4:K$78,1)))","v":0},{"$f":"(IF('Shooter Information'!H30=1,\"MDQ\",IF(J28=1,\"SDQ\",IF(I28=1,\"DNF\",SUM(D28+G28+H28+I28+J28)))))","v":0},null,0]
[26,{"$f":"'Shooter Information'!B31","v":0},{"$f":"'Shooter Information'!C31","v":0},null,null,null,null,null,null,null,{"$f":"MIN(IF('Shooter Information'!H31=1,999.99,(D29*5)+E29-F29+(G29*10)+(H29*30)+(I29*999.99)+(J29*999.99)),999.99)","v":0},{"$f":"IF('Shooter Information'!$E$3-('Shooter Information'!$G$3-RANK(K29,K$4:K$78,1))<0,0,'Shooter Information'!$E$3-('Shooter Information'!$G$3-RANK(K29,K$4:K$78,1)))","v":0},{"$f":"(IF('Shooter Information'!H31=1,\"MDQ\",IF(J29=1,\"SDQ\",IF(I29=1,\"DNF\",SUM(D29+G29+H29+I29+J29)))))","v":0},null,0]
[27,{"$f":"'Shooter Information'!B32","v":0},{"$f":"'Shooter Information'!C32","v":0},null,null,null,null,null,null,null,{"$f":"MIN(IF('Shooter Information'!H32=1,999.99,(D30*5)+E30-F30+(G30*10)+(H30*30)+(I30*999.99)+(J30*999.99)),999.99)","v":0},{"$f":"IF('Shooter Information'!$E$3-('Shooter Information'!$G$3-RANK(K30,K$4:K$78,1))<0,0,'Shooter Information'!$E$3-('Shooter Information'!$G$3-RANK(K30,K$4:K$78,1)))","v":0},{"$f":"(IF('Shooter Information'!H32=1,\"MDQ\",IF(J30=1,\"SDQ\",IF(I30=1,\"DNF\",SUM(D30+G30+H30+I30+J30)))))","v":0},null,0]
[28,{"$f":"'Shooter Information'!B33","v":0},{"$f":"'Shooter Information'!C33","v":0},null,null,null,null,null,null,null,{"$f":"MIN(IF('Shooter Information'!H33=1,999.99,(D31*5)+E31-F31+(G31*10)+(H31*30)+(I31*999.99)+(J31*999.99)),999.99)","v":0},{"$f":"IF('Shooter Information'!$E$3-('Shooter Information'!$G$3-RANK(K31,K$4:K$78,1))<0,0,'Shooter Information'!$E$3-('Shooter Information'!$G$3-RANK(K31,K$4:K$78,1)))","v":0},{"$f":"(IF('Shooter Information'!H33=1,\"MDQ\",IF(J31=1,\"SDQ\",IF(I31=1,\"DNF\",SUM(D31+G31+H31+I31+J31)))))","v":0},null,0]
[29,{"$f":"'Shooter Information'!B34","v":0},{"$f":"'Shooter Information'!C34","v":0},null,null,null,null,null,null,null,{"$f":"MIN(IF('Shooter Information'!H34=1,999.99,(D32*5)+E32-F32+(G32*10)+(H32*30)+(I32*999.99)+(J32*999.99)),999.99)","v":0},{"$f":"IF('Shooter Information'!$E$3-('Shooter Information'!$G$3-RANK(K32,K$4:K$78,1))<0,0,'Shooter Information'!$E$3-('Shooter Information'!$G$3-RANK(K32,K$4:K$78,1)))","v":0},{"$f":"(IF('Shooter Information'!H34=1,\"MDQ\",IF(J32=1,\"SDQ\",IF(I32=1,\"DNF\",SUM(D32+G32+H32+I32+J32)))))","v":0},null,0]
[30,{"$f":"'Shooter Information'!B35","v":0},{"$f":"'Shooter Information'!C35","v":0},null,null,null,null,null,null,null,{"$f":"MIN(IF('Shooter Information'!H35=1,999.99,(D33*5)+E33-F33+(G33*10)+(H33*30)+(I33*999.99)+(J33*999.99)),999.99)","v":0},{"$f":"IF('Shooter Information'!$E$3-('Shooter Information'!$G$3-RANK(K33,K$4:K$78,1))<0,0,'Shooter Information'!$E$3-('Shooter Information'!$G$3-RANK(K33,K$4:K$78,1)))","v":0},{"$f":"(IF('Shooter Information'!H35=1,\"MDQ\",IF(J33=1,\"SDQ\",IF(I33=1,\"DNF\",SUM(D33+G33+H33+I33+J33)))))","v":0},null,0]
[31,{"$f":"'Shooter Information'!B36","v":0},{"$f":"'Shooter Information'!C36","v":0},null,null,null,null,null,null,null,{"$f":"MIN(IF('Shooter Information'!H36=1,999.99,(D34*5)+E34-F34+(G34*10)+(H34*30)+(I34*999.99)+(J34*999.99)),999.99)","v":0},{"$f":"IF('Shooter Information'!$E$3-('Shooter Information'!$G$3-RANK(K34,K$4:K$78,1))<0,0,'Shooter Information'!$E$3-('Shooter Information'!$G$3-RANK(K34,K$4:K$78,1)))","v":0},{"$f":"(IF('Shooter Information'!H36=1,\"MDQ\",IF(J34=1,\"SDQ\",IF(I34=1,\"DNF\",SUM(D34+G34+H34+I34+J34)))))","v":0},null,0]
[32,{"$f":"'Shooter Information'!B37","v":0},{"$f":"'Shooter Information'!C37","v":0},null,null,null,null,null,null,null,{"$f":"MIN(IF('Shooter Information'!H37=1,999.99,(D35*5)+E35-F35+(G35*10)+(H35*30)+(I35*999.99)+(J35*999.99)),999.99)","v":0},{"$f":"IF('Shooter Information'!$E$3-('Shooter Information'!$G$3-RANK(K35,K$4:K$78,1))<0,0,'Shooter Information'!$E$3-('Shooter Information'!$G$3-RANK(K35,K$4:K$78,1)))","v":0},{"$f":"(IF('Shooter Information'!H37=1,\"MDQ\",IF(J35=1,\"SDQ\",IF(I35=1,\"DNF\",SUM(D35+G35+H35+I35+J35)))))","v":0},null,0]
[33,{"$f":"'Shooter Information'!B38","v":0},{"$f":"'Shooter Information'!C38","v":0},null,null,null,null,null,null,null,{"$f":"MIN(IF('Shooter Information'!H38=1,999.99,(D36*5)+E36-F36+(G36*10)+(H36*30)+(I36*999.99)+(J36*999.99)),999.99)","v":0},{"$f":"IF('Shooter Information'!$E$3-('Shooter Information'!$G$3-RANK(K36,K$4:K$78,1))<0,0,'Shooter Information'!$E$3-('Shooter Information'!$G$3-RANK(K36,K$4:K$78,1)))","v":0},{"$f":"(IF('Shooter Information'!H38=1,\"MDQ\",IF(J36=1,\"SDQ\",IF(I36=1,\"DNF\",SUM(D36+G36+H36+I36+J36)))))","v":0},null,0]
[34,{"$f":"'Shooter Information'!B39","v":0},{"$f":"'Shooter Information'!C39","v":0},null,null,null,null,null,null,null,{"$f":"MIN(IF('Shooter Information'!H39=1,999.99,(D37*5)+E37-F37+(G37*10)+(H37*30)+(I37*999.99)+(J37*999.99)),999.99)","v":0},{"$f":"IF('Shooter Information'!$E$3-('Shooter Information'!$G$3-RANK(K37,K$4:K$78,1))<0,0,'Shooter Information'!$E$3-('Shooter Information'!$G$3-RANK(K37,K$4:K$78,1)))","v":0},{"$f":"(IF('Shooter Information'!H39=1,\"MDQ\",IF(J37=1,\"SDQ\",IF(I37=1,\"DNF\",SUM(D37+G37+H37+I37+J37)))))","v":0},null,0]
[35,{"$f":"'Shooter Information'!B40","v":0},{"$f":"'Shooter Information'!C40","v":0},null,null,null,null,null,null,null,{"$f":"MIN(IF('Shooter Information'!H40=1,999.99,(D38*5)+E38-F38+(G38*10)+(H38*30)+(I38*999.99)+(J38*999.99)),999.99)","v":0},{"$f":"IF('Shooter Information'!$E$3-('Shooter Information'!$G$3-RANK(K38,K$4:K$78,1))<0,0,'Shooter Information'!$E$3-('Shooter Information'!$G$3-RANK(K38,K$4:K$78,1)))","v":0},{"$f":"(IF('Shooter Information'!H40=1,\"MDQ\",IF(J38=1,\"SDQ\",IF(I38=1,\"DNF\",SUM(D38+G38+H38+I38+J38)))))","v":0},null,0]
[36,{"$f":"'Shooter Information'!B41","v":0},{"$f":"'Shooter Information'!C41","v":0},null,null,null,null,null,null,null,{"$f":"MIN(IF('Shooter Information'!H41=1,999.99,(D39*5)+E39-F39+(G39*10)+(H39*30)+(I39*999.99)+(J39*999.99)),999.99)","v":0},{"$f":"IF('Shooter Information'!$E$3-('Shooter Information'!$G$3-RANK(K39,K$4:K$78,1))<0,0,'Shooter Information'!$E$3-('Shooter Information'!$G$3-RANK(K39,K$4:K$78,1)))","v":0},{"$f":"(IF('Shooter Information'!H41=1,\"MDQ\",IF(J39=1,\"SDQ\",IF(I39=1,\"DNF\",SUM(D39+G39+H39+I39+J39)))))","v":0},null,0]
[37,{"$f":"'Shooter Information'!B42","v":0},{"$f":"'Shooter Information'!C42","v":0},null,null,null,null,null,null,null,{"$f":"MIN(IF('Shooter Information'!H42=1,999.99,(D40*5)+E40-F40+(G40*10)+(H40*30)+(I40*999.99)+(J40*999.99)),999.99)","v":0},{"$f":"IF('Shooter Information'!$E$3-('Shooter Information'!$G$3-RANK(K40,K$4:K$78,1))<0,0,'Shooter Information'!$E$3-('Shooter Information'!$G$3-RANK(K40,K$4:K$78,1)))","v":0},{"$f":"(IF('Shooter Information'!H42=1,\"MDQ\",IF(J40=1,\"SDQ\",IF(I40=1,\"DNF\",SUM(D40+G40+H40+I40+J40)))))","v":0},null,0]
[38,{"$f":"'Shooter Information'!B43","v":0},{"$f":"'Shooter Information'!C43","v":0},null,null,null,null,null,null,null,{"$f":"MIN(IF('Shooter Information'!H43=1,999.99,(D41*5)+E41-F41+(G41*10)+(H41*30)+(I41*999.99)+(J41*999.99)),999.99)","v":0},{"$f":"IF('Shooter Information'!$E$3-('Shooter Information'!$G$3-RANK(K41,K$4:K$78,1))<0,0,'Shooter Information'!$E$3-('Shooter Information'!$G$3-RANK(K41,K$4:K$78,1)))","v":0},{"$f":"(IF('Shooter Information'!H43=1,\"MDQ\",IF(J41=1,\"SDQ\",IF(I41=1,\"DNF\",SUM(D41+G41+H41+I41+J41)))))","v":0},null,0]
[39,{"$f":"'Shooter Information'!B44","v":0},{"$f":"'Shooter Information'!C44","v":0},null,null,null,null,null,null,null,{"$f":"MIN(IF('Shooter Information'!H44=1,999.99,(D42*5)+E42-F42+(G42*10)+(H42*30)+(I42*999.99)+(J42*999.99)),999.99)","v":0},{"$f":"IF('Shooter Information'!$E$3-('Shooter Information'!$G$3-RANK(K42,K$4:K$78,1))<0,0,'Shooter Information'!$E$3-('Shooter Information'!$G$3-RANK(K42,K$4:K$78,1)))","v":0},{"$f":"(IF('Shooter Information'!H44=1,\"MDQ\",IF(J42=1,\"SDQ\",IF(I42=1,\"DNF\",SUM(D42+G42+H42+I42+J42)))))","v":0},null,0]
[40,{"$f":"'Shooter Information'!B45","v":0},{"$f":"'Shooter Information'!C45","v":0},null,null,null,null,null,null,null,{"$f":"MIN(IF('Shooter Information'!H45=1,999.99,(D43*5)+E43-F43+(G43*10)+(H43*30)+(I43*999.99)+(J43*999.99)),999.99)","v":0},{"$f":"IF('Shooter Information'!$E$3-('Shooter Information'!$G$3-RANK(K43,K$4:K$78,1))<0,0,'Shooter Information'!$E$3-('Shooter Information'!$G$3-RANK(K43,K$4:K$78,1)))","v":0},{"$f":"(IF('Shooter Information'!H45=1,\"MDQ\",IF(J43=1,\"SDQ\",IF(I43=1,\"DNF\",SUM(D43+G43+H43+I43+J43)))))","v":0},null,0]
[41,{"$f":"'Shooter Information'!B46","v":0},{"$f":"'Shooter Information'!C46","v":0},null,null,null,null,null,null,null,{"$f":"MIN(IF('Shooter Information'!H46=1,999.99,(D44*5)+E44-F44+(G44*10)+(H44*30)+(I44*999.99)+(J44*999.99)),999.99)","v":0},{"$f":"IF('Shooter Information'!$E$3-('Shooter Information'!$G$3-RANK(K44,K$4:K$78,1))<0,0,'Shooter Information'!$E$3-('Shooter Information'!$G$3-RANK(K44,K$4:K$78,1)))","v":0},{"$f":"(IF('Shooter Information'!H46=1,\"MDQ\",IF(J44=1,\"SDQ\",IF(I44=1,\"DNF\",SUM(D44+G44+H44+I44+J44)))))","v":0},null,0]
[42,{"$f":"'Shooter Information'!B47","v":0},{"$f":"'Shooter Information'!C47","v":0},null,null,null,null,null,null,null,{"$f":"MIN(IF('Shooter Information'!H47=1,999.99,(D45*5)+E45-F45+(G45*10)+(H45*30)+(I45*999.99)+(J45*999.99)),999.99)","v":0},{"$f":"IF('Shooter Information'!$E$3-('Shooter Information'!$G$3-RANK(K45,K$4:K$78,1))<0,0,'Shooter Information'!$E$3-('Shooter Information'!$G$3-RANK(K45,K$4:K$78,1)))","v":0},{"$f":"(IF('Shooter Information'!H47=1,\"MDQ\",IF(J45=1,\"SDQ\",IF(I45=1,\"DNF\",SUM(D45+G45+H45+I45+J45)))))","v":0},null,0]
[43,{"$f":"'Shooter Information'!B48","v":0},{"$f":"'Shooter Information'!C48","v":0},null,null,null,null,null,null,null,{"$f":"MIN(IF('Shooter Information'!H48=1,999.99,(D46*5)+E46-F46+(G46*10)+(H46*30)+(I46*999.99)+(J46*999.99)),999.99)","v":0},{"$f":"IF('Shooter Information'!$E$3-('Shooter Information'!$G$3-RANK(K46,K$4:K$78,1))<0,0,'Shooter Information'!$E$3-('Shooter Information'!$G$3-RANK(K46,K$4:K$78,1)))","v":0},{"$f":"(IF('Shooter Information'!H48=1,\"MDQ\",IF(J46=1,\"SDQ\",IF(I46=1,\"DNF\",SUM(D46+G46+H46+I46+J46)))))","v":0},null,0]
[44,{"$f":"'Shooter Information'!B49","v":0},{"$f":"'Shooter Information'!C49","v":0},null,null,null,null,null,null,null,{"$f":"MIN(IF('Shooter Information'!H49=1,999.99,(D47*5)+E47-F47+(G47*10)+(H47*30)+(I47*999.99)+(J47*999.99)),999.99)","v":0},{"$f":"IF('Shooter Information'!$E$3-('Shooter Information'!$G$3-RANK(K47,K$4:K$78,1))<0,0,'Shooter Information'!$E$3-('Shooter Information'!$G$3-RANK(K47,K$4:K$78,1)))","v":0},{"$f":"(IF('Shooter Information'!H49=1,\"MDQ\",IF(J47=1,\"SDQ\",IF(I47=1,\"DNF\",SUM(D47+G47+H47+I47+J47)))))","v":0},null,0]
[45,{"$f":"'Shooter Information'!B50","v":0},{"$f":"'Shooter Information'!C50","v":0},null,null,null,null,null,null,null,{"$f":"MIN(IF('Shooter Information'!H50=1,999.99,(D48*5)+E48-F48+(G48*10)+(H48*30)+(I48*999.99)+(J48*999.99)),999.99)","v":0},{"$f":"IF('Shooter Information'!$E$3-('Shooter Information'!$G$3-RANK(K48,K$4:K$78,1))<0,0,'Shooter Information'!$E$3-('Shooter Information'!$G$3-RANK(K48,K$4:K$78,1)))","v":0},{"$f":"(IF('Shooter Information'!H50=1,\"MDQ\",IF(J48=1,\"SDQ\",IF(I48=1,\"DNF\",SUM(D48+G48+H48+I48+J48)))))","v":0},null,0]
[46,{"$f":"'Shooter Information'!B51","v":0},{"$f":"'Shooter Information'!C51","v":0},null,null,null,null,null,null,null,{"$f":"MIN(IF('Shooter Information'!H51=1,999.99,(D49*5)+E49-F49+(G49*10)+(H49*30)+(I49*999.99)+(J49*999.99)),999.99)","v":0},{"$f":"IF('Shooter Information'!$E$3-('Shooter Information'!$G$3-RANK(K49,K$4:K$78,1))<0,0,'Shooter Information'!$E$3-('Shooter Information'!$G$3-RANK(K49,K$4:K$78,1)))","v":0},{"$f":"(IF('Shooter Information'!H51=1,\"MDQ\",IF(J49=1,\"SDQ\",IF(I49=1,\"DNF\",SUM(D49+G49+H49+I49+J49)))))","v":0},null,0]
[47,{"$f":"'Shooter Information'!B52","v":0},{"$f":"'Shooter Information'!C52","v":0},null,null,null,null,null,null,null,{"$f":"MIN(IF('Shooter Information'!H52=1,999.99,(D50*5)+E50-F50+(G50*10)+(H50*30)+(I50*999.99)+(J50*999.99)),999.99)","v":0},{"$f":"IF('Shooter Information'!$E$3-('Shooter Information'!$G$3-RANK(K50,K$4:K$78,1))<0,0,'Shooter Information'!$E$3-('Shooter Information'!$G$3-RANK(K50,K$4:K$78,1)))","v":0},{"$f":"(IF('Shooter Information'!H52=1,\"MDQ\",IF(J50=1,\"SDQ\",IF(I50=1,\"DNF\",SUM(D50+G50+H50+I50+J50)))))","v":0},null,0]
[48,{"$f":"'Shooter Information'!B53","v":0},{"$f":"'Shooter Information'!C53","v":0},null,null,null,null,null,null,null,{"$f":"MIN(IF('Shooter Information'!H53=1,999.99,(D51*5)+E51-F51+(G51*10)+(H51*30)+(I51*999.99)+(J51*999.99)),999.99)","v":0},{"$f":"IF('Shooter Information'!$E$3-('Shooter Information'!$G$3-RANK(K51,K$4:K$78,1))<0,0,'Shooter Information'!$E$3-('Shooter Information'!$G$3-RANK(K51,K$4:K$78,1)))","v":0},{"$f":"(IF('Shooter Information'!H53=1,\"MDQ\",IF(J51=1,\"SDQ\",IF(I51=1,\"DNF\",SUM(D51+G51+H51+I51+J51)))))","v":0},null,0]
[49,{"$f":"'Shooter Information'!B54","v":0},{"$f":"'Shooter Information'!C54","v":0},null,null,null,null,null,null,null,{"$f":"MIN(IF('Shooter Information'!H54=1,999.99,(D52*5)+E52-F52+(G52*10)+(H52*30)+(I52*999.99)+(J52*999.99)),999.99)","v":0},{"$f":"IF('Shooter Information'!$E$3-('Shooter Information'!$G$3-RANK(K52,K$4:K$78,1))<0,0,'Shooter Information'!$E$3-('Shooter Information'!$G$3-RANK(K52,K$4:K$78,1)))","v":0},{"$f":"(IF('Shooter Information'!H54=1,\"MDQ\",IF(J52=1,\"SDQ\",IF(I52=1,\"DNF\",SUM(D52+G52+H52+I52+J52)))))","v":0},null,0]
[50,{"$f":"'Shooter Information'!B55","v":0},{"$f":"'Shooter Information'!C55","v":0},null,null,null,null,null,null,null,{"$f":"MIN(IF('Shooter Information'!H55=1,999.99,(D53*5)+E53-F53+(G53*10)+(H53*30)+(I53*999.99)+(J53*999.99)),999.99)","v":0},{"$f":"IF('Shooter Information'!$E$3-('Shooter Information'!$G$3-RANK(K53,K$4:K$78,1))<0,0,'Shooter Information'!$E$3-('Shooter Information'!$G$3-RANK(K53,K$4:K$78,1)))","v":0},{"$f":"(IF('Shooter Information'!H55=1,\"MDQ\",IF(J53=1,\"SDQ\",IF(I53=1,\"DNF\",SUM(D53+G53+H53+I53+J53)))))","v":0},null,0]
[51,{"$f":"'Shooter Information'!B56","v":0},{"$f":"'Shooter Information'!C56","v":0},null,null,null,null,null,null,null,{"$f":"MIN(IF('Shooter Information'!H56=1,999.99,(D54*5)+E54-F54+(G54*10)+(H54*30)+(I54*999.99)+(J54*999.99)),999.99)","v":0},{"$f":"IF('Shooter Information'!$E$3-('Shooter Information'!$G$3-RANK(K54,K$4:K$78,1))<0,0,'Shooter Information'!$E$3-('Shooter Information'!$G$3-RANK(K54,K$4:K$78,1)))","v":0},{"$f":"(IF('Shooter Information'!H56=1,\"MDQ\",IF(J54=1,\"SDQ\",IF(I54=1,\"DNF\",SUM(D54+G54+H54+I54+J54)))))","v":0},null,0]
[52,{"$f":"'Shooter Information'!B57","v":0},{"$f":"'Shooter Information'!C57","v":0},null,null,null,null,null,null,null,{"$f":"MIN(IF('Shooter Information'!H57=1,999.99,(D55*5)+E55-F55+(G55*10)+(H55*30)+(I55*999.99)+(J55*999.99)),999.99)","v":0},{"$f":"IF('Shooter Information'!$E$3-('Shooter Information'!$G$3-RANK(K55,K$4:K$78,1))<0,0,'Shooter Information'!$E$3-('Shooter Information'!$G$3-RANK(K55,K$4:K$78,1)))","v":0},{"$f":"(IF('Shooter Information'!H57=1,\"MDQ\",IF(J55=1,\"SDQ\",IF(I55=1,\"DNF\",SUM(D55+G55+H55+I55+J55)))))","v":0},null,0]
[53,{"$f":"'Shooter Information'!B58","v":0},{"$f":"'Shooter Information'!C58","v":0},null,null,null,null,null,null,null,{"$f":"MIN(IF('Shooter Information'!H58=1,999.99,(D56*5)+E56-F56+(G56*10)+(H56*30)+(I56*999.99)+(J56*999.99)),999.99)","v":0},{"$f":"IF('Shooter Information'!$E$3-('Shooter Information'!$G$3-RANK(K56,K$4:K$78,1))<0,0,'Shooter Information'!$E$3-('Shooter Information'!$G$3-RANK(K56,K$4:K$78,1)))","v":0},{"$f":"(IF('Shooter Information'!H58=1,\"MDQ\",IF(J56=1,\"SDQ\",IF(I56=1,\"DNF\",SUM(D56+G56+H56+I56+J56)))))","v":0},null,0]
[54,{"$f":"'Shooter Information'!B59","v":0},{"$f":"'Shooter Information'!C59","v":0},null,null,null,null,null,null,null,{"$f":"MIN(IF('Shooter Information'!H59=1,999.99,(D57*5)+E57-F57+(G57*10)+(H57*30)+(I57*999.99)+(J57*999.99)),999.99)","v":0},{"$f":"IF('Shooter Information'!$E$3-('Shooter Information'!$G$3-RANK(K57,K$4:K$78,1))<0,0,'Shooter Information'!$E$3-('Shooter Information'!$G$3-RANK(K57,K$4:K$78,1)))","v":0},{"$f":"(IF('Shooter Information'!H59=1,\"MDQ\",IF(J57=1,\"SDQ\",IF(I57=1,\"DNF\",SUM(D57+G57+H57+I57+J57)))))","v":0},null,0]
[55,{"$f":"'Shooter Information'!B60","v":0},{"$f":"'Shooter Information'!C60","v":0},null,null,null,null,null,null,null,{"$f":"MIN(IF('Shooter Information'!H60=1,999.99,(D58*5)+E58-F58+(G58*10)+(H58*30)+(I58*999.99)+(J58*999.99)),999.99)","v":0},{"$f":"IF('Shooter Information'!$E$3-('Shooter Information'!$G$3-RANK(K58,K$4:K$78,1))<0,0,'Shooter Information'!$E$3-('Shooter Information'!$G$3-RANK(K58,K$4:K$78,1)))","v":0},{"$f":"(IF('Shooter Information'!H60=1,\"MDQ\",IF(J58=1,\"SDQ\",IF(I58=1,\"DNF\",SUM(D58+G58+H58+I58+J58)))))","v":0},null,0]
[56,{"$f":"'Shooter Information'!B61","v":0},{"$f":"'Shooter Information'!C61","v":0},null,null,null,null,null,null,null,{"$f":"MIN(IF('Shooter Information'!H61=1,999.99,(D59*5)+E59-F59+(G59*10)+(H59*30)+(I59*999.99)+(J59*999.99)),999.99)","v":0},{"$f":"IF('Shooter Information'!$E$3-('Shooter Information'!$G$3-RANK(K59,K$4:K$78,1))<0,0,'Shooter Information'!$E$3-('Shooter Information'!$G$3-RANK(K59,K$4:K$78,1)))","v":0},{"$f":"(IF('Shooter Information'!H61=1,\"MDQ\",IF(J59=1,\"SDQ\",IF(I59=1,\"DNF\",SUM(D59+G59+H59+I59+J59)))))","v":0},null,0]
[57,{"$f":"'Shooter Information'!B62","v":0},{"$f":"'Shooter Information'!C62","v":0},null,null,null,null,null,null,null,{"$f":"MIN(IF('Shooter Information'!H62=1,999.99,(D60*5)+E60-F60+(G60*10)+(H60*30)+(I60*999.99)+(J60*999.99)),999.99)","v":0},{"$f":"IF('Shooter Information'!$E$3-('Shooter Information'!$G$3-RANK(K60,K$4:K$78,1))<0,0,'Shooter Information'!$E$3-('Shooter Information'!$G$3-RANK(K60,K$4:K$78,1)))","v":0},{"$f":"(IF('Shooter Information'!H62=1,\"MDQ\",IF(J60=1,\"SDQ\",IF(I60=1,\"DNF\",SUM(D60+G60+H60+I60+J60)))))","v":0},null,0]
[58,{"$f":"'Shooter Information'!B63","v":0},{"$f":"'Shooter Information'!C63","v":0},null,null,null,null,null,null,null,{"$f":"MIN(IF('Shooter Information'!H63=1,999.99,(D61*5)+E61-F61+(G61*10)+(H61*30)+(I61*999.99)+(J61*999.99)),999.99)","v":0},{"$f":"IF('Shooter Information'!$E$3-('Shooter Information'!$G$3-RANK(K61,K$4:K$78,1))<0,0,'Shooter Information'!$E$3-('Shooter Information'!$G$3-RANK(K61,K$4:K$78,1)))","v":0},{"$f":"(IF('Shooter Information'!H63=1,\"MDQ\",IF(J61=1,\"SDQ\",IF(I61=1,\"DNF\",SUM(D61+G61+H61+I61+J61)))))","v":0},null,0]
[59,{"$f":"'Shooter Information'!B64","v":0},{"$f":"'Shooter Information'!C64","v":0},null,null,null,null,null,null,null,{"$f":"MIN(IF('Shooter Information'!H64=1,999.99,(D62*5)+E62-F62+(G62*10)+(H62*30)+(I62*999.99)+(J62*999.99)),999.99)","v":0},{"$f":"IF('Shooter Information'!$E$3-('Shooter Information'!$G$3-RANK(K62,K$4:K$78,1))<0,0,'Shooter Information'!$E$3-('Shooter Information'!$G$3-RANK(K62,K$4:K$78,1)))","v":0},{"$f":"(IF('Shooter Information'!H64=1,\"MDQ\",IF(J62=1,\"SDQ\",IF(I62=1,\"DNF\",SUM(D62+G62+H62+I62+J62)))))","v":0},null,0]
[60,{"$f":"'Shooter Information'!B65","v":0},{"$f":"'Shooter Information'!C65","v":0},null,null,null,null,null,null,null,{"$f":"MIN(IF('Shooter Information'!H65=1,999.99,(D63*5)+E63-F63+(G63*10)+(H63*30)+(I63*999.99)+(J63*999.99)),999.99)","v":0},{"$f":"IF('Shooter Information'!$E$3-('Shooter Information'!$G$3-RANK(K63,K$4:K$78,1))<0,0,'Shooter Information'!$E$3-('Shooter Information'!$G$3-RANK(K63,K$4:K$78,1)))","v":0},{"$f":"(IF('Shooter Information'!H65=1,\"MDQ\",IF(J63=1,\"SDQ\",IF(I63=1,\"DNF\",SUM(D63+G63+H63+I63+J63)))))","v":0},null,0]
[61,{"$f":"'Shooter Information'!B66","v":0},{"$f":"'Shooter Information'!C66","v":0},null,null,null,null,null,null,null,{"$f":"MIN(IF('Shooter Information'!H66=1,999.99,(D64*5)+E64-F64+(G64*10)+(H64*30)+(I64*999.99)+(J64*999.99)),999.99)","v":0},{"$f":"IF('Shooter Information'!$E$3-('Shooter Information'!$G$3-RANK(K64,K$4:K$78,1))<0,0,'Shooter Information'!$E$3-('Shooter Information'!$G$3-RANK(K64,K$4:K$78,1)))","v":0},{"$f":"(IF('Shooter Information'!H66=1,\"MDQ\",IF(J64=1,\"SDQ\",IF(I64=1,\"DNF\",SUM(D64+G64+H64+I64+J64)))))","v":0},null,0]
[62,{"$f":"'Shooter Information'!B67","v":0},{"$f":"'Shooter Information'!C67","v":0},null,null,null,null,null,null,null,{"$f":"MIN(IF('Shooter Information'!H67=1,999.99,(D65*5)+E65-F65+(G65*10)+(H65*30)+(I65*999.99)+(J65*999.99)),999.99)","v":0},{"$f":"IF('Shooter Information'!$E$3-('Shooter Information'!$G$3-RANK(K65,K$4:K$78,1))<0,0,'Shooter Information'!$E$3-('Shooter Information'!$G$3-RANK(K65,K$4:K$78,1)))","v":0},{"$f":"(IF('Shooter Information'!H67=1,\"MDQ\",IF(J65=1,\"SDQ\",IF(I65=1,\"DNF\",SUM(D65+G65+H65+I65+J65)))))","v":0},null,0]
[63,{"$f":"'Shooter Information'!B68","v":0},{"$f":"'Shooter Information'!C68","v":0},null,null,null,null,null,null,null,{"$f":"MIN(IF('Shooter Information'!H68=1,999.99,(D66*5)+E66-F66+(G66*10)+(H66*30)+(I66*999.99)+(J66*999.99)),999.99)","v":0},{"$f":"IF('Shooter Information'!$E$3-('Shooter Information'!$G$3-RANK(K66,K$4:K$78,1))<0,0,'Shooter Information'!$E$3-('Shooter Information'!$G$3-RANK(K66,K$4:K$78,1)))","v":0},{"$f":"(IF('Shooter Information'!H68=1,\"MDQ\",IF(J66=1,\"SDQ\",IF(I66=1,\"DNF\",SUM(D66+G66+H66+I66+J66)))))","v":0},null,0]
[64,{"$f":"'Shooter Information'!B69","v":0},{"$f":"'Shooter Information'!C69","v":0},null,null,null,null,null,null,null,{"$f":"MIN(IF('Shooter Information'!H69=1,999.99,(D67*5)+E67-F67+(G67*10)+(H67*30)+(I67*999.99)+(J67*999.99)),999.99)","v":0},{"$f":"IF('Shooter Information'!$E$3-('Shooter Information'!$G$3-RANK(K67,K$4:K$78,1))<0,0,'Shooter Information'!$E$3-('Shooter Information'!$G$3-RANK(K67,K$4:K$78,1)))","v":0},{"$f":"(IF('Shooter Information'!H69=1,\"MDQ\",IF(J67=1,\"SDQ\",IF(I67=1,\"DNF\",SUM(D67+G67+H67+I67+J67)))))","v":0},null,0]
[65,{"$f":"'Shooter Information'!B70","v":0},{"$f":"'Shooter Information'!C70","v":0},null,null,null,null,null,null,null,{"$f":"MIN(IF('Shooter Information'!H70=1,999.99,(D68*5)+E68-F68+(G68*10)+(H68*30)+(I68*999.99)+(J68*999.99)),999.99)","v":0},{"$f":"IF('Shooter Information'!$E$3-('Shooter Information'!$G$3-RANK(K68,K$4:K$78,1))<0,0,'Shooter Information'!$E$3-('Shooter Information'!$G$3-RANK(K68,K$4:K$78,1)))","v":0},{"$f":"(IF('Shooter Information'!H70=1,\"MDQ\",IF(J68=1,\"SDQ\",IF(I68=1,\"DNF\",SUM(D68+G68+H68+I68+J68)))))","v":0},null,0]
[66,{"$f":"'Shooter Information'!B71","v":0},{"$f":"'Shooter Information'!C71","v":0},null,null,null,null,null,null,null,{"$f":"MIN(IF('Shooter Information'!H71=1,999.99,(D69*5)+E69-F69+(G69*10)+(H69*30)+(I69*999.99)+(J69*999.99)),999.99)","v":0},{"$f":"IF('Shooter Information'!$E$3-('Shooter Information'!$G$3-RANK(K69,K$4:K$78,1))<0,0,'Shooter Information'!$E$3-('Shooter Information'!$G$3-RANK(K69,K$4:K$78,1)))","v":0},{"$f":"(IF('Shooter Information'!H71=1,\"MDQ\",IF(J69=1,\"SDQ\",IF(I69=1,\"DNF\",SUM(D69+G69+H69+I69+J69)))))","v":0},null,{"$f":"SUM(D69+G69+H69+I69+J69)","v":0}]
[67,{"$f":"'Shooter Information'!B72","v":0},{"$f":"'Shooter Information'!C72","v":0},null,null,null,null,null,null,null,{"$f":"MIN(IF('Shooter Information'!H72=1,999.99,(D70*5)+E70-F70+(G70*10)+(H70*30)+(I70*999.99)+(J70*999.99)),999.99)","v":0},{"$f":"IF('Shooter Information'!$E$3-('Shooter Information'!$G$3-RANK(K70,K$4:K$78,1))<0,0,'Shooter Information'!$E$3-('Shooter Information'!$G$3-RANK(K70,K$4:K$78,1)))","v":0},{"$f":"(IF('Shooter Information'!H72=1,\"MDQ\",IF(J70=1,\"SDQ\",IF(I70=1,\"DNF\",SUM(D70+G70+H70+I70+J70)))))","v":0},null,0]
[68,{"$f":"'Shooter Information'!B73","v":0},{"$f":"'Shooter Information'!C73","v":0},null,null,null,null,null,null,null,{"$f":"MIN(IF('Shooter Information'!H73=1,999.99,(D71*5)+E71-F71+(G71*10)+(H71*30)+(I71*999.99)+(J71*999.99)),999.99)","v":0},{"$f":"IF('Shooter Information'!$E$3-('Shooter Information'!$G$3-RANK(K71,K$4:K$78,1))<0,0,'Shooter Information'!$E$3-('Shooter Information'!$G$3-RANK(K71,K$4:K$78,1)))","v":0},{"$f":"(IF('Shooter Information'!H73=1,\"MDQ\",IF(J71=1,\"SDQ\",IF(I71=1,\"DNF\",SUM(D71+G71+H71+I71+J71)))))","v":0},null,0]
[69,{"$f":"'Shooter Information'!B74","v":0},{"$f":"'Shooter Information'!C74","v":0},null,null,null,null,null,null,null,{"$f":"MIN(IF('Shooter Information'!H74=1,999.99,(D72*5)+E72-F72+(G72*10)+(H72*30)+(I72*999.99)+(J72*999.99)),999.99)","v":0},{"$f":"IF('Shooter Information'!$E$3-('Shooter Information'!$G$3-RANK(K72,K$4:K$78,1))<0,0,'Shooter Information'!$E$3-('Shooter Information'!$G$3-RANK(K72,K$4:K$78,1)))","v":0},{"$f":"(IF('Shooter Information'!H74=1,\"MDQ\",IF(J72=1,\"SDQ\",IF(I72=1,\"DNF\",SUM(D72+G72+H72+I72+J72)))))","v":0},null,0]
[70,{"$f":"'Shooter Information'!B75","v":0},{"$f":"'Shooter Information'!C75","v":0},null,null,null,null,null,null,null,{"$f":"MIN(IF('Shooter Information'!H75=1,999.99,(D73*5)+E73-F73+(G73*10)+(H73*30)+(I73*999.99)+(J73*999.99)),999.99)","v":0},{"$f":"IF('Shooter Information'!$E$3-('Shooter Information'!$G$3-RANK(K73,K$4:K$78,1))<0,0,'Shooter Information'!$E$3-('Shooter Information'!$G$3-RANK(K73,K$4:K$78,1)))","v":0},{"$f":"(IF('Shooter Information'!H75=1,\"MDQ\",IF(J73=1,\"SDQ\",IF(I73=1,\"DNF\",SUM(D73+G73+H73+I73+J73)))))","v":0},null,0]
[71,{"$f":"'Shooter Information'!B76","v":0},{"$f":"'Shooter Information'!C76","v":0},null,null,null,null,null,null,null,{"$f":"MIN(IF('Shooter Information'!H76=1,999.99,(D74*5)+E74-F74+(G74*10)+(H74*30)+(I74*999.99)+(J74*999.99)),999.99)","v":0},{"$f":"IF('Shooter Information'!$E$3-('Shooter Information'!$G$3-RANK(K74,K$4:K$78,1))<0,0,'Shooter Information'!$E$3-('Shooter Information'!$G$3-RANK(K74,K$4:K$78,1)))","v":0},{"$f":"(IF('Shooter Information'!H76=1,\"MDQ\",IF(J74=1,\"SDQ\",IF(I74=1,\"DNF\",SUM(D74+G74+H74+I74+J74)))))","v":0},null,0]
[72,{"$f":"'Shooter Information'!B77","v":0},{"$f":"'Shooter Information'!C77","v":0},null,null,null,null,null,null,null,{"$f":"MIN(IF('Shooter Information'!H77=1,999.99,(D75*5)+E75-F75+(G75*10)+(H75*30)+(I75*999.99)+(J75*999.99)),999.99)","v":0},{"$f":"IF('Shooter Information'!$E$3-('Shooter Information'!$G$3-RANK(K75,K$4:K$78,1))<0,0,'Shooter Information'!$E$3-('Shooter Information'!$G$3-RANK(K75,K$4:K$78,1)))","v":0},{"$f":"(IF('Shooter Information'!H77=1,\"MDQ\",IF(J75=1,\"SDQ\",IF(I75=1,\"DNF\",SUM(D75+G75+H75+I75+J75)))))","v":0},null,0]
[73,{"$f":"'Shooter Information'!B78","v":0},{"$f":"'Shooter Information'!C78","v":0},null,null,null,null,null,null,null,{"$f":"MIN(IF('Shooter Information'!H78=1,999.99,(D76*5)+E76-F76+(G76*10)+(H76*30)+(I76*999.99)+(J76*999.99)),999.99)","v":0},{"$f":"IF('Shooter Information'!$E$3-('Shooter Information'!$G$3-RANK(K76,K$4:K$78,1))<0,0,'Shooter Information'!$E$3-('Shooter Information'!$G$3-RANK(K76,K$4:K$78,1)))","v":0},{"$f":"(IF('Shooter Information'!H78=1,\"MDQ\",IF(J76=1,\"SDQ\",IF(I76=1,\"DNF\",SUM(D76+G76+H76+I76+J76)))))","v":0},null,0]
[74,{"$f":"'Shooter Information'!B79","v":0},{"$f":"'Shooter Information'!C79","v":0},null,null,null,null,null,null,null,{"$f":"MIN(IF('Shooter Information'!H79=1,999.99,(D77*5)+E77-F77+(G77*10)+(H77*30)+(I77*999.99)+(J77*999.99)),999.99)","v":0},{"$f":"IF('Shooter Information'!$E$3-('Shooter Information'!$G$3-RANK(K77,K$4:K$78,1))<0,0,'Shooter Information'!$E$3-('Shooter Information'!$G$3-RANK(K77,K$4:K$78,1)))","v":0},{"$f":"(IF('Shooter Information'!H79=1,\"MDQ\",IF(J77=1,\"SDQ\",IF(I77=1,\"DNF\",SUM(D77+G77+H77+I77+J77)))))","v":0},null,0]
[75,{"$f":"'Shooter Information'!B80","v":0},{"$f":"'Shooter Information'!C80","v":0},null,null,null,null,null,null,null,{"$f":"MIN(IF('Shooter Information'!H80=1,999.99,(D78*5)+E78-F78+(G78*10)+(H78*30)+(I78*999.99)+(J78*999.99)),999.99)","v":0},{"$f":"IF('Shooter Information'!$E$3-('Shooter Information'!$G$3-RANK(K78,K$4:K$78,1))<0,0,'Shooter Information'!$E$3-('Shooter Information'!$G$3-RANK(K78,K$4:K$78,1)))","v":0},{"$f":"(IF('Shooter Information'!H80=1,\"MDQ\",IF(J78=1,\"SDQ\",IF(I78=1,\"DNF\",SUM(D78+G78+H78+I78+J78)))))","v":0},null,0]

{"sheet":"Stage 11","index":12,"n_rows":78,"n_cols":15,"rows_kept":78,"cut":false,"hidden":true,"merged":[]}
[null,"Stage Input Sheet - Stage 11"]
[]
["Shooter #","Shooter","Class","Misses","Raw Time","Bonus","10 Sec","30 Sec","DNF","SDQ","Total","Rank","Penalties",null,"# Penalties"]
[{"$f":"ROW()-3","v":1},{"$f":"'Shooter Information'!B6","v":"Striker"},{"$f":"'Shooter Information'!C6","v":"WW"},null,null,null,null,null,null,null,{"$f":"MIN(IF('Shooter Information'!H6=1,999.99,(D4*5)+E4-F4+(G4*10)+(H4*30)+(I4*999.99)+(J4*999.99)),999.99)","v":0},{"$f":"IF('Shooter Information'!$E$3-('Shooter Information'!$G$3-RANK(K4,K$4:K$78,1))<0,0,'Shooter Information'!$E$3-('Shooter Information'!$G$3-RANK(K4,K$4:K$78,1)))","v":0},{"$f":"(IF('Shooter Information'!H6=1,\"MDQ\",IF(J4=1,\"SDQ\",IF(I4=1,\"DNF\",SUM(D4+G4+H4+I4+J4)))))","v":0},null,{"$f":"SUM(D4+G4+H4+I4+J4)","v":0}]
[{"$f":"ROW()-3","v":2},{"$f":"'Shooter Information'!B7","v":"Cody Maverick"},{"$f":"'Shooter Information'!C7","v":"GF"},null,null,null,null,null,null,null,{"$f":"MIN(IF('Shooter Information'!H7=1,999.99,(D5*5)+E5-F5+(G5*10)+(H5*30)+(I5*999.99)+(J5*999.99)),999.99)","v":0},{"$f":"IF('Shooter Information'!$E$3-('Shooter Information'!$G$3-RANK(K5,K$4:K$78,1))<0,0,'Shooter Information'!$E$3-('Shooter Information'!$G$3-RANK(K5,K$4:K$78,1)))","v":0},{"$f":"(IF('Shooter Information'!H7=1,\"MDQ\",IF(J5=1,\"SDQ\",IF(I5=1,\"DNF\",SUM(D5+G5+H5+I5+J5)))))","v":0},null,{"$f":"SUM(D5+G5+H5+I5+J5)","v":0}]
[3,{"$f":"'Shooter Information'!B8","v":"Potter County Kid"},{"$f":"'Shooter Information'!C8","v":"WW"},null,null,null,null,null,null,null,{"$f":"MIN(IF('Shooter Information'!H8=1,999.99,(D6*5)+E6-F6+(G6*10)+(H6*30)+(I6*999.99)+(J6*999.99)),999.99)","v":0},{"$f":"IF('Shooter Information'!$E$3-('Shooter Information'!$G$3-RANK(K6,K$4:K$78,1))<0,0,'Shooter Information'!$E$3-('Shooter Information'!$G$3-RANK(K6,K$4:K$78,1)))","v":0},{"$f":"(IF('Shooter Information'!H8=1,\"MDQ\",IF(J6=1,\"SDQ\",IF(I6=1,\"DNF\",SUM(D6+G6+H6+I6+J6)))))","v":0},null,0]
[4,{"$f":"'Shooter Information'!B9","v":"Ricochet Kid"},{"$f":"'Shooter Information'!C9","v":"W"},null,null,null,null,null,null,null,{"$f":"MIN(IF('Shooter Information'!H9=1,999.99,(D7*5)+E7-F7+(G7*10)+(H7*30)+(I7*999.99)+(J7*999.99)),999.99)","v":0},{"$f":"IF('Shooter Information'!$E$3-('Shooter Information'!$G$3-RANK(K7,K$4:K$78,1))<0,0,'Shooter Information'!$E$3-('Shooter Information'!$G$3-RANK(K7,K$4:K$78,1)))","v":0},{"$f":"(IF('Shooter Information'!H9=1,\"MDQ\",IF(J7=1,\"SDQ\",IF(I7=1,\"DNF\",SUM(D7+G7+H7+I7+J7)))))","v":0},null,0]
[5,{"$f":"'Shooter Information'!B10","v":"Flatboat Bob"},{"$f":"'Shooter Information'!C10","v":"CBAR"},null,null,null,null,null,null,null,{"$f":"MIN(IF('Shooter Information'!H10=1,999.99,(D8*5)+E8-F8+(G8*10)+(H8*30)+(I8*999.99)+(J8*999.99)),999.99)","v":0},{"$f":"IF('Shooter Information'!$E$3-('Shooter Information'!$G$3-RANK(K8,K$4:K$78,1))<0,0,'Shooter Information'!$E$3-('Shooter Information'!$G$3-RANK(K8,K$4:K$78,1)))","v":0},{"$f":"(IF('Shooter Information'!H10=1,\"MDQ\",IF(J8=1,\"SDQ\",IF(I8=1,\"DNF\",SUM(D8+G8+H8+I8+J8)))))","v":0},null,0]
[6,{"$f":"'Shooter Information'!B11","v":"Hotshod"},{"$f":"'Shooter Information'!C11","v":"W"},null,null,null,null,null,null,null,{"$f":"MIN(IF('Shooter Information'!H11=1,999.99,(D9*5)+E9-F9+(G9*10)+(H9*30)+(I9*999.99)+(J9*999.99)),999.99)","v":0},{"$f":"IF('Shooter Information'!$E$3-('Shooter Information'!$G$3-RANK(K9,K$4:K$78,1))<0,0,'Shooter Information'!$E$3-('Shooter Information'!$G$3-RANK(K9,K$4:K$78,1)))","v":0},{"$f":"(IF('Shooter Information'!H11=1,\"MDQ\",IF(J9=1,\"SDQ\",IF(I9=1,\"DNF\",SUM(D9+G9+H9+I9+J9)))))","v":0},null,0]
[7,{"$f":"'Shooter Information'!B12","v":"Prairie City Slim"},{"$f":"'Shooter Information'!C12","v":"ES"},null,null,null,null,null,null,null,{"$f":"MIN(IF('Shooter Information'!H12=1,999.99,(D10*5)+E10-F10+(G10*10)+(H10*30)+(I10*999.99)+(J10*999.99)),999.99)","v":0},{"$f":"IF('Shooter Information'!$E$3-('Shooter Information'!$G$3-RANK(K10,K$4:K$78,1))<0,0,'Shooter Information'!$E$3-('Shooter Information'!$G$3-RANK(K10,K$4:K$78,1)))","v":0},{"$f":"(IF('Shooter Information'!H12=1,\"MDQ\",IF(J10=1,\"SDQ\",IF(I10=1,\"DNF\",SUM(D10+G10+H10+I10+J10)))))","v":0},null,0]
[8,{"$f":"'Shooter Information'!B13","v":"Regret Schofield"},{"$f":"'Shooter Information'!C13","v":"49er"},null,null,null,null,null,null,null,{"$f":"MIN(IF('Shooter Information'!H13=1,999.99,(D11*5)+E11-F11+(G11*10)+(H11*30)+(I11*999.99)+(J11*999.99)),999.99)","v":0},{"$f":"IF('Shooter Information'!$E$3-('Shooter Information'!$G$3-RANK(K11,K$4:K$78,1))<0,0,'Shooter Information'!$E$3-('Shooter Information'!$G$3-RANK(K11,K$4:K$78,1)))","v":0},{"$f":"(IF('Shooter Information'!H13=1,\"MDQ\",IF(J11=1,\"SDQ\",IF(I11=1,\"DNF\",SUM(D11+G11+H11+I11+J11)))))","v":0},null,0]
[9,{"$f":"'Shooter Information'!B14","v":"Tumble Weed Tink"},{"$f":"'Shooter Information'!C14","v":"L49"},null,null,null,null,null,null,null,{"$f":"MIN(IF('Shooter Information'!H14=1,999.99,(D12*5)+E12-F12+(G12*10)+(H12*30)+(I12*999.99)+(J12*999.99)),999.99)","v":0},{"$f":"IF('Shooter Information'!$E$3-('Shooter Information'!$G$3-RANK(K12,K$4:K$78,1))<0,0,'Shooter Information'!$E$3-('Shooter Information'!$G$3-RANK(K12,K$4:K$78,1)))","v":0},{"$f":"(IF('Shooter Information'!H14=1,\"MDQ\",IF(J12=1,\"SDQ\",IF(I12=1,\"DNF\",SUM(D12+G12+H12+I12+J12)))))","v":0},null,0]
[10,{"$f":"'Shooter Information'!B15","v":"One Eyed Jane"},{"$f":"'Shooter Information'!C15","v":"LSS"},null,null,null,null,null,null,null,{"$f":"MIN(IF('Shooter Information'!H15=1,999.99,(D13*5)+E13-F13+(G13*10)+(H13*30)+(I13*999.99)+(J13*999.99)),999.99)","v":0},{"$f":"IF('Shooter Information'!$E$3-('Shooter Information'!$G$3-RANK(K13,K$4:K$78,1))<0,0,'Shooter Information'!$E$3-('Shooter Information'!$G$3-RANK(K13,K$4:K$78,1)))","v":0},{"$f":"(IF('Shooter Information'!H15=1,\"MDQ\",IF(J13=1,\"SDQ\",IF(I13=1,\"DNF\",SUM(D13+G13+H13+I13+J13)))))","v":0},null,0]
[11,{"$f":"'Shooter Information'!B16","v":"Stogie"},{"$f":"'Shooter Information'!C16","v":"49er"},null,null,null,null,null,null,null,{"$f":"MIN(IF('Shooter Information'!H16=1,999.99,(D14*5)+E14-F14+(G14*10)+(H14*30)+(I14*999.99)+(J14*999.99)),999.99)","v":0},{"$f":"IF('Shooter Information'!$E$3-('Shooter Information'!$G$3-RANK(K14,K$4:K$78,1))<0,0,'Shooter Information'!$E$3-('Shooter Information'!$G$3-RANK(K14,K$4:K$78,1)))","v":0},{"$f":"(IF('Shooter Information'!H16=1,\"MDQ\",IF(J14=1,\"SDQ\",IF(I14=1,\"DNF\",SUM(D14+G14+H14+I14+J14)))))","v":0},null,0]
[12,{"$f":"'Shooter Information'!B17","v":"Major BS Walker"},{"$f":"'Shooter Information'!C17","v":"WW"},null,null,null,null,null,null,null,{"$f":"MIN(IF('Shooter Information'!H17=1,999.99,(D15*5)+E15-F15+(G15*10)+(H15*30)+(I15*999.99)+(J15*999.99)),999.99)","v":0},{"$f":"IF('Shooter Information'!$E$3-('Shooter Information'!$G$3-RANK(K15,K$4:K$78,1))<0,0,'Shooter Information'!$E$3-('Shooter Information'!$G$3-RANK(K15,K$4:K$78,1)))","v":0},{"$f":"(IF('Shooter Information'!H17=1,\"MDQ\",IF(J15=1,\"SDQ\",IF(I15=1,\"DNF\",SUM(D15+G15+H15+I15+J15)))))","v":0},null,0]
[13,{"$f":"'Shooter Information'!B18","v":"Sassy Shooting Sours"},{"$f":"'Shooter Information'!C18","v":"S"},null,null,null,null,null,null,null,{"$f":"MIN(IF('Shooter Information'!H18=1,999.99,(D16*5)+E16-F16+(G16*10)+(H16*30)+(I16*999.99)+(J16*999.99)),999.99)","v":0},{"$f":"IF('Shooter Information'!$E$3-('Shooter Information'!$G$3-RANK(K16,K$4:K$78,1))<0,0,'Shooter Information'!$E$3-('Shooter Information'!$G$3-RANK(K16,K$4:K$78,1)))","v":0},{"$f":"(IF('Shooter Information'!H18=1,\"MDQ\",IF(J16=1,\"SDQ\",IF(I16=1,\"DNF\",SUM(D16+G16+H16+I16+J16)))))","v":0},null,0]
[14,{"$f":"'Shooter Information'!B19","v":"Lefty Spurmaker"},{"$f":"'Shooter Information'!C19","v":"S"},null,null,null,null,null,null,null,{"$f":"MIN(IF('Shooter Information'!H19=1,999.99,(D17*5)+E17-F17+(G17*10)+(H17*30)+(I17*999.99)+(J17*999.99)),999.99)","v":0},{"$f":"IF('Shooter Information'!$E$3-('Shooter Information'!$G$3-RANK(K17,K$4:K$78,1))<0,0,'Shooter Information'!$E$3-('Shooter Information'!$G$3-RANK(K17,K$4:K$78,1)))","v":0},{"$f":"(IF('Shooter Information'!H19=1,\"MDQ\",IF(J17=1,\"SDQ\",IF(I17=1,\"DNF\",SUM(D17+G17+H17+I17+J17)))))","v":0},null,0]
[15,{"$f":"'Shooter Information'!B20","v":"Windhorse Rider"},{"$f":"'Shooter Information'!C20","v":"GF"},null,null,null,null,null,null,null,{"$f":"MIN(IF('Shooter Information'!H20=1,999.99,(D18*5)+E18-F18+(G18*10)+(H18*30)+(I18*999.99)+(J18*999.99)),999.99)","v":0},{"$f":"IF('Shooter Information'!$E$3-('Shooter Information'!$G$3-RANK(K18,K$4:K$78,1))<0,0,'Shooter Information'!$E$3-('Shooter Information'!$G$3-RANK(K18,K$4:K$78,1)))","v":0},{"$f":"(IF('Shooter Information'!H20=1,\"MDQ\",IF(J18=1,\"SDQ\",IF(I18=1,\"DNF\",SUM(D18+G18+H18+I18+J18)))))","v":0},null,0]
[16,{"$f":"'Shooter Information'!B21","v":"Red Cavanaugh"},{"$f":"'Shooter Information'!C21","v":"49er"},null,null,null,null,null,null,null,{"$f":"MIN(IF('Shooter Information'!H21=1,999.99,(D19*5)+E19-F19+(G19*10)+(H19*30)+(I19*999.99)+(J19*999.99)),999.99)","v":0},{"$f":"IF('Shooter Information'!$E$3-('Shooter Information'!$G$3-RANK(K19,K$4:K$78,1))<0,0,'Shooter Information'!$E$3-('Shooter Information'!$G$3-RANK(K19,K$4:K$78,1)))","v":0},{"$f":"(IF('Shooter Information'!H21=1,\"MDQ\",IF(J19=1,\"SDQ\",IF(I19=1,\"DNF\",SUM(D19+G19+H19+I19+J19)))))","v":0},null,0]
[17,{"$f":"'Shooter Information'!B22","v":0},{"$f":"'Shooter Information'!C22","v":0},null,null,null,null,null,null,null,{"$f":"MIN(IF('Shooter Information'!H22=1,999.99,(D20*5)+E20-F20+(G20*10)+(H20*30)+(I20*999.99)+(J20*999.99)),999.99)","v":0},{"$f":"IF('Shooter Information'!$E$3-('Shooter Information'!$G$3-RANK(K20,K$4:K$78,1))<0,0,'Shooter Information'!$E$3-('Shooter Information'!$G$3-RANK(K20,K$4:K$78,1)))","v":0},{"$f":"(IF('Shooter Information'!H22=1,\"MDQ\",IF(J20=1,\"SDQ\",IF(I20=1,\"DNF\",SUM(D20+G20+H20+I20+J20)))))","v":0},null,0]
[18,{"$f":"'Shooter Information'!B23","v":0},{"$f":"'Shooter Information'!C23","v":0},null,null,null,null,null,null,null,{"$f":"MIN(IF('Shooter Information'!H23=1,999.99,(D21*5)+E21-F21+(G21*10)+(H21*30)+(I21*999.99)+(J21*999.99)),999.99)","v":0},{"$f":"IF('Shooter Information'!$E$3-('Shooter Information'!$G$3-RANK(K21,K$4:K$78,1))<0,0,'Shooter Information'!$E$3-('Shooter Information'!$G$3-RANK(K21,K$4:K$78,1)))","v":0},{"$f":"(IF('Shooter Information'!H23=1,\"MDQ\",IF(J21=1,\"SDQ\",IF(I21=1,\"DNF\",SUM(D21+G21+H21+I21+J21)))))","v":0},null,0]
[19,{"$f":"'Shooter Information'!B24","v":0},{"$f":"'Shooter Information'!C24","v":0},null,null,null,null,null,null,null,{"$f":"MIN(IF('Shooter Information'!H24=1,999.99,(D22*5)+E22-F22+(G22*10)+(H22*30)+(I22*999.99)+(J22*999.99)),999.99)","v":0},{"$f":"IF('Shooter Information'!$E$3-('Shooter Information'!$G$3-RANK(K22,K$4:K$78,1))<0,0,'Shooter Information'!$E$3-('Shooter Information'!$G$3-RANK(K22,K$4:K$78,1)))","v":0},{"$f":"(IF('Shooter Information'!H24=1,\"MDQ\",IF(J22=1,\"SDQ\",IF(I22=1,\"DNF\",SUM(D22+G22+H22+I22+J22)))))","v":0},null,0]
[20,{"$f":"'Shooter Information'!B25","v":0},{"$f":"'Shooter Information'!C25","v":0},null,null,null,null,null,null,null,{"$f":"MIN(IF('Shooter Information'!H25=1,999.99,(D23*5)+E23-F23+(G23*10)+(H23*30)+(I23*999.99)+(J23*999.99)),999.99)","v":0},{"$f":"IF('Shooter Information'!$E$3-('Shooter Information'!$G$3-RANK(K23,K$4:K$78,1))<0,0,'Shooter Information'!$E$3-('Shooter Information'!$G$3-RANK(K23,K$4:K$78,1)))","v":0},{"$f":"(IF('Shooter Information'!H25=1,\"MDQ\",IF(J23=1,\"SDQ\",IF(I23=1,\"DNF\",SUM(D23+G23+H23+I23+J23)))))","v":0},null,0]
[21,{"$f":"'Shooter Information'!B26","v":0},{"$f":"'Shooter Information'!C26","v":0},null,null,null,null,null,null,null,{"$f":"MIN(IF('Shooter Information'!H26=1,999.99,(D24*5)+E24-F24+(G24*10)+(H24*30)+(I24*999.99)+(J24*999.99)),999.99)","v":0},{"$f":"IF('Shooter Information'!$E$3-('Shooter Information'!$G$3-RANK(K24,K$4:K$78,1))<0,0,'Shooter Information'!$E$3-('Shooter Information'!$G$3-RANK(K24,K$4:K$78,1)))","v":0},{"$f":"(IF('Shooter Information'!H26=1,\"MDQ\",IF(J24=1,\"SDQ\",IF(I24=1,\"DNF\",SUM(D24+G24+H24+I24+J24)))))","v":0},null,0]
[22,{"$f":"'Shooter Information'!B27","v":0},{"$f":"'Shooter Information'!C27","v":0},null,null,null,null,null,null,null,{"$f":"MIN(IF('Shooter Information'!H27=1,999.99,(D25*5)+E25-F25+(G25*10)+(H25*30)+(I25*999.99)+(J25*999.99)),999.99)","v":0},{"$f":"IF('Shooter Information'!$E$3-('Shooter Information'!$G$3-RANK(K25,K$4:K$78,1))<0,0,'Shooter Information'!$E$3-('Shooter Information'!$G$3-RANK(K25,K$4:K$78,1)))","v":0},{"$f":"(IF('Shooter Information'!H27=1,\"MDQ\",IF(J25=1,\"SDQ\",IF(I25=1,\"DNF\",SUM(D25+G25+H25+I25+J25)))))","v":0},null,0]
[23,{"$f":"'Shooter Information'!B28","v":0},{"$f":"'Shooter Information'!C28","v":0},null,null,null,null,null,null,null,{"$f":"MIN(IF('Shooter Information'!H28=1,999.99,(D26*5)+E26-F26+(G26*10)+(H26*30)+(I26*999.99)+(J26*999.99)),999.99)","v":0},{"$f":"IF('Shooter Information'!$E$3-('Shooter Information'!$G$3-RANK(K26,K$4:K$78,1))<0,0,'Shooter Information'!$E$3-('Shooter Information'!$G$3-RANK(K26,K$4:K$78,1)))","v":0},{"$f":"(IF('Shooter Information'!H28=1,\"MDQ\",IF(J26=1,\"SDQ\",IF(I26=1,\"DNF\",SUM(D26+G26+H26+I26+J26)))))","v":0},null,0]
[24,{"$f":"'Shooter Information'!B29","v":0},{"$f":"'Shooter Information'!C29","v":0},null,null,null,null,null,null,null,{"$f":"MIN(IF('Shooter Information'!H29=1,999.99,(D27*5)+E27-F27+(G27*10)+(H27*30)+(I27*999.99)+(J27*999.99)),999.99)","v":0},{"$f":"IF('Shooter Information'!$E$3-('Shooter Information'!$G$3-RANK(K27,K$4:K$78,1))<0,0,'Shooter Information'!$E$3-('Shooter Information'!$G$3-RANK(K27,K$4:K$78,1)))","v":0},{"$f":"(IF('Shooter Information'!H29=1,\"MDQ\",IF(J27=1,\"SDQ\",IF(I27=1,\"DNF\",SUM(D27+G27+H27+I27+J27)))))","v":0},null,0]
[25,{"$f":"'Shooter Information'!B30","v":0},{"$f":"'Shooter Information'!C30","v":0},null,null,null,null,null,null,null,{"$f":"MIN(IF('Shooter Information'!H30=1,999.99,(D28*5)+E28-F28+(G28*10)+(H28*30)+(I28*999.99)+(J28*999.99)),999.99)","v":0},{"$f":"IF('Shooter Information'!$E$3-('Shooter Information'!$G$3-RANK(K28,K$4:K$78,1))<0,0,'Shooter Information'!$E$3-('Shooter Information'!$G$3-RANK(K28,K$4:K$78,1)))","v":0},{"$f":"(IF('Shooter Information'!H30=1,\"MDQ\",IF(J28=1,\"SDQ\",IF(I28=1,\"DNF\",SUM(D28+G28+H28+I28+J28)))))","v":0},null,0]
[26,{"$f":"'Shooter Information'!B31","v":0},{"$f":"'Shooter Information'!C31","v":0},null,null,null,null,null,null,null,{"$f":"MIN(IF('Shooter Information'!H31=1,999.99,(D29*5)+E29-F29+(G29*10)+(H29*30)+(I29*999.99)+(J29*999.99)),999.99)","v":0},{"$f":"IF('Shooter Information'!$E$3-('Shooter Information'!$G$3-RANK(K29,K$4:K$78,1))<0,0,'Shooter Information'!$E$3-('Shooter Information'!$G$3-RANK(K29,K$4:K$78,1)))","v":0},{"$f":"(IF('Shooter Information'!H31=1,\"MDQ\",IF(J29=1,\"SDQ\",IF(I29=1,\"DNF\",SUM(D29+G29+H29+I29+J29)))))","v":0},null,0]
[27,{"$f":"'Shooter Information'!B32","v":0},{"$f":"'Shooter Information'!C32","v":0},null,null,null,null,null,null,null,{"$f":"MIN(IF('Shooter Information'!H32=1,999.99,(D30*5)+E30-F30+(G30*10)+(H30*30)+(I30*999.99)+(J30*999.99)),999.99)","v":0},{"$f":"IF('Shooter Information'!$E$3-('Shooter Information'!$G$3-RANK(K30,K$4:K$78,1))<0,0,'Shooter Information'!$E$3-('Shooter Information'!$G$3-RANK(K30,K$4:K$78,1)))","v":0},{"$f":"(IF('Shooter Information'!H32=1,\"MDQ\",IF(J30=1,\"SDQ\",IF(I30=1,\"DNF\",SUM(D30+G30+H30+I30+J30)))))","v":0},null,0]
[28,{"$f":"'Shooter Information'!B33","v":0},{"$f":"'Shooter Information'!C33","v":0},null,null,null,null,null,null,null,{"$f":"MIN(IF('Shooter Information'!H33=1,999.99,(D31*5)+E31-F31+(G31*10)+(H31*30)+(I31*999.99)+(J31*999.99)),999.99)","v":0},{"$f":"IF('Shooter Information'!$E$3-('Shooter Information'!$G$3-RANK(K31,K$4:K$78,1))<0,0,'Shooter Information'!$E$3-('Shooter Information'!$G$3-RANK(K31,K$4:K$78,1)))","v":0},{"$f":"(IF('Shooter Information'!H33=1,\"MDQ\",IF(J31=1,\"SDQ\",IF(I31=1,\"DNF\",SUM(D31+G31+H31+I31+J31)))))","v":0},null,0]
[29,{"$f":"'Shooter Information'!B34","v":0},{"$f":"'Shooter Information'!C34","v":0},null,null,null,null,null,null,null,{"$f":"MIN(IF('Shooter Information'!H34=1,999.99,(D32*5)+E32-F32+(G32*10)+(H32*30)+(I32*999.99)+(J32*999.99)),999.99)","v":0},{"$f":"IF('Shooter Information'!$E$3-('Shooter Information'!$G$3-RANK(K32,K$4:K$78,1))<0,0,'Shooter Information'!$E$3-('Shooter Information'!$G$3-RANK(K32,K$4:K$78,1)))","v":0},{"$f":"(IF('Shooter Information'!H34=1,\"MDQ\",IF(J32=1,\"SDQ\",IF(I32=1,\"DNF\",SUM(D32+G32+H32+I32+J32)))))","v":0},null,0]
[30,{"$f":"'Shooter Information'!B35","v":0},{"$f":"'Shooter Information'!C35","v":0},null,null,null,null,null,null,null,{"$f":"MIN(IF('Shooter Information'!H35=1,999.99,(D33*5)+E33-F33+(G33*10)+(H33*30)+(I33*999.99)+(J33*999.99)),999.99)","v":0},{"$f":"IF('Shooter Information'!$E$3-('Shooter Information'!$G$3-RANK(K33,K$4:K$78,1))<0,0,'Shooter Information'!$E$3-('Shooter Information'!$G$3-RANK(K33,K$4:K$78,1)))","v":0},{"$f":"(IF('Shooter Information'!H35=1,\"MDQ\",IF(J33=1,\"SDQ\",IF(I33=1,\"DNF\",SUM(D33+G33+H33+I33+J33)))))","v":0},null,0]
[31,{"$f":"'Shooter Information'!B36","v":0},{"$f":"'Shooter Information'!C36","v":0},null,null,null,null,null,null,null,{"$f":"MIN(IF('Shooter Information'!H36=1,999.99,(D34*5)+E34-F34+(G34*10)+(H34*30)+(I34*999.99)+(J34*999.99)),999.99)","v":0},{"$f":"IF('Shooter Information'!$E$3-('Shooter Information'!$G$3-RANK(K34,K$4:K$78,1))<0,0,'Shooter Information'!$E$3-('Shooter Information'!$G$3-RANK(K34,K$4:K$78,1)))","v":0},{"$f":"(IF('Shooter Information'!H36=1,\"MDQ\",IF(J34=1,\"SDQ\",IF(I34=1,\"DNF\",SUM(D34+G34+H34+I34+J34)))))","v":0},null,0]
[32,{"$f":"'Shooter Information'!B37","v":0},{"$f":"'Shooter Information'!C37","v":0},null,null,null,null,null,null,null,{"$f":"MIN(IF('Shooter Information'!H37=1,999.99,(D35*5)+E35-F35+(G35*10)+(H35*30)+(I35*999.99)+(J35*999.99)),999.99)","v":0},{"$f":"IF('Shooter Information'!$E$3-('Shooter Information'!$G$3-RANK(K35,K$4:K$78,1))<0,0,'Shooter Information'!$E$3-('Shooter Information'!$G$3-RANK(K35,K$4:K$78,1)))","v":0},{"$f":"(IF('Shooter Information'!H37=1,\"MDQ\",IF(J35=1,\"SDQ\",IF(I35=1,\"DNF\",SUM(D35+G35+H35+I35+J35)))))","v":0},null,0]
[33,{"$f":"'Shooter Information'!B38","v":0},{"$f":"'Shooter Information'!C38","v":0},null,null,null,null,null,null,null,{"$f":"MIN(IF('Shooter Information'!H38=1,999.99,(D36*5)+E36-F36+(G36*10)+(H36*30)+(I36*999.99)+(J36*999.99)),999.99)","v":0},{"$f":"IF('Shooter Information'!$E$3-('Shooter Information'!$G$3-RANK(K36,K$4:K$78,1))<0,0,'Shooter Information'!$E$3-('Shooter Information'!$G$3-RANK(K36,K$4:K$78,1)))","v":0},{"$f":"(IF('Shooter Information'!H38=1,\"MDQ\",IF(J36=1,\"SDQ\",IF(I36=1,\"DNF\",SUM(D36+G36+H36+I36+J36)))))","v":0},null,0]
[34,{"$f":"'Shooter Information'!B39","v":0},{"$f":"'Shooter Information'!C39","v":0},null,null,null,null,null,null,null,{"$f":"MIN(IF('Shooter Information'!H39=1,999.99,(D37*5)+E37-F37+(G37*10)+(H37*30)+(I37*999.99)+(J37*999.99)),999.99)","v":0},{"$f":"IF('Shooter Information'!$E$3-('Shooter Information'!$G$3-RANK(K37,K$4:K$78,1))<0,0,'Shooter Information'!$E$3-('Shooter Information'!$G$3-RANK(K37,K$4:K$78,1)))","v":0},{"$f":"(IF('Shooter Information'!H39=1,\"MDQ\",IF(J37=1,\"SDQ\",IF(I37=1,\"DNF\",SUM(D37+G37+H37+I37+J37)))))","v":0},null,0]
[35,{"$f":"'Shooter Information'!B40","v":0},{"$f":"'Shooter Information'!C40","v":0},null,null,null,null,null,null,null,{"$f":"MIN(IF('Shooter Information'!H40=1,999.99,(D38*5)+E38-F38+(G38*10)+(H38*30)+(I38*999.99)+(J38*999.99)),999.99)","v":0},{"$f":"IF('Shooter Information'!$E$3-('Shooter Information'!$G$3-RANK(K38,K$4:K$78,1))<0,0,'Shooter Information'!$E$3-('Shooter Information'!$G$3-RANK(K38,K$4:K$78,1)))","v":0},{"$f":"(IF('Shooter Information'!H40=1,\"MDQ\",IF(J38=1,\"SDQ\",IF(I38=1,\"DNF\",SUM(D38+G38+H38+I38+J38)))))","v":0},null,0]
[36,{"$f":"'Shooter Information'!B41","v":0},{"$f":"'Shooter Information'!C41","v":0},null,null,null,null,null,null,null,{"$f":"MIN(IF('Shooter Information'!H41=1,999.99,(D39*5)+E39-F39+(G39*10)+(H39*30)+(I39*999.99)+(J39*999.99)),999.99)","v":0},{"$f":"IF('Shooter Information'!$E$3-('Shooter Information'!$G$3-RANK(K39,K$4:K$78,1))<0,0,'Shooter Information'!$E$3-('Shooter Information'!$G$3-RANK(K39,K$4:K$78,1)))","v":0},{"$f":"(IF('Shooter Information'!H41=1,\"MDQ\",IF(J39=1,\"SDQ\",IF(I39=1,\"DNF\",SUM(D39+G39+H39+I39+J39)))))","v":0},null,0]
[37,{"$f":"'Shooter Information'!B42","v":0},{"$f":"'Shooter Information'!C42","v":0},null,null,null,null,null,null,null,{"$f":"MIN(IF('Shooter Information'!H42=1,999.99,(D40*5)+E40-F40+(G40*10)+(H40*30)+(I40*999.99)+(J40*999.99)),999.99)","v":0},{"$f":"IF('Shooter Information'!$E$3-('Shooter Information'!$G$3-RANK(K40,K$4:K$78,1))<0,0,'Shooter Information'!$E$3-('Shooter Information'!$G$3-RANK(K40,K$4:K$78,1)))","v":0},{"$f":"(IF('Shooter Information'!H42=1,\"MDQ\",IF(J40=1,\"SDQ\",IF(I40=1,\"DNF\",SUM(D40+G40+H40+I40+J40)))))","v":0},null,0]
[38,{"$f":"'Shooter Information'!B43","v":0},{"$f":"'Shooter Information'!C43","v":0},null,null,null,null,null,null,null,{"$f":"MIN(IF('Shooter Information'!H43=1,999.99,(D41*5)+E41-F41+(G41*10)+(H41*30)+(I41*999.99)+(J41*999.99)),999.99)","v":0},{"$f":"IF('Shooter Information'!$E$3-('Shooter Information'!$G$3-RANK(K41,K$4:K$78,1))<0,0,'Shooter Information'!$E$3-('Shooter Information'!$G$3-RANK(K41,K$4:K$78,1)))","v":0},{"$f":"(IF('Shooter Information'!H43=1,\"MDQ\",IF(J41=1,\"SDQ\",IF(I41=1,\"DNF\",SUM(D41+G41+H41+I41+J41)))))","v":0},null,0]
[39,{"$f":"'Shooter Information'!B44","v":0},{"$f":"'Shooter Information'!C44","v":0},null,null,null,null,null,null,null,{"$f":"MIN(IF('Shooter Information'!H44=1,999.99,(D42*5)+E42-F42+(G42*10)+(H42*30)+(I42*999.99)+(J42*999.99)),999.99)","v":0},{"$f":"IF('Shooter Information'!$E$3-('Shooter Information'!$G$3-RANK(K42,K$4:K$78,1))<0,0,'Shooter Information'!$E$3-('Shooter Information'!$G$3-RANK(K42,K$4:K$78,1)))","v":0},{"$f":"(IF('Shooter Information'!H44=1,\"MDQ\",IF(J42=1,\"SDQ\",IF(I42=1,\"DNF\",SUM(D42+G42+H42+I42+J42)))))","v":0},null,0]
[40,{"$f":"'Shooter Information'!B45","v":0},{"$f":"'Shooter Information'!C45","v":0},null,null,null,null,null,null,null,{"$f":"MIN(IF('Shooter Information'!H45=1,999.99,(D43*5)+E43-F43+(G43*10)+(H43*30)+(I43*999.99)+(J43*999.99)),999.99)","v":0},{"$f":"IF('Shooter Information'!$E$3-('Shooter Information'!$G$3-RANK(K43,K$4:K$78,1))<0,0,'Shooter Information'!$E$3-('Shooter Information'!$G$3-RANK(K43,K$4:K$78,1)))","v":0},{"$f":"(IF('Shooter Information'!H45=1,\"MDQ\",IF(J43=1,\"SDQ\",IF(I43=1,\"DNF\",SUM(D43+G43+H43+I43+J43)))))","v":0},null,0]
[41,{"$f":"'Shooter Information'!B46","v":0},{"$f":"'Shooter Information'!C46","v":0},null,null,null,null,null,null,null,{"$f":"MIN(IF('Shooter Information'!H46=1,999.99,(D44*5)+E44-F44+(G44*10)+(H44*30)+(I44*999.99)+(J44*999.99)),999.99)","v":0},{"$f":"IF('Shooter Information'!$E$3-('Shooter Information'!$G$3-RANK(K44,K$4:K$78,1))<0,0,'Shooter Information'!$E$3-('Shooter Information'!$G$3-RANK(K44,K$4:K$78,1)))","v":0},{"$f":"(IF('Shooter Information'!H46=1,\"MDQ\",IF(J44=1,\"SDQ\",IF(I44=1,\"DNF\",SUM(D44+G44+H44+I44+J44)))))","v":0},null,0]
[42,{"$f":"'Shooter Information'!B47","v":0},{"$f":"'Shooter Information'!C47","v":0},null,null,null,null,null,null,null,{"$f":"MIN(IF('Shooter Information'!H47=1,999.99,(D45*5)+E45-F45+(G45*10)+(H45*30)+(I45*999.99)+(J45*999.99)),999.99)","v":0},{"$f":"IF('Shooter Information'!$E$3-('Shooter Information'!$G$3-RANK(K45,K$4:K$78,1))<0,0,'Shooter Information'!$E$3-('Shooter Information'!$G$3-RANK(K45,K$4:K$78,1)))","v":0},{"$f":"(IF('Shooter Information'!H47=1,\"MDQ\",IF(J45=1,\"SDQ\",IF(I45=1,\"DNF\",SUM(D45+G45+H45+I45+J45)))))","v":0},null,0]
[43,{"$f":"'Shooter Information'!B48","v":0},{"$f":"'Shooter Information'!C48","v":0},null,null,null,null,null,null,null,{"$f":"MIN(IF('Shooter Information'!H48=1,999.99,(D46*5)+E46-F46+(G46*10)+(H46*30)+(I46*999.99)+(J46*999.99)),999.99)","v":0},{"$f":"IF('Shooter Information'!$E$3-('Shooter Information'!$G$3-RANK(K46,K$4:K$78,1))<0,0,'Shooter Information'!$E$3-('Shooter Information'!$G$3-RANK(K46,K$4:K$78,1)))","v":0},{"$f":"(IF('Shooter Information'!H48=1,\"MDQ\",IF(J46=1,\"SDQ\",IF(I46=1,\"DNF\",SUM(D46+G46+H46+I46+J46)))))","v":0},null,0]
[44,{"$f":"'Shooter Information'!B49","v":0},{"$f":"'Shooter Information'!C49","v":0},null,null,null,null,null,null,null,{"$f":"MIN(IF('Shooter Information'!H49=1,999.99,(D47*5)+E47-F47+(G47*10)+(H47*30)+(I47*999.99)+(J47*999.99)),999.99)","v":0},{"$f":"IF('Shooter Information'!$E$3-('Shooter Information'!$G$3-RANK(K47,K$4:K$78,1))<0,0,'Shooter Information'!$E$3-('Shooter Information'!$G$3-RANK(K47,K$4:K$78,1)))","v":0},{"$f":"(IF('Shooter Information'!H49=1,\"MDQ\",IF(J47=1,\"SDQ\",IF(I47=1,\"DNF\",SUM(D47+G47+H47+I47+J47)))))","v":0},null,0]
[45,{"$f":"'Shooter Information'!B50","v":0},{"$f":"'Shooter Information'!C50","v":0},null,null,null,null,null,null,null,{"$f":"MIN(IF('Shooter Information'!H50=1,999.99,(D48*5)+E48-F48+(G48*10)+(H48*30)+(I48*999.99)+(J48*999.99)),999.99)","v":0},{"$f":"IF('Shooter Information'!$E$3-('Shooter Information'!$G$3-RANK(K48,K$4:K$78,1))<0,0,'Shooter Information'!$E$3-('Shooter Information'!$G$3-RANK(K48,K$4:K$78,1)))","v":0},{"$f":"(IF('Shooter Information'!H50=1,\"MDQ\",IF(J48=1,\"SDQ\",IF(I48=1,\"DNF\",SUM(D48+G48+H48+I48+J48)))))","v":0},null,0]
[46,{"$f":"'Shooter Information'!B51","v":0},{"$f":"'Shooter Information'!C51","v":0},null,null,null,null,null,null,null,{"$f":"MIN(IF('Shooter Information'!H51=1,999.99,(D49*5)+E49-F49+(G49*10)+(H49*30)+(I49*999.99)+(J49*999.99)),999.99)","v":0},{"$f":"IF('Shooter Information'!$E$3-('Shooter Information'!$G$3-RANK(K49,K$4:K$78,1))<0,0,'Shooter Information'!$E$3-('Shooter Information'!$G$3-RANK(K49,K$4:K$78,1)))","v":0},{"$f":"(IF('Shooter Information'!H51=1,\"MDQ\",IF(J49=1,\"SDQ\",IF(I49=1,\"DNF\",SUM(D49+G49+H49+I49+J49)))))","v":0},null,0]
[47,{"$f":"'Shooter Information'!B52","v":0},{"$f":"'Shooter Information'!C52","v":0},null,null,null,null,null,null,null,{"$f":"MIN(IF('Shooter Information'!H52=1,999.99,(D50*5)+E50-F50+(G50*10)+(H50*30)+(I50*999.99)+(J50*999.99)),999.99)","v":0},{"$f":"IF('Shooter Information'!$E$3-('Shooter Information'!$G$3-RANK(K50,K$4:K$78,1))<0,0,'Shooter Information'!$E$3-('Shooter Information'!$G$3-RANK(K50,K$4:K$78,1)))","v":0},{"$f":"(IF('Shooter Information'!H52=1,\"MDQ\",IF(J50=1,\"SDQ\",IF(I50=1,\"DNF\",SUM(D50+G50+H50+I50+J50)))))","v":0},null,0]
[48,{"$f":"'Shooter Information'!B53","v":0},{"$f":"'Shooter Information'!C53","v":0},null,null,null,null,null,null,null,{"$f":"MIN(IF('Shooter Information'!H53=1,999.99,(D51*5)+E51-F51+(G51*10)+(H51*30)+(I51*999.99)+(J51*999.99)),999.99)","v":0},{"$f":"IF('Shooter Information'!$E$3-('Shooter Information'!$G$3-RANK(K51,K$4:K$78,1))<0,0,'Shooter Information'!$E$3-('Shooter Information'!$G$3-RANK(K51,K$4:K$78,1)))","v":0},{"$f":"(IF('Shooter Information'!H53=1,\"MDQ\",IF(J51=1,\"SDQ\",IF(I51=1,\"DNF\",SUM(D51+G51+H51+I51+J51)))))","v":0},null,0]
[49,{"$f":"'Shooter Information'!B54","v":0},{"$f":"'Shooter Information'!C54","v":0},null,null,null,null,null,null,null,{"$f":"MIN(IF('Shooter Information'!H54=1,999.99,(D52*5)+E52-F52+(G52*10)+(H52*30)+(I52*999.99)+(J52*999.99)),999.99)","v":0},{"$f":"IF('Shooter Information'!$E$3-('Shooter Information'!$G$3-RANK(K52,K$4:K$78,1))<0,0,'Shooter Information'!$E$3-('Shooter Information'!$G$3-RANK(K52,K$4:K$78,1)))","v":0},{"$f":"(IF('Shooter Information'!H54=1,\"MDQ\",IF(J52=1,\"SDQ\",IF(I52=1,\"DNF\",SUM(D52+G52+H52+I52+J52)))))","v":0},null,0]
[50,{"$f":"'Shooter Information'!B55","v":0},{"$f":"'Shooter Information'!C55","v":0},null,null,null,null,null,null,null,{"$f":"MIN(IF('Shooter Information'!H55=1,999.99,(D53*5)+E53-F53+(G53*10)+(H53*30)+(I53*999.99)+(J53*999.99)),999.99)","v":0},{"$f":"IF('Shooter Information'!$E$3-('Shooter Information'!$G$3-RANK(K53,K$4:K$78,1))<0,0,'Shooter Information'!$E$3-('Shooter Information'!$G$3-RANK(K53,K$4:K$78,1)))","v":0},{"$f":"(IF('Shooter Information'!H55=1,\"MDQ\",IF(J53=1,\"SDQ\",IF(I53=1,\"DNF\",SUM(D53+G53+H53+I53+J53)))))","v":0},null,0]
[51,{"$f":"'Shooter Information'!B56","v":0},{"$f":"'Shooter Information'!C56","v":0},null,null,null,null,null,null,null,{"$f":"MIN(IF('Shooter Information'!H56=1,999.99,(D54*5)+E54-F54+(G54*10)+(H54*30)+(I54*999.99)+(J54*999.99)),999.99)","v":0},{"$f":"IF('Shooter Information'!$E$3-('Shooter Information'!$G$3-RANK(K54,K$4:K$78,1))<0,0,'Shooter Information'!$E$3-('Shooter Information'!$G$3-RANK(K54,K$4:K$78,1)))","v":0},{"$f":"(IF('Shooter Information'!H56=1,\"MDQ\",IF(J54=1,\"SDQ\",IF(I54=1,\"DNF\",SUM(D54+G54+H54+I54+J54)))))","v":0},null,0]
[52,{"$f":"'Shooter Information'!B57","v":0},{"$f":"'Shooter Information'!C57","v":0},null,null,null,null,null,null,null,{"$f":"MIN(IF('Shooter Information'!H57=1,999.99,(D55*5)+E55-F55+(G55*10)+(H55*30)+(I55*999.99)+(J55*999.99)),999.99)","v":0},{"$f":"IF('Shooter Information'!$E$3-('Shooter Information'!$G$3-RANK(K55,K$4:K$78,1))<0,0,'Shooter Information'!$E$3-('Shooter Information'!$G$3-RANK(K55,K$4:K$78,1)))","v":0},{"$f":"(IF('Shooter Information'!H57=1,\"MDQ\",IF(J55=1,\"SDQ\",IF(I55=1,\"DNF\",SUM(D55+G55+H55+I55+J55)))))","v":0},null,0]
[53,{"$f":"'Shooter Information'!B58","v":0},{"$f":"'Shooter Information'!C58","v":0},null,null,null,null,null,null,null,{"$f":"MIN(IF('Shooter Information'!H58=1,999.99,(D56*5)+E56-F56+(G56*10)+(H56*30)+(I56*999.99)+(J56*999.99)),999.99)","v":0},{"$f":"IF('Shooter Information'!$E$3-('Shooter Information'!$G$3-RANK(K56,K$4:K$78,1))<0,0,'Shooter Information'!$E$3-('Shooter Information'!$G$3-RANK(K56,K$4:K$78,1)))","v":0},{"$f":"(IF('Shooter Information'!H58=1,\"MDQ\",IF(J56=1,\"SDQ\",IF(I56=1,\"DNF\",SUM(D56+G56+H56+I56+J56)))))","v":0},null,0]
[54,{"$f":"'Shooter Information'!B59","v":0},{"$f":"'Shooter Information'!C59","v":0},null,null,null,null,null,null,null,{"$f":"MIN(IF('Shooter Information'!H59=1,999.99,(D57*5)+E57-F57+(G57*10)+(H57*30)+(I57*999.99)+(J57*999.99)),999.99)","v":0},{"$f":"IF('Shooter Information'!$E$3-('Shooter Information'!$G$3-RANK(K57,K$4:K$78,1))<0,0,'Shooter Information'!$E$3-('Shooter Information'!$G$3-RANK(K57,K$4:K$78,1)))","v":0},{"$f":"(IF('Shooter Information'!H59=1,\"MDQ\",IF(J57=1,\"SDQ\",IF(I57=1,\"DNF\",SUM(D57+G57+H57+I57+J57)))))","v":0},null,0]
[55,{"$f":"'Shooter Information'!B60","v":0},{"$f":"'Shooter Information'!C60","v":0},null,null,null,null,null,null,null,{"$f":"MIN(IF('Shooter Information'!H60=1,999.99,(D58*5)+E58-F58+(G58*10)+(H58*30)+(I58*999.99)+(J58*999.99)),999.99)","v":0},{"$f":"IF('Shooter Information'!$E$3-('Shooter Information'!$G$3-RANK(K58,K$4:K$78,1))<0,0,'Shooter Information'!$E$3-('Shooter Information'!$G$3-RANK(K58,K$4:K$78,1)))","v":0},{"$f":"(IF('Shooter Information'!H60=1,\"MDQ\",IF(J58=1,\"SDQ\",IF(I58=1,\"DNF\",SUM(D58+G58+H58+I58+J58)))))","v":0},null,0]
[56,{"$f":"'Shooter Information'!B61","v":0},{"$f":"'Shooter Information'!C61","v":0},null,null,null,null,null,null,null,{"$f":"MIN(IF('Shooter Information'!H61=1,999.99,(D59*5)+E59-F59+(G59*10)+(H59*30)+(I59*999.99)+(J59*999.99)),999.99)","v":0},{"$f":"IF('Shooter Information'!$E$3-('Shooter Information'!$G$3-RANK(K59,K$4:K$78,1))<0,0,'Shooter Information'!$E$3-('Shooter Information'!$G$3-RANK(K59,K$4:K$78,1)))","v":0},{"$f":"(IF('Shooter Information'!H61=1,\"MDQ\",IF(J59=1,\"SDQ\",IF(I59=1,\"DNF\",SUM(D59+G59+H59+I59+J59)))))","v":0},null,0]
[57,{"$f":"'Shooter Information'!B62","v":0},{"$f":"'Shooter Information'!C62","v":0},null,null,null,null,null,null,null,{"$f":"MIN(IF('Shooter Information'!H62=1,999.99,(D60*5)+E60-F60+(G60*10)+(H60*30)+(I60*999.99)+(J60*999.99)),999.99)","v":0},{"$f":"IF('Shooter Information'!$E$3-('Shooter Information'!$G$3-RANK(K60,K$4:K$78,1))<0,0,'Shooter Information'!$E$3-('Shooter Information'!$G$3-RANK(K60,K$4:K$78,1)))","v":0},{"$f":"(IF('Shooter Information'!H62=1,\"MDQ\",IF(J60=1,\"SDQ\",IF(I60=1,\"DNF\",SUM(D60+G60+H60+I60+J60)))))","v":0},null,0]
[58,{"$f":"'Shooter Information'!B63","v":0},{"$f":"'Shooter Information'!C63","v":0},null,null,null,null,null,null,null,{"$f":"MIN(IF('Shooter Information'!H63=1,999.99,(D61*5)+E61-F61+(G61*10)+(H61*30)+(I61*999.99)+(J61*999.99)),999.99)","v":0},{"$f":"IF('Shooter Information'!$E$3-('Shooter Information'!$G$3-RANK(K61,K$4:K$78,1))<0,0,'Shooter Information'!$E$3-('Shooter Information'!$G$3-RANK(K61,K$4:K$78,1)))","v":0},{"$f":"(IF('Shooter Information'!H63=1,\"MDQ\",IF(J61=1,\"SDQ\",IF(I61=1,\"DNF\",SUM(D61+G61+H61+I61+J61)))))","v":0},null,0]
[59,{"$f":"'Shooter Information'!B64","v":0},{"$f":"'Shooter Information'!C64","v":0},null,null,null,null,null,null,null,{"$f":"MIN(IF('Shooter Information'!H64=1,999.99,(D62*5)+E62-F62+(G62*10)+(H62*30)+(I62*999.99)+(J62*999.99)),999.99)","v":0},{"$f":"IF('Shooter Information'!$E$3-('Shooter Information'!$G$3-RANK(K62,K$4:K$78,1))<0,0,'Shooter Information'!$E$3-('Shooter Information'!$G$3-RANK(K62,K$4:K$78,1)))","v":0},{"$f":"(IF('Shooter Information'!H64=1,\"MDQ\",IF(J62=1,\"SDQ\",IF(I62=1,\"DNF\",SUM(D62+G62+H62+I62+J62)))))","v":0},null,0]
[60,{"$f":"'Shooter Information'!B65","v":0},{"$f":"'Shooter Information'!C65","v":0},null,null,null,null,null,null,null,{"$f":"MIN(IF('Shooter Information'!H65=1,999.99,(D63*5)+E63-F63+(G63*10)+(H63*30)+(I63*999.99)+(J63*999.99)),999.99)","v":0},{"$f":"IF('Shooter Information'!$E$3-('Shooter Information'!$G$3-RANK(K63,K$4:K$78,1))<0,0,'Shooter Information'!$E$3-('Shooter Information'!$G$3-RANK(K63,K$4:K$78,1)))","v":0},{"$f":"(IF('Shooter Information'!H65=1,\"MDQ\",IF(J63=1,\"SDQ\",IF(I63=1,\"DNF\",SUM(D63+G63+H63+I63+J63)))))","v":0},null,0]
[61,{"$f":"'Shooter Information'!B66","v":0},{"$f":"'Shooter Information'!C66","v":0},null,null,null,null,null,null,null,{"$f":"MIN(IF('Shooter Information'!H66=1,999.99,(D64*5)+E64-F64+(G64*10)+(H64*30)+(I64*999.99)+(J64*999.99)),999.99)","v":0},{"$f":"IF('Shooter Information'!$E$3-('Shooter Information'!$G$3-RANK(K64,K$4:K$78,1))<0,0,'Shooter Information'!$E$3-('Shooter Information'!$G$3-RANK(K64,K$4:K$78,1)))","v":0},{"$f":"(IF('Shooter Information'!H66=1,\"MDQ\",IF(J64=1,\"SDQ\",IF(I64=1,\"DNF\",SUM(D64+G64+H64+I64+J64)))))","v":0},null,0]
[62,{"$f":"'Shooter Information'!B67","v":0},{"$f":"'Shooter Information'!C67","v":0},null,null,null,null,null,null,null,{"$f":"MIN(IF('Shooter Information'!H67=1,999.99,(D65*5)+E65-F65+(G65*10)+(H65*30)+(I65*999.99)+(J65*999.99)),999.99)","v":0},{"$f":"IF('Shooter Information'!$E$3-('Shooter Information'!$G$3-RANK(K65,K$4:K$78,1))<0,0,'Shooter Information'!$E$3-('Shooter Information'!$G$3-RANK(K65,K$4:K$78,1)))","v":0},{"$f":"(IF('Shooter Information'!H67=1,\"MDQ\",IF(J65=1,\"SDQ\",IF(I65=1,\"DNF\",SUM(D65+G65+H65+I65+J65)))))","v":0},null,0]
[63,{"$f":"'Shooter Information'!B68","v":0},{"$f":"'Shooter Information'!C68","v":0},null,null,null,null,null,null,null,{"$f":"MIN(IF('Shooter Information'!H68=1,999.99,(D66*5)+E66-F66+(G66*10)+(H66*30)+(I66*999.99)+(J66*999.99)),999.99)","v":0},{"$f":"IF('Shooter Information'!$E$3-('Shooter Information'!$G$3-RANK(K66,K$4:K$78,1))<0,0,'Shooter Information'!$E$3-('Shooter Information'!$G$3-RANK(K66,K$4:K$78,1)))","v":0},{"$f":"(IF('Shooter Information'!H68=1,\"MDQ\",IF(J66=1,\"SDQ\",IF(I66=1,\"DNF\",SUM(D66+G66+H66+I66+J66)))))","v":0},null,0]
[64,{"$f":"'Shooter Information'!B69","v":0},{"$f":"'Shooter Information'!C69","v":0},null,null,null,null,null,null,null,{"$f":"MIN(IF('Shooter Information'!H69=1,999.99,(D67*5)+E67-F67+(G67*10)+(H67*30)+(I67*999.99)+(J67*999.99)),999.99)","v":0},{"$f":"IF('Shooter Information'!$E$3-('Shooter Information'!$G$3-RANK(K67,K$4:K$78,1))<0,0,'Shooter Information'!$E$3-('Shooter Information'!$G$3-RANK(K67,K$4:K$78,1)))","v":0},{"$f":"(IF('Shooter Information'!H69=1,\"MDQ\",IF(J67=1,\"SDQ\",IF(I67=1,\"DNF\",SUM(D67+G67+H67+I67+J67)))))","v":0},null,0]
[65,{"$f":"'Shooter Information'!B70","v":0},{"$f":"'Shooter Information'!C70","v":0},null,null,null,null,null,null,null,{"$f":"MIN(IF('Shooter Information'!H70=1,999.99,(D68*5)+E68-F68+(G68*10)+(H68*30)+(I68*999.99)+(J68*999.99)),999.99)","v":0},{"$f":"IF('Shooter Information'!$E$3-('Shooter Information'!$G$3-RANK(K68,K$4:K$78,1))<0,0,'Shooter Information'!$E$3-('Shooter Information'!$G$3-RANK(K68,K$4:K$78,1)))","v":0},{"$f":"(IF('Shooter Information'!H70=1,\"MDQ\",IF(J68=1,\"SDQ\",IF(I68=1,\"DNF\",SUM(D68+G68+H68+I68+J68)))))","v":0},null,0]
[66,{"$f":"'Shooter Information'!B71","v":0},{"$f":"'Shooter Information'!C71","v":0},null,null,null,null,null,null,null,{"$f":"MIN(IF('Shooter Information'!H71=1,999.99,(D69*5)+E69-F69+(G69*10)+(H69*30)+(I69*999.99)+(J69*999.99)),999.99)","v":0},{"$f":"IF('Shooter Information'!$E$3-('Shooter Information'!$G$3-RANK(K69,K$4:K$78,1))<0,0,'Shooter Information'!$E$3-('Shooter Information'!$G$3-RANK(K69,K$4:K$78,1)))","v":0},{"$f":"(IF('Shooter Information'!H71=1,\"MDQ\",IF(J69=1,\"SDQ\",IF(I69=1,\"DNF\",SUM(D69+G69+H69+I69+J69)))))","v":0},null,{"$f":"SUM(D69+G69+H69+I69+J69)","v":0}]
[67,{"$f":"'Shooter Information'!B72","v":0},{"$f":"'Shooter Information'!C72","v":0},null,null,null,null,null,null,null,{"$f":"MIN(IF('Shooter Information'!H72=1,999.99,(D70*5)+E70-F70+(G70*10)+(H70*30)+(I70*999.99)+(J70*999.99)),999.99)","v":0},{"$f":"IF('Shooter Information'!$E$3-('Shooter Information'!$G$3-RANK(K70,K$4:K$78,1))<0,0,'Shooter Information'!$E$3-('Shooter Information'!$G$3-RANK(K70,K$4:K$78,1)))","v":0},{"$f":"(IF('Shooter Information'!H72=1,\"MDQ\",IF(J70=1,\"SDQ\",IF(I70=1,\"DNF\",SUM(D70+G70+H70+I70+J70)))))","v":0},null,0]
[68,{"$f":"'Shooter Information'!B73","v":0},{"$f":"'Shooter Information'!C73","v":0},null,null,null,null,null,null,null,{"$f":"MIN(IF('Shooter Information'!H73=1,999.99,(D71*5)+E71-F71+(G71*10)+(H71*30)+(I71*999.99)+(J71*999.99)),999.99)","v":0},{"$f":"IF('Shooter Information'!$E$3-('Shooter Information'!$G$3-RANK(K71,K$4:K$78,1))<0,0,'Shooter Information'!$E$3-('Shooter Information'!$G$3-RANK(K71,K$4:K$78,1)))","v":0},{"$f":"(IF('Shooter Information'!H73=1,\"MDQ\",IF(J71=1,\"SDQ\",IF(I71=1,\"DNF\",SUM(D71+G71+H71+I71+J71)))))","v":0},null,0]
[69,{"$f":"'Shooter Information'!B74","v":0},{"$f":"'Shooter Information'!C74","v":0},null,null,null,null,null,null,null,{"$f":"MIN(IF('Shooter Information'!H74=1,999.99,(D72*5)+E72-F72+(G72*10)+(H72*30)+(I72*999.99)+(J72*999.99)),999.99)","v":0},{"$f":"IF('Shooter Information'!$E$3-('Shooter Information'!$G$3-RANK(K72,K$4:K$78,1))<0,0,'Shooter Information'!$E$3-('Shooter Information'!$G$3-RANK(K72,K$4:K$78,1)))","v":0},{"$f":"(IF('Shooter Information'!H74=1,\"MDQ\",IF(J72=1,\"SDQ\",IF(I72=1,\"DNF\",SUM(D72+G72+H72+I72+J72)))))","v":0},null,0]
[70,{"$f":"'Shooter Information'!B75","v":0},{"$f":"'Shooter Information'!C75","v":0},null,null,null,null,null,null,null,{"$f":"MIN(IF('Shooter Information'!H75=1,999.99,(D73*5)+E73-F73+(G73*10)+(H73*30)+(I73*999.99)+(J73*999.99)),999.99)","v":0},{"$f":"IF('Shooter Information'!$E$3-('Shooter Information'!$G$3-RANK(K73,K$4:K$78,1))<0,0,'Shooter Information'!$E$3-('Shooter Information'!$G$3-RANK(K73,K$4:K$78,1)))","v":0},{"$f":"(IF('Shooter Information'!H75=1,\"MDQ\",IF(J73=1,\"SDQ\",IF(I73=1,\"DNF\",SUM(D73+G73+H73+I73+J73)))))","v":0},null,0]
[71,{"$f":"'Shooter Information'!B76","v":0},{"$f":"'Shooter Information'!C76","v":0},null,null,null,null,null,null,null,{"$f":"MIN(IF('Shooter Information'!H76=1,999.99,(D74*5)+E74-F74+(G74*10)+(H74*30)+(I74*999.99)+(J74*999.99)),999.99)","v":0},{"$f":"IF('Shooter Information'!$E$3-('Shooter Information'!$G$3-RANK(K74,K$4:K$78,1))<0,0,'Shooter Information'!$E$3-('Shooter Information'!$G$3-RANK(K74,K$4:K$78,1)))","v":0},{"$f":"(IF('Shooter Information'!H76=1,\"MDQ\",IF(J74=1,\"SDQ\",IF(I74=1,\"DNF\",SUM(D74+G74+H74+I74+J74)))))","v":0},null,0]
[72,{"$f":"'Shooter Information'!B77","v":0},{"$f":"'Shooter Information'!C77","v":0},null,null,null,null,null,null,null,{"$f":"MIN(IF('Shooter Information'!H77=1,999.99,(D75*5)+E75-F75+(G75*10)+(H75*30)+(I75*999.99)+(J75*999.99)),999.99)","v":0},{"$f":"IF('Shooter Information'!$E$3-('Shooter Information'!$G$3-RANK(K75,K$4:K$78,1))<0,0,'Shooter Information'!$E$3-('Shooter Information'!$G$3-RANK(K75,K$4:K$78,1)))","v":0},{"$f":"(IF('Shooter Information'!H77=1,\"MDQ\",IF(J75=1,\"SDQ\",IF(I75=1,\"DNF\",SUM(D75+G75+H75+I75+J75)))))","v":0},null,0]
[73,{"$f":"'Shooter Information'!B78","v":0},{"$f":"'Shooter Information'!C78","v":0},null,null,null,null,null,null,null,{"$f":"MIN(IF('Shooter Information'!H78=1,999.99,(D76*5)+E76-F76+(G76*10)+(H76*30)+(I76*999.99)+(J76*999.99)),999.99)","v":0},{"$f":"IF('Shooter Information'!$E$3-('Shooter Information'!$G$3-RANK(K76,K$4:K$78,1))<0,0,'Shooter Information'!$E$3-('Shooter Information'!$G$3-RANK(K76,K$4:K$78,1)))","v":0},{"$f":"(IF('Shooter Information'!H78=1,\"MDQ\",IF(J76=1,\"SDQ\",IF(I76=1,\"DNF\",SUM(D76+G76+H76+I76+J76)))))","v":0},null,0]
[74,{"$f":"'Shooter Information'!B79","v":0},{"$f":"'Shooter Information'!C79","v":0},null,null,null,null,null,null,null,{"$f":"MIN(IF('Shooter Information'!H79=1,999.99,(D77*5)+E77-F77+(G77*10)+(H77*30)+(I77*999.99)+(J77*999.99)),999.99)","v":0},{"$f":"IF('Shooter Information'!$E$3-('Shooter Information'!$G$3-RANK(K77,K$4:K$78,1))<0,0,'Shooter Information'!$E$3-('Shooter Information'!$G$3-RANK(K77,K$4:K$78,1)))","v":0},{"$f":"(IF('Shooter Information'!H79=1,\"MDQ\",IF(J77=1,\"SDQ\",IF(I77=1,\"DNF\",SUM(D77+G77+H77+I77+J77)))))","v":0},null,0]
[75,{"$f":"'Shooter Information'!B80","v":0},{"$f":"'Shooter Information'!C80","v":0},null,null,null,null,null,null,null,{"$f":"MIN(IF('Shooter Information'!H80=1,999.99,(D78*5)+E78-F78+(G78*10)+(H78*30)+(I78*999.99)+(J78*999.99)),999.99)","v":0},{"$f":"IF('Shooter Information'!$E$3-('Shooter Information'!$G$3-RANK(K78,K$4:K$78,1))<0,0,'Shooter Information'!$E$3-('Shooter Information'!$G$3-RANK(K78,K$4:K$78,1)))","v":0},{"$f":"(IF('Shooter Information'!H80=1,\"MDQ\",IF(J78=1,\"SDQ\",IF(I78=1,\"DNF\",SUM(D78+G78+H78+I78+J78)))))","v":0},null,0]

{"sheet":"Stage 12","index":13,"n_rows":78,"n_cols":15,"rows_kept":78,"cut":false,"hidden":true,"merged":[]}
[null,"Stage Input Sheet - Stage 12"]
[]
["Shooter #","Shooter","Class","Misses","Raw Time","Bonus","10 Sec","30 Sec","DNF","SDQ","Total","Rank","Penalties",null,"# Penalties"]
[{"$f":"ROW()-3","v":1},{"$f":"'Shooter Information'!B6","v":"Striker"},{"$f":"'Shooter Information'!C6","v":"WW"},null,null,null,null,null,null,null,{"$f":"MIN(IF('Shooter Information'!H6=1,999.99,(D4*5)+E4-F4+(G4*10)+(H4*30)+(I4*999.99)+(J4*999.99)),999.99)","v":0},{"$f":"IF('Shooter Information'!$E$3-('Shooter Information'!$G$3-RANK(K4,K$4:K$78,1))<0,0,'Shooter Information'!$E$3-('Shooter Information'!$G$3-RANK(K4,K$4:K$78,1)))","v":0},{"$f":"(IF('Shooter Information'!H6=1,\"MDQ\",IF(J4=1,\"SDQ\",IF(I4=1,\"DNF\",SUM(D4+G4+H4+I4+J4)))))","v":0},null,{"$f":"SUM(D4+G4+H4+I4+J4)","v":0}]
[{"$f":"ROW()-3","v":2},{"$f":"'Shooter Information'!B7","v":"Cody Maverick"},{"$f":"'Shooter Information'!C7","v":"GF"},null,null,null,null,null,null,null,{"$f":"MIN(IF('Shooter Information'!H7=1,999.99,(D5*5)+E5-F5+(G5*10)+(H5*30)+(I5*999.99)+(J5*999.99)),999.99)","v":0},{"$f":"IF('Shooter Information'!$E$3-('Shooter Information'!$G$3-RANK(K5,K$4:K$78,1))<0,0,'Shooter Information'!$E$3-('Shooter Information'!$G$3-RANK(K5,K$4:K$78,1)))","v":0},{"$f":"(IF('Shooter Information'!H7=1,\"MDQ\",IF(J5=1,\"SDQ\",IF(I5=1,\"DNF\",SUM(D5+G5+H5+I5+J5)))))","v":0},null,{"$f":"SUM(D5+G5+H5+I5+J5)","v":0}]
[3,{"$f":"'Shooter Information'!B8","v":"Potter County Kid"},{"$f":"'Shooter Information'!C8","v":"WW"},null,null,null,null,null,null,null,{"$f":"MIN(IF('Shooter Information'!H8=1,999.99,(D6*5)+E6-F6+(G6*10)+(H6*30)+(I6*999.99)+(J6*999.99)),999.99)","v":0},{"$f":"IF('Shooter Information'!$E$3-('Shooter Information'!$G$3-RANK(K6,K$4:K$78,1))<0,0,'Shooter Information'!$E$3-('Shooter Information'!$G$3-RANK(K6,K$4:K$78,1)))","v":0},{"$f":"(IF('Shooter Information'!H8=1,\"MDQ\",IF(J6=1,\"SDQ\",IF(I6=1,\"DNF\",SUM(D6+G6+H6+I6+J6)))))","v":0},null,0]
[4,{"$f":"'Shooter Information'!B9","v":"Ricochet Kid"},{"$f":"'Shooter Information'!C9","v":"W"},null,null,null,null,null,null,null,{"$f":"MIN(IF('Shooter Information'!H9=1,999.99,(D7*5)+E7-F7+(G7*10)+(H7*30)+(I7*999.99)+(J7*999.99)),999.99)","v":0},{"$f":"IF('Shooter Information'!$E$3-('Shooter Information'!$G$3-RANK(K7,K$4:K$78,1))<0,0,'Shooter Information'!$E$3-('Shooter Information'!$G$3-RANK(K7,K$4:K$78,1)))","v":0},{"$f":"(IF('Shooter Information'!H9=1,\"MDQ\",IF(J7=1,\"SDQ\",IF(I7=1,\"DNF\",SUM(D7+G7+H7+I7+J7)))))","v":0},null,0]
[5,{"$f":"'Shooter Information'!B10","v":"Flatboat Bob"},{"$f":"'Shooter Information'!C10","v":"CBAR"},null,null,null,null,null,null,null,{"$f":"MIN(IF('Shooter Information'!H10=1,999.99,(D8*5)+E8-F8+(G8*10)+(H8*30)+(I8*999.99)+(J8*999.99)),999.99)","v":0},{"$f":"IF('Shooter Information'!$E$3-('Shooter Information'!$G$3-RANK(K8,K$4:K$78,1))<0,0,'Shooter Information'!$E$3-('Shooter Information'!$G$3-RANK(K8,K$4:K$78,1)))","v":0},{"$f":"(IF('Shooter Information'!H10=1,\"MDQ\",IF(J8=1,\"SDQ\",IF(I8=1,\"DNF\",SUM(D8+G8+H8+I8+J8)))))","v":0},null,0]
[6,{"$f":"'Shooter Information'!B11","v":"Hotshod"},{"$f":"'Shooter Information'!C11","v":"W"},null,null,null,null,null,null,null,{"$f":"MIN(IF('Shooter Information'!H11=1,999.99,(D9*5)+E9-F9+(G9*10)+(H9*30)+(I9*999.99)+(J9*999.99)),999.99)","v":0},{"$f":"IF('Shooter Information'!$E$3-('Shooter Information'!$G$3-RANK(K9,K$4:K$78,1))<0,0,'Shooter Information'!$E$3-('Shooter Information'!$G$3-RANK(K9,K$4:K$78,1)))","v":0},{"$f":"(IF('Shooter Information'!H11=1,\"MDQ\",IF(J9=1,\"SDQ\",IF(I9=1,\"DNF\",SUM(D9+G9+H9+I9+J9)))))","v":0},null,0]
[7,{"$f":"'Shooter Information'!B12","v":"Prairie City Slim"},{"$f":"'Shooter Information'!C12","v":"ES"},null,null,null,null,null,null,null,{"$f":"MIN(IF('Shooter Information'!H12=1,999.99,(D10*5)+E10-F10+(G10*10)+(H10*30)+(I10*999.99)+(J10*999.99)),999.99)","v":0},{"$f":"IF('Shooter Information'!$E$3-('Shooter Information'!$G$3-RANK(K10,K$4:K$78,1))<0,0,'Shooter Information'!$E$3-('Shooter Information'!$G$3-RANK(K10,K$4:K$78,1)))","v":0},{"$f":"(IF('Shooter Information'!H12=1,\"MDQ\",IF(J10=1,\"SDQ\",IF(I10=1,\"DNF\",SUM(D10+G10+H10+I10+J10)))))","v":0},null,0]
[8,{"$f":"'Shooter Information'!B13","v":"Regret Schofield"},{"$f":"'Shooter Information'!C13","v":"49er"},null,null,null,null,null,null,null,{"$f":"MIN(IF('Shooter Information'!H13=1,999.99,(D11*5)+E11-F11+(G11*10)+(H11*30)+(I11*999.99)+(J11*999.99)),999.99)","v":0},{"$f":"IF('Shooter Information'!$E$3-('Shooter Information'!$G$3-RANK(K11,K$4:K$78,1))<0,0,'Shooter Information'!$E$3-('Shooter Information'!$G$3-RANK(K11,K$4:K$78,1)))","v":0},{"$f":"(IF('Shooter Information'!H13=1,\"MDQ\",IF(J11=1,\"SDQ\",IF(I11=1,\"DNF\",SUM(D11+G11+H11+I11+J11)))))","v":0},null,0]
[9,{"$f":"'Shooter Information'!B14","v":"Tumble Weed Tink"},{"$f":"'Shooter Information'!C14","v":"L49"},null,null,null,null,null,null,null,{"$f":"MIN(IF('Shooter Information'!H14=1,999.99,(D12*5)+E12-F12+(G12*10)+(H12*30)+(I12*999.99)+(J12*999.99)),999.99)","v":0},{"$f":"IF('Shooter Information'!$E$3-('Shooter Information'!$G$3-RANK(K12,K$4:K$78,1))<0,0,'Shooter Information'!$E$3-('Shooter Information'!$G$3-RANK(K12,K$4:K$78,1)))","v":0},{"$f":"(IF('Shooter Information'!H14=1,\"MDQ\",IF(J12=1,\"SDQ\",IF(I12=1,\"DNF\",SUM(D12+G12+H12+I12+J12)))))","v":0},null,0]
[10,{"$f":"'Shooter Information'!B15","v":"One Eyed Jane"},{"$f":"'Shooter Information'!C15","v":"LSS"},null,null,null,null,null,null,null,{"$f":"MIN(IF('Shooter Information'!H15=1,999.99,(D13*5)+E13-F13+(G13*10)+(H13*30)+(I13*999.99)+(J13*999.99)),999.99)","v":0},{"$f":"IF('Shooter Information'!$E$3-('Shooter Information'!$G$3-RANK(K13,K$4:K$78,1))<0,0,'Shooter Information'!$E$3-('Shooter Information'!$G$3-RANK(K13,K$4:K$78,1)))","v":0},{"$f":"(IF('Shooter Information'!H15=1,\"MDQ\",IF(J13=1,\"SDQ\",IF(I13=1,\"DNF\",SUM(D13+G13+H13+I13+J13)))))","v":0},null,0]
[11,{"$f":"'Shooter Information'!B16","v":"Stogie"},{"$f":"'Shooter Information'!C16","v":"49er"},null,null,null,null,null,null,null,{"$f":"MIN(IF('Shooter Information'!H16=1,999.99,(D14*5)+E14-F14+(G14*10)+(H14*30)+(I14*999.99)+(J14*999.99)),999.99)","v":0},{"$f":"IF('Shooter Information'!$E$3-('Shooter Information'!$G$3-RANK(K14,K$4:K$78,1))<0,0,'Shooter Information'!$E$3-('Shooter Information'!$G$3-RANK(K14,K$4:K$78,1)))","v":0},{"$f":"(IF('Shooter Information'!H16=1,\"MDQ\",IF(J14=1,\"SDQ\",IF(I14=1,\"DNF\",SUM(D14+G14+H14+I14+J14)))))","v":0},null,0]
[12,{"$f":"'Shooter Information'!B17","v":"Major BS Walker"},{"$f":"'Shooter Information'!C17","v":"WW"},null,null,null,null,null,null,null,{"$f":"MIN(IF('Shooter Information'!H17=1,999.99,(D15*5)+E15-F15+(G15*10)+(H15*30)+(I15*999.99)+(J15*999.99)),999.99)","v":0},{"$f":"IF('Shooter Information'!$E$3-('Shooter Information'!$G$3-RANK(K15,K$4:K$78,1))<0,0,'Shooter Information'!$E$3-('Shooter Information'!$G$3-RANK(K15,K$4:K$78,1)))","v":0},{"$f":"(IF('Shooter Information'!H17=1,\"MDQ\",IF(J15=1,\"SDQ\",IF(I15=1,\"DNF\",SUM(D15+G15+H15+I15+J15)))))","v":0},null,0]
[13,{"$f":"'Shooter Information'!B18","v":"Sassy Shooting Sours"},{"$f":"'Shooter Information'!C18","v":"S"},null,null,null,null,null,null,null,{"$f":"MIN(IF('Shooter Information'!H18=1,999.99,(D16*5)+E16-F16+(G16*10)+(H16*30)+(I16*999.99)+(J16*999.99)),999.99)","v":0},{"$f":"IF('Shooter Information'!$E$3-('Shooter Information'!$G$3-RANK(K16,K$4:K$78,1))<0,0,'Shooter Information'!$E$3-('Shooter Information'!$G$3-RANK(K16,K$4:K$78,1)))","v":0},{"$f":"(IF('Shooter Information'!H18=1,\"MDQ\",IF(J16=1,\"SDQ\",IF(I16=1,\"DNF\",SUM(D16+G16+H16+I16+J16)))))","v":0},null,0]
[14,{"$f":"'Shooter Information'!B19","v":"Lefty Spurmaker"},{"$f":"'Shooter Information'!C19","v":"S"},null,null,null,null,null,null,null,{"$f":"MIN(IF('Shooter Information'!H19=1,999.99,(D17*5)+E17-F17+(G17*10)+(H17*30)+(I17*999.99)+(J17*999.99)),999.99)","v":0},{"$f":"IF('Shooter Information'!$E$3-('Shooter Information'!$G$3-RANK(K17,K$4:K$78,1))<0,0,'Shooter Information'!$E$3-('Shooter Information'!$G$3-RANK(K17,K$4:K$78,1)))","v":0},{"$f":"(IF('Shooter Information'!H19=1,\"MDQ\",IF(J17=1,\"SDQ\",IF(I17=1,\"DNF\",SUM(D17+G17+H17+I17+J17)))))","v":0},null,0]
[15,{"$f":"'Shooter Information'!B20","v":"Windhorse Rider"},{"$f":"'Shooter Information'!C20","v":"GF"},null,null,null,null,null,null,null,{"$f":"MIN(IF('Shooter Information'!H20=1,999.99,(D18*5)+E18-F18+(G18*10)+(H18*30)+(I18*999.99)+(J18*999.99)),999.99)","v":0},{"$f":"IF('Shooter Information'!$E$3-('Shooter Information'!$G$3-RANK(K18,K$4:K$78,1))<0,0,'Shooter Information'!$E$3-('Shooter Information'!$G$3-RANK(K18,K$4:K$78,1)))","v":0},{"$f":"(IF('Shooter Information'!H20=1,\"MDQ\",IF(J18=1,\"SDQ\",IF(I18=1,\"DNF\",SUM(D18+G18+H18+I18+J18)))))","v":0},null,0]
[16,{"$f":"'Shooter Information'!B21","v":"Red Cavanaugh"},{"$f":"'Shooter Information'!C21","v":"49er"},null,null,null,null,null,null,null,{"$f":"MIN(IF('Shooter Information'!H21=1,999.99,(D19*5)+E19-F19+(G19*10)+(H19*30)+(I19*999.99)+(J19*999.99)),999.99)","v":0},{"$f":"IF('Shooter Information'!$E$3-('Shooter Information'!$G$3-RANK(K19,K$4:K$78,1))<0,0,'Shooter Information'!$E$3-('Shooter Information'!$G$3-RANK(K19,K$4:K$78,1)))","v":0},{"$f":"(IF('Shooter Information'!H21=1,\"MDQ\",IF(J19=1,\"SDQ\",IF(I19=1,\"DNF\",SUM(D19+G19+H19+I19+J19)))))","v":0},null,0]
[17,{"$f":"'Shooter Information'!B22","v":0},{"$f":"'Shooter Information'!C22","v":0},null,null,null,null,null,null,null,{"$f":"MIN(IF('Shooter Information'!H22=1,999.99,(D20*5)+E20-F20+(G20*10)+(H20*30)+(I20*999.99)+(J20*999.99)),999.99)","v":0},{"$f":"IF('Shooter Information'!$E$3-('Shooter Information'!$G$3-RANK(K20,K$4:K$78,1))<0,0,'Shooter Information'!$E$3-('Shooter Information'!$G$3-RANK(K20,K$4:K$78,1)))","v":0},{"$f":"(IF('Shooter Information'!H22=1,\"MDQ\",IF(J20=1,\"SDQ\",IF(I20=1,\"DNF\",SUM(D20+G20+H20+I20+J20)))))","v":0},null,0]
[18,{"$f":"'Shooter Information'!B23","v":0},{"$f":"'Shooter Information'!C23","v":0},null,null,null,null,null,null,null,{"$f":"MIN(IF('Shooter Information'!H23=1,999.99,(D21*5)+E21-F21+(G21*10)+(H21*30)+(I21*999.99)+(J21*999.99)),999.99)","v":0},{"$f":"IF('Shooter Information'!$E$3-('Shooter Information'!$G$3-RANK(K21,K$4:K$78,1))<0,0,'Shooter Information'!$E$3-('Shooter Information'!$G$3-RANK(K21,K$4:K$78,1)))","v":0},{"$f":"(IF('Shooter Information'!H23=1,\"MDQ\",IF(J21=1,\"SDQ\",IF(I21=1,\"DNF\",SUM(D21+G21+H21+I21+J21)))))","v":0},null,0]
[19,{"$f":"'Shooter Information'!B24","v":0},{"$f":"'Shooter Information'!C24","v":0},null,null,null,null,null,null,null,{"$f":"MIN(IF('Shooter Information'!H24=1,999.99,(D22*5)+E22-F22+(G22*10)+(H22*30)+(I22*999.99)+(J22*999.99)),999.99)","v":0},{"$f":"IF('Shooter Information'!$E$3-('Shooter Information'!$G$3-RANK(K22,K$4:K$78,1))<0,0,'Shooter Information'!$E$3-('Shooter Information'!$G$3-RANK(K22,K$4:K$78,1)))","v":0},{"$f":"(IF('Shooter Information'!H24=1,\"MDQ\",IF(J22=1,\"SDQ\",IF(I22=1,\"DNF\",SUM(D22+G22+H22+I22+J22)))))","v":0},null,0]
[20,{"$f":"'Shooter Information'!B25","v":0},{"$f":"'Shooter Information'!C25","v":0},null,null,null,null,null,null,null,{"$f":"MIN(IF('Shooter Information'!H25=1,999.99,(D23*5)+E23-F23+(G23*10)+(H23*30)+(I23*999.99)+(J23*999.99)),999.99)","v":0},{"$f":"IF('Shooter Information'!$E$3-('Shooter Information'!$G$3-RANK(K23,K$4:K$78,1))<0,0,'Shooter Information'!$E$3-('Shooter Information'!$G$3-RANK(K23,K$4:K$78,1)))","v":0},{"$f":"(IF('Shooter Information'!H25=1,\"MDQ\",IF(J23=1,\"SDQ\",IF(I23=1,\"DNF\",SUM(D23+G23+H23+I23+J23)))))","v":0},null,0]
[21,{"$f":"'Shooter Information'!B26","v":0},{"$f":"'Shooter Information'!C26","v":0},null,null,null,null,null,null,null,{"$f":"MIN(IF('Shooter Information'!H26=1,999.99,(D24*5)+E24-F24+(G24*10)+(H24*30)+(I24*999.99)+(J24*999.99)),999.99)","v":0},{"$f":"IF('Shooter Information'!$E$3-('Shooter Information'!$G$3-RANK(K24,K$4:K$78,1))<0,0,'Shooter Information'!$E$3-('Shooter Information'!$G$3-RANK(K24,K$4:K$78,1)))","v":0},{"$f":"(IF('Shooter Information'!H26=1,\"MDQ\",IF(J24=1,\"SDQ\",IF(I24=1,\"DNF\",SUM(D24+G24+H24+I24+J24)))))","v":0},null,0]
[22,{"$f":"'Shooter Information'!B27","v":0},{"$f":"'Shooter Information'!C27","v":0},null,null,null,null,null,null,null,{"$f":"MIN(IF('Shooter Information'!H27=1,999.99,(D25*5)+E25-F25+(G25*10)+(H25*30)+(I25*999.99)+(J25*999.99)),999.99)","v":0},{"$f":"IF('Shooter Information'!$E$3-('Shooter Information'!$G$3-RANK(K25,K$4:K$78,1))<0,0,'Shooter Information'!$E$3-('Shooter Information'!$G$3-RANK(K25,K$4:K$78,1)))","v":0},{"$f":"(IF('Shooter Information'!H27=1,\"MDQ\",IF(J25=1,\"SDQ\",IF(I25=1,\"DNF\",SUM(D25+G25+H25+I25+J25)))))","v":0},null,0]
[23,{"$f":"'Shooter Information'!B28","v":0},{"$f":"'Shooter Information'!C28","v":0},null,null,null,null,null,null,null,{"$f":"MIN(IF('Shooter Information'!H28=1,999.99,(D26*5)+E26-F26+(G26*10)+(H26*30)+(I26*999.99)+(J26*999.99)),999.99)","v":0},{"$f":"IF('Shooter Information'!$E$3-('Shooter Information'!$G$3-RANK(K26,K$4:K$78,1))<0,0,'Shooter Information'!$E$3-('Shooter Information'!$G$3-RANK(K26,K$4:K$78,1)))","v":0},{"$f":"(IF('Shooter Information'!H28=1,\"MDQ\",IF(J26=1,\"SDQ\",IF(I26=1,\"DNF\",SUM(D26+G26+H26+I26+J26)))))","v":0},null,0]
[24,{"$f":"'Shooter Information'!B29","v":0},{"$f":"'Shooter Information'!C29","v":0},null,null,null,null,null,null,null,{"$f":"MIN(IF('Shooter Information'!H29=1,999.99,(D27*5)+E27-F27+(G27*10)+(H27*30)+(I27*999.99)+(J27*999.99)),999.99)","v":0},{"$f":"IF('Shooter Information'!$E$3-('Shooter Information'!$G$3-RANK(K27,K$4:K$78,1))<0,0,'Shooter Information'!$E$3-('Shooter Information'!$G$3-RANK(K27,K$4:K$78,1)))","v":0},{"$f":"(IF('Shooter Information'!H29=1,\"MDQ\",IF(J27=1,\"SDQ\",IF(I27=1,\"DNF\",SUM(D27+G27+H27+I27+J27)))))","v":0},null,0]
[25,{"$f":"'Shooter Information'!B30","v":0},{"$f":"'Shooter Information'!C30","v":0},null,null,null,null,null,null,null,{"$f":"MIN(IF('Shooter Information'!H30=1,999.99,(D28*5)+E28-F28+(G28*10)+(H28*30)+(I28*999.99)+(J28*999.99)),999.99)","v":0},{"$f":"IF('Shooter Information'!$E$3-('Shooter Information'!$G$3-RANK(K28,K$4:K$78,1))<0,0,'Shooter Information'!$E$3-('Shooter Information'!$G$3-RANK(K28,K$4:K$78,1)))","v":0},{"$f":"(IF('Shooter Information'!H30=1,\"MDQ\",IF(J28=1,\"SDQ\",IF(I28=1,\"DNF\",SUM(D28+G28+H28+I28+J28)))))","v":0},null,0]
[26,{"$f":"'Shooter Information'!B31","v":0},{"$f":"'Shooter Information'!C31","v":0},null,null,null,null,null,null,null,{"$f":"MIN(IF('Shooter Information'!H31=1,999.99,(D29*5)+E29-F29+(G29*10)+(H29*30)+(I29*999.99)+(J29*999.99)),999.99)","v":0},{"$f":"IF('Shooter Information'!$E$3-('Shooter Information'!$G$3-RANK(K29,K$4:K$78,1))<0,0,'Shooter Information'!$E$3-('Shooter Information'!$G$3-RANK(K29,K$4:K$78,1)))","v":0},{"$f":"(IF('Shooter Information'!H31=1,\"MDQ\",IF(J29=1,\"SDQ\",IF(I29=1,\"DNF\",SUM(D29+G29+H29+I29+J29)))))","v":0},null,0]
[27,{"$f":"'Shooter Information'!B32","v":0},{"$f":"'Shooter Information'!C32","v":0},null,null,null,null,null,null,null,{"$f":"MIN(IF('Shooter Information'!H32=1,999.99,(D30*5)+E30-F30+(G30*10)+(H30*30)+(I30*999.99)+(J30*999.99)),999.99)","v":0},{"$f":"IF('Shooter Information'!$E$3-('Shooter Information'!$G$3-RANK(K30,K$4:K$78,1))<0,0,'Shooter Information'!$E$3-('Shooter Information'!$G$3-RANK(K30,K$4:K$78,1)))","v":0},{"$f":"(IF('Shooter Information'!H32=1,\"MDQ\",IF(J30=1,\"SDQ\",IF(I30=1,\"DNF\",SUM(D30+G30+H30+I30+J30)))))","v":0},null,0]
[28,{"$f":"'Shooter Information'!B33","v":0},{"$f":"'Shooter Information'!C33","v":0},null,null,null,null,null,null,null,{"$f":"MIN(IF('Shooter Information'!H33=1,999.99,(D31*5)+E31-F31+(G31*10)+(H31*30)+(I31*999.99)+(J31*999.99)),999.99)","v":0},{"$f":"IF('Shooter Information'!$E$3-('Shooter Information'!$G$3-RANK(K31,K$4:K$78,1))<0,0,'Shooter Information'!$E$3-('Shooter Information'!$G$3-RANK(K31,K$4:K$78,1)))","v":0},{"$f":"(IF('Shooter Information'!H33=1,\"MDQ\",IF(J31=1,\"SDQ\",IF(I31=1,\"DNF\",SUM(D31+G31+H31+I31+J31)))))","v":0},null,0]
[29,{"$f":"'Shooter Information'!B34","v":0},{"$f":"'Shooter Information'!C34","v":0},null,null,null,null,null,null,null,{"$f":"MIN(IF('Shooter Information'!H34=1,999.99,(D32*5)+E32-F32+(G32*10)+(H32*30)+(I32*999.99)+(J32*999.99)),999.99)","v":0},{"$f":"IF('Shooter Information'!$E$3-('Shooter Information'!$G$3-RANK(K32,K$4:K$78,1))<0,0,'Shooter Information'!$E$3-('Shooter Information'!$G$3-RANK(K32,K$4:K$78,1)))","v":0},{"$f":"(IF('Shooter Information'!H34=1,\"MDQ\",IF(J32=1,\"SDQ\",IF(I32=1,\"DNF\",SUM(D32+G32+H32+I32+J32)))))","v":0},null,0]
[30,{"$f":"'Shooter Information'!B35","v":0},{"$f":"'Shooter Information'!C35","v":0},null,null,null,null,null,null,null,{"$f":"MIN(IF('Shooter Information'!H35=1,999.99,(D33*5)+E33-F33+(G33*10)+(H33*30)+(I33*999.99)+(J33*999.99)),999.99)","v":0},{"$f":"IF('Shooter Information'!$E$3-('Shooter Information'!$G$3-RANK(K33,K$4:K$78,1))<0,0,'Shooter Information'!$E$3-('Shooter Information'!$G$3-RANK(K33,K$4:K$78,1)))","v":0},{"$f":"(IF('Shooter Information'!H35=1,\"MDQ\",IF(J33=1,\"SDQ\",IF(I33=1,\"DNF\",SUM(D33+G33+H33+I33+J33)))))","v":0},null,0]
[31,{"$f":"'Shooter Information'!B36","v":0},{"$f":"'Shooter Information'!C36","v":0},null,null,null,null,null,null,null,{"$f":"MIN(IF('Shooter Information'!H36=1,999.99,(D34*5)+E34-F34+(G34*10)+(H34*30)+(I34*999.99)+(J34*999.99)),999.99)","v":0},{"$f":"IF('Shooter Information'!$E$3-('Shooter Information'!$G$3-RANK(K34,K$4:K$78,1))<0,0,'Shooter Information'!$E$3-('Shooter Information'!$G$3-RANK(K34,K$4:K$78,1)))","v":0},{"$f":"(IF('Shooter Information'!H36=1,\"MDQ\",IF(J34=1,\"SDQ\",IF(I34=1,\"DNF\",SUM(D34+G34+H34+I34+J34)))))","v":0},null,0]
[32,{"$f":"'Shooter Information'!B37","v":0},{"$f":"'Shooter Information'!C37","v":0},null,null,null,null,null,null,null,{"$f":"MIN(IF('Shooter Information'!H37=1,999.99,(D35*5)+E35-F35+(G35*10)+(H35*30)+(I35*999.99)+(J35*999.99)),999.99)","v":0},{"$f":"IF('Shooter Information'!$E$3-('Shooter Information'!$G$3-RANK(K35,K$4:K$78,1))<0,0,'Shooter Information'!$E$3-('Shooter Information'!$G$3-RANK(K35,K$4:K$78,1)))","v":0},{"$f":"(IF('Shooter Information'!H37=1,\"MDQ\",IF(J35=1,\"SDQ\",IF(I35=1,\"DNF\",SUM(D35+G35+H35+I35+J35)))))","v":0},null,0]
[33,{"$f":"'Shooter Information'!B38","v":0},{"$f":"'Shooter Information'!C38","v":0},null,null,null,null,null,null,null,{"$f":"MIN(IF('Shooter Information'!H38=1,999.99,(D36*5)+E36-F36+(G36*10)+(H36*30)+(I36*999.99)+(J36*999.99)),999.99)","v":0},{"$f":"IF('Shooter Information'!$E$3-('Shooter Information'!$G$3-RANK(K36,K$4:K$78,1))<0,0,'Shooter Information'!$E$3-('Shooter Information'!$G$3-RANK(K36,K$4:K$78,1)))","v":0},{"$f":"(IF('Shooter Information'!H38=1,\"MDQ\",IF(J36=1,\"SDQ\",IF(I36=1,\"DNF\",SUM(D36+G36+H36+I36+J36)))))","v":0},null,0]
[34,{"$f":"'Shooter Information'!B39","v":0},{"$f":"'Shooter Information'!C39","v":0},null,null,null,null,null,null,null,{"$f":"MIN(IF('Shooter Information'!H39=1,999.99,(D37*5)+E37-F37+(G37*10)+(H37*30)+(I37*999.99)+(J37*999.99)),999.99)","v":0},{"$f":"IF('Shooter Information'!$E$3-('Shooter Information'!$G$3-RANK(K37,K$4:K$78,1))<0,0,'Shooter Information'!$E$3-('Shooter Information'!$G$3-RANK(K37,K$4:K$78,1)))","v":0},{"$f":"(IF('Shooter Information'!H39=1,\"MDQ\",IF(J37=1,\"SDQ\",IF(I37=1,\"DNF\",SUM(D37+G37+H37+I37+J37)))))","v":0},null,0]
[35,{"$f":"'Shooter Information'!B40","v":0},{"$f":"'Shooter Information'!C40","v":0},null,null,null,null,null,null,null,{"$f":"MIN(IF('Shooter Information'!H40=1,999.99,(D38*5)+E38-F38+(G38*10)+(H38*30)+(I38*999.99)+(J38*999.99)),999.99)","v":0},{"$f":"IF('Shooter Information'!$E$3-('Shooter Information'!$G$3-RANK(K38,K$4:K$78,1))<0,0,'Shooter Information'!$E$3-('Shooter Information'!$G$3-RANK(K38,K$4:K$78,1)))","v":0},{"$f":"(IF('Shooter Information'!H40=1,\"MDQ\",IF(J38=1,\"SDQ\",IF(I38=1,\"DNF\",SUM(D38+G38+H38+I38+J38)))))","v":0},null,0]
[36,{"$f":"'Shooter Information'!B41","v":0},{"$f":"'Shooter Information'!C41","v":0},null,null,null,null,null,null,null,{"$f":"MIN(IF('Shooter Information'!H41=1,999.99,(D39*5)+E39-F39+(G39*10)+(H39*30)+(I39*999.99)+(J39*999.99)),999.99)","v":0},{"$f":"IF('Shooter Information'!$E$3-('Shooter Information'!$G$3-RANK(K39,K$4:K$78,1))<0,0,'Shooter Information'!$E$3-('Shooter Information'!$G$3-RANK(K39,K$4:K$78,1)))","v":0},{"$f":"(IF('Shooter Information'!H41=1,\"MDQ\",IF(J39=1,\"SDQ\",IF(I39=1,\"DNF\",SUM(D39+G39+H39+I39+J39)))))","v":0},null,0]
[37,{"$f":"'Shooter Information'!B42","v":0},{"$f":"'Shooter Information'!C42","v":0},null,null,null,null,null,null,null,{"$f":"MIN(IF('Shooter Information'!H42=1,999.99,(D40*5)+E40-F40+(G40*10)+(H40*30)+(I40*999.99)+(J40*999.99)),999.99)","v":0},{"$f":"IF('Shooter Information'!$E$3-('Shooter Information'!$G$3-RANK(K40,K$4:K$78,1))<0,0,'Shooter Information'!$E$3-('Shooter Information'!$G$3-RANK(K40,K$4:K$78,1)))","v":0},{"$f":"(IF('Shooter Information'!H42=1,\"MDQ\",IF(J40=1,\"SDQ\",IF(I40=1,\"DNF\",SUM(D40+G40+H40+I40+J40)))))","v":0},null,0]
[38,{"$f":"'Shooter Information'!B43","v":0},{"$f":"'Shooter Information'!C43","v":0},null,null,null,null,null,null,null,{"$f":"MIN(IF('Shooter Information'!H43=1,999.99,(D41*5)+E41-F41+(G41*10)+(H41*30)+(I41*999.99)+(J41*999.99)),999.99)","v":0},{"$f":"IF('Shooter Information'!$E$3-('Shooter Information'!$G$3-RANK(K41,K$4:K$78,1))<0,0,'Shooter Information'!$E$3-('Shooter Information'!$G$3-RANK(K41,K$4:K$78,1)))","v":0},{"$f":"(IF('Shooter Information'!H43=1,\"MDQ\",IF(J41=1,\"SDQ\",IF(I41=1,\"DNF\",SUM(D41+G41+H41+I41+J41)))))","v":0},null,0]
[39,{"$f":"'Shooter Information'!B44","v":0},{"$f":"'Shooter Information'!C44","v":0},null,null,null,null,null,null,null,{"$f":"MIN(IF('Shooter Information'!H44=1,999.99,(D42*5)+E42-F42+(G42*10)+(H42*30)+(I42*999.99)+(J42*999.99)),999.99)","v":0},{"$f":"IF('Shooter Information'!$E$3-('Shooter Information'!$G$3-RANK(K42,K$4:K$78,1))<0,0,'Shooter Information'!$E$3-('Shooter Information'!$G$3-RANK(K42,K$4:K$78,1)))","v":0},{"$f":"(IF('Shooter Information'!H44=1,\"MDQ\",IF(J42=1,\"SDQ\",IF(I42=1,\"DNF\",SUM(D42+G42+H42+I42+J42)))))","v":0},null,0]
[40,{"$f":"'Shooter Information'!B45","v":0},{"$f":"'Shooter Information'!C45","v":0},null,null,null,null,null,null,null,{"$f":"MIN(IF('Shooter Information'!H45=1,999.99,(D43*5)+E43-F43+(G43*10)+(H43*30)+(I43*999.99)+(J43*999.99)),999.99)","v":0},{"$f":"IF('Shooter Information'!$E$3-('Shooter Information'!$G$3-RANK(K43,K$4:K$78,1))<0,0,'Shooter Information'!$E$3-('Shooter Information'!$G$3-RANK(K43,K$4:K$78,1)))","v":0},{"$f":"(IF('Shooter Information'!H45=1,\"MDQ\",IF(J43=1,\"SDQ\",IF(I43=1,\"DNF\",SUM(D43+G43+H43+I43+J43)))))","v":0},null,0]
[41,{"$f":"'Shooter Information'!B46","v":0},{"$f":"'Shooter Information'!C46","v":0},null,null,null,null,null,null,null,{"$f":"MIN(IF('Shooter Information'!H46=1,999.99,(D44*5)+E44-F44+(G44*10)+(H44*30)+(I44*999.99)+(J44*999.99)),999.99)","v":0},{"$f":"IF('Shooter Information'!$E$3-('Shooter Information'!$G$3-RANK(K44,K$4:K$78,1))<0,0,'Shooter Information'!$E$3-('Shooter Information'!$G$3-RANK(K44,K$4:K$78,1)))","v":0},{"$f":"(IF('Shooter Information'!H46=1,\"MDQ\",IF(J44=1,\"SDQ\",IF(I44=1,\"DNF\",SUM(D44+G44+H44+I44+J44)))))","v":0},null,0]
[42,{"$f":"'Shooter Information'!B47","v":0},{"$f":"'Shooter Information'!C47","v":0},null,null,null,null,null,null,null,{"$f":"MIN(IF('Shooter Information'!H47=1,999.99,(D45*5)+E45-F45+(G45*10)+(H45*30)+(I45*999.99)+(J45*999.99)),999.99)","v":0},{"$f":"IF('Shooter Information'!$E$3-('Shooter Information'!$G$3-RANK(K45,K$4:K$78,1))<0,0,'Shooter Information'!$E$3-('Shooter Information'!$G$3-RANK(K45,K$4:K$78,1)))","v":0},{"$f":"(IF('Shooter Information'!H47=1,\"MDQ\",IF(J45=1,\"SDQ\",IF(I45=1,\"DNF\",SUM(D45+G45+H45+I45+J45)))))","v":0},null,0]
[43,{"$f":"'Shooter Information'!B48","v":0},{"$f":"'Shooter Information'!C48","v":0},null,null,null,null,null,null,null,{"$f":"MIN(IF('Shooter Information'!H48=1,999.99,(D46*5)+E46-F46+(G46*10)+(H46*30)+(I46*999.99)+(J46*999.99)),999.99)","v":0},{"$f":"IF('Shooter Information'!$E$3-('Shooter Information'!$G$3-RANK(K46,K$4:K$78,1))<0,0,'Shooter Information'!$E$3-('Shooter Information'!$G$3-RANK(K46,K$4:K$78,1)))","v":0},{"$f":"(IF('Shooter Information'!H48=1,\"MDQ\",IF(J46=1,\"SDQ\",IF(I46=1,\"DNF\",SUM(D46+G46+H46+I46+J46)))))","v":0},null,0]
[44,{"$f":"'Shooter Information'!B49","v":0},{"$f":"'Shooter Information'!C49","v":0},null,null,null,null,null,null,null,{"$f":"MIN(IF('Shooter Information'!H49=1,999.99,(D47*5)+E47-F47+(G47*10)+(H47*30)+(I47*999.99)+(J47*999.99)),999.99)","v":0},{"$f":"IF('Shooter Information'!$E$3-('Shooter Information'!$G$3-RANK(K47,K$4:K$78,1))<0,0,'Shooter Information'!$E$3-('Shooter Information'!$G$3-RANK(K47,K$4:K$78,1)))","v":0},{"$f":"(IF('Shooter Information'!H49=1,\"MDQ\",IF(J47=1,\"SDQ\",IF(I47=1,\"DNF\",SUM(D47+G47+H47+I47+J47)))))","v":0},null,0]
[45,{"$f":"'Shooter Information'!B50","v":0},{"$f":"'Shooter Information'!C50","v":0},null,null,null,null,null,null,null,{"$f":"MIN(IF('Shooter Information'!H50=1,999.99,(D48*5)+E48-F48+(G48*10)+(H48*30)+(I48*999.99)+(J48*999.99)),999.99)","v":0},{"$f":"IF('Shooter Information'!$E$3-('Shooter Information'!$G$3-RANK(K48,K$4:K$78,1))<0,0,'Shooter Information'!$E$3-('Shooter Information'!$G$3-RANK(K48,K$4:K$78,1)))","v":0},{"$f":"(IF('Shooter Information'!H50=1,\"MDQ\",IF(J48=1,\"SDQ\",IF(I48=1,\"DNF\",SUM(D48+G48+H48+I48+J48)))))","v":0},null,0]
[46,{"$f":"'Shooter Information'!B51","v":0},{"$f":"'Shooter Information'!C51","v":0},null,null,null,null,null,null,null,{"$f":"MIN(IF('Shooter Information'!H51=1,999.99,(D49*5)+E49-F49+(G49*10)+(H49*30)+(I49*999.99)+(J49*999.99)),999.99)","v":0},{"$f":"IF('Shooter Information'!$E$3-('Shooter Information'!$G$3-RANK(K49,K$4:K$78,1))<0,0,'Shooter Information'!$E$3-('Shooter Information'!$G$3-RANK(K49,K$4:K$78,1)))","v":0},{"$f":"(IF('Shooter Information'!H51=1,\"MDQ\",IF(J49=1,\"SDQ\",IF(I49=1,\"DNF\",SUM(D49+G49+H49+I49+J49)))))","v":0},null,0]
[47,{"$f":"'Shooter Information'!B52","v":0},{"$f":"'Shooter Information'!C52","v":0},null,null,null,null,null,null,null,{"$f":"MIN(IF('Shooter Information'!H52=1,999.99,(D50*5)+E50-F50+(G50*10)+(H50*30)+(I50*999.99)+(J50*999.99)),999.99)","v":0},{"$f":"IF('Shooter Information'!$E$3-('Shooter Information'!$G$3-RANK(K50,K$4:K$78,1))<0,0,'Shooter Information'!$E$3-('Shooter Information'!$G$3-RANK(K50,K$4:K$78,1)))","v":0},{"$f":"(IF('Shooter Information'!H52=1,\"MDQ\",IF(J50=1,\"SDQ\",IF(I50=1,\"DNF\",SUM(D50+G50+H50+I50+J50)))))","v":0},null,0]
[48,{"$f":"'Shooter Information'!B53","v":0},{"$f":"'Shooter Information'!C53","v":0},null,null,null,null,null,null,null,{"$f":"MIN(IF('Shooter Information'!H53=1,999.99,(D51*5)+E51-F51+(G51*10)+(H51*30)+(I51*999.99)+(J51*999.99)),999.99)","v":0},{"$f":"IF('Shooter Information'!$E$3-('Shooter Information'!$G$3-RANK(K51,K$4:K$78,1))<0,0,'Shooter Information'!$E$3-('Shooter Information'!$G$3-RANK(K51,K$4:K$78,1)))","v":0},{"$f":"(IF('Shooter Information'!H53=1,\"MDQ\",IF(J51=1,\"SDQ\",IF(I51=1,\"DNF\",SUM(D51+G51+H51+I51+J51)))))","v":0},null,0]
[49,{"$f":"'Shooter Information'!B54","v":0},{"$f":"'Shooter Information'!C54","v":0},null,null,null,null,null,null,null,{"$f":"MIN(IF('Shooter Information'!H54=1,999.99,(D52*5)+E52-F52+(G52*10)+(H52*30)+(I52*999.99)+(J52*999.99)),999.99)","v":0},{"$f":"IF('Shooter Information'!$E$3-('Shooter Information'!$G$3-RANK(K52,K$4:K$78,1))<0,0,'Shooter Information'!$E$3-('Shooter Information'!$G$3-RANK(K52,K$4:K$78,1)))","v":0},{"$f":"(IF('Shooter Information'!H54=1,\"MDQ\",IF(J52=1,\"SDQ\",IF(I52=1,\"DNF\",SUM(D52+G52+H52+I52+J52)))))","v":0},null,0]
[50,{"$f":"'Shooter Information'!B55","v":0},{"$f":"'Shooter Information'!C55","v":0},null,null,null,null,null,null,null,{"$f":"MIN(IF('Shooter Information'!H55=1,999.99,(D53*5)+E53-F53+(G53*10)+(H53*30)+(I53*999.99)+(J53*999.99)),999.99)","v":0},{"$f":"IF('Shooter Information'!$E$3-('Shooter Information'!$G$3-RANK(K53,K$4:K$78,1))<0,0,'Shooter Information'!$E$3-('Shooter Information'!$G$3-RANK(K53,K$4:K$78,1)))","v":0},{"$f":"(IF('Shooter Information'!H55=1,\"MDQ\",IF(J53=1,\"SDQ\",IF(I53=1,\"DNF\",SUM(D53+G53+H53+I53+J53)))))","v":0},null,0]
[51,{"$f":"'Shooter Information'!B56","v":0},{"$f":"'Shooter Information'!C56","v":0},null,null,null,null,null,null,null,{"$f":"MIN(IF('Shooter Information'!H56=1,999.99,(D54*5)+E54-F54+(G54*10)+(H54*30)+(I54*999.99)+(J54*999.99)),999.99)","v":0},{"$f":"IF('Shooter Information'!$E$3-('Shooter Information'!$G$3-RANK(K54,K$4:K$78,1))<0,0,'Shooter Information'!$E$3-('Shooter Information'!$G$3-RANK(K54,K$4:K$78,1)))","v":0},{"$f":"(IF('Shooter Information'!H56=1,\"MDQ\",IF(J54=1,\"SDQ\",IF(I54=1,\"DNF\",SUM(D54+G54+H54+I54+J54)))))","v":0},null,0]
[52,{"$f":"'Shooter Information'!B57","v":0},{"$f":"'Shooter Information'!C57","v":0},null,null,null,null,null,null,null,{"$f":"MIN(IF('Shooter Information'!H57=1,999.99,(D55*5)+E55-F55+(G55*10)+(H55*30)+(I55*999.99)+(J55*999.99)),999.99)","v":0},{"$f":"IF('Shooter Information'!$E$3-('Shooter Information'!$G$3-RANK(K55,K$4:K$78,1))<0,0,'Shooter Information'!$E$3-('Shooter Information'!$G$3-RANK(K55,K$4:K$78,1)))","v":0},{"$f":"(IF('Shooter Information'!H57=1,\"MDQ\",IF(J55=1,\"SDQ\",IF(I55=1,\"DNF\",SUM(D55+G55+H55+I55+J55)))))","v":0},null,0]
[53,{"$f":"'Shooter Information'!B58","v":0},{"$f":"'Shooter Information'!C58","v":0},null,null,null,null,null,null,null,{"$f":"MIN(IF('Shooter Information'!H58=1,999.99,(D56*5)+E56-F56+(G56*10)+(H56*30)+(I56*999.99)+(J56*999.99)),999.99)","v":0},{"$f":"IF('Shooter Information'!$E$3-('Shooter Information'!$G$3-RANK(K56,K$4:K$78,1))<0,0,'Shooter Information'!$E$3-('Shooter Information'!$G$3-RANK(K56,K$4:K$78,1)))","v":0},{"$f":"(IF('Shooter Information'!H58=1,\"MDQ\",IF(J56=1,\"SDQ\",IF(I56=1,\"DNF\",SUM(D56+G56+H56+I56+J56)))))","v":0},null,0]
[54,{"$f":"'Shooter Information'!B59","v":0},{"$f":"'Shooter Information'!C59","v":0},null,null,null,null,null,null,null,{"$f":"MIN(IF('Shooter Information'!H59=1,999.99,(D57*5)+E57-F57+(G57*10)+(H57*30)+(I57*999.99)+(J57*999.99)),999.99)","v":0},{"$f":"IF('Shooter Information'!$E$3-('Shooter Information'!$G$3-RANK(K57,K$4:K$78,1))<0,0,'Shooter Information'!$E$3-('Shooter Information'!$G$3-RANK(K57,K$4:K$78,1)))","v":0},{"$f":"(IF('Shooter Information'!H59=1,\"MDQ\",IF(J57=1,\"SDQ\",IF(I57=1,\"DNF\",SUM(D57+G57+H57+I57+J57)))))","v":0},null,0]
[55,{"$f":"'Shooter Information'!B60","v":0},{"$f":"'Shooter Information'!C60","v":0},null,null,null,null,null,null,null,{"$f":"MIN(IF('Shooter Information'!H60=1,999.99,(D58*5)+E58-F58+(G58*10)+(H58*30)+(I58*999.99)+(J58*999.99)),999.99)","v":0},{"$f":"IF('Shooter Information'!$E$3-('Shooter Information'!$G$3-RANK(K58,K$4:K$78,1))<0,0,'Shooter Information'!$E$3-('Shooter Information'!$G$3-RANK(K58,K$4:K$78,1)))","v":0},{"$f":"(IF('Shooter Information'!H60=1,\"MDQ\",IF(J58=1,\"SDQ\",IF(I58=1,\"DNF\",SUM(D58+G58+H58+I58+J58)))))","v":0},null,0]
[56,{"$f":"'Shooter Information'!B61","v":0},{"$f":"'Shooter Information'!C61","v":0},null,null,null,null,null,null,null,{"$f":"MIN(IF('Shooter Information'!H61=1,999.99,(D59*5)+E59-F59+(G59*10)+(H59*30)+(I59*999.99)+(J59*999.99)),999.99)","v":0},{"$f":"IF('Shooter Information'!$E$3-('Shooter Information'!$G$3-RANK(K59,K$4:K$78,1))<0,0,'Shooter Information'!$E$3-('Shooter Information'!$G$3-RANK(K59,K$4:K$78,1)))","v":0},{"$f":"(IF('Shooter Information'!H61=1,\"MDQ\",IF(J59=1,\"SDQ\",IF(I59=1,\"DNF\",SUM(D59+G59+H59+I59+J59)))))","v":0},null,0]
[57,{"$f":"'Shooter Information'!B62","v":0},{"$f":"'Shooter Information'!C62","v":0},null,null,null,null,null,null,null,{"$f":"MIN(IF('Shooter Information'!H62=1,999.99,(D60*5)+E60-F60+(G60*10)+(H60*30)+(I60*999.99)+(J60*999.99)),999.99)","v":0},{"$f":"IF('Shooter Information'!$E$3-('Shooter Information'!$G$3-RANK(K60,K$4:K$78,1))<0,0,'Shooter Information'!$E$3-('Shooter Information'!$G$3-RANK(K60,K$4:K$78,1)))","v":0},{"$f":"(IF('Shooter Information'!H62=1,\"MDQ\",IF(J60=1,\"SDQ\",IF(I60=1,\"DNF\",SUM(D60+G60+H60+I60+J60)))))","v":0},null,0]
[58,{"$f":"'Shooter Information'!B63","v":0},{"$f":"'Shooter Information'!C63","v":0},null,null,null,null,null,null,null,{"$f":"MIN(IF('Shooter Information'!H63=1,999.99,(D61*5)+E61-F61+(G61*10)+(H61*30)+(I61*999.99)+(J61*999.99)),999.99)","v":0},{"$f":"IF('Shooter Information'!$E$3-('Shooter Information'!$G$3-RANK(K61,K$4:K$78,1))<0,0,'Shooter Information'!$E$3-('Shooter Information'!$G$3-RANK(K61,K$4:K$78,1)))","v":0},{"$f":"(IF('Shooter Information'!H63=1,\"MDQ\",IF(J61=1,\"SDQ\",IF(I61=1,\"DNF\",SUM(D61+G61+H61+I61+J61)))))","v":0},null,0]
[59,{"$f":"'Shooter Information'!B64","v":0},{"$f":"'Shooter Information'!C64","v":0},null,null,null,null,null,null,null,{"$f":"MIN(IF('Shooter Information'!H64=1,999.99,(D62*5)+E62-F62+(G62*10)+(H62*30)+(I62*999.99)+(J62*999.99)),999.99)","v":0},{"$f":"IF('Shooter Information'!$E$3-('Shooter Information'!$G$3-RANK(K62,K$4:K$78,1))<0,0,'Shooter Information'!$E$3-('Shooter Information'!$G$3-RANK(K62,K$4:K$78,1)))","v":0},{"$f":"(IF('Shooter Information'!H64=1,\"MDQ\",IF(J62=1,\"SDQ\",IF(I62=1,\"DNF\",SUM(D62+G62+H62+I62+J62)))))","v":0},null,0]
[60,{"$f":"'Shooter Information'!B65","v":0},{"$f":"'Shooter Information'!C65","v":0},null,null,null,null,null,null,null,{"$f":"MIN(IF('Shooter Information'!H65=1,999.99,(D63*5)+E63-F63+(G63*10)+(H63*30)+(I63*999.99)+(J63*999.99)),999.99)","v":0},{"$f":"IF('Shooter Information'!$E$3-('Shooter Information'!$G$3-RANK(K63,K$4:K$78,1))<0,0,'Shooter Information'!$E$3-('Shooter Information'!$G$3-RANK(K63,K$4:K$78,1)))","v":0},{"$f":"(IF('Shooter Information'!H65=1,\"MDQ\",IF(J63=1,\"SDQ\",IF(I63=1,\"DNF\",SUM(D63+G63+H63+I63+J63)))))","v":0},null,0]
[61,{"$f":"'Shooter Information'!B66","v":0},{"$f":"'Shooter Information'!C66","v":0},null,null,null,null,null,null,null,{"$f":"MIN(IF('Shooter Information'!H66=1,999.99,(D64*5)+E64-F64+(G64*10)+(H64*30)+(I64*999.99)+(J64*999.99)),999.99)","v":0},{"$f":"IF('Shooter Information'!$E$3-('Shooter Information'!$G$3-RANK(K64,K$4:K$78,1))<0,0,'Shooter Information'!$E$3-('Shooter Information'!$G$3-RANK(K64,K$4:K$78,1)))","v":0},{"$f":"(IF('Shooter Information'!H66=1,\"MDQ\",IF(J64=1,\"SDQ\",IF(I64=1,\"DNF\",SUM(D64+G64+H64+I64+J64)))))","v":0},null,0]
[62,{"$f":"'Shooter Information'!B67","v":0},{"$f":"'Shooter Information'!C67","v":0},null,null,null,null,null,null,null,{"$f":"MIN(IF('Shooter Information'!H67=1,999.99,(D65*5)+E65-F65+(G65*10)+(H65*30)+(I65*999.99)+(J65*999.99)),999.99)","v":0},{"$f":"IF('Shooter Information'!$E$3-('Shooter Information'!$G$3-RANK(K65,K$4:K$78,1))<0,0,'Shooter Information'!$E$3-('Shooter Information'!$G$3-RANK(K65,K$4:K$78,1)))","v":0},{"$f":"(IF('Shooter Information'!H67=1,\"MDQ\",IF(J65=1,\"SDQ\",IF(I65=1,\"DNF\",SUM(D65+G65+H65+I65+J65)))))","v":0},null,0]
[63,{"$f":"'Shooter Information'!B68","v":0},{"$f":"'Shooter Information'!C68","v":0},null,null,null,null,null,null,null,{"$f":"MIN(IF('Shooter Information'!H68=1,999.99,(D66*5)+E66-F66+(G66*10)+(H66*30)+(I66*999.99)+(J66*999.99)),999.99)","v":0},{"$f":"IF('Shooter Information'!$E$3-('Shooter Information'!$G$3-RANK(K66,K$4:K$78,1))<0,0,'Shooter Information'!$E$3-('Shooter Information'!$G$3-RANK(K66,K$4:K$78,1)))","v":0},{"$f":"(IF('Shooter Information'!H68=1,\"MDQ\",IF(J66=1,\"SDQ\",IF(I66=1,\"DNF\",SUM(D66+G66+H66+I66+J66)))))","v":0},null,0]
[64,{"$f":"'Shooter Information'!B69","v":0},{"$f":"'Shooter Information'!C69","v":0},null,null,null,null,null,null,null,{"$f":"MIN(IF('Shooter Information'!H69=1,999.99,(D67*5)+E67-F67+(G67*10)+(H67*30)+(I67*999.99)+(J67*999.99)),999.99)","v":0},{"$f":"IF('Shooter Information'!$E$3-('Shooter Information'!$G$3-RANK(K67,K$4:K$78,1))<0,0,'Shooter Information'!$E$3-('Shooter Information'!$G$3-RANK(K67,K$4:K$78,1)))","v":0},{"$f":"(IF('Shooter Information'!H69=1,\"MDQ\",IF(J67=1,\"SDQ\",IF(I67=1,\"DNF\",SUM(D67+G67+H67+I67+J67)))))","v":0},null,0]
[65,{"$f":"'Shooter Information'!B70","v":0},{"$f":"'Shooter Information'!C70","v":0},null,null,null,null,null,null,null,{"$f":"MIN(IF('Shooter Information'!H70=1,999.99,(D68*5)+E68-F68+(G68*10)+(H68*30)+(I68*999.99)+(J68*999.99)),999.99)","v":0},{"$f":"IF('Shooter Information'!$E$3-('Shooter Information'!$G$3-RANK(K68,K$4:K$78,1))<0,0,'Shooter Information'!$E$3-('Shooter Information'!$G$3-RANK(K68,K$4:K$78,1)))","v":0},{"$f":"(IF('Shooter Information'!H70=1,\"MDQ\",IF(J68=1,\"SDQ\",IF(I68=1,\"DNF\",SUM(D68+G68+H68+I68+J68)))))","v":0},null,0]
[66,{"$f":"'Shooter Information'!B71","v":0},{"$f":"'Shooter Information'!C71","v":0},null,null,null,null,null,null,null,{"$f":"MIN(IF('Shooter Information'!H71=1,999.99,(D69*5)+E69-F69+(G69*10)+(H69*30)+(I69*999.99)+(J69*999.99)),999.99)","v":0},{"$f":"IF('Shooter Information'!$E$3-('Shooter Information'!$G$3-RANK(K69,K$4:K$78,1))<0,0,'Shooter Information'!$E$3-('Shooter Information'!$G$3-RANK(K69,K$4:K$78,1)))","v":0},{"$f":"(IF('Shooter Information'!H71=1,\"MDQ\",IF(J69=1,\"SDQ\",IF(I69=1,\"DNF\",SUM(D69+G69+H69+I69+J69)))))","v":0},null,{"$f":"SUM(D69+G69+H69+I69+J69)","v":0}]
[67,{"$f":"'Shooter Information'!B72","v":0},{"$f":"'Shooter Information'!C72","v":0},null,null,null,null,null,null,null,{"$f":"MIN(IF('Shooter Information'!H72=1,999.99,(D70*5)+E70-F70+(G70*10)+(H70*30)+(I70*999.99)+(J70*999.99)),999.99)","v":0},{"$f":"IF('Shooter Information'!$E$3-('Shooter Information'!$G$3-RANK(K70,K$4:K$78,1))<0,0,'Shooter Information'!$E$3-('Shooter Information'!$G$3-RANK(K70,K$4:K$78,1)))","v":0},{"$f":"(IF('Shooter Information'!H72=1,\"MDQ\",IF(J70=1,\"SDQ\",IF(I70=1,\"DNF\",SUM(D70+G70+H70+I70+J70)))))","v":0},null,0]
[68,{"$f":"'Shooter Information'!B73","v":0},{"$f":"'Shooter Information'!C73","v":0},null,null,null,null,null,null,null,{"$f":"MIN(IF('Shooter Information'!H73=1,999.99,(D71*5)+E71-F71+(G71*10)+(H71*30)+(I71*999.99)+(J71*999.99)),999.99)","v":0},{"$f":"IF('Shooter Information'!$E$3-('Shooter Information'!$G$3-RANK(K71,K$4:K$78,1))<0,0,'Shooter Information'!$E$3-('Shooter Information'!$G$3-RANK(K71,K$4:K$78,1)))","v":0},{"$f":"(IF('Shooter Information'!H73=1,\"MDQ\",IF(J71=1,\"SDQ\",IF(I71=1,\"DNF\",SUM(D71+G71+H71+I71+J71)))))","v":0},null,0]
[69,{"$f":"'Shooter Information'!B74","v":0},{"$f":"'Shooter Information'!C74","v":0},null,null,null,null,null,null,null,{"$f":"MIN(IF('Shooter Information'!H74=1,999.99,(D72*5)+E72-F72+(G72*10)+(H72*30)+(I72*999.99)+(J72*999.99)),999.99)","v":0},{"$f":"IF('Shooter Information'!$E$3-('Shooter Information'!$G$3-RANK(K72,K$4:K$78,1))<0,0,'Shooter Information'!$E$3-('Shooter Information'!$G$3-RANK(K72,K$4:K$78,1)))","v":0},{"$f":"(IF('Shooter Information'!H74=1,\"MDQ\",IF(J72=1,\"SDQ\",IF(I72=1,\"DNF\",SUM(D72+G72+H72+I72+J72)))))","v":0},null,0]
[70,{"$f":"'Shooter Information'!B75","v":0},{"$f":"'Shooter Information'!C75","v":0},null,null,null,null,null,null,null,{"$f":"MIN(IF('Shooter Information'!H75=1,999.99,(D73*5)+E73-F73+(G73*10)+(H73*30)+(I73*999.99)+(J73*999.99)),999.99)","v":0},{"$f":"IF('Shooter Information'!$E$3-('Shooter Information'!$G$3-RANK(K73,K$4:K$78,1))<0,0,'Shooter Information'!$E$3-('Shooter Information'!$G$3-RANK(K73,K$4:K$78,1)))","v":0},{"$f":"(IF('Shooter Information'!H75=1,\"MDQ\",IF(J73=1,\"SDQ\",IF(I73=1,\"DNF\",SUM(D73+G73+H73+I73+J73)))))","v":0},null,0]
[71,{"$f":"'Shooter Information'!B76","v":0},{"$f":"'Shooter Information'!C76","v":0},null,null,null,null,null,null,null,{"$f":"MIN(IF('Shooter Information'!H76=1,999.99,(D74*5)+E74-F74+(G74*10)+(H74*30)+(I74*999.99)+(J74*999.99)),999.99)","v":0},{"$f":"IF('Shooter Information'!$E$3-('Shooter Information'!$G$3-RANK(K74,K$4:K$78,1))<0,0,'Shooter Information'!$E$3-('Shooter Information'!$G$3-RANK(K74,K$4:K$78,1)))","v":0},{"$f":"(IF('Shooter Information'!H76=1,\"MDQ\",IF(J74=1,\"SDQ\",IF(I74=1,\"DNF\",SUM(D74+G74+H74+I74+J74)))))","v":0},null,0]
[72,{"$f":"'Shooter Information'!B77","v":0},{"$f":"'Shooter Information'!C77","v":0},null,null,null,null,null,null,null,{"$f":"MIN(IF('Shooter Information'!H77=1,999.99,(D75*5)+E75-F75+(G75*10)+(H75*30)+(I75*999.99)+(J75*999.99)),999.99)","v":0},{"$f":"IF('Shooter Information'!$E$3-('Shooter Information'!$G$3-RANK(K75,K$4:K$78,1))<0,0,'Shooter Information'!$E$3-('Shooter Information'!$G$3-RANK(K75,K$4:K$78,1)))","v":0},{"$f":"(IF('Shooter Information'!H77=1,\"MDQ\",IF(J75=1,\"SDQ\",IF(I75=1,\"DNF\",SUM(D75+G75+H75+I75+J75)))))","v":0},null,0]
[73,{"$f":"'Shooter Information'!B78","v":0},{"$f":"'Shooter Information'!C78","v":0},null,null,null,null,null,null,null,{"$f":"MIN(IF('Shooter Information'!H78=1,999.99,(D76*5)+E76-F76+(G76*10)+(H76*30)+(I76*999.99)+(J76*999.99)),999.99)","v":0},{"$f":"IF('Shooter Information'!$E$3-('Shooter Information'!$G$3-RANK(K76,K$4:K$78,1))<0,0,'Shooter Information'!$E$3-('Shooter Information'!$G$3-RANK(K76,K$4:K$78,1)))","v":0},{"$f":"(IF('Shooter Information'!H78=1,\"MDQ\",IF(J76=1,\"SDQ\",IF(I76=1,\"DNF\",SUM(D76+G76+H76+I76+J76)))))","v":0},null,0]
[74,{"$f":"'Shooter Information'!B79","v":0},{"$f":"'Shooter Information'!C79","v":0},null,null,null,null,null,null,null,{"$f":"MIN(IF('Shooter Information'!H79=1,999.99,(D77*5)+E77-F77+(G77*10)+(H77*30)+(I77*999.99)+(J77*999.99)),999.99)","v":0},{"$f":"IF('Shooter Information'!$E$3-('Shooter Information'!$G$3-RANK(K77,K$4:K$78,1))<0,0,'Shooter Information'!$E$3-('Shooter Information'!$G$3-RANK(K77,K$4:K$78,1)))","v":0},{"$f":"(IF('Shooter Information'!H79=1,\"MDQ\",IF(J77=1,\"SDQ\",IF(I77=1,\"DNF\",SUM(D77+G77+H77+I77+J77)))))","v":0},null,0]
[75,{"$f":"'Shooter Information'!B80","v":0},{"$f":"'Shooter Information'!C80","v":0},null,null,null,null,null,null,null,{"$f":"MIN(IF('Shooter Information'!H80=1,999.99,(D78*5)+E78-F78+(G78*10)+(H78*30)+(I78*999.99)+(J78*999.99)),999.99)","v":0},{"$f":"IF('Shooter Information'!$E$3-('Shooter Information'!$G$3-RANK(K78,K$4:K$78,1))<0,0,'Shooter Information'!$E$3-('Shooter Information'!$G$3-RANK(K78,K$4:K$78,1)))","v":0},{"$f":"(IF('Shooter Information'!H80=1,\"MDQ\",IF(J78=1,\"SDQ\",IF(I78=1,\"DNF\",SUM(D78+G78+H78+I78+J78)))))","v":0},null,0]

{"sheet":"Score Summary","index":14,"n_rows":79,"n_cols":38,"rows_kept":79,"cut":false,"hidden":false,"merged":[]}
[{"$f":"'Shooter Information'!$E$1","v":"Cavalier Rifle & Pistol Club - Cavalier Cowboys"}]
["Score Summary Sheet - (Sort:Rank/Time)"]
[{"$f":"'Shooter Information'!E2","v":"Sunday Feb. 01, 2015"}]
["Overall Finish","Shooter","Cat.","Cat. Finish","Stage 1","Rank 1","Stage 2","Rank 2","Stage 3","Rank 3","Stage 4","Rank 4","Stage 5","Rank 5","Stage 6","Rank 6","Stage 7","Rank 7","Stage 8","Rank 8","Stage 9","Rank 9","Stage 10","Rank 10","Stage 11","Rank 11","Stage 12","Rank 12","Grand Total","Rank Total","CAD","Award Eligible","Time Sort","Rank Sort","Class Sort","Orig Row Sort","Total DNF's","Total SDQ's"]
[{"$f":"IF(AF5=\"Yes\",IF('Shooter Information'!$C$2=\"R\",(SUMPRODUCT(--(AD5>$AD$5:$AD$79),--(\"Yes\"=$AF$5:$AF$79))+1),(SUMPRODUCT(--(AC5>$AC$5:$AC$79),--(\"Yes\"=$AF$5:$AF$79))+1)),0)","v":1},{"$f":"'Shooter Information'!B21","v":"Red Cavanaugh"},{"$f":"'Shooter Information'!C21","v":"49er"},{"$f":"IF(AF5=\"Yes\",IF('Shooter Information'!$C$2=\"R\",(SUMPRODUCT(--(C5=$C$5:$C$79),--(AD5>$AD$5:$AD$79),--(\"Yes\"=$AF$5:$AF$79))+1),(SUMPRODUCT(--(C5=$C$5:$C$79),--(AC5>$AC$5:$AC$79),--(\"Yes\"=$AF$5:$AF$79))+1)),0)","v":1},{"$f":"+'Stage 1'!K19","v":19.420000000000002},{"$f":"+'Stage 1'!L19","v":1},{"$f":"+'Stage 2'!K19","v":24.45},{"$f":"+'Stage 2'!L19","v":1},{"$f":"+'Stage 3'!K19","v":20.010000000000002},{"$f":"+'Stage 3'!L19","v":3},{"$f":"+'Stage 4'!K19","v":23.21},{"$f":"+'Stage 4'!L19","v":1},{"$f":"+'Stage 5'!K19","v":29.94},{"$f":"+'Stage 5'!L19","v":3},{"$f":"+'Stage 6'!K19","v":24.14},{"$f":"+'Stage 6'!L19","v":6},{"$f":"+'Stage 7'!K19","v":0},{"$f":"+'Stage 7'!L19","v":0},{"$f":"+'Stage 8'!K19","v":0},{"$f":"+'Stage 8'!L19","v":0},{"$f":"+'Stage 9'!K19","v":0},{"$f":"+'Stage 9'!L19","v":0},{"$f":"+'Stage 10'!K19","v":0},{"$f":"+'Stage 10'!L19","v":0},{"$f":"+'Stage 11'!K19","v":0},{"$f":"+'Stage 11'!L19","v":0},{"$f":"+'Stage 12'!K19","v":0},{"$f":"+'Stage 12'!L19","v":0},{"$f":"MIN(+E5+G5+I5+K5+M5+O5+Q5+S5+U5+W5+Y5+AA5,9999.99)","v":141.17000000000002},{"$f":"+F5+H5+J5+L5+N5+P5+R5+T5+V5+X5+Z5+AB5","v":15},{"$f":"IF('Shooter Information'!H21=1,\"MDQ\",IF(OR('Shooter Information'!B21=\"\",ISBLANK('Shooter Information'!B21)),,IF(SUM('Stage 1'!O19,'Stage 2'!O19,'Stage 3'!O19,'Stage 4'!O19,'Stage 5'!O19,'Stage 6'!O19,'Stage 7'!O19,'Stage 8'!O19,'Stage 9'!O19,'Stage 10'!O19,'Stage 11'!O19,'Stage 12'!O19)=0,\"Yes\",\"No\")))","v":"No"},{"$f":"IF('Shooter Information'!H21=1,\"No\",IF(OR('Shooter Information'!B21=\"\",ISBLANK('Shooter Information'!B21)),,IF(((AK5+AL5)>=2),\"No\",\"Yes\")))","v":"Yes"},{"$f":"IF(AC5=0,99999,AC5)","v":141.17000000000002},{"$f":"IF(AD5=0,99999,AD5)","v":15},{"$f":"IF(ISBLANK('Shooter Information'!C21),\"ZZZZZZZZZZ\",C5)","v":"49er"},{"$f":"CELL(\"row\",'Shooter Information'!B21)","v":21},{"$f":"SUM('Stage 1'!I19,'Stage 2'!I19,'Stage 3'!I19,'Stage 4'!I19,'Stage 5'!I19,'Stage 6'!I19,'Stage 7'!I19,'Stage 8'!I19,'Stage 9'!I19,'Stage 10'!I19,'Stage 11'!I19,'Stage 12'!I19)","v":0},{"$f":"SUM('Stage 1'!J4,'Stage 2'!J4,'Stage 3'!J4,'Stage 4'!J4,'Stage 5'!J4,'Stage 6'!J4,'Stage 7'!J4,'Stage 8'!J4,'Stage 9'!J4,'Stage 10'!J4,'Stage 11'!J4,'Stage 12'!J4)","v":0}]
[{"$f":"IF(AF6=\"Yes\",IF('Shooter Information'!$C$2=\"R\",(SUMPRODUCT(--(AD6>$AD$5:$AD$79),--(\"Yes\"=$AF$5:$AF$79))+1),(SUMPRODUCT(--(AC6>$AC$5:$AC$79),--(\"Yes\"=$AF$5:$AF$79))+1)),0)","v":2},{"$f":"'Shooter Information'!B17","v":"Major BS Walker"},{"$f":"'Shooter Information'!C17","v":"WW"},{"$f":"IF(AF6=\"Yes\",IF('Shooter Information'!$C$2=\"R\",(SUMPRODUCT(--(C6=$C$5:$C$79),--(AD6>$AD$5:$AD$79),--(\"Yes\"=$AF$5:$AF$79))+1),(SUMPRODUCT(--(C6=$C$5:$C$79),--(AC6>$AC$5:$AC$79),--(\"Yes\"=$AF$5:$AF$79))+1)),0)","v":1},{"$f":"+'Stage 1'!K15","v":24.72},{"$f":"+'Stage 1'!L15","v":7},{"$f":"+'Stage 2'!K15","v":26.53},{"$f":"+'Stage 2'!L15","v":5},{"$f":"+'Stage 3'!K15","v":19.809999999999999},{"$f":"+'Stage 3'!L15","v":2},{"$f":"+'Stage 4'!K15","v":27.36},{"$f":"+'Stage 4'!L15","v":5},{"$f":"+'Stage 5'!K15","v":28.16},{"$f":"+'Stage 5'!L15","v":1},{"$f":"+'Stage 6'!K15","v":20.36},{"$f":"+'Stage 6'!L15","v":2},{"$f":"+'Stage 7'!K15","v":0},{"$f":"+'Stage 7'!L15","v":0},{"$f":"+'Stage 8'!K15","v":0},{"$f":"+'Stage 8'!L15","v":0},{"$f":"+'Stage 9'!K15","v":0},{"$f":"+'Stage 9'!L15","v":0},{"$f":"+'Stage 10'!K15","v":0},{"$f":"+'Stage 10'!L15","v":0},{"$f":"+'Stage 11'!K15","v":0},{"$f":"+'Stage 11'!L15","v":0},{"$f":"+'Stage 12'!K15","v":0},{"$f":"+'Stage 12'!L15","v":0},{"$f":"MIN(+E6+G6+I6+K6+M6+O6+Q6+S6+U6+W6+Y6+AA6,9999.99)","v":146.94},{"$f":"+F6+H6+J6+L6+N6+P6+R6+T6+V6+X6+Z6+AB6","v":22},{"$f":"IF('Shooter Information'!H17=1,\"MDQ\",IF(OR('Shooter Information'!B17=\"\",ISBLANK('Shooter Information'!B17)),,IF(SUM('Stage 1'!O15,'Stage 2'!O15,'Stage 3'!O15,'Stage 4'!O15,'Stage 5'!O15,'Stage 6'!O15,'Stage 7'!O15,'Stage 8'!O15,'Stage 9'!O15,'Stage 10'!O15,'Stage 11'!O15,'Stage 12'!O15)=0,\"Yes\",\"No\")))","v":"Yes"},{"$f":"IF('Shooter Information'!H17=1,\"No\",IF(OR('Shooter Information'!B17=\"\",ISBLANK('Shooter Information'!B17)),,IF(((AK6+AL6)>=2),\"No\",\"Yes\")))","v":"Yes"},{"$f":"IF(AC6=0,99999,AC6)","v":146.94},{"$f":"IF(AD6=0,99999,AD6)","v":22},{"$f":"IF(ISBLANK('Shooter Information'!C17),\"ZZZZZZZZZZ\",C6)","v":"WW"},{"$f":"CELL(\"row\",'Shooter Information'!B17)","v":17},{"$f":"SUM('Stage 1'!I15,'Stage 2'!I15,'Stage 3'!I15,'Stage 4'!I15,'Stage 5'!I15,'Stage 6'!I15,'Stage 7'!I15,'Stage 8'!I15,'Stage 9'!I15,'Stage 10'!I15,'Stage 11'!I15,'Stage 12'!I15)","v":0},{"$f":"SUM('Stage 1'!J5,'Stage 2'!J5,'Stage 3'!J5,'Stage 4'!J5,'Stage 5'!J5,'Stage 6'!J5,'Stage 7'!J5,'Stage 8'!J5,'Stage 9'!J5,'Stage 10'!J5,'Stage 11'!J5,'Stage 12'!J5)","v":0}]
[{"$f":"IF(AF7=\"Yes\",IF('Shooter Information'!$C$2=\"R\",(SUMPRODUCT(--(AD7>$AD$5:$AD$79),--(\"Yes\"=$AF$5:$AF$79))+1),(SUMPRODUCT(--(AC7>$AC$5:$AC$79),--(\"Yes\"=$AF$5:$AF$79))+1)),0)","v":3},{"$f":"'Shooter Information'!B19","v":"Lefty Spurmaker"},{"$f":"'Shooter Information'!C19","v":"S"},{"$f":"IF(AF7=\"Yes\",IF('Shooter Information'!$C$2=\"R\",(SUMPRODUCT(--(C7=$C$5:$C$79),--(AD7>$AD$5:$AD$79),--(\"Yes\"=$AF$5:$AF$79))+1),(SUMPRODUCT(--(C7=$C$5:$C$79),--(AC7>$AC$5:$AC$79),--(\"Yes\"=$AF$5:$AF$79))+1)),0)","v":1},{"$f":"+'Stage 1'!K17","v":24.5},{"$f":"+'Stage 1'!L17","v":6},{"$f":"+'Stage 2'!K17","v":35.769999999999996},{"$f":"+'Stage 2'!L17","v":8},{"$f":"+'Stage 3'!K17","v":18.02},{"$f":"+'Stage 3'!L17","v":1},{"$f":"+'Stage 4'!K17","v":25.37},{"$f":"+'Stage 4'!L17","v":2},{"$f":"+'Stage 5'!K17","v":31.98},{"$f":"+'Stage 5'!L17","v":5},{"$f":"+'Stage 6'!K17","v":18.329999999999998},{"$f":"+'Stage 6'!L17","v":1},{"$f":"+'Stage 7'!K17","v":0},{"$f":"+'Stage 7'!L17","v":0},{"$f":"+'Stage 8'!K17","v":0},{"$f":"+'Stage 8'!L17","v":0},{"$f":"+'Stage 9'!K17","v":0},{"$f":"+'Stage 9'!L17","v":0},{"$f":"+'Stage 10'!K17","v":0},{"$f":"+'Stage 10'!L17","v":0},{"$f":"+'Stage 11'!K17","v":0},{"$f":"+'Stage 11'!L17","v":0},{"$f":"+'Stage 12'!K17","v":0},{"$f":"+'Stage 12'!L17","v":0},{"$f":"MIN(+E7+G7+I7+K7+M7+O7+Q7+S7+U7+W7+Y7+AA7,9999.99)","v":153.96999999999997},{"$f":"+F7+H7+J7+L7+N7+P7+R7+T7+V7+X7+Z7+AB7","v":23},{"$f":"IF('Shooter Information'!H19=1,\"MDQ\",IF(OR('Shooter Information'!B19=\"\",ISBLANK('Shooter Information'!B19)),,IF(SUM('Stage 1'!O17,'Stage 2'!O17,'Stage 3'!O17,'Stage 4'!O17,'Stage 5'!O17,'Stage 6'!O17,'Stage 7'!O17,'Stage 8'!O17,'Stage 9'!O17,'Stage 10'!O17,'Stage 11'!O17,'Stage 12'!O17)=0,\"Yes\",\"No\")))","v":"No"},{"$f":"IF('Shooter Information'!H19=1,\"No\",IF(OR('Shooter Information'!B19=\"\",ISBLANK('Shooter Information'!B19)),,IF(((AK7+AL7)>=2),\"No\",\"Yes\")))","v":"Yes"},{"$f":"IF(AC7=0,99999,AC7)","v":153.96999999999997},{"$f":"IF(AD7=0,99999,AD7)","v":23},{"$f":"IF(ISBLANK('Shooter Information'!C19),\"ZZZZZZZZZZ\",C7)","v":"S"},{"$f":"CELL(\"row\",'Shooter Information'!B19)","v":19},{"$f":"SUM('Stage 1'!I17,'Stage 2'!I17,'Stage 3'!I17,'Stage 4'!I17,'Stage 5'!I17,'Stage 6'!I17,'Stage 7'!I17,'Stage 8'!I17,'Stage 9'!I17,'Stage 10'!I17,'Stage 11'!I17,'Stage 12'!I17)","v":0},{"$f":"SUM('Stage 1'!J6,'Stage 2'!J6,'Stage 3'!J6,'Stage 4'!J6,'Stage 5'!J6,'Stage 6'!J6,'Stage 7'!J6,'Stage 8'!J6,'Stage 9'!J6,'Stage 10'!J6,'Stage 11'!J6,'Stage 12'!J6)","v":0}]
[{"$f":"IF(AF8=\"Yes\",IF('Shooter Information'!$C$2=\"R\",(SUMPRODUCT(--(AD8>$AD$5:$AD$79),--(\"Yes\"=$AF$5:$AF$79))+1),(SUMPRODUCT(--(AC8>$AC$5:$AC$79),--(\"Yes\"=$AF$5:$AF$79))+1)),0)","v":4},{"$f":"'Shooter Information'!B16","v":"Stogie"},{"$f":"'Shooter Information'!C16","v":"49er"},{"$f":"IF(AF8=\"Yes\",IF('Shooter Information'!$C$2=\"R\",(SUMPRODUCT(--(C8=$C$5:$C$79),--(AD8>$AD$5:$AD$79),--(\"Yes\"=$AF$5:$AF$79))+1),(SUMPRODUCT(--(C8=$C$5:$C$79),--(AC8>$AC$5:$AC$79),--(\"Yes\"=$AF$5:$AF$79))+1)),0)","v":2},{"$f":"+'Stage 1'!K14","v":20.420000000000002},{"$f":"+'Stage 1'!L14","v":2},{"$f":"+'Stage 2'!K14","v":26.02},{"$f":"+'Stage 2'!L14","v":3},{"$f":"+'Stage 3'!K14","v":46.08},{"$f":"+'Stage 3'!L14","v":14},{"$f":"+'Stage 4'!K14","v":27.61},{"$f":"+'Stage 4'!L14","v":6},{"$f":"+'Stage 5'!K14","v":29.32},{"$f":"+'Stage 5'!L14","v":2},{"$f":"+'Stage 6'!K14","v":21.22},{"$f":"+'Stage 6'!L14","v":3},{"$f":"+'Stage 7'!K14","v":0},{"$f":"+'Stage 7'!L14","v":0},{"$f":"+'Stage 8'!K14","v":0},{"$f":"+'Stage 8'!L14","v":0},{"$f":"+'Stage 9'!K14","v":0},{"$f":"+'Stage 9'!L14","v":0},{"$f":"+'Stage 10'!K14","v":0},{"$f":"+'Stage 10'!L14","v":0},{"$f":"+'Stage 11'!K14","v":0},{"$f":"+'Stage 11'!L14","v":0},{"$f":"+'Stage 12'!K14","v":0},{"$f":"+'Stage 12'!L14","v":0},{"$f":"MIN(+E8+G8+I8+K8+M8+O8+Q8+S8+U8+W8+Y8+AA8,9999.99)","v":170.67},{"$f":"+F8+H8+J8+L8+N8+P8+R8+T8+V8+X8+Z8+AB8","v":30},{"$f":"IF('Shooter Information'!H16=1,\"MDQ\",IF(OR('Shooter Information'!B16=\"\",ISBLANK('Shooter Information'!B16)),,IF(SUM('Stage 1'!O14,'Stage 2'!O14,'Stage 3'!O14,'Stage 4'!O14,'Stage 5'!O14,'Stage 6'!O14,'Stage 7'!O14,'Stage 8'!O14,'Stage 9'!O14,'Stage 10'!O14,'Stage 11'!O14,'Stage 12'!O14)=0,\"Yes\",\"No\")))","v":"No"},{"$f":"IF('Shooter Information'!H16=1,\"No\",IF(OR('Shooter Information'!B16=\"\",ISBLANK('Shooter Information'!B16)),,IF(((AK8+AL8)>=2),\"No\",\"Yes\")))","v":"Yes"},{"$f":"IF(AC8=0,99999,AC8)","v":170.67},{"$f":"IF(AD8=0,99999,AD8)","v":30},{"$f":"IF(ISBLANK('Shooter Information'!C16),\"ZZZZZZZZZZ\",C8)","v":"49er"},{"$f":"CELL(\"row\",'Shooter Information'!B16)","v":16},{"$f":"SUM('Stage 1'!I14,'Stage 2'!I14,'Stage 3'!I14,'Stage 4'!I14,'Stage 5'!I14,'Stage 6'!I14,'Stage 7'!I14,'Stage 8'!I14,'Stage 9'!I14,'Stage 10'!I14,'Stage 11'!I14,'Stage 12'!I14)","v":0},{"$f":"SUM('Stage 1'!J7,'Stage 2'!J7,'Stage 3'!J7,'Stage 4'!J7,'Stage 5'!J7,'Stage 6'!J7,'Stage 7'!J7,'Stage 8'!J7,'Stage 9'!J7,'Stage 10'!J7,'Stage 11'!J7,'Stage 12'!J7)","v":0}]
[{"$f":"IF(AF9=\"Yes\",IF('Shooter Information'!$C$2=\"R\",(SUMPRODUCT(--(AD9>$AD$5:$AD$79),--(\"Yes\"=$AF$5:$AF$79))+1),(SUMPRODUCT(--(AC9>$AC$5:$AC$79),--(\"Yes\"=$AF$5:$AF$79))+1)),0)","v":5},{"$f":"'Shooter Information'!B6","v":"Striker"},{"$f":"'Shooter Information'!C6","v":"WW"},{"$f":"IF(AF9=\"Yes\",IF('Shooter Information'!$C$2=\"R\",(SUMPRODUCT(--(C9=$C$5:$C$79),--(AD9>$AD$5:$AD$79),--(\"Yes\"=$AF$5:$AF$79))+1),(SUMPRODUCT(--(C9=$C$5:$C$79),--(AC9>$AC$5:$AC$79),--(\"Yes\"=$AF$5:$AF$79))+1)),0)","v":2},{"$f":"+'Stage 1'!K4","v":26.11},{"$f":"+'Stage 1'!L4","v":8},{"$f":"+'Stage 2'!K4","v":24.82},{"$f":"+'Stage 2'!L4","v":2},{"$f":"+'Stage 3'!K4","v":21.27},{"$f":"+'Stage 3'!L4","v":5},{"$f":"+'Stage 4'!K4","v":25.89},{"$f":"+'Stage 4'!L4","v":3},{"$f":"+'Stage 5'!K4","v":38.729999999999997},{"$f":"+'Stage 5'!L4","v":10},{"$f":"+'Stage 6'!K4","v":23.39},{"$f":"+'Stage 6'!L4","v":5},{"$f":"+'Stage 7'!K4","v":0},{"$f":"+'Stage 7'!L4","v":0},{"$f":"+'Stage 8'!K4","v":0},{"$f":"+'Stage 8'!L4","v":0},{"$f":"+'Stage 9'!K4","v":0},{"$f":"+'Stage 9'!L4","v":0},{"$f":"+'Stage 10'!K4","v":0},{"$f":"+'Stage 10'!L4","v":0},{"$f":"+'Stage 11'!K4","v":0},{"$f":"+'Stage 11'!L4","v":0},{"$f":"+'Stage 12'!K4","v":0},{"$f":"+'Stage 12'!L4","v":0},{"$f":"MIN(+E9+G9+I9+K9+M9+O9+Q9+S9+U9+W9+Y9+AA9,9999.99)","v":160.20999999999998},{"$f":"+F9+H9+J9+L9+N9+P9+R9+T9+V9+X9+Z9+AB9","v":33},{"$f":"IF('Shooter Information'!H6=1,\"MDQ\",IF(OR('Shooter Information'!B6=\"\",ISBLANK('Shooter Information'!B6)),,IF(SUM('Stage 1'!O4,'Stage 2'!O4,'Stage 3'!O4,'Stage 4'!O4,'Stage 5'!O4,'Stage 6'!O4,'Stage 7'!O4,'Stage 8'!O4,'Stage 9'!O4,'Stage 10'!O4,'Stage 11'!O4,'Stage 12'!O4)=0,\"Yes\",\"No\")))","v":"No"},{"$f":"IF('Shooter Information'!H6=1,\"No\",IF(OR('Shooter Information'!B6=\"\",ISBLANK('Shooter Information'!B6)),,IF(((AK9+AL9)>=2),\"No\",\"Yes\")))","v":"Yes"},{"$f":"IF(AC9=0,99999,AC9)","v":160.20999999999998},{"$f":"IF(AD9=0,99999,AD9)","v":33},{"$f":"IF(ISBLANK('Shooter Information'!C6),\"ZZZZZZZZZZ\",C9)","v":"WW"},{"$f":"CELL(\"row\",'Shooter Information'!B6)","v":6},{"$f":"SUM('Stage 1'!I4,'Stage 2'!I4,'Stage 3'!I4,'Stage 4'!I4,'Stage 5'!I4,'Stage 6'!I4,'Stage 7'!I4,'Stage 8'!I4,'Stage 9'!I4,'Stage 10'!I4,'Stage 11'!I4,'Stage 12'!I4)","v":0},{"$f":"SUM('Stage 1'!J8,'Stage 2'!J8,'Stage 3'!J8,'Stage 4'!J8,'Stage 5'!J8,'Stage 6'!J8,'Stage 7'!J8,'Stage 8'!J8,'Stage 9'!J8,'Stage 10'!J8,'Stage 11'!J8,'Stage 12'!J8)","v":0}]
[{"$f":"IF(AF10=\"Yes\",IF('Shooter Information'!$C$2=\"R\",(SUMPRODUCT(--(AD10>$AD$5:$AD$79),--(\"Yes\"=$AF$5:$AF$79))+1),(SUMPRODUCT(--(AC10>$AC$5:$AC$79),--(\"Yes\"=$AF$5:$AF$79))+1)),0)","v":6},{"$f":"'Shooter Information'!B7","v":"Cody Maverick"},{"$f":"'Shooter Information'!C7","v":"GF"},{"$f":"IF(AF10=\"Yes\",IF('Shooter Information'!$C$2=\"R\",(SUMPRODUCT(--(C10=$C$5:$C$79),--(AD10>$AD$5:$AD$79),--(\"Yes\"=$AF$5:$AF$79))+1),(SUMPRODUCT(--(C10=$C$5:$C$79),--(AC10>$AC$5:$AC$79),--(\"Yes\"=$AF$5:$AF$79))+1)),0)","v":1},{"$f":"+'Stage 1'!K5","v":29.34},{"$f":"+'Stage 1'!L5","v":13},{"$f":"+'Stage 2'!K5","v":26.18},{"$f":"+'Stage 2'!L5","v":4},{"$f":"+'Stage 3'!K5","v":20.03},{"$f":"+'Stage 3'!L5","v":4},{"$f":"+'Stage 4'!K5","v":26.33},{"$f":"+'Stage 4'!L5","v":4},{"$f":"+'Stage 5'!K5","v":31.27},{"$f":"+'Stage 5'!L5","v":4},{"$f":"+'Stage 6'!K5","v":26.81},{"$f":"+'Stage 6'!L5","v":8},{"$f":"+'Stage 7'!K5","v":0},{"$f":"+'Stage 7'!L5","v":0},{"$f":"+'Stage 8'!K5","v":0},{"$f":"+'Stage 8'!L5","v":0},{"$f":"+'Stage 9'!K5","v":0},{"$f":"+'Stage 9'!L5","v":0},{"$f":"+'Stage 10'!K5","v":0},{"$f":"+'Stage 10'!L5","v":0},{"$f":"+'Stage 11'!K5","v":0},{"$f":"+'Stage 11'!L5","v":0},{"$f":"+'Stage 12'!K5","v":0},{"$f":"+'Stage 12'!L5","v":0},{"$f":"MIN(+E10+G10+I10+K10+M10+O10+Q10+S10+U10+W10+Y10+AA10,9999.99)","v":159.96},{"$f":"+F10+H10+J10+L10+N10+P10+R10+T10+V10+X10+Z10+AB10","v":37},{"$f":"IF('Shooter Information'!H7=1,\"MDQ\",IF(OR('Shooter Information'!B7=\"\",ISBLANK('Shooter Information'!B7)),,IF(SUM('Stage 1'!O5,'Stage 2'!O5,'Stage 3'!O5,'Stage 4'!O5,'Stage 5'!O5,'Stage 6'!O5,'Stage 7'!O5,'Stage 8'!O5,'Stage 9'!O5,'Stage 10'!O5,'Stage 11'!O5,'Stage 12'!O5)=0,\"Yes\",\"No\")))","v":"No"},{"$f":"IF('Shooter Information'!H7=1,\"No\",IF(OR('Shooter Information'!B7=\"\",ISBLANK('Shooter Information'!B7)),,IF(((AK10+AL10)>=2),\"No\",\"Yes\")))","v":"Yes"},{"$f":"IF(AC10=0,99999,AC10)","v":159.96},{"$f":"IF(AD10=0,99999,AD10)","v":37},{"$f":"IF(ISBLANK('Shooter Information'!C7),\"ZZZZZZZZZZ\",C10)","v":"GF"},{"$f":"CELL(\"row\",'Shooter Information'!B7)","v":7},{"$f":"SUM('Stage 1'!I5,'Stage 2'!I5,'Stage 3'!I5,'Stage 4'!I5,'Stage 5'!I5,'Stage 6'!I5,'Stage 7'!I5,'Stage 8'!I5,'Stage 9'!I5,'Stage 10'!I5,'Stage 11'!I5,'Stage 12'!I5)","v":0},{"$f":"SUM('Stage 1'!J9,'Stage 2'!J9,'Stage 3'!J9,'Stage 4'!J9,'Stage 5'!J9,'Stage 6'!J9,'Stage 7'!J9,'Stage 8'!J9,'Stage 9'!J9,'Stage 10'!J9,'Stage 11'!J9,'Stage 12'!J9)","v":0}]
[{"$f":"IF(AF11=\"Yes\",IF('Shooter Information'!$C$2=\"R\",(SUMPRODUCT(--(AD11>$AD$5:$AD$79),--(\"Yes\"=$AF$5:$AF$79))+1),(SUMPRODUCT(--(AC11>$AC$5:$AC$79),--(\"Yes\"=$AF$5:$AF$79))+1)),0)","v":7},{"$f":"'Shooter Information'!B10","v":"Flatboat Bob"},{"$f":"'Shooter Information'!C10","v":"CBAR"},{"$f":"IF(AF11=\"Yes\",IF('Shooter Information'!$C$2=\"R\",(SUMPRODUCT(--(C11=$C$5:$C$79),--(AD11>$AD$5:$AD$79),--(\"Yes\"=$AF$5:$AF$79))+1),(SUMPRODUCT(--(C11=$C$5:$C$79),--(AC11>$AC$5:$AC$79),--(\"Yes\"=$AF$5:$AF$79))+1)),0)","v":1},{"$f":"+'Stage 1'!K8","v":23.48},{"$f":"+'Stage 1'!L8","v":4},{"$f":"+'Stage 2'!K8","v":39.659999999999997},{"$f":"+'Stage 2'!L8","v":10},{"$f":"+'Stage 3'!K8","v":32.65},{"$f":"+'Stage 3'!L8","v":11},{"$f":"+'Stage 4'!K8","v":30.79},{"$f":"+'Stage 4'!L8","v":8},{"$f":"+'Stage 5'!K8","v":34.76},{"$f":"+'Stage 5'!L8","v":7},{"$f":"+'Stage 6'!K8","v":23.37},{"$f":"+'Stage 6'!L8","v":4},{"$f":"+'Stage 7'!K8","v":0},{"$f":"+'Stage 7'!L8","v":0},{"$f":"+'Stage 8'!K8","v":0},{"$f":"+'Stage 8'!L8","v":0},{"$f":"+'Stage 9'!K8","v":0},{"$f":"+'Stage 9'!L8","v":0},{"$f":"+'Stage 10'!K8","v":0},{"$f":"+'Stage 10'!L8","v":0},{"$f":"+'Stage 11'!K8","v":0},{"$f":"+'Stage 11'!L8","v":0},{"$f":"+'Stage 12'!K8","v":0},{"$f":"+'Stage 12'!L8","v":0},{"$f":"MIN(+E11+G11+I11+K11+M11+O11+Q11+S11+U11+W11+Y11+AA11,9999.99)","v":184.70999999999998},{"$f":"+F11+H11+J11+L11+N11+P11+R11+T11+V11+X11+Z11+AB11","v":44},{"$f":"IF('Shooter Information'!H10=1,\"MDQ\",IF(OR('Shooter Information'!B10=\"\",ISBLANK('Shooter Information'!B10)),,IF(SUM('Stage 1'!O8,'Stage 2'!O8,'Stage 3'!O8,'Stage 4'!O8,'Stage 5'!O8,'Stage 6'!O8,'Stage 7'!O8,'Stage 8'!O8,'Stage 9'!O8,'Stage 10'!O8,'Stage 11'!O8,'Stage 12'!O8)=0,\"Yes\",\"No\")))","v":"Yes"},{"$f":"IF('Shooter Information'!H10=1,\"No\",IF(OR('Shooter Information'!B10=\"\",ISBLANK('Shooter Information'!B10)),,IF(((AK11+AL11)>=2),\"No\",\"Yes\")))","v":"Yes"},{"$f":"IF(AC11=0,99999,AC11)","v":184.70999999999998},{"$f":"IF(AD11=0,99999,AD11)","v":44},{"$f":"IF(ISBLANK('Shooter Information'!C10),\"ZZZZZZZZZZ\",C11)","v":"CBAR"},{"$f":"CELL(\"row\",'Shooter Information'!B10)","v":10},{"$f":"SUM('Stage 1'!I8,'Stage 2'!I8,'Stage 3'!I8,'Stage 4'!I8,'Stage 5'!I8,'Stage 6'!I8,'Stage 7'!I8,'Stage 8'!I8,'Stage 9'!I8,'Stage 10'!I8,'Stage 11'!I8,'Stage 12'!I8)","v":0},{"$f":"SUM('Stage 1'!J10,'Stage 2'!J10,'Stage 3'!J10,'Stage 4'!J10,'Stage 5'!J10,'Stage 6'!J10,'Stage 7'!J10,'Stage 8'!J10,'Stage 9'!J10,'Stage 10'!J10,'Stage 11'!J10,'Stage 12'!J10)","v":0}]
[{"$f":"IF(AF12=\"Yes\",IF('Shooter Information'!$C$2=\"R\",(SUMPRODUCT(--(AD12>$AD$5:$AD$79),--(\"Yes\"=$AF$5:$AF$79))+1),(SUMPRODUCT(--(AC12>$AC$5:$AC$79),--(\"Yes\"=$AF$5:$AF$79))+1)),0)","v":8},{"$f":"'Shooter Information'!B11","v":"Hotshod"},{"$f":"'Shooter Information'!C11","v":"W"},{"$f":"IF(AF12=\"Yes\",IF('Shooter Information'!$C$2=\"R\",(SUMPRODUCT(--(C12=$C$5:$C$79),--(AD12>$AD$5:$AD$79),--(\"Yes\"=$AF$5:$AF$79))+1),(SUMPRODUCT(--(C12=$C$5:$C$79),--(AC12>$AC$5:$AC$79),--(\"Yes\"=$AF$5:$AF$79))+1)),0)","v":1},{"$f":"+'Stage 1'!K9","v":20.73},{"$f":"+'Stage 1'!L9","v":3},{"$f":"+'Stage 2'!K9","v":27.98},{"$f":"+'Stage 2'!L9","v":6},{"$f":"+'Stage 3'!K9","v":34.57},{"$f":"+'Stage 3'!L9","v":12},{"$f":"+'Stage 4'!K9","v":29.61},{"$f":"+'Stage 4'!L9","v":7},{"$f":"+'Stage 5'!K9","v":33.130000000000003},{"$f":"+'Stage 5'!L9","v":6},{"$f":"+'Stage 6'!K9","v":29.87},{"$f":"+'Stage 6'!L9","v":13},{"$f":"+'Stage 7'!K9","v":0},{"$f":"+'Stage 7'!L9","v":0},{"$f":"+'Stage 8'!K9","v":0},{"$f":"+'Stage 8'!L9","v":0},{"$f":"+'Stage 9'!K9","v":0},{"$f":"+'Stage 9'!L9","v":0},{"$f":"+'Stage 10'!K9","v":0},{"$f":"+'Stage 10'!L9","v":0},{"$f":"+'Stage 11'!K9","v":0},{"$f":"+'Stage 11'!L9","v":0},{"$f":"+'Stage 12'!K9","v":0},{"$f":"+'Stage 12'!L9","v":0},{"$f":"MIN(+E12+G12+I12+K12+M12+O12+Q12+S12+U12+W12+Y12+AA12,9999.99)","v":175.89000000000001},{"$f":"+F12+H12+J12+L12+N12+P12+R12+T12+V12+X12+Z12+AB12","v":47},{"$f":"IF('Shooter Information'!H11=1,\"MDQ\",IF(OR('Shooter Information'!B11=\"\",ISBLANK('Shooter Information'!B11)),,IF(SUM('Stage 1'!O9,'Stage 2'!O9,'Stage 3'!O9,'Stage 4'!O9,'Stage 5'!O9,'Stage 6'!O9,'Stage 7'!O9,'Stage 8'!O9,'Stage 9'!O9,'Stage 10'!O9,'Stage 11'!O9,'Stage 12'!O9)=0,\"Yes\",\"No\")))","v":"No"},{"$f":"IF('Shooter Information'!H11=1,\"No\",IF(OR('Shooter Information'!B11=\"\",ISBLANK('Shooter Information'!B11)),,IF(((AK12+AL12)>=2),\"No\",\"Yes\")))","v":"Yes"},{"$f":"IF(AC12=0,99999,AC12)","v":175.89000000000001},{"$f":"IF(AD12=0,99999,AD12)","v":47},{"$f":"IF(ISBLANK('Shooter Information'!C11),\"ZZZZZZZZZZ\",C12)","v":"W"},{"$f":"CELL(\"row\",'Shooter Information'!B11)","v":11},{"$f":"SUM('Stage 1'!I9,'Stage 2'!I9,'Stage 3'!I9,'Stage 4'!I9,'Stage 5'!I9,'Stage 6'!I9,'Stage 7'!I9,'Stage 8'!I9,'Stage 9'!I9,'Stage 10'!I9,'Stage 11'!I9,'Stage 12'!I9)","v":0},{"$f":"SUM('Stage 1'!J11,'Stage 2'!J11,'Stage 3'!J11,'Stage 4'!J11,'Stage 5'!J11,'Stage 6'!J11,'Stage 7'!J11,'Stage 8'!J11,'Stage 9'!J11,'Stage 10'!J11,'Stage 11'!J11,'Stage 12'!J11)","v":0}]
[{"$f":"IF(AF13=\"Yes\",IF('Shooter Information'!$C$2=\"R\",(SUMPRODUCT(--(AD13>$AD$5:$AD$79),--(\"Yes\"=$AF$5:$AF$79))+1),(SUMPRODUCT(--(AC13>$AC$5:$AC$79),--(\"Yes\"=$AF$5:$AF$79))+1)),0)","v":9},{"$f":"'Shooter Information'!B12","v":"Prairie City Slim"},{"$f":"'Shooter Information'!C12","v":"ES"},{"$f":"IF(AF13=\"Yes\",IF('Shooter Information'!$C$2=\"R\",(SUMPRODUCT(--(C13=$C$5:$C$79),--(AD13>$AD$5:$AD$79),--(\"Yes\"=$AF$5:$AF$79))+1),(SUMPRODUCT(--(C13=$C$5:$C$79),--(AC13>$AC$5:$AC$79),--(\"Yes\"=$AF$5:$AF$79))+1)),0)","v":1},{"$f":"+'Stage 1'!K10","v":27.33},{"$f":"+'Stage 1'!L10","v":10},{"$f":"+'Stage 2'!K10","v":32.83},{"$f":"+'Stage 2'!L10","v":7},{"$f":"+'Stage 3'!K10","v":25.52},{"$f":"+'Stage 3'!L10","v":7},{"$f":"+'Stage 4'!K10","v":32.15},{"$f":"+'Stage 4'!L10","v":9},{"$f":"+'Stage 5'!K10","v":36.950000000000003},{"$f":"+'Stage 5'!L10","v":8},{"$f":"+'Stage 6'!K10","v":24.52},{"$f":"+'Stage 6'!L10","v":7},{"$f":"+'Stage 7'!K10","v":0},{"$f":"+'Stage 7'!L10","v":0},{"$f":"+'Stage 8'!K10","v":0},{"$f":"+'Stage 8'!L10","v":0},{"$f":"+'Stage 9'!K10","v":0},{"$f":"+'Stage 9'!L10","v":0},{"$f":"+'Stage 10'!K10","v":0},{"$f":"+'Stage 10'!L10","v":0},{"$f":"+'Stage 11'!K10","v":0},{"$f":"+'Stage 11'!L10","v":0},{"$f":"+'Stage 12'!K10","v":0},{"$f":"+'Stage 12'!L10","v":0},{"$f":"MIN(+E13+G13+I13+K13+M13+O13+Q13+S13+U13+W13+Y13+AA13,9999.99)","v":179.29999999999998},{"$f":"+F13+H13+J13+L13+N13+P13+R13+T13+V13+X13+Z13+AB13","v":48},{"$f":"IF('Shooter Information'!H12=1,\"MDQ\",IF(OR('Shooter Information'!B12=\"\",ISBLANK('Shooter Information'!B12)),,IF(SUM('Stage 1'!O10,'Stage 2'!O10,'Stage 3'!O10,'Stage 4'!O10,'Stage 5'!O10,'Stage 6'!O10,'Stage 7'!O10,'Stage 8'!O10,'Stage 9'!O10,'Stage 10'!O10,'Stage 11'!O10,'Stage 12'!O10)=0,\"Yes\",\"No\")))","v":"Yes"},{"$f":"IF('Shooter Information'!H12=1,\"No\",IF(OR('Shooter Information'!B12=\"\",ISBLANK('Shooter Information'!B12)),,IF(((AK13+AL13)>=2),\"No\",\"Yes\")))","v":"Yes"},{"$f":"IF(AC13=0,99999,AC13)","v":179.29999999999998},{"$f":"IF(AD13=0,99999,AD13)","v":48},{"$f":"IF(ISBLANK('Shooter Information'!C12),\"ZZZZZZZZZZ\",C13)","v":"ES"},{"$f":"CELL(\"row\",'Shooter Information'!B12)","v":12},{"$f":"SUM('Stage 1'!I10,'Stage 2'!I10,'Stage 3'!I10,'Stage 4'!I10,'Stage 5'!I10,'Stage 6'!I10,'Stage 7'!I10,'Stage 8'!I10,'Stage 9'!I10,'Stage 10'!I10,'Stage 11'!I10,'Stage 12'!I10)","v":0},{"$f":"SUM('Stage 1'!J12,'Stage 2'!J12,'Stage 3'!J12,'Stage 4'!J12,'Stage 5'!J12,'Stage 6'!J12,'Stage 7'!J12,'Stage 8'!J12,'Stage 9'!J12,'Stage 10'!J12,'Stage 11'!J12,'Stage 12'!J12)","v":0}]
[{"$f":"IF(AF14=\"Yes\",IF('Shooter Information'!$C$2=\"R\",(SUMPRODUCT(--(AD14>$AD$5:$AD$79),--(\"Yes\"=$AF$5:$AF$79))+1),(SUMPRODUCT(--(AC14>$AC$5:$AC$79),--(\"Yes\"=$AF$5:$AF$79))+1)),0)","v":10},{"$f":"'Shooter Information'!B18","v":"Sassy Shooting Sours"},{"$f":"'Shooter Information'!C18","v":"S"},{"$f":"IF(AF14=\"Yes\",IF('Shooter Information'!$C$2=\"R\",(SUMPRODUCT(--(C14=$C$5:$C$79),--(AD14>$AD$5:$AD$79),--(\"Yes\"=$AF$5:$AF$79))+1),(SUMPRODUCT(--(C14=$C$5:$C$79),--(AC14>$AC$5:$AC$79),--(\"Yes\"=$AF$5:$AF$79))+1)),0)","v":2},{"$f":"+'Stage 1'!K16","v":24.43},{"$f":"+'Stage 1'!L16","v":5},{"$f":"+'Stage 2'!K16","v":37.07},{"$f":"+'Stage 2'!L16","v":9},{"$f":"+'Stage 3'!K16","v":25},{"$f":"+'Stage 3'!L16","v":6},{"$f":"+'Stage 4'!K16","v":32.81},{"$f":"+'Stage 4'!L16","v":10},{"$f":"+'Stage 5'!K16","v":37.93},{"$f":"+'Stage 5'!L16","v":9},{"$f":"+'Stage 6'!K16","v":29.18},{"$f":"+'Stage 6'!L16","v":11},{"$f":"+'Stage 7'!K16","v":0},{"$f":"+'Stage 7'!L16","v":0},{"$f":"+'Stage 8'!K16","v":0},{"$f":"+'Stage 8'!L16","v":0},{"$f":"+'Stage 9'!K16","v":0},{"$f":"+'Stage 9'!L16","v":0},{"$f":"+'Stage 10'!K16","v":0},{"$f":"+'Stage 10'!L16","v":0},{"$f":"+'Stage 11'!K16","v":0},{"$f":"+'Stage 11'!L16","v":0},{"$f":"+'Stage 12'!K16","v":0},{"$f":"+'Stage 12'!L16","v":0},{"$f":"MIN(+E14+G14+I14+K14+M14+O14+Q14+S14+U14+W14+Y14+AA14,9999.99)","v":186.42000000000002},{"$f":"+F14+H14+J14+L14+N14+P14+R14+T14+V14+X14+Z14+AB14","v":50},{"$f":"IF('Shooter Information'!H18=1,\"MDQ\",IF(OR('Shooter Information'!B18=\"\",ISBLANK('Shooter Information'!B18)),,IF(SUM('Stage 1'!O16,'Stage 2'!O16,'Stage 3'!O16,'Stage 4'!O16,'Stage 5'!O16,'Stage 6'!O16,'Stage 7'!O16,'Stage 8'!O16,'Stage 9'!O16,'Stage 10'!O16,'Stage 11'!O16,'Stage 12'!O16)=0,\"Yes\",\"No\")))","v":"Yes"},{"$f":"IF('Shooter Information'!H18=1,\"No\",IF(OR('Shooter Information'!B18=\"\",ISBLANK('Shooter Information'!B18)),,IF(((AK14+AL14)>=2),\"No\",\"Yes\")))","v":"Yes"},{"$f":"IF(AC14=0,99999,AC14)","v":186.42000000000002},{"$f":"IF(AD14=0,99999,AD14)","v":50},{"$f":"IF(ISBLANK('Shooter Information'!C18),\"ZZZZZZZZZZ\",C14)","v":"S"},{"$f":"CELL(\"row\",'Shooter Information'!B18)","v":18},{"$f":"SUM('Stage 1'!I16,'Stage 2'!I16,'Stage 3'!I16,'Stage 4'!I16,'Stage 5'!I16,'Stage 6'!I16,'Stage 7'!I16,'Stage 8'!I16,'Stage 9'!I16,'Stage 10'!I16,'Stage 11'!I16,'Stage 12'!I16)","v":0},{"$f":"SUM('Stage 1'!J13,'Stage 2'!J13,'Stage 3'!J13,'Stage 4'!J13,'Stage 5'!J13,'Stage 6'!J13,'Stage 7'!J13,'Stage 8'!J13,'Stage 9'!J13,'Stage 10'!J13,'Stage 11'!J13,'Stage 12'!J13)","v":0}]
[{"$f":"IF(AF15=\"Yes\",IF('Shooter Information'!$C$2=\"R\",(SUMPRODUCT(--(AD15>$AD$5:$AD$79),--(\"Yes\"=$AF$5:$AF$79))+1),(SUMPRODUCT(--(AC15>$AC$5:$AC$79),--(\"Yes\"=$AF$5:$AF$79))+1)),0)","v":11},{"$f":"'Shooter Information'!B8","v":"Potter County Kid"},{"$f":"'Shooter Information'!C8","v":"WW"},{"$f":"IF(AF15=\"Yes\",IF('Shooter Information'!$C$2=\"R\",(SUMPRODUCT(--(C15=$C$5:$C$79),--(AD15>$AD$5:$AD$79),--(\"Yes\"=$AF$5:$AF$79))+1),(SUMPRODUCT(--(C15=$C$5:$C$79),--(AC15>$AC$5:$AC$79),--(\"Yes\"=$AF$5:$AF$79))+1)),0)","v":3},{"$f":"+'Stage 1'!K6","v":26.13},{"$f":"+'Stage 1'!L6","v":9},{"$f":"+'Stage 2'!K6","v":43.3},{"$f":"+'Stage 2'!L6","v":11},{"$f":"+'Stage 3'!K6","v":30.71},{"$f":"+'Stage 3'!L6","v":10},{"$f":"+'Stage 4'!K6","v":41.66},{"$f":"+'Stage 4'!L6","v":11},{"$f":"+'Stage 5'!K6","v":42.77},{"$f":"+'Stage 5'!L6","v":13},{"$f":"+'Stage 6'!K6","v":28.32},{"$f":"+'Stage 6'!L6","v":9},{"$f":"+'Stage 7'!K6","v":0},{"$f":"+'Stage 7'!L6","v":0},{"$f":"+'Stage 8'!K6","v":0},{"$f":"+'Stage 8'!L6","v":0},{"$f":"+'Stage 9'!K6","v":0},{"$f":"+'Stage 9'!L6","v":0},{"$f":"+'Stage 10'!K6","v":0},{"$f":"+'Stage 10'!L6","v":0},{"$f":"+'Stage 11'!K6","v":0},{"$f":"+'Stage 11'!L6","v":0},{"$f":"+'Stage 12'!K6","v":0},{"$f":"+'Stage 12'!L6","v":0},{"$f":"MIN(+E15+G15+I15+K15+M15+O15+Q15+S15+U15+W15+Y15+AA15,9999.99)","v":212.89},{"$f":"+F15+H15+J15+L15+N15+P15+R15+T15+V15+X15+Z15+AB15","v":63},{"$f":"IF('Shooter Information'!H8=1,\"MDQ\",IF(OR('Shooter Information'!B8=\"\",ISBLANK('Shooter Information'!B8)),,IF(SUM('Stage 1'!O6,'Stage 2'!O6,'Stage 3'!O6,'Stage 4'!O6,'Stage 5'!O6,'Stage 6'!O6,'Stage 7'!O6,'Stage 8'!O6,'Stage 9'!O6,'Stage 10'!O6,'Stage 11'!O6,'Stage 12'!O6)=0,\"Yes\",\"No\")))","v":"No"},{"$f":"IF('Shooter Information'!H8=1,\"No\",IF(OR('Shooter Information'!B8=\"\",ISBLANK('Shooter Information'!B8)),,IF(((AK15+AL15)>=2),\"No\",\"Yes\")))","v":"Yes"},{"$f":"IF(AC15=0,99999,AC15)","v":212.89},{"$f":"IF(AD15=0,99999,AD15)","v":63},{"$f":"IF(ISBLANK('Shooter Information'!C8),\"ZZZZZZZZZZ\",C15)","v":"WW"},{"$f":"CELL(\"row\",'Shooter Information'!B8)","v":8},{"$f":"SUM('Stage 1'!I6,'Stage 2'!I6,'Stage 3'!I6,'Stage 4'!I6,'Stage 5'!I6,'Stage 6'!I6,'Stage 7'!I6,'Stage 8'!I6,'Stage 9'!I6,'Stage 10'!I6,'Stage 11'!I6,'Stage 12'!I6)","v":0},{"$f":"SUM('Stage 1'!J14,'Stage 2'!J14,'Stage 3'!J14,'Stage 4'!J14,'Stage 5'!J14,'Stage 6'!J14,'Stage 7'!J14,'Stage 8'!J14,'Stage 9'!J14,'Stage 10'!J14,'Stage 11'!J14,'Stage 12'!J14)","v":0}]
[{"$f":"IF(AF16=\"Yes\",IF('Shooter Information'!$C$2=\"R\",(SUMPRODUCT(--(AD16>$AD$5:$AD$79),--(\"Yes\"=$AF$5:$AF$79))+1),(SUMPRODUCT(--(AC16>$AC$5:$AC$79),--(\"Yes\"=$AF$5:$AF$79))+1)),0)","v":12},{"$f":"'Shooter Information'!B20","v":"Windhorse Rider"},{"$f":"'Shooter Information'!C20","v":"GF"},{"$f":"IF(AF16=\"Yes\",IF('Shooter Information'!$C$2=\"R\",(SUMPRODUCT(--(C16=$C$5:$C$79),--(AD16>$AD$5:$AD$79),--(\"Yes\"=$AF$5:$AF$79))+1),(SUMPRODUCT(--(C16=$C$5:$C$79),--(AC16>$AC$5:$AC$79),--(\"Yes\"=$AF$5:$AF$79))+1)),0)","v":2},{"$f":"+'Stage 1'!K18","v":27.52},{"$f":"+'Stage 1'!L18","v":11},{"$f":"+'Stage 2'!K18","v":46.38},{"$f":"+'Stage 2'!L18","v":12},{"$f":"+'Stage 3'!K18","v":28.2},{"$f":"+'Stage 3'!L18","v":9},{"$f":"+'Stage 4'!K18","v":45.87},{"$f":"+'Stage 4'!L18","v":12},{"$f":"+'Stage 5'!K18","v":40.020000000000003},{"$f":"+'Stage 5'!L18","v":11},{"$f":"+'Stage 6'!K18","v":29.72},{"$f":"+'Stage 6'!L18","v":12},{"$f":"+'Stage 7'!K18","v":0},{"$f":"+'Stage 7'!L18","v":0},{"$f":"+'Stage 8'!K18","v":0},{"$f":"+'Stage 8'!L18","v":0},{"$f":"+'Stage 9'!K18","v":0},{"$f":"+'Stage 9'!L18","v":0},{"$f":"+'Stage 10'!K18","v":0},{"$f":"+'Stage 10'!L18","v":0},{"$f":"+'Stage 11'!K18","v":0},{"$f":"+'Stage 11'!L18","v":0},{"$f":"+'Stage 12'!K18","v":0},{"$f":"+'Stage 12'!L18","v":0},{"$f":"MIN(+E16+G16+I16+K16+M16+O16+Q16+S16+U16+W16+Y16+AA16,9999.99)","v":217.71},{"$f":"+F16+H16+J16+L16+N16+P16+R16+T16+V16+X16+Z16+AB16","v":67},{"$f":"IF('Shooter Information'!H20=1,\"MDQ\",IF(OR('Shooter Information'!B20=\"\",ISBLANK('Shooter Information'!B20)),,IF(SUM('Stage 1'!O18,'Stage 2'!O18,'Stage 3'!O18,'Stage 4'!O18,'Stage 5'!O18,'Stage 6'!O18,'Stage 7'!O18,'Stage 8'!O18,'Stage 9'!O18,'Stage 10'!O18,'Stage 11'!O18,'Stage 12'!O18)=0,\"Yes\",\"No\")))","v":"No"},{"$f":"IF('Shooter Information'!H20=1,\"No\",IF(OR('Shooter Information'!B20=\"\",ISBLANK('Shooter Information'!B20)),,IF(((AK16+AL16)>=2),\"No\",\"Yes\")))","v":"Yes"},{"$f":"IF(AC16=0,99999,AC16)","v":217.71},{"$f":"IF(AD16=0,99999,AD16)","v":67},{"$f":"IF(ISBLANK('Shooter Information'!C20),\"ZZZZZZZZZZ\",C16)","v":"GF"},{"$f":"CELL(\"row\",'Shooter Information'!B20)","v":20},{"$f":"SUM('Stage 1'!I18,'Stage 2'!I18,'Stage 3'!I18,'Stage 4'!I18,'Stage 5'!I18,'Stage 6'!I18,'Stage 7'!I18,'Stage 8'!I18,'Stage 9'!I18,'Stage 10'!I18,'Stage 11'!I18,'Stage 12'!I18)","v":0},{"$f":"SUM('Stage 1'!J15,'Stage 2'!J15,'Stage 3'!J15,'Stage 4'!J15,'Stage 5'!J15,'Stage 6'!J15,'Stage 7'!J15,'Stage 8'!J15,'Stage 9'!J15,'Stage 10'!J15,'Stage 11'!J15,'Stage 12'!J15)","v":0}]
[{"$f":"IF(AF17=\"Yes\",IF('Shooter Information'!$C$2=\"R\",(SUMPRODUCT(--(AD17>$AD$5:$AD$79),--(\"Yes\"=$AF$5:$AF$79))+1),(SUMPRODUCT(--(AC17>$AC$5:$AC$79),--(\"Yes\"=$AF$5:$AF$79))+1)),0)","v":13},{"$f":"'Shooter Information'!B9","v":"Ricochet Kid"},{"$f":"'Shooter Information'!C9","v":"W"},{"$f":"IF(AF17=\"Yes\",IF('Shooter Information'!$C$2=\"R\",(SUMPRODUCT(--(C17=$C$5:$C$79),--(AD17>$AD$5:$AD$79),--(\"Yes\"=$AF$5:$AF$79))+1),(SUMPRODUCT(--(C17=$C$5:$C$79),--(AC17>$AC$5:$AC$79),--(\"Yes\"=$AF$5:$AF$79))+1)),0)","v":2},{"$f":"+'Stage 1'!K7","v":29.12},{"$f":"+'Stage 1'!L7","v":12},{"$f":"+'Stage 2'!K7","v":46.66},{"$f":"+'Stage 2'!L7","v":13},{"$f":"+'Stage 3'!K7","v":25.59},{"$f":"+'Stage 3'!L7","v":8},{"$f":"+'Stage 4'!K7","v":57.1},{"$f":"+'Stage 4'!L7","v":14},{"$f":"+'Stage 5'!K7","v":41.5},{"$f":"+'Stage 5'!L7","v":12},{"$f":"+'Stage 6'!K7","v":29.13},{"$f":"+'Stage 6'!L7","v":10},{"$f":"+'Stage 7'!K7","v":0},{"$f":"+'Stage 7'!L7","v":0},{"$f":"+'Stage 8'!K7","v":0},{"$f":"+'Stage 8'!L7","v":0},{"$f":"+'Stage 9'!K7","v":0},{"$f":"+'Stage 9'!L7","v":0},{"$f":"+'Stage 10'!K7","v":0},{"$f":"+'Stage 10'!L7","v":0},{"$f":"+'Stage 11'!K7","v":0},{"$f":"+'Stage 11'!L7","v":0},{"$f":"+'Stage 12'!K7","v":0},{"$f":"+'Stage 12'!L7","v":0},{"$f":"MIN(+E17+G17+I17+K17+M17+O17+Q17+S17+U17+W17+Y17+AA17,9999.99)","v":229.1},{"$f":"+F17+H17+J17+L17+N17+P17+R17+T17+V17+X17+Z17+AB17","v":69},{"$f":"IF('Shooter Information'!H9=1,\"MDQ\",IF(OR('Shooter Information'!B9=\"\",ISBLANK('Shooter Information'!B9)),,IF(SUM('Stage 1'!O7,'Stage 2'!O7,'Stage 3'!O7,'Stage 4'!O7,'Stage 5'!O7,'Stage 6'!O7,'Stage 7'!O7,'Stage 8'!O7,'Stage 9'!O7,'Stage 10'!O7,'Stage 11'!O7,'Stage 12'!O7)=0,\"Yes\",\"No\")))","v":"No"},{"$f":"IF('Shooter Information'!H9=1,\"No\",IF(OR('Shooter Information'!B9=\"\",ISBLANK('Shooter Information'!B9)),,IF(((AK17+AL17)>=2),\"No\",\"Yes\")))","v":"Yes"},{"$f":"IF(AC17=0,99999,AC17)","v":229.1},{"$f":"IF(AD17=0,99999,AD17)","v":69},{"$f":"IF(ISBLANK('Shooter Information'!C9),\"ZZZZZZZZZZ\",C17)","v":"W"},{"$f":"CELL(\"row\",'Shooter Information'!B9)","v":9},{"$f":"SUM('Stage 1'!I7,'Stage 2'!I7,'Stage 3'!I7,'Stage 4'!I7,'Stage 5'!I7,'Stage 6'!I7,'Stage 7'!I7,'Stage 8'!I7,'Stage 9'!I7,'Stage 10'!I7,'Stage 11'!I7,'Stage 12'!I7)","v":0},{"$f":"SUM('Stage 1'!J16,'Stage 2'!J16,'Stage 3'!J16,'Stage 4'!J16,'Stage 5'!J16,'Stage 6'!J16,'Stage 7'!J16,'Stage 8'!J16,'Stage 9'!J16,'Stage 10'!J16,'Stage 11'!J16,'Stage 12'!J16)","v":0}]
[{"$f":"IF(AF18=\"Yes\",IF('Shooter Information'!$C$2=\"R\",(SUMPRODUCT(--(AD18>$AD$5:$AD$79),--(\"Yes\"=$AF$5:$AF$79))+1),(SUMPRODUCT(--(AC18>$AC$5:$AC$79),--(\"Yes\"=$AF$5:$AF$79))+1)),0)","v":14},{"$f":"'Shooter Information'!B13","v":"Regret Schofield"},{"$f":"'Shooter Information'!C13","v":"49er"},{"$f":"IF(AF18=\"Yes\",IF('Shooter Information'!$C$2=\"R\",(SUMPRODUCT(--(C18=$C$5:$C$79),--(AD18>$AD$5:$AD$79),--(\"Yes\"=$AF$5:$AF$79))+1),(SUMPRODUCT(--(C18=$C$5:$C$79),--(AC18>$AC$5:$AC$79),--(\"Yes\"=$AF$5:$AF$79))+1)),0)","v":3},{"$f":"+'Stage 1'!K11","v":37.549999999999997},{"$f":"+'Stage 1'!L11","v":14},{"$f":"+'Stage 2'!K11","v":55.66},{"$f":"+'Stage 2'!L11","v":14},{"$f":"+'Stage 3'!K11","v":43.22},{"$f":"+'Stage 3'!L11","v":13},{"$f":"+'Stage 4'!K11","v":61.5},{"$f":"+'Stage 4'!L11","v":16},{"$f":"+'Stage 5'!K11","v":57},{"$f":"+'Stage 5'!L11","v":14},{"$f":"+'Stage 6'!K11","v":43.78},{"$f":"+'Stage 6'!L11","v":14},{"$f":"+'Stage 7'!K11","v":0},{"$f":"+'Stage 7'!L11","v":0},{"$f":"+'Stage 8'!K11","v":0},{"$f":"+'Stage 8'!L11","v":0},{"$f":"+'Stage 9'!K11","v":0},{"$f":"+'Stage 9'!L11","v":0},{"$f":"+'Stage 10'!K11","v":0},{"$f":"+'Stage 10'!L11","v":0},{"$f":"+'Stage 11'!K11","v":0},{"$f":"+'Stage 11'!L11","v":0},{"$f":"+'Stage 12'!K11","v":0},{"$f":"+'Stage 12'!L11","v":0},{"$f":"MIN(+E18+G18+I18+K18+M18+O18+Q18+S18+U18+W18+Y18+AA18,9999.99)","v":298.71000000000004},{"$f":"+F18+H18+J18+L18+N18+P18+R18+T18+V18+X18+Z18+AB18","v":85},{"$f":"IF('Shooter Information'!H13=1,\"MDQ\",IF(OR('Shooter Information'!B13=\"\",ISBLANK('Shooter Information'!B13)),,IF(SUM('Stage 1'!O11,'Stage 2'!O11,'Stage 3'!O11,'Stage 4'!O11,'Stage 5'!O11,'Stage 6'!O11,'Stage 7'!O11,'Stage 8'!O11,'Stage 9'!O11,'Stage 10'!O11,'Stage 11'!O11,'Stage 12'!O11)=0,\"Yes\",\"No\")))","v":"No"},{"$f":"IF('Shooter Information'!H13=1,\"No\",IF(OR('Shooter Information'!B13=\"\",ISBLANK('Shooter Information'!B13)),,IF(((AK18+AL18)>=2),\"No\",\"Yes\")))","v":"Yes"},{"$f":"IF(AC18=0,99999,AC18)","v":298.71000000000004},{"$f":"IF(AD18=0,99999,AD18)","v":85},{"$f":"IF(ISBLANK('Shooter Information'!C13),\"ZZZZZZZZZZ\",C18)","v":"49er"},{"$f":"CELL(\"row\",'Shooter Information'!B13)","v":13},{"$f":"SUM('Stage 1'!I11,'Stage 2'!I11,'Stage 3'!I11,'Stage 4'!I11,'Stage 5'!I11,'Stage 6'!I11,'Stage 7'!I11,'Stage 8'!I11,'Stage 9'!I11,'Stage 10'!I11,'Stage 11'!I11,'Stage 12'!I11)","v":0},{"$f":"SUM('Stage 1'!J17,'Stage 2'!J17,'Stage 3'!J17,'Stage 4'!J17,'Stage 5'!J17,'Stage 6'!J17,'Stage 7'!J17,'Stage 8'!J17,'Stage 9'!J17,'Stage 10'!J17,'Stage 11'!J17,'Stage 12'!J17)","v":0}]
[{"$f":"IF(AF19=\"Yes\",IF('Shooter Information'!$C$2=\"R\",(SUMPRODUCT(--(AD19>$AD$5:$AD$79),--(\"Yes\"=$AF$5:$AF$79))+1),(SUMPRODUCT(--(AC19>$AC$5:$AC$79),--(\"Yes\"=$AF$5:$AF$79))+1)),0)","v":15},{"$f":"'Shooter Information'!B15","v":"One Eyed Jane"},{"$f":"'Shooter Information'!C15","v":"LSS"},{"$f":"IF(AF19=\"Yes\",IF('Shooter Information'!$C$2=\"R\",(SUMPRODUCT(--(C19=$C$5:$C$79),--(AD19>$AD$5:$AD$79),--(\"Yes\"=$AF$5:$AF$79))+1),(SUMPRODUCT(--(C19=$C$5:$C$79),--(AC19>$AC$5:$AC$79),--(\"Yes\"=$AF$5:$AF$79))+1)),0)","v":1},{"$f":"+'Stage 1'!K13","v":54.65},{"$f":"+'Stage 1'!L13","v":15},{"$f":"+'Stage 2'!K13","v":67.209999999999994},{"$f":"+'Stage 2'!L13","v":15},{"$f":"+'Stage 3'!K13","v":51.81},{"$f":"+'Stage 3'!L13","v":15},{"$f":"+'Stage 4'!K13","v":58.58},{"$f":"+'Stage 4'!L13","v":15},{"$f":"+'Stage 5'!K13","v":65.010000000000005},{"$f":"+'Stage 5'!L13","v":15},{"$f":"+'Stage 6'!K13","v":55.54},{"$f":"+'Stage 6'!L13","v":15},{"$f":"+'Stage 7'!K13","v":0},{"$f":"+'Stage 7'!L13","v":0},{"$f":"+'Stage 8'!K13","v":0},{"$f":"+'Stage 8'!L13","v":0},{"$f":"+'Stage 9'!K13","v":0},{"$f":"+'Stage 9'!L13","v":0},{"$f":"+'Stage 10'!K13","v":0},{"$f":"+'Stage 10'!L13","v":0},{"$f":"+'Stage 11'!K13","v":0},{"$f":"+'Stage 11'!L13","v":0},{"$f":"+'Stage 12'!K13","v":0},{"$f":"+'Stage 12'!L13","v":0},{"$f":"MIN(+E19+G19+I19+K19+M19+O19+Q19+S19+U19+W19+Y19+AA19,9999.99)","v":352.8},{"$f":"+F19+H19+J19+L19+N19+P19+R19+T19+V19+X19+Z19+AB19","v":90},{"$f":"IF('Shooter Information'!H15=1,\"MDQ\",IF(OR('Shooter Information'!B15=\"\",ISBLANK('Shooter Information'!B15)),,IF(SUM('Stage 1'!O13,'Stage 2'!O13,'Stage 3'!O13,'Stage 4'!O13,'Stage 5'!O13,'Stage 6'!O13,'Stage 7'!O13,'Stage 8'!O13,'Stage 9'!O13,'Stage 10'!O13,'Stage 11'!O13,'Stage 12'!O13)=0,\"Yes\",\"No\")))","v":"Yes"},{"$f":"IF('Shooter Information'!H15=1,\"No\",IF(OR('Shooter Information'!B15=\"\",ISBLANK('Shooter Information'!B15)),,IF(((AK19+AL19)>=2),\"No\",\"Yes\")))","v":"Yes"},{"$f":"IF(AC19=0,99999,AC19)","v":352.8},{"$f":"IF(AD19=0,99999,AD19)","v":90},{"$f":"IF(ISBLANK('Shooter Information'!C15),\"ZZZZZZZZZZ\",C19)","v":"LSS"},{"$f":"CELL(\"row\",'Shooter Information'!B15)","v":15},{"$f":"SUM('Stage 1'!I13,'Stage 2'!I13,'Stage 3'!I13,'Stage 4'!I13,'Stage 5'!I13,'Stage 6'!I13,'Stage 7'!I13,'Stage 8'!I13,'Stage 9'!I13,'Stage 10'!I13,'Stage 11'!I13,'Stage 12'!I13)","v":0},{"$f":"SUM('Stage 1'!J18,'Stage 2'!J18,'Stage 3'!J18,'Stage 4'!J18,'Stage 5'!J18,'Stage 6'!J18,'Stage 7'!J18,'Stage 8'!J18,'Stage 9'!J18,'Stage 10'!J18,'Stage 11'!J18,'Stage 12'!J18)","v":0}]
[{"$f":"IF(AF20=\"Yes\",IF('Shooter Information'!$C$2=\"R\",(SUMPRODUCT(--(AD20>$AD$5:$AD$79),--(\"Yes\"=$AF$5:$AF$79))+1),(SUMPRODUCT(--(AC20>$AC$5:$AC$79),--(\"Yes\"=$AF$5:$AF$79))+1)),0)","v":16},{"$f":"'Shooter Information'!B14","v":"Tumble Weed Tink"},{"$f":"'Shooter Information'!C14","v":"L49"},{"$f":"IF(AF20=\"Yes\",IF('Shooter Information'!$C$2=\"R\",(SUMPRODUCT(--(C20=$C$5:$C$79),--(AD20>$AD$5:$AD$79),--(\"Yes\"=$AF$5:$AF$79))+1),(SUMPRODUCT(--(C20=$C$5:$C$79),--(AC20>$AC$5:$AC$79),--(\"Yes\"=$AF$5:$AF$79))+1)),0)","v":1},{"$f":"+'Stage 1'!K12","v":64.490000000000009},{"$f":"+'Stage 1'!L12","v":16},{"$f":"+'Stage 2'!K12","v":102.33},{"$f":"+'Stage 2'!L12","v":16},{"$f":"+'Stage 3'!K12","v":61.13},{"$f":"+'Stage 3'!L12","v":16},{"$f":"+'Stage 4'!K12","v":51.83},{"$f":"+'Stage 4'!L12","v":13},{"$f":"+'Stage 5'!K12","v":68.61},{"$f":"+'Stage 5'!L12","v":16},{"$f":"+'Stage 6'!K12","v":60.77},{"$f":"+'Stage 6'!L12","v":16},{"$f":"+'Stage 7'!K12","v":0},{"$f":"+'Stage 7'!L12","v":0},{"$f":"+'Stage 8'!K12","v":0},{"$f":"+'Stage 8'!L12","v":0},{"$f":"+'Stage 9'!K12","v":0},{"$f":"+'Stage 9'!L12","v":0},{"$f":"+'Stage 10'!K12","v":0},{"$f":"+'Stage 10'!L12","v":0},{"$f":"+'Stage 11'!K12","v":0},{"$f":"+'Stage 11'!L12","v":0},{"$f":"+'Stage 12'!K12","v":0},{"$f":"+'Stage 12'!L12","v":0},{"$f":"MIN(+E20+G20+I20+K20+M20+O20+Q20+S20+U20+W20+Y20+AA20,9999.99)","v":409.15999999999997},{"$f":"+F20+H20+J20+L20+N20+P20+R20+T20+V20+X20+Z20+AB20","v":93},{"$f":"IF('Shooter Information'!H14=1,\"MDQ\",IF(OR('Shooter Information'!B14=\"\",ISBLANK('Shooter Information'!B14)),,IF(SUM('Stage 1'!O12,'Stage 2'!O12,'Stage 3'!O12,'Stage 4'!O12,'Stage 5'!O12,'Stage 6'!O12,'Stage 7'!O12,'Stage 8'!O12,'Stage 9'!O12,'Stage 10'!O12,'Stage 11'!O12,'Stage 12'!O12)=0,\"Yes\",\"No\")))","v":"No"},{"$f":"IF('Shooter Information'!H14=1,\"No\",IF(OR('Shooter Information'!B14=\"\",ISBLANK('Shooter Information'!B14)),,IF(((AK20+AL20)>=2),\"No\",\"Yes\")))","v":"Yes"},{"$f":"IF(AC20=0,99999,AC20)","v":409.15999999999997},{"$f":"IF(AD20=0,99999,AD20)","v":93},{"$f":"IF(ISBLANK('Shooter Information'!C14),\"ZZZZZZZZZZ\",C20)","v":"L49"},{"$f":"CELL(\"row\",'Shooter Information'!B14)","v":14},{"$f":"SUM('Stage 1'!I12,'Stage 2'!I12,'Stage 3'!I12,'Stage 4'!I12,'Stage 5'!I12,'Stage 6'!I12,'Stage 7'!I12,'Stage 8'!I12,'Stage 9'!I12,'Stage 10'!I12,'Stage 11'!I12,'Stage 12'!I12)","v":0},{"$f":"SUM('Stage 1'!J19,'Stage 2'!J19,'Stage 3'!J19,'Stage 4'!J19,'Stage 5'!J19,'Stage 6'!J19,'Stage 7'!J19,'Stage 8'!J19,'Stage 9'!J19,'Stage 10'!J19,'Stage 11'!J19,'Stage 12'!J19)","v":0}]
[{"$f":"IF(AF21=\"Yes\",IF('Shooter Information'!$C$2=\"R\",(SUMPRODUCT(--(AD21>$AD$5:$AD$79),--(\"Yes\"=$AF$5:$AF$79))+1),(SUMPRODUCT(--(AC21>$AC$5:$AC$79),--(\"Yes\"=$AF$5:$AF$79))+1)),0)","v":0},{"$f":"'Shooter Information'!B22","v":0},{"$f":"'Shooter Information'!C22","v":0},{"$f":"IF(AF21=\"Yes\",IF('Shooter Information'!$C$2=\"R\",(SUMPRODUCT(--(C21=$C$5:$C$79),--(AD21>$AD$5:$AD$79),--(\"Yes\"=$AF$5:$AF$79))+1),(SUMPRODUCT(--(C21=$C$5:$C$79),--(AC21>$AC$5:$AC$79),--(\"Yes\"=$AF$5:$AF$79))+1)),0)","v":0},{"$f":"+'Stage 1'!K20","v":0},{"$f":"+'Stage 1'!L20","v":0},{"$f":"+'Stage 2'!K20","v":0},{"$f":"+'Stage 2'!L20","v":0},{"$f":"+'Stage 3'!K20","v":0},{"$f":"+'Stage 3'!L20","v":0},{"$f":"+'Stage 4'!K20","v":0},{"$f":"+'Stage 4'!L20","v":0},{"$f":"+'Stage 5'!K20","v":0},{"$f":"+'Stage 5'!L20","v":0},{"$f":"+'Stage 6'!K20","v":0},{"$f":"+'Stage 6'!L20","v":0},{"$f":"+'Stage 7'!K20","v":0},{"$f":"+'Stage 7'!L20","v":0},{"$f":"+'Stage 8'!K20","v":0},{"$f":"+'Stage 8'!L20","v":0},{"$f":"+'Stage 9'!K20","v":0},{"$f":"+'Stage 9'!L20","v":0},{"$f":"+'Stage 10'!K20","v":0},{"$f":"+'Stage 10'!L20","v":0},{"$f":"+'Stage 11'!K20","v":0},{"$f":"+'Stage 11'!L20","v":0},{"$f":"+'Stage 12'!K20","v":0},{"$f":"+'Stage 12'!L20","v":0},{"$f":"MIN(+E21+G21+I21+K21+M21+O21+Q21+S21+U21+W21+Y21+AA21,9999.99)","v":0},{"$f":"+F21+H21+J21+L21+N21+P21+R21+T21+V21+X21+Z21+AB21","v":0},{"$f":"IF('Shooter Information'!H22=1,\"MDQ\",IF(OR('Shooter Information'!B22=\"\",ISBLANK('Shooter Information'!B22)),,IF(SUM('Stage 1'!O20,'Stage 2'!O20,'Stage 3'!O20,'Stage 4'!O20,'Stage 5'!O20,'Stage 6'!O20,'Stage 7'!O20,'Stage 8'!O20,'Stage 9'!O20,'Stage 10'!O20,'Stage 11'!O20,'Stage 12'!O20)=0,\"Yes\",\"No\")))","v":0},{"$f":"IF('Shooter Information'!H22=1,\"No\",IF(OR('Shooter Information'!B22=\"\",ISBLANK('Shooter Information'!B22)),,IF(((AK21+AL21)>=2),\"No\",\"Yes\")))","v":0},{"$f":"IF(AC21=0,99999,AC21)","v":99999},{"$f":"IF(AD21=0,99999,AD21)","v":99999},{"$f":"IF(ISBLANK('Shooter Information'!C22),\"ZZZZZZZZZZ\",C21)","v":"ZZZZZZZZZZ"},{"$f":"CELL(\"row\",'Shooter Information'!B22)","v":22},{"$f":"SUM('Stage 1'!I20,'Stage 2'!I20,'Stage 3'!I20,'Stage 4'!I20,'Stage 5'!I20,'Stage 6'!I20,'Stage 7'!I20,'Stage 8'!I20,'Stage 9'!I20,'Stage 10'!I20,'Stage 11'!I20,'Stage 12'!I20)","v":0},{"$f":"SUM('Stage 1'!J20,'Stage 2'!J20,'Stage 3'!J20,'Stage 4'!J20,'Stage 5'!J20,'Stage 6'!J20,'Stage 7'!J20,'Stage 8'!J20,'Stage 9'!J20,'Stage 10'!J20,'Stage 11'!J20,'Stage 12'!J20)","v":0}]
[{"$f":"IF(AF22=\"Yes\",IF('Shooter Information'!$C$2=\"R\",(SUMPRODUCT(--(AD22>$AD$5:$AD$79),--(\"Yes\"=$AF$5:$AF$79))+1),(SUMPRODUCT(--(AC22>$AC$5:$AC$79),--(\"Yes\"=$AF$5:$AF$79))+1)),0)","v":0},{"$f":"'Shooter Information'!B23","v":0},{"$f":"'Shooter Information'!C23","v":0},{"$f":"IF(AF22=\"Yes\",IF('Shooter Information'!$C$2=\"R\",(SUMPRODUCT(--(C22=$C$5:$C$79),--(AD22>$AD$5:$AD$79),--(\"Yes\"=$AF$5:$AF$79))+1),(SUMPRODUCT(--(C22=$C$5:$C$79),--(AC22>$AC$5:$AC$79),--(\"Yes\"=$AF$5:$AF$79))+1)),0)","v":0},{"$f":"+'Stage 1'!K21","v":0},{"$f":"+'Stage 1'!L21","v":0},{"$f":"+'Stage 2'!K21","v":0},{"$f":"+'Stage 2'!L21","v":0},{"$f":"+'Stage 3'!K21","v":0},{"$f":"+'Stage 3'!L21","v":0},{"$f":"+'Stage 4'!K21","v":0},{"$f":"+'Stage 4'!L21","v":0},{"$f":"+'Stage 5'!K21","v":0},{"$f":"+'Stage 5'!L21","v":0},{"$f":"+'Stage 6'!K21","v":0},{"$f":"+'Stage 6'!L21","v":0},{"$f":"+'Stage 7'!K21","v":0},{"$f":"+'Stage 7'!L21","v":0},{"$f":"+'Stage 8'!K21","v":0},{"$f":"+'Stage 8'!L21","v":0},{"$f":"+'Stage 9'!K21","v":0},{"$f":"+'Stage 9'!L21","v":0},{"$f":"+'Stage 10'!K21","v":0},{"$f":"+'Stage 10'!L21","v":0},{"$f":"+'Stage 11'!K21","v":0},{"$f":"+'Stage 11'!L21","v":0},{"$f":"+'Stage 12'!K21","v":0},{"$f":"+'Stage 12'!L21","v":0},{"$f":"MIN(+E22+G22+I22+K22+M22+O22+Q22+S22+U22+W22+Y22+AA22,9999.99)","v":0},{"$f":"+F22+H22+J22+L22+N22+P22+R22+T22+V22+X22+Z22+AB22","v":0},{"$f":"IF('Shooter Information'!H23=1,\"MDQ\",IF(OR('Shooter Information'!B23=\"\",ISBLANK('Shooter Information'!B23)),,IF(SUM('Stage 1'!O21,'Stage 2'!O21,'Stage 3'!O21,'Stage 4'!O21,'Stage 5'!O21,'Stage 6'!O21,'Stage 7'!O21,'Stage 8'!O21,'Stage 9'!O21,'Stage 10'!O21,'Stage 11'!O21,'Stage 12'!O21)=0,\"Yes\",\"No\")))","v":0},{"$f":"IF('Shooter Information'!H23=1,\"No\",IF(OR('Shooter Information'!B23=\"\",ISBLANK('Shooter Information'!B23)),,IF(((AK22+AL22)>=2),\"No\",\"Yes\")))","v":0},{"$f":"IF(AC22=0,99999,AC22)","v":99999},{"$f":"IF(AD22=0,99999,AD22)","v":99999},{"$f":"IF(ISBLANK('Shooter Information'!C23),\"ZZZZZZZZZZ\",C22)","v":"ZZZZZZZZZZ"},{"$f":"CELL(\"row\",'Shooter Information'!B23)","v":23},{"$f":"SUM('Stage 1'!I21,'Stage 2'!I21,'Stage 3'!I21,'Stage 4'!I21,'Stage 5'!I21,'Stage 6'!I21,'Stage 7'!I21,'Stage 8'!I21,'Stage 9'!I21,'Stage 10'!I21,'Stage 11'!I21,'Stage 12'!I21)","v":0},{"$f":"SUM('Stage 1'!J21,'Stage 2'!J21,'Stage 3'!J21,'Stage 4'!J21,'Stage 5'!J21,'Stage 6'!J21,'Stage 7'!J21,'Stage 8'!J21,'Stage 9'!J21,'Stage 10'!J21,'Stage 11'!J21,'Stage 12'!J21)","v":0}]
[{"$f":"IF(AF23=\"Yes\",IF('Shooter Information'!$C$2=\"R\",(SUMPRODUCT(--(AD23>$AD$5:$AD$79),--(\"Yes\"=$AF$5:$AF$79))+1),(SUMPRODUCT(--(AC23>$AC$5:$AC$79),--(\"Yes\"=$AF$5:$AF$79))+1)),0)","v":0},{"$f":"'Shooter Information'!B24","v":0},{"$f":"'Shooter Information'!C24","v":0},{"$f":"IF(AF23=\"Yes\",IF('Shooter Information'!$C$2=\"R\",(SUMPRODUCT(--(C23=$C$5:$C$79),--(AD23>$AD$5:$AD$79),--(\"Yes\"=$AF$5:$AF$79))+1),(SUMPRODUCT(--(C23=$C$5:$C$79),--(AC23>$AC$5:$AC$79),--(\"Yes\"=$AF$5:$AF$79))+1)),0)","v":0},{"$f":"+'Stage 1'!K22","v":0},{"$f":"+'Stage 1'!L22","v":0},{"$f":"+'Stage 2'!K22","v":0},{"$f":"+'Stage 2'!L22","v":0},{"$f":"+'Stage 3'!K22","v":0},{"$f":"+'Stage 3'!L22","v":0},{"$f":"+'Stage 4'!K22","v":0},{"$f":"+'Stage 4'!L22","v":0},{"$f":"+'Stage 5'!K22","v":0},{"$f":"+'Stage 5'!L22","v":0},{"$f":"+'Stage 6'!K22","v":0},{"$f":"+'Stage 6'!L22","v":0},{"$f":"+'Stage 7'!K22","v":0},{"$f":"+'Stage 7'!L22","v":0},{"$f":"+'Stage 8'!K22","v":0},{"$f":"+'Stage 8'!L22","v":0},{"$f":"+'Stage 9'!K22","v":0},{"$f":"+'Stage 9'!L22","v":0},{"$f":"+'Stage 10'!K22","v":0},{"$f":"+'Stage 10'!L22","v":0},{"$f":"+'Stage 11'!K22","v":0},{"$f":"+'Stage 11'!L22","v":0},{"$f":"+'Stage 12'!K22","v":0},{"$f":"+'Stage 12'!L22","v":0},{"$f":"MIN(+E23+G23+I23+K23+M23+O23+Q23+S23+U23+W23+Y23+AA23,9999.99)","v":0},{"$f":"+F23+H23+J23+L23+N23+P23+R23+T23+V23+X23+Z23+AB23","v":0},{"$f":"IF('Shooter Information'!H24=1,\"MDQ\",IF(OR('Shooter Information'!B24=\"\",ISBLANK('Shooter Information'!B24)),,IF(SUM('Stage 1'!O22,'Stage 2'!O22,'Stage 3'!O22,'Stage 4'!O22,'Stage 5'!O22,'Stage 6'!O22,'Stage 7'!O22,'Stage 8'!O22,'Stage 9'!O22,'Stage 10'!O22,'Stage 11'!O22,'Stage 12'!O22)=0,\"Yes\",\"No\")))","v":0},{"$f":"IF('Shooter Information'!H24=1,\"No\",IF(OR('Shooter Information'!B24=\"\",ISBLANK('Shooter Information'!B24)),,IF(((AK23+AL23)>=2),\"No\",\"Yes\")))","v":0},{"$f":"IF(AC23=0,99999,AC23)","v":99999},{"$f":"IF(AD23=0,99999,AD23)","v":99999},{"$f":"IF(ISBLANK('Shooter Information'!C24),\"ZZZZZZZZZZ\",C23)","v":"ZZZZZZZZZZ"},{"$f":"CELL(\"row\",'Shooter Information'!B24)","v":24},{"$f":"SUM('Stage 1'!I22,'Stage 2'!I22,'Stage 3'!I22,'Stage 4'!I22,'Stage 5'!I22,'Stage 6'!I22,'Stage 7'!I22,'Stage 8'!I22,'Stage 9'!I22,'Stage 10'!I22,'Stage 11'!I22,'Stage 12'!I22)","v":0},{"$f":"SUM('Stage 1'!J22,'Stage 2'!J22,'Stage 3'!J22,'Stage 4'!J22,'Stage 5'!J22,'Stage 6'!J22,'Stage 7'!J22,'Stage 8'!J22,'Stage 9'!J22,'Stage 10'!J22,'Stage 11'!J22,'Stage 12'!J22)","v":0}]
[{"$f":"IF(AF24=\"Yes\",IF('Shooter Information'!$C$2=\"R\",(SUMPRODUCT(--(AD24>$AD$5:$AD$79),--(\"Yes\"=$AF$5:$AF$79))+1),(SUMPRODUCT(--(AC24>$AC$5:$AC$79),--(\"Yes\"=$AF$5:$AF$79))+1)),0)","v":0},{"$f":"'Shooter Information'!B25","v":0},{"$f":"'Shooter Information'!C25","v":0},{"$f":"IF(AF24=\"Yes\",IF('Shooter Information'!$C$2=\"R\",(SUMPRODUCT(--(C24=$C$5:$C$79),--(AD24>$AD$5:$AD$79),--(\"Yes\"=$AF$5:$AF$79))+1),(SUMPRODUCT(--(C24=$C$5:$C$79),--(AC24>$AC$5:$AC$79),--(\"Yes\"=$AF$5:$AF$79))+1)),0)","v":0},{"$f":"+'Stage 1'!K23","v":0},{"$f":"+'Stage 1'!L23","v":0},{"$f":"+'Stage 2'!K23","v":0},{"$f":"+'Stage 2'!L23","v":0},{"$f":"+'Stage 3'!K23","v":0},{"$f":"+'Stage 3'!L23","v":0},{"$f":"+'Stage 4'!K23","v":0},{"$f":"+'Stage 4'!L23","v":0},{"$f":"+'Stage 5'!K23","v":0},{"$f":"+'Stage 5'!L23","v":0},{"$f":"+'Stage 6'!K23","v":0},{"$f":"+'Stage 6'!L23","v":0},{"$f":"+'Stage 7'!K23","v":0},{"$f":"+'Stage 7'!L23","v":0},{"$f":"+'Stage 8'!K23","v":0},{"$f":"+'Stage 8'!L23","v":0},{"$f":"+'Stage 9'!K23","v":0},{"$f":"+'Stage 9'!L23","v":0},{"$f":"+'Stage 10'!K23","v":0},{"$f":"+'Stage 10'!L23","v":0},{"$f":"+'Stage 11'!K23","v":0},{"$f":"+'Stage 11'!L23","v":0},{"$f":"+'Stage 12'!K23","v":0},{"$f":"+'Stage 12'!L23","v":0},{"$f":"MIN(+E24+G24+I24+K24+M24+O24+Q24+S24+U24+W24+Y24+AA24,9999.99)","v":0},{"$f":"+F24+H24+J24+L24+N24+P24+R24+T24+V24+X24+Z24+AB24","v":0},{"$f":"IF('Shooter Information'!H25=1,\"MDQ\",IF(OR('Shooter Information'!B25=\"\",ISBLANK('Shooter Information'!B25)),,IF(SUM('Stage 1'!O23,'Stage 2'!O23,'Stage 3'!O23,'Stage 4'!O23,'Stage 5'!O23,'Stage 6'!O23,'Stage 7'!O23,'Stage 8'!O23,'Stage 9'!O23,'Stage 10'!O23,'Stage 11'!O23,'Stage 12'!O23)=0,\"Yes\",\"No\")))","v":0},{"$f":"IF('Shooter Information'!H25=1,\"No\",IF(OR('Shooter Information'!B25=\"\",ISBLANK('Shooter Information'!B25)),,IF(((AK24+AL24)>=2),\"No\",\"Yes\")))","v":0},{"$f":"IF(AC24=0,99999,AC24)","v":99999},{"$f":"IF(AD24=0,99999,AD24)","v":99999},{"$f":"IF(ISBLANK('Shooter Information'!C25),\"ZZZZZZZZZZ\",C24)","v":"ZZZZZZZZZZ"},{"$f":"CELL(\"row\",'Shooter Information'!B25)","v":25},{"$f":"SUM('Stage 1'!I23,'Stage 2'!I23,'Stage 3'!I23,'Stage 4'!I23,'Stage 5'!I23,'Stage 6'!I23,'Stage 7'!I23,'Stage 8'!I23,'Stage 9'!I23,'Stage 10'!I23,'Stage 11'!I23,'Stage 12'!I23)","v":0},{"$f":"SUM('Stage 1'!J23,'Stage 2'!J23,'Stage 3'!J23,'Stage 4'!J23,'Stage 5'!J23,'Stage 6'!J23,'Stage 7'!J23,'Stage 8'!J23,'Stage 9'!J23,'Stage 10'!J23,'Stage 11'!J23,'Stage 12'!J23)","v":0}]
[{"$f":"IF(AF25=\"Yes\",IF('Shooter Information'!$C$2=\"R\",(SUMPRODUCT(--(AD25>$AD$5:$AD$79),--(\"Yes\"=$AF$5:$AF$79))+1),(SUMPRODUCT(--(AC25>$AC$5:$AC$79),--(\"Yes\"=$AF$5:$AF$79))+1)),0)","v":0},{"$f":"'Shooter Information'!B26","v":0},{"$f":"'Shooter Information'!C26","v":0},{"$f":"IF(AF25=\"Yes\",IF('Shooter Information'!$C$2=\"R\",(SUMPRODUCT(--(C25=$C$5:$C$79),--(AD25>$AD$5:$AD$79),--(\"Yes\"=$AF$5:$AF$79))+1),(SUMPRODUCT(--(C25=$C$5:$C$79),--(AC25>$AC$5:$AC$79),--(\"Yes\"=$AF$5:$AF$79))+1)),0)","v":0},{"$f":"+'Stage 1'!K24","v":0},{"$f":"+'Stage 1'!L24","v":0},{"$f":"+'Stage 2'!K24","v":0},{"$f":"+'Stage 2'!L24","v":0},{"$f":"+'Stage 3'!K24","v":0},{"$f":"+'Stage 3'!L24","v":0},{"$f":"+'Stage 4'!K24","v":0},{"$f":"+'Stage 4'!L24","v":0},{"$f":"+'Stage 5'!K24","v":0},{"$f":"+'Stage 5'!L24","v":0},{"$f":"+'Stage 6'!K24","v":0},{"$f":"+'Stage 6'!L24","v":0},{"$f":"+'Stage 7'!K24","v":0},{"$f":"+'Stage 7'!L24","v":0},{"$f":"+'Stage 8'!K24","v":0},{"$f":"+'Stage 8'!L24","v":0},{"$f":"+'Stage 9'!K24","v":0},{"$f":"+'Stage 9'!L24","v":0},{"$f":"+'Stage 10'!K24","v":0},{"$f":"+'Stage 10'!L24","v":0},{"$f":"+'Stage 11'!K24","v":0},{"$f":"+'Stage 11'!L24","v":0},{"$f":"+'Stage 12'!K24","v":0},{"$f":"+'Stage 12'!L24","v":0},{"$f":"MIN(+E25+G25+I25+K25+M25+O25+Q25+S25+U25+W25+Y25+AA25,9999.99)","v":0},{"$f":"+F25+H25+J25+L25+N25+P25+R25+T25+V25+X25+Z25+AB25","v":0},{"$f":"IF('Shooter Information'!H26=1,\"MDQ\",IF(OR('Shooter Information'!B26=\"\",ISBLANK('Shooter Information'!B26)),,IF(SUM('Stage 1'!O24,'Stage 2'!O24,'Stage 3'!O24,'Stage 4'!O24,'Stage 5'!O24,'Stage 6'!O24,'Stage 7'!O24,'Stage 8'!O24,'Stage 9'!O24,'Stage 10'!O24,'Stage 11'!O24,'Stage 12'!O24)=0,\"Yes\",\"No\")))","v":0},{"$f":"IF('Shooter Information'!H26=1,\"No\",IF(OR('Shooter Information'!B26=\"\",ISBLANK('Shooter Information'!B26)),,IF(((AK25+AL25)>=2),\"No\",\"Yes\")))","v":0},{"$f":"IF(AC25=0,99999,AC25)","v":99999},{"$f":"IF(AD25=0,99999,AD25)","v":99999},{"$f":"IF(ISBLANK('Shooter Information'!C26),\"ZZZZZZZZZZ\",C25)","v":"ZZZZZZZZZZ"},{"$f":"CELL(\"row\",'Shooter Information'!B26)","v":26},{"$f":"SUM('Stage 1'!I24,'Stage 2'!I24,'Stage 3'!I24,'Stage 4'!I24,'Stage 5'!I24,'Stage 6'!I24,'Stage 7'!I24,'Stage 8'!I24,'Stage 9'!I24,'Stage 10'!I24,'Stage 11'!I24,'Stage 12'!I24)","v":0},{"$f":"SUM('Stage 1'!J24,'Stage 2'!J24,'Stage 3'!J24,'Stage 4'!J24,'Stage 5'!J24,'Stage 6'!J24,'Stage 7'!J24,'Stage 8'!J24,'Stage 9'!J24,'Stage 10'!J24,'Stage 11'!J24,'Stage 12'!J24)","v":0}]
[{"$f":"IF(AF26=\"Yes\",IF('Shooter Information'!$C$2=\"R\",(SUMPRODUCT(--(AD26>$AD$5:$AD$79),--(\"Yes\"=$AF$5:$AF$79))+1),(SUMPRODUCT(--(AC26>$AC$5:$AC$79),--(\"Yes\"=$AF$5:$AF$79))+1)),0)","v":0},{"$f":"'Shooter Information'!B27","v":0},{"$f":"'Shooter Information'!C27","v":0},{"$f":"IF(AF26=\"Yes\",IF('Shooter Information'!$C$2=\"R\",(SUMPRODUCT(--(C26=$C$5:$C$79),--(AD26>$AD$5:$AD$79),--(\"Yes\"=$AF$5:$AF$79))+1),(SUMPRODUCT(--(C26=$C$5:$C$79),--(AC26>$AC$5:$AC$79),--(\"Yes\"=$AF$5:$AF$79))+1)),0)","v":0},{"$f":"+'Stage 1'!K25","v":0},{"$f":"+'Stage 1'!L25","v":0},{"$f":"+'Stage 2'!K25","v":0},{"$f":"+'Stage 2'!L25","v":0},{"$f":"+'Stage 3'!K25","v":0},{"$f":"+'Stage 3'!L25","v":0},{"$f":"+'Stage 4'!K25","v":0},{"$f":"+'Stage 4'!L25","v":0},{"$f":"+'Stage 5'!K25","v":0},{"$f":"+'Stage 5'!L25","v":0},{"$f":"+'Stage 6'!K25","v":0},{"$f":"+'Stage 6'!L25","v":0},{"$f":"+'Stage 7'!K25","v":0},{"$f":"+'Stage 7'!L25","v":0},{"$f":"+'Stage 8'!K25","v":0},{"$f":"+'Stage 8'!L25","v":0},{"$f":"+'Stage 9'!K25","v":0},{"$f":"+'Stage 9'!L25","v":0},{"$f":"+'Stage 10'!K25","v":0},{"$f":"+'Stage 10'!L25","v":0},{"$f":"+'Stage 11'!K25","v":0},{"$f":"+'Stage 11'!L25","v":0},{"$f":"+'Stage 12'!K25","v":0},{"$f":"+'Stage 12'!L25","v":0},{"$f":"MIN(+E26+G26+I26+K26+M26+O26+Q26+S26+U26+W26+Y26+AA26,9999.99)","v":0},{"$f":"+F26+H26+J26+L26+N26+P26+R26+T26+V26+X26+Z26+AB26","v":0},{"$f":"IF('Shooter Information'!H27=1,\"MDQ\",IF(OR('Shooter Information'!B27=\"\",ISBLANK('Shooter Information'!B27)),,IF(SUM('Stage 1'!O25,'Stage 2'!O25,'Stage 3'!O25,'Stage 4'!O25,'Stage 5'!O25,'Stage 6'!O25,'Stage 7'!O25,'Stage 8'!O25,'Stage 9'!O25,'Stage 10'!O25,'Stage 11'!O25,'Stage 12'!O25)=0,\"Yes\",\"No\")))","v":0},{"$f":"IF('Shooter Information'!H27=1,\"No\",IF(OR('Shooter Information'!B27=\"\",ISBLANK('Shooter Information'!B27)),,IF(((AK26+AL26)>=2),\"No\",\"Yes\")))","v":0},{"$f":"IF(AC26=0,99999,AC26)","v":99999},{"$f":"IF(AD26=0,99999,AD26)","v":99999},{"$f":"IF(ISBLANK('Shooter Information'!C27),\"ZZZZZZZZZZ\",C26)","v":"ZZZZZZZZZZ"},{"$f":"CELL(\"row\",'Shooter Information'!B27)","v":27},{"$f":"SUM('Stage 1'!I25,'Stage 2'!I25,'Stage 3'!I25,'Stage 4'!I25,'Stage 5'!I25,'Stage 6'!I25,'Stage 7'!I25,'Stage 8'!I25,'Stage 9'!I25,'Stage 10'!I25,'Stage 11'!I25,'Stage 12'!I25)","v":0},{"$f":"SUM('Stage 1'!J25,'Stage 2'!J25,'Stage 3'!J25,'Stage 4'!J25,'Stage 5'!J25,'Stage 6'!J25,'Stage 7'!J25,'Stage 8'!J25,'Stage 9'!J25,'Stage 10'!J25,'Stage 11'!J25,'Stage 12'!J25)","v":0}]
[{"$f":"IF(AF27=\"Yes\",IF('Shooter Information'!$C$2=\"R\",(SUMPRODUCT(--(AD27>$AD$5:$AD$79),--(\"Yes\"=$AF$5:$AF$79))+1),(SUMPRODUCT(--(AC27>$AC$5:$AC$79),--(\"Yes\"=$AF$5:$AF$79))+1)),0)","v":0},{"$f":"'Shooter Information'!B28","v":0},{"$f":"'Shooter Information'!C28","v":0},{"$f":"IF(AF27=\"Yes\",IF('Shooter Information'!$C$2=\"R\",(SUMPRODUCT(--(C27=$C$5:$C$79),--(AD27>$AD$5:$AD$79),--(\"Yes\"=$AF$5:$AF$79))+1),(SUMPRODUCT(--(C27=$C$5:$C$79),--(AC27>$AC$5:$AC$79),--(\"Yes\"=$AF$5:$AF$79))+1)),0)","v":0},{"$f":"+'Stage 1'!K26","v":0},{"$f":"+'Stage 1'!L26","v":0},{"$f":"+'Stage 2'!K26","v":0},{"$f":"+'Stage 2'!L26","v":0},{"$f":"+'Stage 3'!K26","v":0},{"$f":"+'Stage 3'!L26","v":0},{"$f":"+'Stage 4'!K26","v":0},{"$f":"+'Stage 4'!L26","v":0},{"$f":"+'Stage 5'!K26","v":0},{"$f":"+'Stage 5'!L26","v":0},{"$f":"+'Stage 6'!K26","v":0},{"$f":"+'Stage 6'!L26","v":0},{"$f":"+'Stage 7'!K26","v":0},{"$f":"+'Stage 7'!L26","v":0},{"$f":"+'Stage 8'!K26","v":0},{"$f":"+'Stage 8'!L26","v":0},{"$f":"+'Stage 9'!K26","v":0},{"$f":"+'Stage 9'!L26","v":0},{"$f":"+'Stage 10'!K26","v":0},{"$f":"+'Stage 10'!L26","v":0},{"$f":"+'Stage 11'!K26","v":0},{"$f":"+'Stage 11'!L26","v":0},{"$f":"+'Stage 12'!K26","v":0},{"$f":"+'Stage 12'!L26","v":0},{"$f":"MIN(+E27+G27+I27+K27+M27+O27+Q27+S27+U27+W27+Y27+AA27,9999.99)","v":0},{"$f":"+F27+H27+J27+L27+N27+P27+R27+T27+V27+X27+Z27+AB27","v":0},{"$f":"IF('Shooter Information'!H28=1,\"MDQ\",IF(OR('Shooter Information'!B28=\"\",ISBLANK('Shooter Information'!B28)),,IF(SUM('Stage 1'!O26,'Stage 2'!O26,'Stage 3'!O26,'Stage 4'!O26,'Stage 5'!O26,'Stage 6'!O26,'Stage 7'!O26,'Stage 8'!O26,'Stage 9'!O26,'Stage 10'!O26,'Stage 11'!O26,'Stage 12'!O26)=0,\"Yes\",\"No\")))","v":0},{"$f":"IF('Shooter Information'!H28=1,\"No\",IF(OR('Shooter Information'!B28=\"\",ISBLANK('Shooter Information'!B28)),,IF(((AK27+AL27)>=2),\"No\",\"Yes\")))","v":0},{"$f":"IF(AC27=0,99999,AC27)","v":99999},{"$f":"IF(AD27=0,99999,AD27)","v":99999},{"$f":"IF(ISBLANK('Shooter Information'!C28),\"ZZZZZZZZZZ\",C27)","v":"ZZZZZZZZZZ"},{"$f":"CELL(\"row\",'Shooter Information'!B28)","v":28},{"$f":"SUM('Stage 1'!I26,'Stage 2'!I26,'Stage 3'!I26,'Stage 4'!I26,'Stage 5'!I26,'Stage 6'!I26,'Stage 7'!I26,'Stage 8'!I26,'Stage 9'!I26,'Stage 10'!I26,'Stage 11'!I26,'Stage 12'!I26)","v":0},{"$f":"SUM('Stage 1'!J26,'Stage 2'!J26,'Stage 3'!J26,'Stage 4'!J26,'Stage 5'!J26,'Stage 6'!J26,'Stage 7'!J26,'Stage 8'!J26,'Stage 9'!J26,'Stage 10'!J26,'Stage 11'!J26,'Stage 12'!J26)","v":0}]
[{"$f":"IF(AF28=\"Yes\",IF('Shooter Information'!$C$2=\"R\",(SUMPRODUCT(--(AD28>$AD$5:$AD$79),--(\"Yes\"=$AF$5:$AF$79))+1),(SUMPRODUCT(--(AC28>$AC$5:$AC$79),--(\"Yes\"=$AF$5:$AF$79))+1)),0)","v":0},{"$f":"'Shooter Information'!B29","v":0},{"$f":"'Shooter Information'!C29","v":0},{"$f":"IF(AF28=\"Yes\",IF('Shooter Information'!$C$2=\"R\",(SUMPRODUCT(--(C28=$C$5:$C$79),--(AD28>$AD$5:$AD$79),--(\"Yes\"=$AF$5:$AF$79))+1),(SUMPRODUCT(--(C28=$C$5:$C$79),--(AC28>$AC$5:$AC$79),--(\"Yes\"=$AF$5:$AF$79))+1)),0)","v":0},{"$f":"+'Stage 1'!K27","v":0},{"$f":"+'Stage 1'!L27","v":0},{"$f":"+'Stage 2'!K27","v":0},{"$f":"+'Stage 2'!L27","v":0},{"$f":"+'Stage 3'!K27","v":0},{"$f":"+'Stage 3'!L27","v":0},{"$f":"+'Stage 4'!K27","v":0},{"$f":"+'Stage 4'!L27","v":0},{"$f":"+'Stage 5'!K27","v":0},{"$f":"+'Stage 5'!L27","v":0},{"$f":"+'Stage 6'!K27","v":0},{"$f":"+'Stage 6'!L27","v":0},{"$f":"+'Stage 7'!K27","v":0},{"$f":"+'Stage 7'!L27","v":0},{"$f":"+'Stage 8'!K27","v":0},{"$f":"+'Stage 8'!L27","v":0},{"$f":"+'Stage 9'!K27","v":0},{"$f":"+'Stage 9'!L27","v":0},{"$f":"+'Stage 10'!K27","v":0},{"$f":"+'Stage 10'!L27","v":0},{"$f":"+'Stage 11'!K27","v":0},{"$f":"+'Stage 11'!L27","v":0},{"$f":"+'Stage 12'!K27","v":0},{"$f":"+'Stage 12'!L27","v":0},{"$f":"MIN(+E28+G28+I28+K28+M28+O28+Q28+S28+U28+W28+Y28+AA28,9999.99)","v":0},{"$f":"+F28+H28+J28+L28+N28+P28+R28+T28+V28+X28+Z28+AB28","v":0},{"$f":"IF('Shooter Information'!H29=1,\"MDQ\",IF(OR('Shooter Information'!B29=\"\",ISBLANK('Shooter Information'!B29)),,IF(SUM('Stage 1'!O27,'Stage 2'!O27,'Stage 3'!O27,'Stage 4'!O27,'Stage 5'!O27,'Stage 6'!O27,'Stage 7'!O27,'Stage 8'!O27,'Stage 9'!O27,'Stage 10'!O27,'Stage 11'!O27,'Stage 12'!O27)=0,\"Yes\",\"No\")))","v":0},{"$f":"IF('Shooter Information'!H29=1,\"No\",IF(OR('Shooter Information'!B29=\"\",ISBLANK('Shooter Information'!B29)),,IF(((AK28+AL28)>=2),\"No\",\"Yes\")))","v":0},{"$f":"IF(AC28=0,99999,AC28)","v":99999},{"$f":"IF(AD28=0,99999,AD28)","v":99999},{"$f":"IF(ISBLANK('Shooter Information'!C29),\"ZZZZZZZZZZ\",C28)","v":"ZZZZZZZZZZ"},{"$f":"CELL(\"row\",'Shooter Information'!B29)","v":29},{"$f":"SUM('Stage 1'!I27,'Stage 2'!I27,'Stage 3'!I27,'Stage 4'!I27,'Stage 5'!I27,'Stage 6'!I27,'Stage 7'!I27,'Stage 8'!I27,'Stage 9'!I27,'Stage 10'!I27,'Stage 11'!I27,'Stage 12'!I27)","v":0},{"$f":"SUM('Stage 1'!J27,'Stage 2'!J27,'Stage 3'!J27,'Stage 4'!J27,'Stage 5'!J27,'Stage 6'!J27,'Stage 7'!J27,'Stage 8'!J27,'Stage 9'!J27,'Stage 10'!J27,'Stage 11'!J27,'Stage 12'!J27)","v":0}]
[{"$f":"IF(AF29=\"Yes\",IF('Shooter Information'!$C$2=\"R\",(SUMPRODUCT(--(AD29>$AD$5:$AD$79),--(\"Yes\"=$AF$5:$AF$79))+1),(SUMPRODUCT(--(AC29>$AC$5:$AC$79),--(\"Yes\"=$AF$5:$AF$79))+1)),0)","v":0},{"$f":"'Shooter Information'!B30","v":0},{"$f":"'Shooter Information'!C30","v":0},{"$f":"IF(AF29=\"Yes\",IF('Shooter Information'!$C$2=\"R\",(SUMPRODUCT(--(C29=$C$5:$C$79),--(AD29>$AD$5:$AD$79),--(\"Yes\"=$AF$5:$AF$79))+1),(SUMPRODUCT(--(C29=$C$5:$C$79),--(AC29>$AC$5:$AC$79),--(\"Yes\"=$AF$5:$AF$79))+1)),0)","v":0},{"$f":"+'Stage 1'!K28","v":0},{"$f":"+'Stage 1'!L28","v":0},{"$f":"+'Stage 2'!K28","v":0},{"$f":"+'Stage 2'!L28","v":0},{"$f":"+'Stage 3'!K28","v":0},{"$f":"+'Stage 3'!L28","v":0},{"$f":"+'Stage 4'!K28","v":0},{"$f":"+'Stage 4'!L28","v":0},{"$f":"+'Stage 5'!K28","v":0},{"$f":"+'Stage 5'!L28","v":0},{"$f":"+'Stage 6'!K28","v":0},{"$f":"+'Stage 6'!L28","v":0},{"$f":"+'Stage 7'!K28","v":0},{"$f":"+'Stage 7'!L28","v":0},{"$f":"+'Stage 8'!K28","v":0},{"$f":"+'Stage 8'!L28","v":0},{"$f":"+'Stage 9'!K28","v":0},{"$f":"+'Stage 9'!L28","v":0},{"$f":"+'Stage 10'!K28","v":0},{"$f":"+'Stage 10'!L28","v":0},{"$f":"+'Stage 11'!K28","v":0},{"$f":"+'Stage 11'!L28","v":0},{"$f":"+'Stage 12'!K28","v":0},{"$f":"+'Stage 12'!L28","v":0},{"$f":"MIN(+E29+G29+I29+K29+M29+O29+Q29+S29+U29+W29+Y29+AA29,9999.99)","v":0},{"$f":"+F29+H29+J29+L29+N29+P29+R29+T29+V29+X29+Z29+AB29","v":0},{"$f":"IF('Shooter Information'!H30=1,\"MDQ\",IF(OR('Shooter Information'!B30=\"\",ISBLANK('Shooter Information'!B30)),,IF(SUM('Stage 1'!O28,'Stage 2'!O28,'Stage 3'!O28,'Stage 4'!O28,'Stage 5'!O28,'Stage 6'!O28,'Stage 7'!O28,'Stage 8'!O28,'Stage 9'!O28,'Stage 10'!O28,'Stage 11'!O28,'Stage 12'!O28)=0,\"Yes\",\"No\")))","v":0},{"$f":"IF('Shooter Information'!H30=1,\"No\",IF(OR('Shooter Information'!B30=\"\",ISBLANK('Shooter Information'!B30)),,IF(((AK29+AL29)>=2),\"No\",\"Yes\")))","v":0},{"$f":"IF(AC29=0,99999,AC29)","v":99999},{"$f":"IF(AD29=0,99999,AD29)","v":99999},{"$f":"IF(ISBLANK('Shooter Information'!C30),\"ZZZZZZZZZZ\",C29)","v":"ZZZZZZZZZZ"},{"$f":"CELL(\"row\",'Shooter Information'!B30)","v":30},{"$f":"SUM('Stage 1'!I28,'Stage 2'!I28,'Stage 3'!I28,'Stage 4'!I28,'Stage 5'!I28,'Stage 6'!I28,'Stage 7'!I28,'Stage 8'!I28,'Stage 9'!I28,'Stage 10'!I28,'Stage 11'!I28,'Stage 12'!I28)","v":0},{"$f":"SUM('Stage 1'!J28,'Stage 2'!J28,'Stage 3'!J28,'Stage 4'!J28,'Stage 5'!J28,'Stage 6'!J28,'Stage 7'!J28,'Stage 8'!J28,'Stage 9'!J28,'Stage 10'!J28,'Stage 11'!J28,'Stage 12'!J28)","v":0}]
[{"$f":"IF(AF30=\"Yes\",IF('Shooter Information'!$C$2=\"R\",(SUMPRODUCT(--(AD30>$AD$5:$AD$79),--(\"Yes\"=$AF$5:$AF$79))+1),(SUMPRODUCT(--(AC30>$AC$5:$AC$79),--(\"Yes\"=$AF$5:$AF$79))+1)),0)","v":0},{"$f":"'Shooter Information'!B31","v":0},{"$f":"'Shooter Information'!C31","v":0},{"$f":"IF(AF30=\"Yes\",IF('Shooter Information'!$C$2=\"R\",(SUMPRODUCT(--(C30=$C$5:$C$79),--(AD30>$AD$5:$AD$79),--(\"Yes\"=$AF$5:$AF$79))+1),(SUMPRODUCT(--(C30=$C$5:$C$79),--(AC30>$AC$5:$AC$79),--(\"Yes\"=$AF$5:$AF$79))+1)),0)","v":0},{"$f":"+'Stage 1'!K29","v":0},{"$f":"+'Stage 1'!L29","v":0},{"$f":"+'Stage 2'!K29","v":0},{"$f":"+'Stage 2'!L29","v":0},{"$f":"+'Stage 3'!K29","v":0},{"$f":"+'Stage 3'!L29","v":0},{"$f":"+'Stage 4'!K29","v":0},{"$f":"+'Stage 4'!L29","v":0},{"$f":"+'Stage 5'!K29","v":0},{"$f":"+'Stage 5'!L29","v":0},{"$f":"+'Stage 6'!K29","v":0},{"$f":"+'Stage 6'!L29","v":0},{"$f":"+'Stage 7'!K29","v":0},{"$f":"+'Stage 7'!L29","v":0},{"$f":"+'Stage 8'!K29","v":0},{"$f":"+'Stage 8'!L29","v":0},{"$f":"+'Stage 9'!K29","v":0},{"$f":"+'Stage 9'!L29","v":0},{"$f":"+'Stage 10'!K29","v":0},{"$f":"+'Stage 10'!L29","v":0},{"$f":"+'Stage 11'!K29","v":0},{"$f":"+'Stage 11'!L29","v":0},{"$f":"+'Stage 12'!K29","v":0},{"$f":"+'Stage 12'!L29","v":0},{"$f":"MIN(+E30+G30+I30+K30+M30+O30+Q30+S30+U30+W30+Y30+AA30,9999.99)","v":0},{"$f":"+F30+H30+J30+L30+N30+P30+R30+T30+V30+X30+Z30+AB30","v":0},{"$f":"IF('Shooter Information'!H31=1,\"MDQ\",IF(OR('Shooter Information'!B31=\"\",ISBLANK('Shooter Information'!B31)),,IF(SUM('Stage 1'!O29,'Stage 2'!O29,'Stage 3'!O29,'Stage 4'!O29,'Stage 5'!O29,'Stage 6'!O29,'Stage 7'!O29,'Stage 8'!O29,'Stage 9'!O29,'Stage 10'!O29,'Stage 11'!O29,'Stage 12'!O29)=0,\"Yes\",\"No\")))","v":0},{"$f":"IF('Shooter Information'!H31=1,\"No\",IF(OR('Shooter Information'!B31=\"\",ISBLANK('Shooter Information'!B31)),,IF(((AK30+AL30)>=2),\"No\",\"Yes\")))","v":0},{"$f":"IF(AC30=0,99999,AC30)","v":99999},{"$f":"IF(AD30=0,99999,AD30)","v":99999},{"$f":"IF(ISBLANK('Shooter Information'!C31),\"ZZZZZZZZZZ\",C30)","v":"ZZZZZZZZZZ"},{"$f":"CELL(\"row\",'Shooter Information'!B31)","v":31},{"$f":"SUM('Stage 1'!I29,'Stage 2'!I29,'Stage 3'!I29,'Stage 4'!I29,'Stage 5'!I29,'Stage 6'!I29,'Stage 7'!I29,'Stage 8'!I29,'Stage 9'!I29,'Stage 10'!I29,'Stage 11'!I29,'Stage 12'!I29)","v":0},{"$f":"SUM('Stage 1'!J29,'Stage 2'!J29,'Stage 3'!J29,'Stage 4'!J29,'Stage 5'!J29,'Stage 6'!J29,'Stage 7'!J29,'Stage 8'!J29,'Stage 9'!J29,'Stage 10'!J29,'Stage 11'!J29,'Stage 12'!J29)","v":0}]
[{"$f":"IF(AF31=\"Yes\",IF('Shooter Information'!$C$2=\"R\",(SUMPRODUCT(--(AD31>$AD$5:$AD$79),--(\"Yes\"=$AF$5:$AF$79))+1),(SUMPRODUCT(--(AC31>$AC$5:$AC$79),--(\"Yes\"=$AF$5:$AF$79))+1)),0)","v":0},{"$f":"'Shooter Information'!B32","v":0},{"$f":"'Shooter Information'!C32","v":0},{"$f":"IF(AF31=\"Yes\",IF('Shooter Information'!$C$2=\"R\",(SUMPRODUCT(--(C31=$C$5:$C$79),--(AD31>$AD$5:$AD$79),--(\"Yes\"=$AF$5:$AF$79))+1),(SUMPRODUCT(--(C31=$C$5:$C$79),--(AC31>$AC$5:$AC$79),--(\"Yes\"=$AF$5:$AF$79))+1)),0)","v":0},{"$f":"+'Stage 1'!K30","v":0},{"$f":"+'Stage 1'!L30","v":0},{"$f":"+'Stage 2'!K30","v":0},{"$f":"+'Stage 2'!L30","v":0},{"$f":"+'Stage 3'!K30","v":0},{"$f":"+'Stage 3'!L30","v":0},{"$f":"+'Stage 4'!K30","v":0},{"$f":"+'Stage 4'!L30","v":0},{"$f":"+'Stage 5'!K30","v":0},{"$f":"+'Stage 5'!L30","v":0},{"$f":"+'Stage 6'!K30","v":0},{"$f":"+'Stage 6'!L30","v":0},{"$f":"+'Stage 7'!K30","v":0},{"$f":"+'Stage 7'!L30","v":0},{"$f":"+'Stage 8'!K30","v":0},{"$f":"+'Stage 8'!L30","v":0},{"$f":"+'Stage 9'!K30","v":0},{"$f":"+'Stage 9'!L30","v":0},{"$f":"+'Stage 10'!K30","v":0},{"$f":"+'Stage 10'!L30","v":0},{"$f":"+'Stage 11'!K30","v":0},{"$f":"+'Stage 11'!L30","v":0},{"$f":"+'Stage 12'!K30","v":0},{"$f":"+'Stage 12'!L30","v":0},{"$f":"MIN(+E31+G31+I31+K31+M31+O31+Q31+S31+U31+W31+Y31+AA31,9999.99)","v":0},{"$f":"+F31+H31+J31+L31+N31+P31+R31+T31+V31+X31+Z31+AB31","v":0},{"$f":"IF('Shooter Information'!H32=1,\"MDQ\",IF(OR('Shooter Information'!B32=\"\",ISBLANK('Shooter Information'!B32)),,IF(SUM('Stage 1'!O30,'Stage 2'!O30,'Stage 3'!O30,'Stage 4'!O30,'Stage 5'!O30,'Stage 6'!O30,'Stage 7'!O30,'Stage 8'!O30,'Stage 9'!O30,'Stage 10'!O30,'Stage 11'!O30,'Stage 12'!O30)=0,\"Yes\",\"No\")))","v":0},{"$f":"IF('Shooter Information'!H32=1,\"No\",IF(OR('Shooter Information'!B32=\"\",ISBLANK('Shooter Information'!B32)),,IF(((AK31+AL31)>=2),\"No\",\"Yes\")))","v":0},{"$f":"IF(AC31=0,99999,AC31)","v":99999},{"$f":"IF(AD31=0,99999,AD31)","v":99999},{"$f":"IF(ISBLANK('Shooter Information'!C32),\"ZZZZZZZZZZ\",C31)","v":"ZZZZZZZZZZ"},{"$f":"CELL(\"row\",'Shooter Information'!B32)","v":32},{"$f":"SUM('Stage 1'!I30,'Stage 2'!I30,'Stage 3'!I30,'Stage 4'!I30,'Stage 5'!I30,'Stage 6'!I30,'Stage 7'!I30,'Stage 8'!I30,'Stage 9'!I30,'Stage 10'!I30,'Stage 11'!I30,'Stage 12'!I30)","v":0},{"$f":"SUM('Stage 1'!J30,'Stage 2'!J30,'Stage 3'!J30,'Stage 4'!J30,'Stage 5'!J30,'Stage 6'!J30,'Stage 7'!J30,'Stage 8'!J30,'Stage 9'!J30,'Stage 10'!J30,'Stage 11'!J30,'Stage 12'!J30)","v":0}]
[{"$f":"IF(AF32=\"Yes\",IF('Shooter Information'!$C$2=\"R\",(SUMPRODUCT(--(AD32>$AD$5:$AD$79),--(\"Yes\"=$AF$5:$AF$79))+1),(SUMPRODUCT(--(AC32>$AC$5:$AC$79),--(\"Yes\"=$AF$5:$AF$79))+1)),0)","v":0},{"$f":"'Shooter Information'!B33","v":0},{"$f":"'Shooter Information'!C33","v":0},{"$f":"IF(AF32=\"Yes\",IF('Shooter Information'!$C$2=\"R\",(SUMPRODUCT(--(C32=$C$5:$C$79),--(AD32>$AD$5:$AD$79),--(\"Yes\"=$AF$5:$AF$79))+1),(SUMPRODUCT(--(C32=$C$5:$C$79),--(AC32>$AC$5:$AC$79),--(\"Yes\"=$AF$5:$AF$79))+1)),0)","v":0},{"$f":"+'Stage 1'!K31","v":0},{"$f":"+'Stage 1'!L31","v":0},{"$f":"+'Stage 2'!K31","v":0},{"$f":"+'Stage 2'!L31","v":0},{"$f":"+'Stage 3'!K31","v":0},{"$f":"+'Stage 3'!L31","v":0},{"$f":"+'Stage 4'!K31","v":0},{"$f":"+'Stage 4'!L31","v":0},{"$f":"+'Stage 5'!K31","v":0},{"$f":"+'Stage 5'!L31","v":0},{"$f":"+'Stage 6'!K31","v":0},{"$f":"+'Stage 6'!L31","v":0},{"$f":"+'Stage 7'!K31","v":0},{"$f":"+'Stage 7'!L31","v":0},{"$f":"+'Stage 8'!K31","v":0},{"$f":"+'Stage 8'!L31","v":0},{"$f":"+'Stage 9'!K31","v":0},{"$f":"+'Stage 9'!L31","v":0},{"$f":"+'Stage 10'!K31","v":0},{"$f":"+'Stage 10'!L31","v":0},{"$f":"+'Stage 11'!K31","v":0},{"$f":"+'Stage 11'!L31","v":0},{"$f":"+'Stage 12'!K31","v":0},{"$f":"+'Stage 12'!L31","v":0},{"$f":"MIN(+E32+G32+I32+K32+M32+O32+Q32+S32+U32+W32+Y32+AA32,9999.99)","v":0},{"$f":"+F32+H32+J32+L32+N32+P32+R32+T32+V32+X32+Z32+AB32","v":0},{"$f":"IF('Shooter Information'!H33=1,\"MDQ\",IF(OR('Shooter Information'!B33=\"\",ISBLANK('Shooter Information'!B33)),,IF(SUM('Stage 1'!O31,'Stage 2'!O31,'Stage 3'!O31,'Stage 4'!O31,'Stage 5'!O31,'Stage 6'!O31,'Stage 7'!O31,'Stage 8'!O31,'Stage 9'!O31,'Stage 10'!O31,'Stage 11'!O31,'Stage 12'!O31)=0,\"Yes\",\"No\")))","v":0},{"$f":"IF('Shooter Information'!H33=1,\"No\",IF(OR('Shooter Information'!B33=\"\",ISBLANK('Shooter Information'!B33)),,IF(((AK32+AL32)>=2),\"No\",\"Yes\")))","v":0},{"$f":"IF(AC32=0,99999,AC32)","v":99999},{"$f":"IF(AD32=0,99999,AD32)","v":99999},{"$f":"IF(ISBLANK('Shooter Information'!C33),\"ZZZZZZZZZZ\",C32)","v":"ZZZZZZZZZZ"},{"$f":"CELL(\"row\",'Shooter Information'!B33)","v":33},{"$f":"SUM('Stage 1'!I31,'Stage 2'!I31,'Stage 3'!I31,'Stage 4'!I31,'Stage 5'!I31,'Stage 6'!I31,'Stage 7'!I31,'Stage 8'!I31,'Stage 9'!I31,'Stage 10'!I31,'Stage 11'!I31,'Stage 12'!I31)","v":0},{"$f":"SUM('Stage 1'!J31,'Stage 2'!J31,'Stage 3'!J31,'Stage 4'!J31,'Stage 5'!J31,'Stage 6'!J31,'Stage 7'!J31,'Stage 8'!J31,'Stage 9'!J31,'Stage 10'!J31,'Stage 11'!J31,'Stage 12'!J31)","v":0}]
[{"$f":"IF(AF33=\"Yes\",IF('Shooter Information'!$C$2=\"R\",(SUMPRODUCT(--(AD33>$AD$5:$AD$79),--(\"Yes\"=$AF$5:$AF$79))+1),(SUMPRODUCT(--(AC33>$AC$5:$AC$79),--(\"Yes\"=$AF$5:$AF$79))+1)),0)","v":0},{"$f":"'Shooter Information'!B34","v":0},{"$f":"'Shooter Information'!C34","v":0},{"$f":"IF(AF33=\"Yes\",IF('Shooter Information'!$C$2=\"R\",(SUMPRODUCT(--(C33=$C$5:$C$79),--(AD33>$AD$5:$AD$79),--(\"Yes\"=$AF$5:$AF$79))+1),(SUMPRODUCT(--(C33=$C$5:$C$79),--(AC33>$AC$5:$AC$79),--(\"Yes\"=$AF$5:$AF$79))+1)),0)","v":0},{"$f":"+'Stage 1'!K32","v":0},{"$f":"+'Stage 1'!L32","v":0},{"$f":"+'Stage 2'!K32","v":0},{"$f":"+'Stage 2'!L32","v":0},{"$f":"+'Stage 3'!K32","v":0},{"$f":"+'Stage 3'!L32","v":0},{"$f":"+'Stage 4'!K32","v":0},{"$f":"+'Stage 4'!L32","v":0},{"$f":"+'Stage 5'!K32","v":0},{"$f":"+'Stage 5'!L32","v":0},{"$f":"+'Stage 6'!K32","v":0},{"$f":"+'Stage 6'!L32","v":0},{"$f":"+'Stage 7'!K32","v":0},{"$f":"+'Stage 7'!L32","v":0},{"$f":"+'Stage 8'!K32","v":0},{"$f":"+'Stage 8'!L32","v":0},{"$f":"+'Stage 9'!K32","v":0},{"$f":"+'Stage 9'!L32","v":0},{"$f":"+'Stage 10'!K32","v":0},{"$f":"+'Stage 10'!L32","v":0},{"$f":"+'Stage 11'!K32","v":0},{"$f":"+'Stage 11'!L32","v":0},{"$f":"+'Stage 12'!K32","v":0},{"$f":"+'Stage 12'!L32","v":0},{"$f":"MIN(+E33+G33+I33+K33+M33+O33+Q33+S33+U33+W33+Y33+AA33,9999.99)","v":0},{"$f":"+F33+H33+J33+L33+N33+P33+R33+T33+V33+X33+Z33+AB33","v":0},{"$f":"IF('Shooter Information'!H34=1,\"MDQ\",IF(OR('Shooter Information'!B34=\"\",ISBLANK('Shooter Information'!B34)),,IF(SUM('Stage 1'!O32,'Stage 2'!O32,'Stage 3'!O32,'Stage 4'!O32,'Stage 5'!O32,'Stage 6'!O32,'Stage 7'!O32,'Stage 8'!O32,'Stage 9'!O32,'Stage 10'!O32,'Stage 11'!O32,'Stage 12'!O32)=0,\"Yes\",\"No\")))","v":0},{"$f":"IF('Shooter Information'!H34=1,\"No\",IF(OR('Shooter Information'!B34=\"\",ISBLANK('Shooter Information'!B34)),,IF(((AK33+AL33)>=2),\"No\",\"Yes\")))","v":0},{"$f":"IF(AC33=0,99999,AC33)","v":99999},{"$f":"IF(AD33=0,99999,AD33)","v":99999},{"$f":"IF(ISBLANK('Shooter Information'!C34),\"ZZZZZZZZZZ\",C33)","v":"ZZZZZZZZZZ"},{"$f":"CELL(\"row\",'Shooter Information'!B34)","v":34},{"$f":"SUM('Stage 1'!I32,'Stage 2'!I32,'Stage 3'!I32,'Stage 4'!I32,'Stage 5'!I32,'Stage 6'!I32,'Stage 7'!I32,'Stage 8'!I32,'Stage 9'!I32,'Stage 10'!I32,'Stage 11'!I32,'Stage 12'!I32)","v":0},{"$f":"SUM('Stage 1'!J32,'Stage 2'!J32,'Stage 3'!J32,'Stage 4'!J32,'Stage 5'!J32,'Stage 6'!J32,'Stage 7'!J32,'Stage 8'!J32,'Stage 9'!J32,'Stage 10'!J32,'Stage 11'!J32,'Stage 12'!J32)","v":0}]
[{"$f":"IF(AF34=\"Yes\",IF('Shooter Information'!$C$2=\"R\",(SUMPRODUCT(--(AD34>$AD$5:$AD$79),--(\"Yes\"=$AF$5:$AF$79))+1),(SUMPRODUCT(--(AC34>$AC$5:$AC$79),--(\"Yes\"=$AF$5:$AF$79))+1)),0)","v":0},{"$f":"'Shooter Information'!B35","v":0},{"$f":"'Shooter Information'!C35","v":0},{"$f":"IF(AF34=\"Yes\",IF('Shooter Information'!$C$2=\"R\",(SUMPRODUCT(--(C34=$C$5:$C$79),--(AD34>$AD$5:$AD$79),--(\"Yes\"=$AF$5:$AF$79))+1),(SUMPRODUCT(--(C34=$C$5:$C$79),--(AC34>$AC$5:$AC$79),--(\"Yes\"=$AF$5:$AF$79))+1)),0)","v":0},{"$f":"+'Stage 1'!K33","v":0},{"$f":"+'Stage 1'!L33","v":0},{"$f":"+'Stage 2'!K33","v":0},{"$f":"+'Stage 2'!L33","v":0},{"$f":"+'Stage 3'!K33","v":0},{"$f":"+'Stage 3'!L33","v":0},{"$f":"+'Stage 4'!K33","v":0},{"$f":"+'Stage 4'!L33","v":0},{"$f":"+'Stage 5'!K33","v":0},{"$f":"+'Stage 5'!L33","v":0},{"$f":"+'Stage 6'!K33","v":0},{"$f":"+'Stage 6'!L33","v":0},{"$f":"+'Stage 7'!K33","v":0},{"$f":"+'Stage 7'!L33","v":0},{"$f":"+'Stage 8'!K33","v":0},{"$f":"+'Stage 8'!L33","v":0},{"$f":"+'Stage 9'!K33","v":0},{"$f":"+'Stage 9'!L33","v":0},{"$f":"+'Stage 10'!K33","v":0},{"$f":"+'Stage 10'!L33","v":0},{"$f":"+'Stage 11'!K33","v":0},{"$f":"+'Stage 11'!L33","v":0},{"$f":"+'Stage 12'!K33","v":0},{"$f":"+'Stage 12'!L33","v":0},{"$f":"MIN(+E34+G34+I34+K34+M34+O34+Q34+S34+U34+W34+Y34+AA34,9999.99)","v":0},{"$f":"+F34+H34+J34+L34+N34+P34+R34+T34+V34+X34+Z34+AB34","v":0},{"$f":"IF('Shooter Information'!H35=1,\"MDQ\",IF(OR('Shooter Information'!B35=\"\",ISBLANK('Shooter Information'!B35)),,IF(SUM('Stage 1'!O33,'Stage 2'!O33,'Stage 3'!O33,'Stage 4'!O33,'Stage 5'!O33,'Stage 6'!O33,'Stage 7'!O33,'Stage 8'!O33,'Stage 9'!O33,'Stage 10'!O33,'Stage 11'!O33,'Stage 12'!O33)=0,\"Yes\",\"No\")))","v":0},{"$f":"IF('Shooter Information'!H35=1,\"No\",IF(OR('Shooter Information'!B35=\"\",ISBLANK('Shooter Information'!B35)),,IF(((AK34+AL34)>=2),\"No\",\"Yes\")))","v":0},{"$f":"IF(AC34=0,99999,AC34)","v":99999},{"$f":"IF(AD34=0,99999,AD34)","v":99999},{"$f":"IF(ISBLANK('Shooter Information'!C35),\"ZZZZZZZZZZ\",C34)","v":"ZZZZZZZZZZ"},{"$f":"CELL(\"row\",'Shooter Information'!B35)","v":35},{"$f":"SUM('Stage 1'!I33,'Stage 2'!I33,'Stage 3'!I33,'Stage 4'!I33,'Stage 5'!I33,'Stage 6'!I33,'Stage 7'!I33,'Stage 8'!I33,'Stage 9'!I33,'Stage 10'!I33,'Stage 11'!I33,'Stage 12'!I33)","v":0},{"$f":"SUM('Stage 1'!J33,'Stage 2'!J33,'Stage 3'!J33,'Stage 4'!J33,'Stage 5'!J33,'Stage 6'!J33,'Stage 7'!J33,'Stage 8'!J33,'Stage 9'!J33,'Stage 10'!J33,'Stage 11'!J33,'Stage 12'!J33)","v":0}]
[{"$f":"IF(AF35=\"Yes\",IF('Shooter Information'!$C$2=\"R\",(SUMPRODUCT(--(AD35>$AD$5:$AD$79),--(\"Yes\"=$AF$5:$AF$79))+1),(SUMPRODUCT(--(AC35>$AC$5:$AC$79),--(\"Yes\"=$AF$5:$AF$79))+1)),0)","v":0},{"$f":"'Shooter Information'!B36","v":0},{"$f":"'Shooter Information'!C36","v":0},{"$f":"IF(AF35=\"Yes\",IF('Shooter Information'!$C$2=\"R\",(SUMPRODUCT(--(C35=$C$5:$C$79),--(AD35>$AD$5:$AD$79),--(\"Yes\"=$AF$5:$AF$79))+1),(SUMPRODUCT(--(C35=$C$5:$C$79),--(AC35>$AC$5:$AC$79),--(\"Yes\"=$AF$5:$AF$79))+1)),0)","v":0},{"$f":"+'Stage 1'!K34","v":0},{"$f":"+'Stage 1'!L34","v":0},{"$f":"+'Stage 2'!K34","v":0},{"$f":"+'Stage 2'!L34","v":0},{"$f":"+'Stage 3'!K34","v":0},{"$f":"+'Stage 3'!L34","v":0},{"$f":"+'Stage 4'!K34","v":0},{"$f":"+'Stage 4'!L34","v":0},{"$f":"+'Stage 5'!K34","v":0},{"$f":"+'Stage 5'!L34","v":0},{"$f":"+'Stage 6'!K34","v":0},{"$f":"+'Stage 6'!L34","v":0},{"$f":"+'Stage 7'!K34","v":0},{"$f":"+'Stage 7'!L34","v":0},{"$f":"+'Stage 8'!K34","v":0},{"$f":"+'Stage 8'!L34","v":0},{"$f":"+'Stage 9'!K34","v":0},{"$f":"+'Stage 9'!L34","v":0},{"$f":"+'Stage 10'!K34","v":0},{"$f":"+'Stage 10'!L34","v":0},{"$f":"+'Stage 11'!K34","v":0},{"$f":"+'Stage 11'!L34","v":0},{"$f":"+'Stage 12'!K34","v":0},{"$f":"+'Stage 12'!L34","v":0},{"$f":"MIN(+E35+G35+I35+K35+M35+O35+Q35+S35+U35+W35+Y35+AA35,9999.99)","v":0},{"$f":"+F35+H35+J35+L35+N35+P35+R35+T35+V35+X35+Z35+AB35","v":0},{"$f":"IF('Shooter Information'!H36=1,\"MDQ\",IF(OR('Shooter Information'!B36=\"\",ISBLANK('Shooter Information'!B36)),,IF(SUM('Stage 1'!O34,'Stage 2'!O34,'Stage 3'!O34,'Stage 4'!O34,'Stage 5'!O34,'Stage 6'!O34,'Stage 7'!O34,'Stage 8'!O34,'Stage 9'!O34,'Stage 10'!O34,'Stage 11'!O34,'Stage 12'!O34)=0,\"Yes\",\"No\")))","v":0},{"$f":"IF('Shooter Information'!H36=1,\"No\",IF(OR('Shooter Information'!B36=\"\",ISBLANK('Shooter Information'!B36)),,IF(((AK35+AL35)>=2),\"No\",\"Yes\")))","v":0},{"$f":"IF(AC35=0,99999,AC35)","v":99999},{"$f":"IF(AD35=0,99999,AD35)","v":99999},{"$f":"IF(ISBLANK('Shooter Information'!C36),\"ZZZZZZZZZZ\",C35)","v":"ZZZZZZZZZZ"},{"$f":"CELL(\"row\",'Shooter Information'!B36)","v":36},{"$f":"SUM('Stage 1'!I34,'Stage 2'!I34,'Stage 3'!I34,'Stage 4'!I34,'Stage 5'!I34,'Stage 6'!I34,'Stage 7'!I34,'Stage 8'!I34,'Stage 9'!I34,'Stage 10'!I34,'Stage 11'!I34,'Stage 12'!I34)","v":0},{"$f":"SUM('Stage 1'!J34,'Stage 2'!J34,'Stage 3'!J34,'Stage 4'!J34,'Stage 5'!J34,'Stage 6'!J34,'Stage 7'!J34,'Stage 8'!J34,'Stage 9'!J34,'Stage 10'!J34,'Stage 11'!J34,'Stage 12'!J34)","v":0}]
[{"$f":"IF(AF36=\"Yes\",IF('Shooter Information'!$C$2=\"R\",(SUMPRODUCT(--(AD36>$AD$5:$AD$79),--(\"Yes\"=$AF$5:$AF$79))+1),(SUMPRODUCT(--(AC36>$AC$5:$AC$79),--(\"Yes\"=$AF$5:$AF$79))+1)),0)","v":0},{"$f":"'Shooter Information'!B37","v":0},{"$f":"'Shooter Information'!C37","v":0},{"$f":"IF(AF36=\"Yes\",IF('Shooter Information'!$C$2=\"R\",(SUMPRODUCT(--(C36=$C$5:$C$79),--(AD36>$AD$5:$AD$79),--(\"Yes\"=$AF$5:$AF$79))+1),(SUMPRODUCT(--(C36=$C$5:$C$79),--(AC36>$AC$5:$AC$79),--(\"Yes\"=$AF$5:$AF$79))+1)),0)","v":0},{"$f":"+'Stage 1'!K35","v":0},{"$f":"+'Stage 1'!L35","v":0},{"$f":"+'Stage 2'!K35","v":0},{"$f":"+'Stage 2'!L35","v":0},{"$f":"+'Stage 3'!K35","v":0},{"$f":"+'Stage 3'!L35","v":0},{"$f":"+'Stage 4'!K35","v":0},{"$f":"+'Stage 4'!L35","v":0},{"$f":"+'Stage 5'!K35","v":0},{"$f":"+'Stage 5'!L35","v":0},{"$f":"+'Stage 6'!K35","v":0},{"$f":"+'Stage 6'!L35","v":0},{"$f":"+'Stage 7'!K35","v":0},{"$f":"+'Stage 7'!L35","v":0},{"$f":"+'Stage 8'!K35","v":0},{"$f":"+'Stage 8'!L35","v":0},{"$f":"+'Stage 9'!K35","v":0},{"$f":"+'Stage 9'!L35","v":0},{"$f":"+'Stage 10'!K35","v":0},{"$f":"+'Stage 10'!L35","v":0},{"$f":"+'Stage 11'!K35","v":0},{"$f":"+'Stage 11'!L35","v":0},{"$f":"+'Stage 12'!K35","v":0},{"$f":"+'Stage 12'!L35","v":0},{"$f":"MIN(+E36+G36+I36+K36+M36+O36+Q36+S36+U36+W36+Y36+AA36,9999.99)","v":0},{"$f":"+F36+H36+J36+L36+N36+P36+R36+T36+V36+X36+Z36+AB36","v":0},{"$f":"IF('Shooter Information'!H37=1,\"MDQ\",IF(OR('Shooter Information'!B37=\"\",ISBLANK('Shooter Information'!B37)),,IF(SUM('Stage 1'!O35,'Stage 2'!O35,'Stage 3'!O35,'Stage 4'!O35,'Stage 5'!O35,'Stage 6'!O35,'Stage 7'!O35,'Stage 8'!O35,'Stage 9'!O35,'Stage 10'!O35,'Stage 11'!O35,'Stage 12'!O35)=0,\"Yes\",\"No\")))","v":0},{"$f":"IF('Shooter Information'!H37=1,\"No\",IF(OR('Shooter Information'!B37=\"\",ISBLANK('Shooter Information'!B37)),,IF(((AK36+AL36)>=2),\"No\",\"Yes\")))","v":0},{"$f":"IF(AC36=0,99999,AC36)","v":99999},{"$f":"IF(AD36=0,99999,AD36)","v":99999},{"$f":"IF(ISBLANK('Shooter Information'!C37),\"ZZZZZZZZZZ\",C36)","v":"ZZZZZZZZZZ"},{"$f":"CELL(\"row\",'Shooter Information'!B37)","v":37},{"$f":"SUM('Stage 1'!I35,'Stage 2'!I35,'Stage 3'!I35,'Stage 4'!I35,'Stage 5'!I35,'Stage 6'!I35,'Stage 7'!I35,'Stage 8'!I35,'Stage 9'!I35,'Stage 10'!I35,'Stage 11'!I35,'Stage 12'!I35)","v":0},{"$f":"SUM('Stage 1'!J35,'Stage 2'!J35,'Stage 3'!J35,'Stage 4'!J35,'Stage 5'!J35,'Stage 6'!J35,'Stage 7'!J35,'Stage 8'!J35,'Stage 9'!J35,'Stage 10'!J35,'Stage 11'!J35,'Stage 12'!J35)","v":0}]
[{"$f":"IF(AF37=\"Yes\",IF('Shooter Information'!$C$2=\"R\",(SUMPRODUCT(--(AD37>$AD$5:$AD$79),--(\"Yes\"=$AF$5:$AF$79))+1),(SUMPRODUCT(--(AC37>$AC$5:$AC$79),--(\"Yes\"=$AF$5:$AF$79))+1)),0)","v":0},{"$f":"'Shooter Information'!B38","v":0},{"$f":"'Shooter Information'!C38","v":0},{"$f":"IF(AF37=\"Yes\",IF('Shooter Information'!$C$2=\"R\",(SUMPRODUCT(--(C37=$C$5:$C$79),--(AD37>$AD$5:$AD$79),--(\"Yes\"=$AF$5:$AF$79))+1),(SUMPRODUCT(--(C37=$C$5:$C$79),--(AC37>$AC$5:$AC$79),--(\"Yes\"=$AF$5:$AF$79))+1)),0)","v":0},{"$f":"+'Stage 1'!K36","v":0},{"$f":"+'Stage 1'!L36","v":0},{"$f":"+'Stage 2'!K36","v":0},{"$f":"+'Stage 2'!L36","v":0},{"$f":"+'Stage 3'!K36","v":0},{"$f":"+'Stage 3'!L36","v":0},{"$f":"+'Stage 4'!K36","v":0},{"$f":"+'Stage 4'!L36","v":0},{"$f":"+'Stage 5'!K36","v":0},{"$f":"+'Stage 5'!L36","v":0},{"$f":"+'Stage 6'!K36","v":0},{"$f":"+'Stage 6'!L36","v":0},{"$f":"+'Stage 7'!K36","v":0},{"$f":"+'Stage 7'!L36","v":0},{"$f":"+'Stage 8'!K36","v":0},{"$f":"+'Stage 8'!L36","v":0},{"$f":"+'Stage 9'!K36","v":0},{"$f":"+'Stage 9'!L36","v":0},{"$f":"+'Stage 10'!K36","v":0},{"$f":"+'Stage 10'!L36","v":0},{"$f":"+'Stage 11'!K36","v":0},{"$f":"+'Stage 11'!L36","v":0},{"$f":"+'Stage 12'!K36","v":0},{"$f":"+'Stage 12'!L36","v":0},{"$f":"MIN(+E37+G37+I37+K37+M37+O37+Q37+S37+U37+W37+Y37+AA37,9999.99)","v":0},{"$f":"+F37+H37+J37+L37+N37+P37+R37+T37+V37+X37+Z37+AB37","v":0},{"$f":"IF('Shooter Information'!H38=1,\"MDQ\",IF(OR('Shooter Information'!B38=\"\",ISBLANK('Shooter Information'!B38)),,IF(SUM('Stage 1'!O36,'Stage 2'!O36,'Stage 3'!O36,'Stage 4'!O36,'Stage 5'!O36,'Stage 6'!O36,'Stage 7'!O36,'Stage 8'!O36,'Stage 9'!O36,'Stage 10'!O36,'Stage 11'!O36,'Stage 12'!O36)=0,\"Yes\",\"No\")))","v":0},{"$f":"IF('Shooter Information'!H38=1,\"No\",IF(OR('Shooter Information'!B38=\"\",ISBLANK('Shooter Information'!B38)),,IF(((AK37+AL37)>=2),\"No\",\"Yes\")))","v":0},{"$f":"IF(AC37=0,99999,AC37)","v":99999},{"$f":"IF(AD37=0,99999,AD37)","v":99999},{"$f":"IF(ISBLANK('Shooter Information'!C38),\"ZZZZZZZZZZ\",C37)","v":"ZZZZZZZZZZ"},{"$f":"CELL(\"row\",'Shooter Information'!B38)","v":38},{"$f":"SUM('Stage 1'!I36,'Stage 2'!I36,'Stage 3'!I36,'Stage 4'!I36,'Stage 5'!I36,'Stage 6'!I36,'Stage 7'!I36,'Stage 8'!I36,'Stage 9'!I36,'Stage 10'!I36,'Stage 11'!I36,'Stage 12'!I36)","v":0},{"$f":"SUM('Stage 1'!J36,'Stage 2'!J36,'Stage 3'!J36,'Stage 4'!J36,'Stage 5'!J36,'Stage 6'!J36,'Stage 7'!J36,'Stage 8'!J36,'Stage 9'!J36,'Stage 10'!J36,'Stage 11'!J36,'Stage 12'!J36)","v":0}]
[{"$f":"IF(AF38=\"Yes\",IF('Shooter Information'!$C$2=\"R\",(SUMPRODUCT(--(AD38>$AD$5:$AD$79),--(\"Yes\"=$AF$5:$AF$79))+1),(SUMPRODUCT(--(AC38>$AC$5:$AC$79),--(\"Yes\"=$AF$5:$AF$79))+1)),0)","v":0},{"$f":"'Shooter Information'!B39","v":0},{"$f":"'Shooter Information'!C39","v":0},{"$f":"IF(AF38=\"Yes\",IF('Shooter Information'!$C$2=\"R\",(SUMPRODUCT(--(C38=$C$5:$C$79),--(AD38>$AD$5:$AD$79),--(\"Yes\"=$AF$5:$AF$79))+1),(SUMPRODUCT(--(C38=$C$5:$C$79),--(AC38>$AC$5:$AC$79),--(\"Yes\"=$AF$5:$AF$79))+1)),0)","v":0},{"$f":"+'Stage 1'!K37","v":0},{"$f":"+'Stage 1'!L37","v":0},{"$f":"+'Stage 2'!K37","v":0},{"$f":"+'Stage 2'!L37","v":0},{"$f":"+'Stage 3'!K37","v":0},{"$f":"+'Stage 3'!L37","v":0},{"$f":"+'Stage 4'!K37","v":0},{"$f":"+'Stage 4'!L37","v":0},{"$f":"+'Stage 5'!K37","v":0},{"$f":"+'Stage 5'!L37","v":0},{"$f":"+'Stage 6'!K37","v":0},{"$f":"+'Stage 6'!L37","v":0},{"$f":"+'Stage 7'!K37","v":0},{"$f":"+'Stage 7'!L37","v":0},{"$f":"+'Stage 8'!K37","v":0},{"$f":"+'Stage 8'!L37","v":0},{"$f":"+'Stage 9'!K37","v":0},{"$f":"+'Stage 9'!L37","v":0},{"$f":"+'Stage 10'!K37","v":0},{"$f":"+'Stage 10'!L37","v":0},{"$f":"+'Stage 11'!K37","v":0},{"$f":"+'Stage 11'!L37","v":0},{"$f":"+'Stage 12'!K37","v":0},{"$f":"+'Stage 12'!L37","v":0},{"$f":"MIN(+E38+G38+I38+K38+M38+O38+Q38+S38+U38+W38+Y38+AA38,9999.99)","v":0},{"$f":"+F38+H38+J38+L38+N38+P38+R38+T38+V38+X38+Z38+AB38","v":0},{"$f":"IF('Shooter Information'!H39=1,\"MDQ\",IF(OR('Shooter Information'!B39=\"\",ISBLANK('Shooter Information'!B39)),,IF(SUM('Stage 1'!O37,'Stage 2'!O37,'Stage 3'!O37,'Stage 4'!O37,'Stage 5'!O37,'Stage 6'!O37,'Stage 7'!O37,'Stage 8'!O37,'Stage 9'!O37,'Stage 10'!O37,'Stage 11'!O37,'Stage 12'!O37)=0,\"Yes\",\"No\")))","v":0},{"$f":"IF('Shooter Information'!H39=1,\"No\",IF(OR('Shooter Information'!B39=\"\",ISBLANK('Shooter Information'!B39)),,IF(((AK38+AL38)>=2),\"No\",\"Yes\")))","v":0},{"$f":"IF(AC38=0,99999,AC38)","v":99999},{"$f":"IF(AD38=0,99999,AD38)","v":99999},{"$f":"IF(ISBLANK('Shooter Information'!C39),\"ZZZZZZZZZZ\",C38)","v":"ZZZZZZZZZZ"},{"$f":"CELL(\"row\",'Shooter Information'!B39)","v":39},{"$f":"SUM('Stage 1'!I37,'Stage 2'!I37,'Stage 3'!I37,'Stage 4'!I37,'Stage 5'!I37,'Stage 6'!I37,'Stage 7'!I37,'Stage 8'!I37,'Stage 9'!I37,'Stage 10'!I37,'Stage 11'!I37,'Stage 12'!I37)","v":0},{"$f":"SUM('Stage 1'!J37,'Stage 2'!J37,'Stage 3'!J37,'Stage 4'!J37,'Stage 5'!J37,'Stage 6'!J37,'Stage 7'!J37,'Stage 8'!J37,'Stage 9'!J37,'Stage 10'!J37,'Stage 11'!J37,'Stage 12'!J37)","v":0}]
[{"$f":"IF(AF39=\"Yes\",IF('Shooter Information'!$C$2=\"R\",(SUMPRODUCT(--(AD39>$AD$5:$AD$79),--(\"Yes\"=$AF$5:$AF$79))+1),(SUMPRODUCT(--(AC39>$AC$5:$AC$79),--(\"Yes\"=$AF$5:$AF$79))+1)),0)","v":0},{"$f":"'Shooter Information'!B40","v":0},{"$f":"'Shooter Information'!C40","v":0},{"$f":"IF(AF39=\"Yes\",IF('Shooter Information'!$C$2=\"R\",(SUMPRODUCT(--(C39=$C$5:$C$79),--(AD39>$AD$5:$AD$79),--(\"Yes\"=$AF$5:$AF$79))+1),(SUMPRODUCT(--(C39=$C$5:$C$79),--(AC39>$AC$5:$AC$79),--(\"Yes\"=$AF$5:$AF$79))+1)),0)","v":0},{"$f":"+'Stage 1'!K38","v":0},{"$f":"+'Stage 1'!L38","v":0},{"$f":"+'Stage 2'!K38","v":0},{"$f":"+'Stage 2'!L38","v":0},{"$f":"+'Stage 3'!K38","v":0},{"$f":"+'Stage 3'!L38","v":0},{"$f":"+'Stage 4'!K38","v":0},{"$f":"+'Stage 4'!L38","v":0},{"$f":"+'Stage 5'!K38","v":0},{"$f":"+'Stage 5'!L38","v":0},{"$f":"+'Stage 6'!K38","v":0},{"$f":"+'Stage 6'!L38","v":0},{"$f":"+'Stage 7'!K38","v":0},{"$f":"+'Stage 7'!L38","v":0},{"$f":"+'Stage 8'!K38","v":0},{"$f":"+'Stage 8'!L38","v":0},{"$f":"+'Stage 9'!K38","v":0},{"$f":"+'Stage 9'!L38","v":0},{"$f":"+'Stage 10'!K38","v":0},{"$f":"+'Stage 10'!L38","v":0},{"$f":"+'Stage 11'!K38","v":0},{"$f":"+'Stage 11'!L38","v":0},{"$f":"+'Stage 12'!K38","v":0},{"$f":"+'Stage 12'!L38","v":0},{"$f":"MIN(+E39+G39+I39+K39+M39+O39+Q39+S39+U39+W39+Y39+AA39,9999.99)","v":0},{"$f":"+F39+H39+J39+L39+N39+P39+R39+T39+V39+X39+Z39+AB39","v":0},{"$f":"IF('Shooter Information'!H40=1,\"MDQ\",IF(OR('Shooter Information'!B40=\"\",ISBLANK('Shooter Information'!B40)),,IF(SUM('Stage 1'!O38,'Stage 2'!O38,'Stage 3'!O38,'Stage 4'!O38,'Stage 5'!O38,'Stage 6'!O38,'Stage 7'!O38,'Stage 8'!O38,'Stage 9'!O38,'Stage 10'!O38,'Stage 11'!O38,'Stage 12'!O38)=0,\"Yes\",\"No\")))","v":0},{"$f":"IF('Shooter Information'!H40=1,\"No\",IF(OR('Shooter Information'!B40=\"\",ISBLANK('Shooter Information'!B40)),,IF(((AK39+AL39)>=2),\"No\",\"Yes\")))","v":0},{"$f":"IF(AC39=0,99999,AC39)","v":99999},{"$f":"IF(AD39=0,99999,AD39)","v":99999},{"$f":"IF(ISBLANK('Shooter Information'!C40),\"ZZZZZZZZZZ\",C39)","v":"ZZZZZZZZZZ"},{"$f":"CELL(\"row\",'Shooter Information'!B40)","v":40},{"$f":"SUM('Stage 1'!I38,'Stage 2'!I38,'Stage 3'!I38,'Stage 4'!I38,'Stage 5'!I38,'Stage 6'!I38,'Stage 7'!I38,'Stage 8'!I38,'Stage 9'!I38,'Stage 10'!I38,'Stage 11'!I38,'Stage 12'!I38)","v":0},{"$f":"SUM('Stage 1'!J38,'Stage 2'!J38,'Stage 3'!J38,'Stage 4'!J38,'Stage 5'!J38,'Stage 6'!J38,'Stage 7'!J38,'Stage 8'!J38,'Stage 9'!J38,'Stage 10'!J38,'Stage 11'!J38,'Stage 12'!J38)","v":0}]
[{"$f":"IF(AF40=\"Yes\",IF('Shooter Information'!$C$2=\"R\",(SUMPRODUCT(--(AD40>$AD$5:$AD$79),--(\"Yes\"=$AF$5:$AF$79))+1),(SUMPRODUCT(--(AC40>$AC$5:$AC$79),--(\"Yes\"=$AF$5:$AF$79))+1)),0)","v":0},{"$f":"'Shooter Information'!B41","v":0},{"$f":"'Shooter Information'!C41","v":0},{"$f":"IF(AF40=\"Yes\",IF('Shooter Information'!$C$2=\"R\",(SUMPRODUCT(--(C40=$C$5:$C$79),--(AD40>$AD$5:$AD$79),--(\"Yes\"=$AF$5:$AF$79))+1),(SUMPRODUCT(--(C40=$C$5:$C$79),--(AC40>$AC$5:$AC$79),--(\"Yes\"=$AF$5:$AF$79))+1)),0)","v":0},{"$f":"+'Stage 1'!K39","v":0},{"$f":"+'Stage 1'!L39","v":0},{"$f":"+'Stage 2'!K39","v":0},{"$f":"+'Stage 2'!L39","v":0},{"$f":"+'Stage 3'!K39","v":0},{"$f":"+'Stage 3'!L39","v":0},{"$f":"+'Stage 4'!K39","v":0},{"$f":"+'Stage 4'!L39","v":0},{"$f":"+'Stage 5'!K39","v":0},{"$f":"+'Stage 5'!L39","v":0},{"$f":"+'Stage 6'!K39","v":0},{"$f":"+'Stage 6'!L39","v":0},{"$f":"+'Stage 7'!K39","v":0},{"$f":"+'Stage 7'!L39","v":0},{"$f":"+'Stage 8'!K39","v":0},{"$f":"+'Stage 8'!L39","v":0},{"$f":"+'Stage 9'!K39","v":0},{"$f":"+'Stage 9'!L39","v":0},{"$f":"+'Stage 10'!K39","v":0},{"$f":"+'Stage 10'!L39","v":0},{"$f":"+'Stage 11'!K39","v":0},{"$f":"+'Stage 11'!L39","v":0},{"$f":"+'Stage 12'!K39","v":0},{"$f":"+'Stage 12'!L39","v":0},{"$f":"MIN(+E40+G40+I40+K40+M40+O40+Q40+S40+U40+W40+Y40+AA40,9999.99)","v":0},{"$f":"+F40+H40+J40+L40+N40+P40+R40+T40+V40+X40+Z40+AB40","v":0},{"$f":"IF('Shooter Information'!H41=1,\"MDQ\",IF(OR('Shooter Information'!B41=\"\",ISBLANK('Shooter Information'!B41)),,IF(SUM('Stage 1'!O39,'Stage 2'!O39,'Stage 3'!O39,'Stage 4'!O39,'Stage 5'!O39,'Stage 6'!O39,'Stage 7'!O39,'Stage 8'!O39,'Stage 9'!O39,'Stage 10'!O39,'Stage 11'!O39,'Stage 12'!O39)=0,\"Yes\",\"No\")))","v":0},{"$f":"IF('Shooter Information'!H41=1,\"No\",IF(OR('Shooter Information'!B41=\"\",ISBLANK('Shooter Information'!B41)),,IF(((AK40+AL40)>=2),\"No\",\"Yes\")))","v":0},{"$f":"IF(AC40=0,99999,AC40)","v":99999},{"$f":"IF(AD40=0,99999,AD40)","v":99999},{"$f":"IF(ISBLANK('Shooter Information'!C41),\"ZZZZZZZZZZ\",C40)","v":"ZZZZZZZZZZ"},{"$f":"CELL(\"row\",'Shooter Information'!B41)","v":41},{"$f":"SUM('Stage 1'!I39,'Stage 2'!I39,'Stage 3'!I39,'Stage 4'!I39,'Stage 5'!I39,'Stage 6'!I39,'Stage 7'!I39,'Stage 8'!I39,'Stage 9'!I39,'Stage 10'!I39,'Stage 11'!I39,'Stage 12'!I39)","v":0},{"$f":"SUM('Stage 1'!J39,'Stage 2'!J39,'Stage 3'!J39,'Stage 4'!J39,'Stage 5'!J39,'Stage 6'!J39,'Stage 7'!J39,'Stage 8'!J39,'Stage 9'!J39,'Stage 10'!J39,'Stage 11'!J39,'Stage 12'!J39)","v":0}]
[{"$f":"IF(AF41=\"Yes\",IF('Shooter Information'!$C$2=\"R\",(SUMPRODUCT(--(AD41>$AD$5:$AD$79),--(\"Yes\"=$AF$5:$AF$79))+1),(SUMPRODUCT(--(AC41>$AC$5:$AC$79),--(\"Yes\"=$AF$5:$AF$79))+1)),0)","v":0},{"$f":"'Shooter Information'!B42","v":0},{"$f":"'Shooter Information'!C42","v":0},{"$f":"IF(AF41=\"Yes\",IF('Shooter Information'!$C$2=\"R\",(SUMPRODUCT(--(C41=$C$5:$C$79),--(AD41>$AD$5:$AD$79),--(\"Yes\"=$AF$5:$AF$79))+1),(SUMPRODUCT(--(C41=$C$5:$C$79),--(AC41>$AC$5:$AC$79),--(\"Yes\"=$AF$5:$AF$79))+1)),0)","v":0},{"$f":"+'Stage 1'!K40","v":0},{"$f":"+'Stage 1'!L40","v":0},{"$f":"+'Stage 2'!K40","v":0},{"$f":"+'Stage 2'!L40","v":0},{"$f":"+'Stage 3'!K40","v":0},{"$f":"+'Stage 3'!L40","v":0},{"$f":"+'Stage 4'!K40","v":0},{"$f":"+'Stage 4'!L40","v":0},{"$f":"+'Stage 5'!K40","v":0},{"$f":"+'Stage 5'!L40","v":0},{"$f":"+'Stage 6'!K40","v":0},{"$f":"+'Stage 6'!L40","v":0},{"$f":"+'Stage 7'!K40","v":0},{"$f":"+'Stage 7'!L40","v":0},{"$f":"+'Stage 8'!K40","v":0},{"$f":"+'Stage 8'!L40","v":0},{"$f":"+'Stage 9'!K40","v":0},{"$f":"+'Stage 9'!L40","v":0},{"$f":"+'Stage 10'!K40","v":0},{"$f":"+'Stage 10'!L40","v":0},{"$f":"+'Stage 11'!K40","v":0},{"$f":"+'Stage 11'!L40","v":0},{"$f":"+'Stage 12'!K40","v":0},{"$f":"+'Stage 12'!L40","v":0},{"$f":"MIN(+E41+G41+I41+K41+M41+O41+Q41+S41+U41+W41+Y41+AA41,9999.99)","v":0},{"$f":"+F41+H41+J41+L41+N41+P41+R41+T41+V41+X41+Z41+AB41","v":0},{"$f":"IF('Shooter Information'!H42=1,\"MDQ\",IF(OR('Shooter Information'!B42=\"\",ISBLANK('Shooter Information'!B42)),,IF(SUM('Stage 1'!O40,'Stage 2'!O40,'Stage 3'!O40,'Stage 4'!O40,'Stage 5'!O40,'Stage 6'!O40,'Stage 7'!O40,'Stage 8'!O40,'Stage 9'!O40,'Stage 10'!O40,'Stage 11'!O40,'Stage 12'!O40)=0,\"Yes\",\"No\")))","v":0},{"$f":"IF('Shooter Information'!H42=1,\"No\",IF(OR('Shooter Information'!B42=\"\",ISBLANK('Shooter Information'!B42)),,IF(((AK41+AL41)>=2),\"No\",\"Yes\")))","v":0},{"$f":"IF(AC41=0,99999,AC41)","v":99999},{"$f":"IF(AD41=0,99999,AD41)","v":99999},{"$f":"IF(ISBLANK('Shooter Information'!C42),\"ZZZZZZZZZZ\",C41)","v":"ZZZZZZZZZZ"},{"$f":"CELL(\"row\",'Shooter Information'!B42)","v":42},{"$f":"SUM('Stage 1'!I40,'Stage 2'!I40,'Stage 3'!I40,'Stage 4'!I40,'Stage 5'!I40,'Stage 6'!I40,'Stage 7'!I40,'Stage 8'!I40,'Stage 9'!I40,'Stage 10'!I40,'Stage 11'!I40,'Stage 12'!I40)","v":0},{"$f":"SUM('Stage 1'!J40,'Stage 2'!J40,'Stage 3'!J40,'Stage 4'!J40,'Stage 5'!J40,'Stage 6'!J40,'Stage 7'!J40,'Stage 8'!J40,'Stage 9'!J40,'Stage 10'!J40,'Stage 11'!J40,'Stage 12'!J40)","v":0}]
[{"$f":"IF(AF42=\"Yes\",IF('Shooter Information'!$C$2=\"R\",(SUMPRODUCT(--(AD42>$AD$5:$AD$79),--(\"Yes\"=$AF$5:$AF$79))+1),(SUMPRODUCT(--(AC42>$AC$5:$AC$79),--(\"Yes\"=$AF$5:$AF$79))+1)),0)","v":0},{"$f":"'Shooter Information'!B43","v":0},{"$f":"'Shooter Information'!C43","v":0},{"$f":"IF(AF42=\"Yes\",IF('Shooter Information'!$C$2=\"R\",(SUMPRODUCT(--(C42=$C$5:$C$79),--(AD42>$AD$5:$AD$79),--(\"Yes\"=$AF$5:$AF$79))+1),(SUMPRODUCT(--(C42=$C$5:$C$79),--(AC42>$AC$5:$AC$79),--(\"Yes\"=$AF$5:$AF$79))+1)),0)","v":0},{"$f":"+'Stage 1'!K41","v":0},{"$f":"+'Stage 1'!L41","v":0},{"$f":"+'Stage 2'!K41","v":0},{"$f":"+'Stage 2'!L41","v":0},{"$f":"+'Stage 3'!K41","v":0},{"$f":"+'Stage 3'!L41","v":0},{"$f":"+'Stage 4'!K41","v":0},{"$f":"+'Stage 4'!L41","v":0},{"$f":"+'Stage 5'!K41","v":0},{"$f":"+'Stage 5'!L41","v":0},{"$f":"+'Stage 6'!K41","v":0},{"$f":"+'Stage 6'!L41","v":0},{"$f":"+'Stage 7'!K41","v":0},{"$f":"+'Stage 7'!L41","v":0},{"$f":"+'Stage 8'!K41","v":0},{"$f":"+'Stage 8'!L41","v":0},{"$f":"+'Stage 9'!K41","v":0},{"$f":"+'Stage 9'!L41","v":0},{"$f":"+'Stage 10'!K41","v":0},{"$f":"+'Stage 10'!L41","v":0},{"$f":"+'Stage 11'!K41","v":0},{"$f":"+'Stage 11'!L41","v":0},{"$f":"+'Stage 12'!K41","v":0},{"$f":"+'Stage 12'!L41","v":0},{"$f":"MIN(+E42+G42+I42+K42+M42+O42+Q42+S42+U42+W42+Y42+AA42,9999.99)","v":0},{"$f":"+F42+H42+J42+L42+N42+P42+R42+T42+V42+X42+Z42+AB42","v":0},{"$f":"IF('Shooter Information'!H43=1,\"MDQ\",IF(OR('Shooter Information'!B43=\"\",ISBLANK('Shooter Information'!B43)),,IF(SUM('Stage 1'!O41,'Stage 2'!O41,'Stage 3'!O41,'Stage 4'!O41,'Stage 5'!O41,'Stage 6'!O41,'Stage 7'!O41,'Stage 8'!O41,'Stage 9'!O41,'Stage 10'!O41,'Stage 11'!O41,'Stage 12'!O41)=0,\"Yes\",\"No\")))","v":0},{"$f":"IF('Shooter Information'!H43=1,\"No\",IF(OR('Shooter Information'!B43=\"\",ISBLANK('Shooter Information'!B43)),,IF(((AK42+AL42)>=2),\"No\",\"Yes\")))","v":0},{"$f":"IF(AC42=0,99999,AC42)","v":99999},{"$f":"IF(AD42=0,99999,AD42)","v":99999},{"$f":"IF(ISBLANK('Shooter Information'!C43),\"ZZZZZZZZZZ\",C42)","v":"ZZZZZZZZZZ"},{"$f":"CELL(\"row\",'Shooter Information'!B43)","v":43},{"$f":"SUM('Stage 1'!I41,'Stage 2'!I41,'Stage 3'!I41,'Stage 4'!I41,'Stage 5'!I41,'Stage 6'!I41,'Stage 7'!I41,'Stage 8'!I41,'Stage 9'!I41,'Stage 10'!I41,'Stage 11'!I41,'Stage 12'!I41)","v":0},{"$f":"SUM('Stage 1'!J41,'Stage 2'!J41,'Stage 3'!J41,'Stage 4'!J41,'Stage 5'!J41,'Stage 6'!J41,'Stage 7'!J41,'Stage 8'!J41,'Stage 9'!J41,'Stage 10'!J41,'Stage 11'!J41,'Stage 12'!J41)","v":0}]
[{"$f":"IF(AF43=\"Yes\",IF('Shooter Information'!$C$2=\"R\",(SUMPRODUCT(--(AD43>$AD$5:$AD$79),--(\"Yes\"=$AF$5:$AF$79))+1),(SUMPRODUCT(--(AC43>$AC$5:$AC$79),--(\"Yes\"=$AF$5:$AF$79))+1)),0)","v":0},{"$f":"'Shooter Information'!B44","v":0},{"$f":"'Shooter Information'!C44","v":0},{"$f":"IF(AF43=\"Yes\",IF('Shooter Information'!$C$2=\"R\",(SUMPRODUCT(--(C43=$C$5:$C$79),--(AD43>$AD$5:$AD$79),--(\"Yes\"=$AF$5:$AF$79))+1),(SUMPRODUCT(--(C43=$C$5:$C$79),--(AC43>$AC$5:$AC$79),--(\"Yes\"=$AF$5:$AF$79))+1)),0)","v":0},{"$f":"+'Stage 1'!K42","v":0},{"$f":"+'Stage 1'!L42","v":0},{"$f":"+'Stage 2'!K42","v":0},{"$f":"+'Stage 2'!L42","v":0},{"$f":"+'Stage 3'!K42","v":0},{"$f":"+'Stage 3'!L42","v":0},{"$f":"+'Stage 4'!K42","v":0},{"$f":"+'Stage 4'!L42","v":0},{"$f":"+'Stage 5'!K42","v":0},{"$f":"+'Stage 5'!L42","v":0},{"$f":"+'Stage 6'!K42","v":0},{"$f":"+'Stage 6'!L42","v":0},{"$f":"+'Stage 7'!K42","v":0},{"$f":"+'Stage 7'!L42","v":0},{"$f":"+'Stage 8'!K42","v":0},{"$f":"+'Stage 8'!L42","v":0},{"$f":"+'Stage 9'!K42","v":0},{"$f":"+'Stage 9'!L42","v":0},{"$f":"+'Stage 10'!K42","v":0},{"$f":"+'Stage 10'!L42","v":0},{"$f":"+'Stage 11'!K42","v":0},{"$f":"+'Stage 11'!L42","v":0},{"$f":"+'Stage 12'!K42","v":0},{"$f":"+'Stage 12'!L42","v":0},{"$f":"MIN(+E43+G43+I43+K43+M43+O43+Q43+S43+U43+W43+Y43+AA43,9999.99)","v":0},{"$f":"+F43+H43+J43+L43+N43+P43+R43+T43+V43+X43+Z43+AB43","v":0},{"$f":"IF('Shooter Information'!H44=1,\"MDQ\",IF(OR('Shooter Information'!B44=\"\",ISBLANK('Shooter Information'!B44)),,IF(SUM('Stage 1'!O42,'Stage 2'!O42,'Stage 3'!O42,'Stage 4'!O42,'Stage 5'!O42,'Stage 6'!O42,'Stage 7'!O42,'Stage 8'!O42,'Stage 9'!O42,'Stage 10'!O42,'Stage 11'!O42,'Stage 12'!O42)=0,\"Yes\",\"No\")))","v":0},{"$f":"IF('Shooter Information'!H44=1,\"No\",IF(OR('Shooter Information'!B44=\"\",ISBLANK('Shooter Information'!B44)),,IF(((AK43+AL43)>=2),\"No\",\"Yes\")))","v":0},{"$f":"IF(AC43=0,99999,AC43)","v":99999},{"$f":"IF(AD43=0,99999,AD43)","v":99999},{"$f":"IF(ISBLANK('Shooter Information'!C44),\"ZZZZZZZZZZ\",C43)","v":"ZZZZZZZZZZ"},{"$f":"CELL(\"row\",'Shooter Information'!B44)","v":44},{"$f":"SUM('Stage 1'!I42,'Stage 2'!I42,'Stage 3'!I42,'Stage 4'!I42,'Stage 5'!I42,'Stage 6'!I42,'Stage 7'!I42,'Stage 8'!I42,'Stage 9'!I42,'Stage 10'!I42,'Stage 11'!I42,'Stage 12'!I42)","v":0},{"$f":"SUM('Stage 1'!J42,'Stage 2'!J42,'Stage 3'!J42,'Stage 4'!J42,'Stage 5'!J42,'Stage 6'!J42,'Stage 7'!J42,'Stage 8'!J42,'Stage 9'!J42,'Stage 10'!J42,'Stage 11'!J42,'Stage 12'!J42)","v":0}]
[{"$f":"IF(AF44=\"Yes\",IF('Shooter Information'!$C$2=\"R\",(SUMPRODUCT(--(AD44>$AD$5:$AD$79),--(\"Yes\"=$AF$5:$AF$79))+1),(SUMPRODUCT(--(AC44>$AC$5:$AC$79),--(\"Yes\"=$AF$5:$AF$79))+1)),0)","v":0},{"$f":"'Shooter Information'!B45","v":0},{"$f":"'Shooter Information'!C45","v":0},{"$f":"IF(AF44=\"Yes\",IF('Shooter Information'!$C$2=\"R\",(SUMPRODUCT(--(C44=$C$5:$C$79),--(AD44>$AD$5:$AD$79),--(\"Yes\"=$AF$5:$AF$79))+1),(SUMPRODUCT(--(C44=$C$5:$C$79),--(AC44>$AC$5:$AC$79),--(\"Yes\"=$AF$5:$AF$79))+1)),0)","v":0},{"$f":"+'Stage 1'!K43","v":0},{"$f":"+'Stage 1'!L43","v":0},{"$f":"+'Stage 2'!K43","v":0},{"$f":"+'Stage 2'!L43","v":0},{"$f":"+'Stage 3'!K43","v":0},{"$f":"+'Stage 3'!L43","v":0},{"$f":"+'Stage 4'!K43","v":0},{"$f":"+'Stage 4'!L43","v":0},{"$f":"+'Stage 5'!K43","v":0},{"$f":"+'Stage 5'!L43","v":0},{"$f":"+'Stage 6'!K43","v":0},{"$f":"+'Stage 6'!L43","v":0},{"$f":"+'Stage 7'!K43","v":0},{"$f":"+'Stage 7'!L43","v":0},{"$f":"+'Stage 8'!K43","v":0},{"$f":"+'Stage 8'!L43","v":0},{"$f":"+'Stage 9'!K43","v":0},{"$f":"+'Stage 9'!L43","v":0},{"$f":"+'Stage 10'!K43","v":0},{"$f":"+'Stage 10'!L43","v":0},{"$f":"+'Stage 11'!K43","v":0},{"$f":"+'Stage 11'!L43","v":0},{"$f":"+'Stage 12'!K43","v":0},{"$f":"+'Stage 12'!L43","v":0},{"$f":"MIN(+E44+G44+I44+K44+M44+O44+Q44+S44+U44+W44+Y44+AA44,9999.99)","v":0},{"$f":"+F44+H44+J44+L44+N44+P44+R44+T44+V44+X44+Z44+AB44","v":0},{"$f":"IF('Shooter Information'!H45=1,\"MDQ\",IF(OR('Shooter Information'!B45=\"\",ISBLANK('Shooter Information'!B45)),,IF(SUM('Stage 1'!O43,'Stage 2'!O43,'Stage 3'!O43,'Stage 4'!O43,'Stage 5'!O43,'Stage 6'!O43,'Stage 7'!O43,'Stage 8'!O43,'Stage 9'!O43,'Stage 10'!O43,'Stage 11'!O43,'Stage 12'!O43)=0,\"Yes\",\"No\")))","v":0},{"$f":"IF('Shooter Information'!H45=1,\"No\",IF(OR('Shooter Information'!B45=\"\",ISBLANK('Shooter Information'!B45)),,IF(((AK44+AL44)>=2),\"No\",\"Yes\")))","v":0},{"$f":"IF(AC44=0,99999,AC44)","v":99999},{"$f":"IF(AD44=0,99999,AD44)","v":99999},{"$f":"IF(ISBLANK('Shooter Information'!C45),\"ZZZZZZZZZZ\",C44)","v":"ZZZZZZZZZZ"},{"$f":"CELL(\"row\",'Shooter Information'!B45)","v":45},{"$f":"SUM('Stage 1'!I43,'Stage 2'!I43,'Stage 3'!I43,'Stage 4'!I43,'Stage 5'!I43,'Stage 6'!I43,'Stage 7'!I43,'Stage 8'!I43,'Stage 9'!I43,'Stage 10'!I43,'Stage 11'!I43,'Stage 12'!I43)","v":0},{"$f":"SUM('Stage 1'!J43,'Stage 2'!J43,'Stage 3'!J43,'Stage 4'!J43,'Stage 5'!J43,'Stage 6'!J43,'Stage 7'!J43,'Stage 8'!J43,'Stage 9'!J43,'Stage 10'!J43,'Stage 11'!J43,'Stage 12'!J43)","v":0}]
[{"$f":"IF(AF45=\"Yes\",IF('Shooter Information'!$C$2=\"R\",(SUMPRODUCT(--(AD45>$AD$5:$AD$79),--(\"Yes\"=$AF$5:$AF$79))+1),(SUMPRODUCT(--(AC45>$AC$5:$AC$79),--(\"Yes\"=$AF$5:$AF$79))+1)),0)","v":0},{"$f":"'Shooter Information'!B46","v":0},{"$f":"'Shooter Information'!C46","v":0},{"$f":"IF(AF45=\"Yes\",IF('Shooter Information'!$C$2=\"R\",(SUMPRODUCT(--(C45=$C$5:$C$79),--(AD45>$AD$5:$AD$79),--(\"Yes\"=$AF$5:$AF$79))+1),(SUMPRODUCT(--(C45=$C$5:$C$79),--(AC45>$AC$5:$AC$79),--(\"Yes\"=$AF$5:$AF$79))+1)),0)","v":0},{"$f":"+'Stage 1'!K44","v":0},{"$f":"+'Stage 1'!L44","v":0},{"$f":"+'Stage 2'!K44","v":0},{"$f":"+'Stage 2'!L44","v":0},{"$f":"+'Stage 3'!K44","v":0},{"$f":"+'Stage 3'!L44","v":0},{"$f":"+'Stage 4'!K44","v":0},{"$f":"+'Stage 4'!L44","v":0},{"$f":"+'Stage 5'!K44","v":0},{"$f":"+'Stage 5'!L44","v":0},{"$f":"+'Stage 6'!K44","v":0},{"$f":"+'Stage 6'!L44","v":0},{"$f":"+'Stage 7'!K44","v":0},{"$f":"+'Stage 7'!L44","v":0},{"$f":"+'Stage 8'!K44","v":0},{"$f":"+'Stage 8'!L44","v":0},{"$f":"+'Stage 9'!K44","v":0},{"$f":"+'Stage 9'!L44","v":0},{"$f":"+'Stage 10'!K44","v":0},{"$f":"+'Stage 10'!L44","v":0},{"$f":"+'Stage 11'!K44","v":0},{"$f":"+'Stage 11'!L44","v":0},{"$f":"+'Stage 12'!K44","v":0},{"$f":"+'Stage 12'!L44","v":0},{"$f":"MIN(+E45+G45+I45+K45+M45+O45+Q45+S45+U45+W45+Y45+AA45,9999.99)","v":0},{"$f":"+F45+H45+J45+L45+N45+P45+R45+T45+V45+X45+Z45+AB45","v":0},{"$f":"IF('Shooter Information'!H46=1,\"MDQ\",IF(OR('Shooter Information'!B46=\"\",ISBLANK('Shooter Information'!B46)),,IF(SUM('Stage 1'!O44,'Stage 2'!O44,'Stage 3'!O44,'Stage 4'!O44,'Stage 5'!O44,'Stage 6'!O44,'Stage 7'!O44,'Stage 8'!O44,'Stage 9'!O44,'Stage 10'!O44,'Stage 11'!O44,'Stage 12'!O44)=0,\"Yes\",\"No\")))","v":0},{"$f":"IF('Shooter Information'!H46=1,\"No\",IF(OR('Shooter Information'!B46=\"\",ISBLANK('Shooter Information'!B46)),,IF(((AK45+AL45)>=2),\"No\",\"Yes\")))","v":0},{"$f":"IF(AC45=0,99999,AC45)","v":99999},{"$f":"IF(AD45=0,99999,AD45)","v":99999},{"$f":"IF(ISBLANK('Shooter Information'!C46),\"ZZZZZZZZZZ\",C45)","v":"ZZZZZZZZZZ"},{"$f":"CELL(\"row\",'Shooter Information'!B46)","v":46},{"$f":"SUM('Stage 1'!I44,'Stage 2'!I44,'Stage 3'!I44,'Stage 4'!I44,'Stage 5'!I44,'Stage 6'!I44,'Stage 7'!I44,'Stage 8'!I44,'Stage 9'!I44,'Stage 10'!I44,'Stage 11'!I44,'Stage 12'!I44)","v":0},{"$f":"SUM('Stage 1'!J44,'Stage 2'!J44,'Stage 3'!J44,'Stage 4'!J44,'Stage 5'!J44,'Stage 6'!J44,'Stage 7'!J44,'Stage 8'!J44,'Stage 9'!J44,'Stage 10'!J44,'Stage 11'!J44,'Stage 12'!J44)","v":0}]
[{"$f":"IF(AF46=\"Yes\",IF('Shooter Information'!$C$2=\"R\",(SUMPRODUCT(--(AD46>$AD$5:$AD$79),--(\"Yes\"=$AF$5:$AF$79))+1),(SUMPRODUCT(--(AC46>$AC$5:$AC$79),--(\"Yes\"=$AF$5:$AF$79))+1)),0)","v":0},{"$f":"'Shooter Information'!B47","v":0},{"$f":"'Shooter Information'!C47","v":0},{"$f":"IF(AF46=\"Yes\",IF('Shooter Information'!$C$2=\"R\",(SUMPRODUCT(--(C46=$C$5:$C$79),--(AD46>$AD$5:$AD$79),--(\"Yes\"=$AF$5:$AF$79))+1),(SUMPRODUCT(--(C46=$C$5:$C$79),--(AC46>$AC$5:$AC$79),--(\"Yes\"=$AF$5:$AF$79))+1)),0)","v":0},{"$f":"+'Stage 1'!K45","v":0},{"$f":"+'Stage 1'!L45","v":0},{"$f":"+'Stage 2'!K45","v":0},{"$f":"+'Stage 2'!L45","v":0},{"$f":"+'Stage 3'!K45","v":0},{"$f":"+'Stage 3'!L45","v":0},{"$f":"+'Stage 4'!K45","v":0},{"$f":"+'Stage 4'!L45","v":0},{"$f":"+'Stage 5'!K45","v":0},{"$f":"+'Stage 5'!L45","v":0},{"$f":"+'Stage 6'!K45","v":0},{"$f":"+'Stage 6'!L45","v":0},{"$f":"+'Stage 7'!K45","v":0},{"$f":"+'Stage 7'!L45","v":0},{"$f":"+'Stage 8'!K45","v":0},{"$f":"+'Stage 8'!L45","v":0},{"$f":"+'Stage 9'!K45","v":0},{"$f":"+'Stage 9'!L45","v":0},{"$f":"+'Stage 10'!K45","v":0},{"$f":"+'Stage 10'!L45","v":0},{"$f":"+'Stage 11'!K45","v":0},{"$f":"+'Stage 11'!L45","v":0},{"$f":"+'Stage 12'!K45","v":0},{"$f":"+'Stage 12'!L45","v":0},{"$f":"MIN(+E46+G46+I46+K46+M46+O46+Q46+S46+U46+W46+Y46+AA46,9999.99)","v":0},{"$f":"+F46+H46+J46+L46+N46+P46+R46+T46+V46+X46+Z46+AB46","v":0},{"$f":"IF('Shooter Information'!H47=1,\"MDQ\",IF(OR('Shooter Information'!B47=\"\",ISBLANK('Shooter Information'!B47)),,IF(SUM('Stage 1'!O45,'Stage 2'!O45,'Stage 3'!O45,'Stage 4'!O45,'Stage 5'!O45,'Stage 6'!O45,'Stage 7'!O45,'Stage 8'!O45,'Stage 9'!O45,'Stage 10'!O45,'Stage 11'!O45,'Stage 12'!O45)=0,\"Yes\",\"No\")))","v":0},{"$f":"IF('Shooter Information'!H47=1,\"No\",IF(OR('Shooter Information'!B47=\"\",ISBLANK('Shooter Information'!B47)),,IF(((AK46+AL46)>=2),\"No\",\"Yes\")))","v":0},{"$f":"IF(AC46=0,99999,AC46)","v":99999},{"$f":"IF(AD46=0,99999,AD46)","v":99999},{"$f":"IF(ISBLANK('Shooter Information'!C47),\"ZZZZZZZZZZ\",C46)","v":"ZZZZZZZZZZ"},{"$f":"CELL(\"row\",'Shooter Information'!B47)","v":47},{"$f":"SUM('Stage 1'!I45,'Stage 2'!I45,'Stage 3'!I45,'Stage 4'!I45,'Stage 5'!I45,'Stage 6'!I45,'Stage 7'!I45,'Stage 8'!I45,'Stage 9'!I45,'Stage 10'!I45,'Stage 11'!I45,'Stage 12'!I45)","v":0},{"$f":"SUM('Stage 1'!J45,'Stage 2'!J45,'Stage 3'!J45,'Stage 4'!J45,'Stage 5'!J45,'Stage 6'!J45,'Stage 7'!J45,'Stage 8'!J45,'Stage 9'!J45,'Stage 10'!J45,'Stage 11'!J45,'Stage 12'!J45)","v":0}]
[{"$f":"IF(AF47=\"Yes\",IF('Shooter Information'!$C$2=\"R\",(SUMPRODUCT(--(AD47>$AD$5:$AD$79),--(\"Yes\"=$AF$5:$AF$79))+1),(SUMPRODUCT(--(AC47>$AC$5:$AC$79),--(\"Yes\"=$AF$5:$AF$79))+1)),0)","v":0},{"$f":"'Shooter Information'!B48","v":0},{"$f":"'Shooter Information'!C48","v":0},{"$f":"IF(AF47=\"Yes\",IF('Shooter Information'!$C$2=\"R\",(SUMPRODUCT(--(C47=$C$5:$C$79),--(AD47>$AD$5:$AD$79),--(\"Yes\"=$AF$5:$AF$79))+1),(SUMPRODUCT(--(C47=$C$5:$C$79),--(AC47>$AC$5:$AC$79),--(\"Yes\"=$AF$5:$AF$79))+1)),0)","v":0},{"$f":"+'Stage 1'!K46","v":0},{"$f":"+'Stage 1'!L46","v":0},{"$f":"+'Stage 2'!K46","v":0},{"$f":"+'Stage 2'!L46","v":0},{"$f":"+'Stage 3'!K46","v":0},{"$f":"+'Stage 3'!L46","v":0},{"$f":"+'Stage 4'!K46","v":0},{"$f":"+'Stage 4'!L46","v":0},{"$f":"+'Stage 5'!K46","v":0},{"$f":"+'Stage 5'!L46","v":0},{"$f":"+'Stage 6'!K46","v":0},{"$f":"+'Stage 6'!L46","v":0},{"$f":"+'Stage 7'!K46","v":0},{"$f":"+'Stage 7'!L46","v":0},{"$f":"+'Stage 8'!K46","v":0},{"$f":"+'Stage 8'!L46","v":0},{"$f":"+'Stage 9'!K46","v":0},{"$f":"+'Stage 9'!L46","v":0},{"$f":"+'Stage 10'!K46","v":0},{"$f":"+'Stage 10'!L46","v":0},{"$f":"+'Stage 11'!K46","v":0},{"$f":"+'Stage 11'!L46","v":0},{"$f":"+'Stage 12'!K46","v":0},{"$f":"+'Stage 12'!L46","v":0},{"$f":"MIN(+E47+G47+I47+K47+M47+O47+Q47+S47+U47+W47+Y47+AA47,9999.99)","v":0},{"$f":"+F47+H47+J47+L47+N47+P47+R47+T47+V47+X47+Z47+AB47","v":0},{"$f":"IF('Shooter Information'!H48=1,\"MDQ\",IF(OR('Shooter Information'!B48=\"\",ISBLANK('Shooter Information'!B48)),,IF(SUM('Stage 1'!O46,'Stage 2'!O46,'Stage 3'!O46,'Stage 4'!O46,'Stage 5'!O46,'Stage 6'!O46,'Stage 7'!O46,'Stage 8'!O46,'Stage 9'!O46,'Stage 10'!O46,'Stage 11'!O46,'Stage 12'!O46)=0,\"Yes\",\"No\")))","v":0},{"$f":"IF('Shooter Information'!H48=1,\"No\",IF(OR('Shooter Information'!B48=\"\",ISBLANK('Shooter Information'!B48)),,IF(((AK47+AL47)>=2),\"No\",\"Yes\")))","v":0},{"$f":"IF(AC47=0,99999,AC47)","v":99999},{"$f":"IF(AD47=0,99999,AD47)","v":99999},{"$f":"IF(ISBLANK('Shooter Information'!C48),\"ZZZZZZZZZZ\",C47)","v":"ZZZZZZZZZZ"},{"$f":"CELL(\"row\",'Shooter Information'!B48)","v":48},{"$f":"SUM('Stage 1'!I46,'Stage 2'!I46,'Stage 3'!I46,'Stage 4'!I46,'Stage 5'!I46,'Stage 6'!I46,'Stage 7'!I46,'Stage 8'!I46,'Stage 9'!I46,'Stage 10'!I46,'Stage 11'!I46,'Stage 12'!I46)","v":0},{"$f":"SUM('Stage 1'!J46,'Stage 2'!J46,'Stage 3'!J46,'Stage 4'!J46,'Stage 5'!J46,'Stage 6'!J46,'Stage 7'!J46,'Stage 8'!J46,'Stage 9'!J46,'Stage 10'!J46,'Stage 11'!J46,'Stage 12'!J46)","v":0}]
[{"$f":"IF(AF48=\"Yes\",IF('Shooter Information'!$C$2=\"R\",(SUMPRODUCT(--(AD48>$AD$5:$AD$79),--(\"Yes\"=$AF$5:$AF$79))+1),(SUMPRODUCT(--(AC48>$AC$5:$AC$79),--(\"Yes\"=$AF$5:$AF$79))+1)),0)","v":0},{"$f":"'Shooter Information'!B49","v":0},{"$f":"'Shooter Information'!C49","v":0},{"$f":"IF(AF48=\"Yes\",IF('Shooter Information'!$C$2=\"R\",(SUMPRODUCT(--(C48=$C$5:$C$79),--(AD48>$AD$5:$AD$79),--(\"Yes\"=$AF$5:$AF$79))+1),(SUMPRODUCT(--(C48=$C$5:$C$79),--(AC48>$AC$5:$AC$79),--(\"Yes\"=$AF$5:$AF$79))+1)),0)","v":0},{"$f":"+'Stage 1'!K47","v":0},{"$f":"+'Stage 1'!L47","v":0},{"$f":"+'Stage 2'!K47","v":0},{"$f":"+'Stage 2'!L47","v":0},{"$f":"+'Stage 3'!K47","v":0},{"$f":"+'Stage 3'!L47","v":0},{"$f":"+'Stage 4'!K47","v":0},{"$f":"+'Stage 4'!L47","v":0},{"$f":"+'Stage 5'!K47","v":0},{"$f":"+'Stage 5'!L47","v":0},{"$f":"+'Stage 6'!K47","v":0},{"$f":"+'Stage 6'!L47","v":0},{"$f":"+'Stage 7'!K47","v":0},{"$f":"+'Stage 7'!L47","v":0},{"$f":"+'Stage 8'!K47","v":0},{"$f":"+'Stage 8'!L47","v":0},{"$f":"+'Stage 9'!K47","v":0},{"$f":"+'Stage 9'!L47","v":0},{"$f":"+'Stage 10'!K47","v":0},{"$f":"+'Stage 10'!L47","v":0},{"$f":"+'Stage 11'!K47","v":0},{"$f":"+'Stage 11'!L47","v":0},{"$f":"+'Stage 12'!K47","v":0},{"$f":"+'Stage 12'!L47","v":0},{"$f":"MIN(+E48+G48+I48+K48+M48+O48+Q48+S48+U48+W48+Y48+AA48,9999.99)","v":0},{"$f":"+F48+H48+J48+L48+N48+P48+R48+T48+V48+X48+Z48+AB48","v":0},{"$f":"IF('Shooter Information'!H49=1,\"MDQ\",IF(OR('Shooter Information'!B49=\"\",ISBLANK('Shooter Information'!B49)),,IF(SUM('Stage 1'!O47,'Stage 2'!O47,'Stage 3'!O47,'Stage 4'!O47,'Stage 5'!O47,'Stage 6'!O47,'Stage 7'!O47,'Stage 8'!O47,'Stage 9'!O47,'Stage 10'!O47,'Stage 11'!O47,'Stage 12'!O47)=0,\"Yes\",\"No\")))","v":0},{"$f":"IF('Shooter Information'!H49=1,\"No\",IF(OR('Shooter Information'!B49=\"\",ISBLANK('Shooter Information'!B49)),,IF(((AK48+AL48)>=2),\"No\",\"Yes\")))","v":0},{"$f":"IF(AC48=0,99999,AC48)","v":99999},{"$f":"IF(AD48=0,99999,AD48)","v":99999},{"$f":"IF(ISBLANK('Shooter Information'!C49),\"ZZZZZZZZZZ\",C48)","v":"ZZZZZZZZZZ"},{"$f":"CELL(\"row\",'Shooter Information'!B49)","v":49},{"$f":"SUM('Stage 1'!I47,'Stage 2'!I47,'Stage 3'!I47,'Stage 4'!I47,'Stage 5'!I47,'Stage 6'!I47,'Stage 7'!I47,'Stage 8'!I47,'Stage 9'!I47,'Stage 10'!I47,'Stage 11'!I47,'Stage 12'!I47)","v":0},{"$f":"SUM('Stage 1'!J47,'Stage 2'!J47,'Stage 3'!J47,'Stage 4'!J47,'Stage 5'!J47,'Stage 6'!J47,'Stage 7'!J47,'Stage 8'!J47,'Stage 9'!J47,'Stage 10'!J47,'Stage 11'!J47,'Stage 12'!J47)","v":0}]
[{"$f":"IF(AF49=\"Yes\",IF('Shooter Information'!$C$2=\"R\",(SUMPRODUCT(--(AD49>$AD$5:$AD$79),--(\"Yes\"=$AF$5:$AF$79))+1),(SUMPRODUCT(--(AC49>$AC$5:$AC$79),--(\"Yes\"=$AF$5:$AF$79))+1)),0)","v":0},{"$f":"'Shooter Information'!B50","v":0},{"$f":"'Shooter Information'!C50","v":0},{"$f":"IF(AF49=\"Yes\",IF('Shooter Information'!$C$2=\"R\",(SUMPRODUCT(--(C49=$C$5:$C$79),--(AD49>$AD$5:$AD$79),--(\"Yes\"=$AF$5:$AF$79))+1),(SUMPRODUCT(--(C49=$C$5:$C$79),--(AC49>$AC$5:$AC$79),--(\"Yes\"=$AF$5:$AF$79))+1)),0)","v":0},{"$f":"+'Stage 1'!K48","v":0},{"$f":"+'Stage 1'!L48","v":0},{"$f":"+'Stage 2'!K48","v":0},{"$f":"+'Stage 2'!L48","v":0},{"$f":"+'Stage 3'!K48","v":0},{"$f":"+'Stage 3'!L48","v":0},{"$f":"+'Stage 4'!K48","v":0},{"$f":"+'Stage 4'!L48","v":0},{"$f":"+'Stage 5'!K48","v":0},{"$f":"+'Stage 5'!L48","v":0},{"$f":"+'Stage 6'!K48","v":0},{"$f":"+'Stage 6'!L48","v":0},{"$f":"+'Stage 7'!K48","v":0},{"$f":"+'Stage 7'!L48","v":0},{"$f":"+'Stage 8'!K48","v":0},{"$f":"+'Stage 8'!L48","v":0},{"$f":"+'Stage 9'!K48","v":0},{"$f":"+'Stage 9'!L48","v":0},{"$f":"+'Stage 10'!K48","v":0},{"$f":"+'Stage 10'!L48","v":0},{"$f":"+'Stage 11'!K48","v":0},{"$f":"+'Stage 11'!L48","v":0},{"$f":"+'Stage 12'!K48","v":0},{"$f":"+'Stage 12'!L48","v":0},{"$f":"MIN(+E49+G49+I49+K49+M49+O49+Q49+S49+U49+W49+Y49+AA49,9999.99)","v":0},{"$f":"+F49+H49+J49+L49+N49+P49+R49+T49+V49+X49+Z49+AB49","v":0},{"$f":"IF('Shooter Information'!H50=1,\"MDQ\",IF(OR('Shooter Information'!B50=\"\",ISBLANK('Shooter Information'!B50)),,IF(SUM('Stage 1'!O48,'Stage 2'!O48,'Stage 3'!O48,'Stage 4'!O48,'Stage 5'!O48,'Stage 6'!O48,'Stage 7'!O48,'Stage 8'!O48,'Stage 9'!O48,'Stage 10'!O48,'Stage 11'!O48,'Stage 12'!O48)=0,\"Yes\",\"No\")))","v":0},{"$f":"IF('Shooter Information'!H50=1,\"No\",IF(OR('Shooter Information'!B50=\"\",ISBLANK('Shooter Information'!B50)),,IF(((AK49+AL49)>=2),\"No\",\"Yes\")))","v":0},{"$f":"IF(AC49=0,99999,AC49)","v":99999},{"$f":"IF(AD49=0,99999,AD49)","v":99999},{"$f":"IF(ISBLANK('Shooter Information'!C50),\"ZZZZZZZZZZ\",C49)","v":"ZZZZZZZZZZ"},{"$f":"CELL(\"row\",'Shooter Information'!B50)","v":50},{"$f":"SUM('Stage 1'!I48,'Stage 2'!I48,'Stage 3'!I48,'Stage 4'!I48,'Stage 5'!I48,'Stage 6'!I48,'Stage 7'!I48,'Stage 8'!I48,'Stage 9'!I48,'Stage 10'!I48,'Stage 11'!I48,'Stage 12'!I48)","v":0},{"$f":"SUM('Stage 1'!J48,'Stage 2'!J48,'Stage 3'!J48,'Stage 4'!J48,'Stage 5'!J48,'Stage 6'!J48,'Stage 7'!J48,'Stage 8'!J48,'Stage 9'!J48,'Stage 10'!J48,'Stage 11'!J48,'Stage 12'!J48)","v":0}]
[{"$f":"IF(AF50=\"Yes\",IF('Shooter Information'!$C$2=\"R\",(SUMPRODUCT(--(AD50>$AD$5:$AD$79),--(\"Yes\"=$AF$5:$AF$79))+1),(SUMPRODUCT(--(AC50>$AC$5:$AC$79),--(\"Yes\"=$AF$5:$AF$79))+1)),0)","v":0},{"$f":"'Shooter Information'!B51","v":0},{"$f":"'Shooter Information'!C51","v":0},{"$f":"IF(AF50=\"Yes\",IF('Shooter Information'!$C$2=\"R\",(SUMPRODUCT(--(C50=$C$5:$C$79),--(AD50>$AD$5:$AD$79),--(\"Yes\"=$AF$5:$AF$79))+1),(SUMPRODUCT(--(C50=$C$5:$C$79),--(AC50>$AC$5:$AC$79),--(\"Yes\"=$AF$5:$AF$79))+1)),0)","v":0},{"$f":"+'Stage 1'!K49","v":0},{"$f":"+'Stage 1'!L49","v":0},{"$f":"+'Stage 2'!K49","v":0},{"$f":"+'Stage 2'!L49","v":0},{"$f":"+'Stage 3'!K49","v":0},{"$f":"+'Stage 3'!L49","v":0},{"$f":"+'Stage 4'!K49","v":0},{"$f":"+'Stage 4'!L49","v":0},{"$f":"+'Stage 5'!K49","v":0},{"$f":"+'Stage 5'!L49","v":0},{"$f":"+'Stage 6'!K49","v":0},{"$f":"+'Stage 6'!L49","v":0},{"$f":"+'Stage 7'!K49","v":0},{"$f":"+'Stage 7'!L49","v":0},{"$f":"+'Stage 8'!K49","v":0},{"$f":"+'Stage 8'!L49","v":0},{"$f":"+'Stage 9'!K49","v":0},{"$f":"+'Stage 9'!L49","v":0},{"$f":"+'Stage 10'!K49","v":0},{"$f":"+'Stage 10'!L49","v":0},{"$f":"+'Stage 11'!K49","v":0},{"$f":"+'Stage 11'!L49","v":0},{"$f":"+'Stage 12'!K49","v":0},{"$f":"+'Stage 12'!L49","v":0},{"$f":"MIN(+E50+G50+I50+K50+M50+O50+Q50+S50+U50+W50+Y50+AA50,9999.99)","v":0},{"$f":"+F50+H50+J50+L50+N50+P50+R50+T50+V50+X50+Z50+AB50","v":0},{"$f":"IF('Shooter Information'!H51=1,\"MDQ\",IF(OR('Shooter Information'!B51=\"\",ISBLANK('Shooter Information'!B51)),,IF(SUM('Stage 1'!O49,'Stage 2'!O49,'Stage 3'!O49,'Stage 4'!O49,'Stage 5'!O49,'Stage 6'!O49,'Stage 7'!O49,'Stage 8'!O49,'Stage 9'!O49,'Stage 10'!O49,'Stage 11'!O49,'Stage 12'!O49)=0,\"Yes\",\"No\")))","v":0},{"$f":"IF('Shooter Information'!H51=1,\"No\",IF(OR('Shooter Information'!B51=\"\",ISBLANK('Shooter Information'!B51)),,IF(((AK50+AL50)>=2),\"No\",\"Yes\")))","v":0},{"$f":"IF(AC50=0,99999,AC50)","v":99999},{"$f":"IF(AD50=0,99999,AD50)","v":99999},{"$f":"IF(ISBLANK('Shooter Information'!C51),\"ZZZZZZZZZZ\",C50)","v":"ZZZZZZZZZZ"},{"$f":"CELL(\"row\",'Shooter Information'!B51)","v":51},{"$f":"SUM('Stage 1'!I49,'Stage 2'!I49,'Stage 3'!I49,'Stage 4'!I49,'Stage 5'!I49,'Stage 6'!I49,'Stage 7'!I49,'Stage 8'!I49,'Stage 9'!I49,'Stage 10'!I49,'Stage 11'!I49,'Stage 12'!I49)","v":0},{"$f":"SUM('Stage 1'!J49,'Stage 2'!J49,'Stage 3'!J49,'Stage 4'!J49,'Stage 5'!J49,'Stage 6'!J49,'Stage 7'!J49,'Stage 8'!J49,'Stage 9'!J49,'Stage 10'!J49,'Stage 11'!J49,'Stage 12'!J49)","v":0}]
[{"$f":"IF(AF51=\"Yes\",IF('Shooter Information'!$C$2=\"R\",(SUMPRODUCT(--(AD51>$AD$5:$AD$79),--(\"Yes\"=$AF$5:$AF$79))+1),(SUMPRODUCT(--(AC51>$AC$5:$AC$79),--(\"Yes\"=$AF$5:$AF$79))+1)),0)","v":0},{"$f":"'Shooter Information'!B52","v":0},{"$f":"'Shooter Information'!C52","v":0},{"$f":"IF(AF51=\"Yes\",IF('Shooter Information'!$C$2=\"R\",(SUMPRODUCT(--(C51=$C$5:$C$79),--(AD51>$AD$5:$AD$79),--(\"Yes\"=$AF$5:$AF$79))+1),(SUMPRODUCT(--(C51=$C$5:$C$79),--(AC51>$AC$5:$AC$79),--(\"Yes\"=$AF$5:$AF$79))+1)),0)","v":0},{"$f":"+'Stage 1'!K50","v":0},{"$f":"+'Stage 1'!L50","v":0},{"$f":"+'Stage 2'!K50","v":0},{"$f":"+'Stage 2'!L50","v":0},{"$f":"+'Stage 3'!K50","v":0},{"$f":"+'Stage 3'!L50","v":0},{"$f":"+'Stage 4'!K50","v":0},{"$f":"+'Stage 4'!L50","v":0},{"$f":"+'Stage 5'!K50","v":0},{"$f":"+'Stage 5'!L50","v":0},{"$f":"+'Stage 6'!K50","v":0},{"$f":"+'Stage 6'!L50","v":0},{"$f":"+'Stage 7'!K50","v":0},{"$f":"+'Stage 7'!L50","v":0},{"$f":"+'Stage 8'!K50","v":0},{"$f":"+'Stage 8'!L50","v":0},{"$f":"+'Stage 9'!K50","v":0},{"$f":"+'Stage 9'!L50","v":0},{"$f":"+'Stage 10'!K50","v":0},{"$f":"+'Stage 10'!L50","v":0},{"$f":"+'Stage 11'!K50","v":0},{"$f":"+'Stage 11'!L50","v":0},{"$f":"+'Stage 12'!K50","v":0},{"$f":"+'Stage 12'!L50","v":0},{"$f":"MIN(+E51+G51+I51+K51+M51+O51+Q51+S51+U51+W51+Y51+AA51,9999.99)","v":0},{"$f":"+F51+H51+J51+L51+N51+P51+R51+T51+V51+X51+Z51+AB51","v":0},{"$f":"IF('Shooter Information'!H52=1,\"MDQ\",IF(OR('Shooter Information'!B52=\"\",ISBLANK('Shooter Information'!B52)),,IF(SUM('Stage 1'!O50,'Stage 2'!O50,'Stage 3'!O50,'Stage 4'!O50,'Stage 5'!O50,'Stage 6'!O50,'Stage 7'!O50,'Stage 8'!O50,'Stage 9'!O50,'Stage 10'!O50,'Stage 11'!O50,'Stage 12'!O50)=0,\"Yes\",\"No\")))","v":0},{"$f":"IF('Shooter Information'!H52=1,\"No\",IF(OR('Shooter Information'!B52=\"\",ISBLANK('Shooter Information'!B52)),,IF(((AK51+AL51)>=2),\"No\",\"Yes\")))","v":0},{"$f":"IF(AC51=0,99999,AC51)","v":99999},{"$f":"IF(AD51=0,99999,AD51)","v":99999},{"$f":"IF(ISBLANK('Shooter Information'!C52),\"ZZZZZZZZZZ\",C51)","v":"ZZZZZZZZZZ"},{"$f":"CELL(\"row\",'Shooter Information'!B52)","v":52},{"$f":"SUM('Stage 1'!I50,'Stage 2'!I50,'Stage 3'!I50,'Stage 4'!I50,'Stage 5'!I50,'Stage 6'!I50,'Stage 7'!I50,'Stage 8'!I50,'Stage 9'!I50,'Stage 10'!I50,'Stage 11'!I50,'Stage 12'!I50)","v":0},{"$f":"SUM('Stage 1'!J50,'Stage 2'!J50,'Stage 3'!J50,'Stage 4'!J50,'Stage 5'!J50,'Stage 6'!J50,'Stage 7'!J50,'Stage 8'!J50,'Stage 9'!J50,'Stage 10'!J50,'Stage 11'!J50,'Stage 12'!J50)","v":0}]
[{"$f":"IF(AF52=\"Yes\",IF('Shooter Information'!$C$2=\"R\",(SUMPRODUCT(--(AD52>$AD$5:$AD$79),--(\"Yes\"=$AF$5:$AF$79))+1),(SUMPRODUCT(--(AC52>$AC$5:$AC$79),--(\"Yes\"=$AF$5:$AF$79))+1)),0)","v":0},{"$f":"'Shooter Information'!B53","v":0},{"$f":"'Shooter Information'!C53","v":0},{"$f":"IF(AF52=\"Yes\",IF('Shooter Information'!$C$2=\"R\",(SUMPRODUCT(--(C52=$C$5:$C$79),--(AD52>$AD$5:$AD$79),--(\"Yes\"=$AF$5:$AF$79))+1),(SUMPRODUCT(--(C52=$C$5:$C$79),--(AC52>$AC$5:$AC$79),--(\"Yes\"=$AF$5:$AF$79))+1)),0)","v":0},{"$f":"+'Stage 1'!K51","v":0},{"$f":"+'Stage 1'!L51","v":0},{"$f":"+'Stage 2'!K51","v":0},{"$f":"+'Stage 2'!L51","v":0},{"$f":"+'Stage 3'!K51","v":0},{"$f":"+'Stage 3'!L51","v":0},{"$f":"+'Stage 4'!K51","v":0},{"$f":"+'Stage 4'!L51","v":0},{"$f":"+'Stage 5'!K51","v":0},{"$f":"+'Stage 5'!L51","v":0},{"$f":"+'Stage 6'!K51","v":0},{"$f":"+'Stage 6'!L51","v":0},{"$f":"+'Stage 7'!K51","v":0},{"$f":"+'Stage 7'!L51","v":0},{"$f":"+'Stage 8'!K51","v":0},{"$f":"+'Stage 8'!L51","v":0},{"$f":"+'Stage 9'!K51","v":0},{"$f":"+'Stage 9'!L51","v":0},{"$f":"+'Stage 10'!K51","v":0},{"$f":"+'Stage 10'!L51","v":0},{"$f":"+'Stage 11'!K51","v":0},{"$f":"+'Stage 11'!L51","v":0},{"$f":"+'Stage 12'!K51","v":0},{"$f":"+'Stage 12'!L51","v":0},{"$f":"MIN(+E52+G52+I52+K52+M52+O52+Q52+S52+U52+W52+Y52+AA52,9999.99)","v":0},{"$f":"+F52+H52+J52+L52+N52+P52+R52+T52+V52+X52+Z52+AB52","v":0},{"$f":"IF('Shooter Information'!H53=1,\"MDQ\",IF(OR('Shooter Information'!B53=\"\",ISBLANK('Shooter Information'!B53)),,IF(SUM('Stage 1'!O51,'Stage 2'!O51,'Stage 3'!O51,'Stage 4'!O51,'Stage 5'!O51,'Stage 6'!O51,'Stage 7'!O51,'Stage 8'!O51,'Stage 9'!O51,'Stage 10'!O51,'Stage 11'!O51,'Stage 12'!O51)=0,\"Yes\",\"No\")))","v":0},{"$f":"IF('Shooter Information'!H53=1,\"No\",IF(OR('Shooter Information'!B53=\"\",ISBLANK('Shooter Information'!B53)),,IF(((AK52+AL52)>=2),\"No\",\"Yes\")))","v":0},{"$f":"IF(AC52=0,99999,AC52)","v":99999},{"$f":"IF(AD52=0,99999,AD52)","v":99999},{"$f":"IF(ISBLANK('Shooter Information'!C53),\"ZZZZZZZZZZ\",C52)","v":"ZZZZZZZZZZ"},{"$f":"CELL(\"row\",'Shooter Information'!B53)","v":53},{"$f":"SUM('Stage 1'!I51,'Stage 2'!I51,'Stage 3'!I51,'Stage 4'!I51,'Stage 5'!I51,'Stage 6'!I51,'Stage 7'!I51,'Stage 8'!I51,'Stage 9'!I51,'Stage 10'!I51,'Stage 11'!I51,'Stage 12'!I51)","v":0},{"$f":"SUM('Stage 1'!J51,'Stage 2'!J51,'Stage 3'!J51,'Stage 4'!J51,'Stage 5'!J51,'Stage 6'!J51,'Stage 7'!J51,'Stage 8'!J51,'Stage 9'!J51,'Stage 10'!J51,'Stage 11'!J51,'Stage 12'!J51)","v":0}]
[{"$f":"IF(AF53=\"Yes\",IF('Shooter Information'!$C$2=\"R\",(SUMPRODUCT(--(AD53>$AD$5:$AD$79),--(\"Yes\"=$AF$5:$AF$79))+1),(SUMPRODUCT(--(AC53>$AC$5:$AC$79),--(\"Yes\"=$AF$5:$AF$79))+1)),0)","v":0},{"$f":"'Shooter Information'!B54","v":0},{"$f":"'Shooter Information'!C54","v":0},{"$f":"IF(AF53=\"Yes\",IF('Shooter Information'!$C$2=\"R\",(SUMPRODUCT(--(C53=$C$5:$C$79),--(AD53>$AD$5:$AD$79),--(\"Yes\"=$AF$5:$AF$79))+1),(SUMPRODUCT(--(C53=$C$5:$C$79),--(AC53>$AC$5:$AC$79),--(\"Yes\"=$AF$5:$AF$79))+1)),0)","v":0},{"$f":"+'Stage 1'!K52","v":0},{"$f":"+'Stage 1'!L52","v":0},{"$f":"+'Stage 2'!K52","v":0},{"$f":"+'Stage 2'!L52","v":0},{"$f":"+'Stage 3'!K52","v":0},{"$f":"+'Stage 3'!L52","v":0},{"$f":"+'Stage 4'!K52","v":0},{"$f":"+'Stage 4'!L52","v":0},{"$f":"+'Stage 5'!K52","v":0},{"$f":"+'Stage 5'!L52","v":0},{"$f":"+'Stage 6'!K52","v":0},{"$f":"+'Stage 6'!L52","v":0},{"$f":"+'Stage 7'!K52","v":0},{"$f":"+'Stage 7'!L52","v":0},{"$f":"+'Stage 8'!K52","v":0},{"$f":"+'Stage 8'!L52","v":0},{"$f":"+'Stage 9'!K52","v":0},{"$f":"+'Stage 9'!L52","v":0},{"$f":"+'Stage 10'!K52","v":0},{"$f":"+'Stage 10'!L52","v":0},{"$f":"+'Stage 11'!K52","v":0},{"$f":"+'Stage 11'!L52","v":0},{"$f":"+'Stage 12'!K52","v":0},{"$f":"+'Stage 12'!L52","v":0},{"$f":"MIN(+E53+G53+I53+K53+M53+O53+Q53+S53+U53+W53+Y53+AA53,9999.99)","v":0},{"$f":"+F53+H53+J53+L53+N53+P53+R53+T53+V53+X53+Z53+AB53","v":0},{"$f":"IF('Shooter Information'!H54=1,\"MDQ\",IF(OR('Shooter Information'!B54=\"\",ISBLANK('Shooter Information'!B54)),,IF(SUM('Stage 1'!O52,'Stage 2'!O52,'Stage 3'!O52,'Stage 4'!O52,'Stage 5'!O52,'Stage 6'!O52,'Stage 7'!O52,'Stage 8'!O52,'Stage 9'!O52,'Stage 10'!O52,'Stage 11'!O52,'Stage 12'!O52)=0,\"Yes\",\"No\")))","v":0},{"$f":"IF('Shooter Information'!H54=1,\"No\",IF(OR('Shooter Information'!B54=\"\",ISBLANK('Shooter Information'!B54)),,IF(((AK53+AL53)>=2),\"No\",\"Yes\")))","v":0},{"$f":"IF(AC53=0,99999,AC53)","v":99999},{"$f":"IF(AD53=0,99999,AD53)","v":99999},{"$f":"IF(ISBLANK('Shooter Information'!C54),\"ZZZZZZZZZZ\",C53)","v":"ZZZZZZZZZZ"},{"$f":"CELL(\"row\",'Shooter Information'!B54)","v":54},{"$f":"SUM('Stage 1'!I52,'Stage 2'!I52,'Stage 3'!I52,'Stage 4'!I52,'Stage 5'!I52,'Stage 6'!I52,'Stage 7'!I52,'Stage 8'!I52,'Stage 9'!I52,'Stage 10'!I52,'Stage 11'!I52,'Stage 12'!I52)","v":0},{"$f":"SUM('Stage 1'!J52,'Stage 2'!J52,'Stage 3'!J52,'Stage 4'!J52,'Stage 5'!J52,'Stage 6'!J52,'Stage 7'!J52,'Stage 8'!J52,'Stage 9'!J52,'Stage 10'!J52,'Stage 11'!J52,'Stage 12'!J52)","v":0}]
[{"$f":"IF(AF54=\"Yes\",IF('Shooter Information'!$C$2=\"R\",(SUMPRODUCT(--(AD54>$AD$5:$AD$79),--(\"Yes\"=$AF$5:$AF$79))+1),(SUMPRODUCT(--(AC54>$AC$5:$AC$79),--(\"Yes\"=$AF$5:$AF$79))+1)),0)","v":0},{"$f":"'Shooter Information'!B55","v":0},{"$f":"'Shooter Information'!C55","v":0},{"$f":"IF(AF54=\"Yes\",IF('Shooter Information'!$C$2=\"R\",(SUMPRODUCT(--(C54=$C$5:$C$79),--(AD54>$AD$5:$AD$79),--(\"Yes\"=$AF$5:$AF$79))+1),(SUMPRODUCT(--(C54=$C$5:$C$79),--(AC54>$AC$5:$AC$79),--(\"Yes\"=$AF$5:$AF$79))+1)),0)","v":0},{"$f":"+'Stage 1'!K53","v":0},{"$f":"+'Stage 1'!L53","v":0},{"$f":"+'Stage 2'!K53","v":0},{"$f":"+'Stage 2'!L53","v":0},{"$f":"+'Stage 3'!K53","v":0},{"$f":"+'Stage 3'!L53","v":0},{"$f":"+'Stage 4'!K53","v":0},{"$f":"+'Stage 4'!L53","v":0},{"$f":"+'Stage 5'!K53","v":0},{"$f":"+'Stage 5'!L53","v":0},{"$f":"+'Stage 6'!K53","v":0},{"$f":"+'Stage 6'!L53","v":0},{"$f":"+'Stage 7'!K53","v":0},{"$f":"+'Stage 7'!L53","v":0},{"$f":"+'Stage 8'!K53","v":0},{"$f":"+'Stage 8'!L53","v":0},{"$f":"+'Stage 9'!K53","v":0},{"$f":"+'Stage 9'!L53","v":0},{"$f":"+'Stage 10'!K53","v":0},{"$f":"+'Stage 10'!L53","v":0},{"$f":"+'Stage 11'!K53","v":0},{"$f":"+'Stage 11'!L53","v":0},{"$f":"+'Stage 12'!K53","v":0},{"$f":"+'Stage 12'!L53","v":0},{"$f":"MIN(+E54+G54+I54+K54+M54+O54+Q54+S54+U54+W54+Y54+AA54,9999.99)","v":0},{"$f":"+F54+H54+J54+L54+N54+P54+R54+T54+V54+X54+Z54+AB54","v":0},{"$f":"IF('Shooter Information'!H55=1,\"MDQ\",IF(OR('Shooter Information'!B55=\"\",ISBLANK('Shooter Information'!B55)),,IF(SUM('Stage 1'!O53,'Stage 2'!O53,'Stage 3'!O53,'Stage 4'!O53,'Stage 5'!O53,'Stage 6'!O53,'Stage 7'!O53,'Stage 8'!O53,'Stage 9'!O53,'Stage 10'!O53,'Stage 11'!O53,'Stage 12'!O53)=0,\"Yes\",\"No\")))","v":0},{"$f":"IF('Shooter Information'!H55=1,\"No\",IF(OR('Shooter Information'!B55=\"\",ISBLANK('Shooter Information'!B55)),,IF(((AK54+AL54)>=2),\"No\",\"Yes\")))","v":0},{"$f":"IF(AC54=0,99999,AC54)","v":99999},{"$f":"IF(AD54=0,99999,AD54)","v":99999},{"$f":"IF(ISBLANK('Shooter Information'!C55),\"ZZZZZZZZZZ\",C54)","v":"ZZZZZZZZZZ"},{"$f":"CELL(\"row\",'Shooter Information'!B55)","v":55},{"$f":"SUM('Stage 1'!I53,'Stage 2'!I53,'Stage 3'!I53,'Stage 4'!I53,'Stage 5'!I53,'Stage 6'!I53,'Stage 7'!I53,'Stage 8'!I53,'Stage 9'!I53,'Stage 10'!I53,'Stage 11'!I53,'Stage 12'!I53)","v":0},{"$f":"SUM('Stage 1'!J53,'Stage 2'!J53,'Stage 3'!J53,'Stage 4'!J53,'Stage 5'!J53,'Stage 6'!J53,'Stage 7'!J53,'Stage 8'!J53,'Stage 9'!J53,'Stage 10'!J53,'Stage 11'!J53,'Stage 12'!J53)","v":0}]
[{"$f":"IF(AF55=\"Yes\",IF('Shooter Information'!$C$2=\"R\",(SUMPRODUCT(--(AD55>$AD$5:$AD$79),--(\"Yes\"=$AF$5:$AF$79))+1),(SUMPRODUCT(--(AC55>$AC$5:$AC$79),--(\"Yes\"=$AF$5:$AF$79))+1)),0)","v":0},{"$f":"'Shooter Information'!B56","v":0},{"$f":"'Shooter Information'!C56","v":0},{"$f":"IF(AF55=\"Yes\",IF('Shooter Information'!$C$2=\"R\",(SUMPRODUCT(--(C55=$C$5:$C$79),--(AD55>$AD$5:$AD$79),--(\"Yes\"=$AF$5:$AF$79))+1),(SUMPRODUCT(--(C55=$C$5:$C$79),--(AC55>$AC$5:$AC$79),--(\"Yes\"=$AF$5:$AF$79))+1)),0)","v":0},{"$f":"+'Stage 1'!K54","v":0},{"$f":"+'Stage 1'!L54","v":0},{"$f":"+'Stage 2'!K54","v":0},{"$f":"+'Stage 2'!L54","v":0},{"$f":"+'Stage 3'!K54","v":0},{"$f":"+'Stage 3'!L54","v":0},{"$f":"+'Stage 4'!K54","v":0},{"$f":"+'Stage 4'!L54","v":0},{"$f":"+'Stage 5'!K54","v":0},{"$f":"+'Stage 5'!L54","v":0},{"$f":"+'Stage 6'!K54","v":0},{"$f":"+'Stage 6'!L54","v":0},{"$f":"+'Stage 7'!K54","v":0},{"$f":"+'Stage 7'!L54","v":0},{"$f":"+'Stage 8'!K54","v":0},{"$f":"+'Stage 8'!L54","v":0},{"$f":"+'Stage 9'!K54","v":0},{"$f":"+'Stage 9'!L54","v":0},{"$f":"+'Stage 10'!K54","v":0},{"$f":"+'Stage 10'!L54","v":0},{"$f":"+'Stage 11'!K54","v":0},{"$f":"+'Stage 11'!L54","v":0},{"$f":"+'Stage 12'!K54","v":0},{"$f":"+'Stage 12'!L54","v":0},{"$f":"MIN(+E55+G55+I55+K55+M55+O55+Q55+S55+U55+W55+Y55+AA55,9999.99)","v":0},{"$f":"+F55+H55+J55+L55+N55+P55+R55+T55+V55+X55+Z55+AB55","v":0},{"$f":"IF('Shooter Information'!H56=1,\"MDQ\",IF(OR('Shooter Information'!B56=\"\",ISBLANK('Shooter Information'!B56)),,IF(SUM('Stage 1'!O54,'Stage 2'!O54,'Stage 3'!O54,'Stage 4'!O54,'Stage 5'!O54,'Stage 6'!O54,'Stage 7'!O54,'Stage 8'!O54,'Stage 9'!O54,'Stage 10'!O54,'Stage 11'!O54,'Stage 12'!O54)=0,\"Yes\",\"No\")))","v":0},{"$f":"IF('Shooter Information'!H56=1,\"No\",IF(OR('Shooter Information'!B56=\"\",ISBLANK('Shooter Information'!B56)),,IF(((AK55+AL55)>=2),\"No\",\"Yes\")))","v":0},{"$f":"IF(AC55=0,99999,AC55)","v":99999},{"$f":"IF(AD55=0,99999,AD55)","v":99999},{"$f":"IF(ISBLANK('Shooter Information'!C56),\"ZZZZZZZZZZ\",C55)","v":"ZZZZZZZZZZ"},{"$f":"CELL(\"row\",'Shooter Information'!B56)","v":56},{"$f":"SUM('Stage 1'!I54,'Stage 2'!I54,'Stage 3'!I54,'Stage 4'!I54,'Stage 5'!I54,'Stage 6'!I54,'Stage 7'!I54,'Stage 8'!I54,'Stage 9'!I54,'Stage 10'!I54,'Stage 11'!I54,'Stage 12'!I54)","v":0},{"$f":"SUM('Stage 1'!J54,'Stage 2'!J54,'Stage 3'!J54,'Stage 4'!J54,'Stage 5'!J54,'Stage 6'!J54,'Stage 7'!J54,'Stage 8'!J54,'Stage 9'!J54,'Stage 10'!J54,'Stage 11'!J54,'Stage 12'!J54)","v":0}]
[{"$f":"IF(AF56=\"Yes\",IF('Shooter Information'!$C$2=\"R\",(SUMPRODUCT(--(AD56>$AD$5:$AD$79),--(\"Yes\"=$AF$5:$AF$79))+1),(SUMPRODUCT(--(AC56>$AC$5:$AC$79),--(\"Yes\"=$AF$5:$AF$79))+1)),0)","v":0},{"$f":"'Shooter Information'!B57","v":0},{"$f":"'Shooter Information'!C57","v":0},{"$f":"IF(AF56=\"Yes\",IF('Shooter Information'!$C$2=\"R\",(SUMPRODUCT(--(C56=$C$5:$C$79),--(AD56>$AD$5:$AD$79),--(\"Yes\"=$AF$5:$AF$79))+1),(SUMPRODUCT(--(C56=$C$5:$C$79),--(AC56>$AC$5:$AC$79),--(\"Yes\"=$AF$5:$AF$79))+1)),0)","v":0},{"$f":"+'Stage 1'!K55","v":0},{"$f":"+'Stage 1'!L55","v":0},{"$f":"+'Stage 2'!K55","v":0},{"$f":"+'Stage 2'!L55","v":0},{"$f":"+'Stage 3'!K55","v":0},{"$f":"+'Stage 3'!L55","v":0},{"$f":"+'Stage 4'!K55","v":0},{"$f":"+'Stage 4'!L55","v":0},{"$f":"+'Stage 5'!K55","v":0},{"$f":"+'Stage 5'!L55","v":0},{"$f":"+'Stage 6'!K55","v":0},{"$f":"+'Stage 6'!L55","v":0},{"$f":"+'Stage 7'!K55","v":0},{"$f":"+'Stage 7'!L55","v":0},{"$f":"+'Stage 8'!K55","v":0},{"$f":"+'Stage 8'!L55","v":0},{"$f":"+'Stage 9'!K55","v":0},{"$f":"+'Stage 9'!L55","v":0},{"$f":"+'Stage 10'!K55","v":0},{"$f":"+'Stage 10'!L55","v":0},{"$f":"+'Stage 11'!K55","v":0},{"$f":"+'Stage 11'!L55","v":0},{"$f":"+'Stage 12'!K55","v":0},{"$f":"+'Stage 12'!L55","v":0},{"$f":"MIN(+E56+G56+I56+K56+M56+O56+Q56+S56+U56+W56+Y56+AA56,9999.99)","v":0},{"$f":"+F56+H56+J56+L56+N56+P56+R56+T56+V56+X56+Z56+AB56","v":0},{"$f":"IF('Shooter Information'!H57=1,\"MDQ\",IF(OR('Shooter Information'!B57=\"\",ISBLANK('Shooter Information'!B57)),,IF(SUM('Stage 1'!O55,'Stage 2'!O55,'Stage 3'!O55,'Stage 4'!O55,'Stage 5'!O55,'Stage 6'!O55,'Stage 7'!O55,'Stage 8'!O55,'Stage 9'!O55,'Stage 10'!O55,'Stage 11'!O55,'Stage 12'!O55)=0,\"Yes\",\"No\")))","v":0},{"$f":"IF('Shooter Information'!H57=1,\"No\",IF(OR('Shooter Information'!B57=\"\",ISBLANK('Shooter Information'!B57)),,IF(((AK56+AL56)>=2),\"No\",\"Yes\")))","v":0},{"$f":"IF(AC56=0,99999,AC56)","v":99999},{"$f":"IF(AD56=0,99999,AD56)","v":99999},{"$f":"IF(ISBLANK('Shooter Information'!C57),\"ZZZZZZZZZZ\",C56)","v":"ZZZZZZZZZZ"},{"$f":"CELL(\"row\",'Shooter Information'!B57)","v":57},{"$f":"SUM('Stage 1'!I55,'Stage 2'!I55,'Stage 3'!I55,'Stage 4'!I55,'Stage 5'!I55,'Stage 6'!I55,'Stage 7'!I55,'Stage 8'!I55,'Stage 9'!I55,'Stage 10'!I55,'Stage 11'!I55,'Stage 12'!I55)","v":0},{"$f":"SUM('Stage 1'!J55,'Stage 2'!J55,'Stage 3'!J55,'Stage 4'!J55,'Stage 5'!J55,'Stage 6'!J55,'Stage 7'!J55,'Stage 8'!J55,'Stage 9'!J55,'Stage 10'!J55,'Stage 11'!J55,'Stage 12'!J55)","v":0}]
[{"$f":"IF(AF57=\"Yes\",IF('Shooter Information'!$C$2=\"R\",(SUMPRODUCT(--(AD57>$AD$5:$AD$79),--(\"Yes\"=$AF$5:$AF$79))+1),(SUMPRODUCT(--(AC57>$AC$5:$AC$79),--(\"Yes\"=$AF$5:$AF$79))+1)),0)","v":0},{"$f":"'Shooter Information'!B58","v":0},{"$f":"'Shooter Information'!C58","v":0},{"$f":"IF(AF57=\"Yes\",IF('Shooter Information'!$C$2=\"R\",(SUMPRODUCT(--(C57=$C$5:$C$79),--(AD57>$AD$5:$AD$79),--(\"Yes\"=$AF$5:$AF$79))+1),(SUMPRODUCT(--(C57=$C$5:$C$79),--(AC57>$AC$5:$AC$79),--(\"Yes\"=$AF$5:$AF$79))+1)),0)","v":0},{"$f":"+'Stage 1'!K56","v":0},{"$f":"+'Stage 1'!L56","v":0},{"$f":"+'Stage 2'!K56","v":0},{"$f":"+'Stage 2'!L56","v":0},{"$f":"+'Stage 3'!K56","v":0},{"$f":"+'Stage 3'!L56","v":0},{"$f":"+'Stage 4'!K56","v":0},{"$f":"+'Stage 4'!L56","v":0},{"$f":"+'Stage 5'!K56","v":0},{"$f":"+'Stage 5'!L56","v":0},{"$f":"+'Stage 6'!K56","v":0},{"$f":"+'Stage 6'!L56","v":0},{"$f":"+'Stage 7'!K56","v":0},{"$f":"+'Stage 7'!L56","v":0},{"$f":"+'Stage 8'!K56","v":0},{"$f":"+'Stage 8'!L56","v":0},{"$f":"+'Stage 9'!K56","v":0},{"$f":"+'Stage 9'!L56","v":0},{"$f":"+'Stage 10'!K56","v":0},{"$f":"+'Stage 10'!L56","v":0},{"$f":"+'Stage 11'!K56","v":0},{"$f":"+'Stage 11'!L56","v":0},{"$f":"+'Stage 12'!K56","v":0},{"$f":"+'Stage 12'!L56","v":0},{"$f":"MIN(+E57+G57+I57+K57+M57+O57+Q57+S57+U57+W57+Y57+AA57,9999.99)","v":0},{"$f":"+F57+H57+J57+L57+N57+P57+R57+T57+V57+X57+Z57+AB57","v":0},{"$f":"IF('Shooter Information'!H58=1,\"MDQ\",IF(OR('Shooter Information'!B58=\"\",ISBLANK('Shooter Information'!B58)),,IF(SUM('Stage 1'!O56,'Stage 2'!O56,'Stage 3'!O56,'Stage 4'!O56,'Stage 5'!O56,'Stage 6'!O56,'Stage 7'!O56,'Stage 8'!O56,'Stage 9'!O56,'Stage 10'!O56,'Stage 11'!O56,'Stage 12'!O56)=0,\"Yes\",\"No\")))","v":0},{"$f":"IF('Shooter Information'!H58=1,\"No\",IF(OR('Shooter Information'!B58=\"\",ISBLANK('Shooter Information'!B58)),,IF(((AK57+AL57)>=2),\"No\",\"Yes\")))","v":0},{"$f":"IF(AC57=0,99999,AC57)","v":99999},{"$f":"IF(AD57=0,99999,AD57)","v":99999},{"$f":"IF(ISBLANK('Shooter Information'!C58),\"ZZZZZZZZZZ\",C57)","v":"ZZZZZZZZZZ"},{"$f":"CELL(\"row\",'Shooter Information'!B58)","v":58},{"$f":"SUM('Stage 1'!I56,'Stage 2'!I56,'Stage 3'!I56,'Stage 4'!I56,'Stage 5'!I56,'Stage 6'!I56,'Stage 7'!I56,'Stage 8'!I56,'Stage 9'!I56,'Stage 10'!I56,'Stage 11'!I56,'Stage 12'!I56)","v":0},{"$f":"SUM('Stage 1'!J56,'Stage 2'!J56,'Stage 3'!J56,'Stage 4'!J56,'Stage 5'!J56,'Stage 6'!J56,'Stage 7'!J56,'Stage 8'!J56,'Stage 9'!J56,'Stage 10'!J56,'Stage 11'!J56,'Stage 12'!J56)","v":0}]
[{"$f":"IF(AF58=\"Yes\",IF('Shooter Information'!$C$2=\"R\",(SUMPRODUCT(--(AD58>$AD$5:$AD$79),--(\"Yes\"=$AF$5:$AF$79))+1),(SUMPRODUCT(--(AC58>$AC$5:$AC$79),--(\"Yes\"=$AF$5:$AF$79))+1)),0)","v":0},{"$f":"'Shooter Information'!B59","v":0},{"$f":"'Shooter Information'!C59","v":0},{"$f":"IF(AF58=\"Yes\",IF('Shooter Information'!$C$2=\"R\",(SUMPRODUCT(--(C58=$C$5:$C$79),--(AD58>$AD$5:$AD$79),--(\"Yes\"=$AF$5:$AF$79))+1),(SUMPRODUCT(--(C58=$C$5:$C$79),--(AC58>$AC$5:$AC$79),--(\"Yes\"=$AF$5:$AF$79))+1)),0)","v":0},{"$f":"+'Stage 1'!K57","v":0},{"$f":"+'Stage 1'!L57","v":0},{"$f":"+'Stage 2'!K57","v":0},{"$f":"+'Stage 2'!L57","v":0},{"$f":"+'Stage 3'!K57","v":0},{"$f":"+'Stage 3'!L57","v":0},{"$f":"+'Stage 4'!K57","v":0},{"$f":"+'Stage 4'!L57","v":0},{"$f":"+'Stage 5'!K57","v":0},{"$f":"+'Stage 5'!L57","v":0},{"$f":"+'Stage 6'!K57","v":0},{"$f":"+'Stage 6'!L57","v":0},{"$f":"+'Stage 7'!K57","v":0},{"$f":"+'Stage 7'!L57","v":0},{"$f":"+'Stage 8'!K57","v":0},{"$f":"+'Stage 8'!L57","v":0},{"$f":"+'Stage 9'!K57","v":0},{"$f":"+'Stage 9'!L57","v":0},{"$f":"+'Stage 10'!K57","v":0},{"$f":"+'Stage 10'!L57","v":0},{"$f":"+'Stage 11'!K57","v":0},{"$f":"+'Stage 11'!L57","v":0},{"$f":"+'Stage 12'!K57","v":0},{"$f":"+'Stage 12'!L57","v":0},{"$f":"MIN(+E58+G58+I58+K58+M58+O58+Q58+S58+U58+W58+Y58+AA58,9999.99)","v":0},{"$f":"+F58+H58+J58+L58+N58+P58+R58+T58+V58+X58+Z58+AB58","v":0},{"$f":"IF('Shooter Information'!H59=1,\"MDQ\",IF(OR('Shooter Information'!B59=\"\",ISBLANK('Shooter Information'!B59)),,IF(SUM('Stage 1'!O57,'Stage 2'!O57,'Stage 3'!O57,'Stage 4'!O57,'Stage 5'!O57,'Stage 6'!O57,'Stage 7'!O57,'Stage 8'!O57,'Stage 9'!O57,'Stage 10'!O57,'Stage 11'!O57,'Stage 12'!O57)=0,\"Yes\",\"No\")))","v":0},{"$f":"IF('Shooter Information'!H59=1,\"No\",IF(OR('Shooter Information'!B59=\"\",ISBLANK('Shooter Information'!B59)),,IF(((AK58+AL58)>=2),\"No\",\"Yes\")))","v":0},{"$f":"IF(AC58=0,99999,AC58)","v":99999},{"$f":"IF(AD58=0,99999,AD58)","v":99999},{"$f":"IF(ISBLANK('Shooter Information'!C59),\"ZZZZZZZZZZ\",C58)","v":"ZZZZZZZZZZ"},{"$f":"CELL(\"row\",'Shooter Information'!B59)","v":59},{"$f":"SUM('Stage 1'!I57,'Stage 2'!I57,'Stage 3'!I57,'Stage 4'!I57,'Stage 5'!I57,'Stage 6'!I57,'Stage 7'!I57,'Stage 8'!I57,'Stage 9'!I57,'Stage 10'!I57,'Stage 11'!I57,'Stage 12'!I57)","v":0},{"$f":"SUM('Stage 1'!J57,'Stage 2'!J57,'Stage 3'!J57,'Stage 4'!J57,'Stage 5'!J57,'Stage 6'!J57,'Stage 7'!J57,'Stage 8'!J57,'Stage 9'!J57,'Stage 10'!J57,'Stage 11'!J57,'Stage 12'!J57)","v":0}]
[{"$f":"IF(AF59=\"Yes\",IF('Shooter Information'!$C$2=\"R\",(SUMPRODUCT(--(AD59>$AD$5:$AD$79),--(\"Yes\"=$AF$5:$AF$79))+1),(SUMPRODUCT(--(AC59>$AC$5:$AC$79),--(\"Yes\"=$AF$5:$AF$79))+1)),0)","v":0},{"$f":"'Shooter Information'!B60","v":0},{"$f":"'Shooter Information'!C60","v":0},{"$f":"IF(AF59=\"Yes\",IF('Shooter Information'!$C$2=\"R\",(SUMPRODUCT(--(C59=$C$5:$C$79),--(AD59>$AD$5:$AD$79),--(\"Yes\"=$AF$5:$AF$79))+1),(SUMPRODUCT(--(C59=$C$5:$C$79),--(AC59>$AC$5:$AC$79),--(\"Yes\"=$AF$5:$AF$79))+1)),0)","v":0},{"$f":"+'Stage 1'!K58","v":0},{"$f":"+'Stage 1'!L58","v":0},{"$f":"+'Stage 2'!K58","v":0},{"$f":"+'Stage 2'!L58","v":0},{"$f":"+'Stage 3'!K58","v":0},{"$f":"+'Stage 3'!L58","v":0},{"$f":"+'Stage 4'!K58","v":0},{"$f":"+'Stage 4'!L58","v":0},{"$f":"+'Stage 5'!K58","v":0},{"$f":"+'Stage 5'!L58","v":0},{"$f":"+'Stage 6'!K58","v":0},{"$f":"+'Stage 6'!L58","v":0},{"$f":"+'Stage 7'!K58","v":0},{"$f":"+'Stage 7'!L58","v":0},{"$f":"+'Stage 8'!K58","v":0},{"$f":"+'Stage 8'!L58","v":0},{"$f":"+'Stage 9'!K58","v":0},{"$f":"+'Stage 9'!L58","v":0},{"$f":"+'Stage 10'!K58","v":0},{"$f":"+'Stage 10'!L58","v":0},{"$f":"+'Stage 11'!K58","v":0},{"$f":"+'Stage 11'!L58","v":0},{"$f":"+'Stage 12'!K58","v":0},{"$f":"+'Stage 12'!L58","v":0},{"$f":"MIN(+E59+G59+I59+K59+M59+O59+Q59+S59+U59+W59+Y59+AA59,9999.99)","v":0},{"$f":"+F59+H59+J59+L59+N59+P59+R59+T59+V59+X59+Z59+AB59","v":0},{"$f":"IF('Shooter Information'!H60=1,\"MDQ\",IF(OR('Shooter Information'!B60=\"\",ISBLANK('Shooter Information'!B60)),,IF(SUM('Stage 1'!O58,'Stage 2'!O58,'Stage 3'!O58,'Stage 4'!O58,'Stage 5'!O58,'Stage 6'!O58,'Stage 7'!O58,'Stage 8'!O58,'Stage 9'!O58,'Stage 10'!O58,'Stage 11'!O58,'Stage 12'!O58)=0,\"Yes\",\"No\")))","v":0},{"$f":"IF('Shooter Information'!H60=1,\"No\",IF(OR('Shooter Information'!B60=\"\",ISBLANK('Shooter Information'!B60)),,IF(((AK59+AL59)>=2),\"No\",\"Yes\")))","v":0},{"$f":"IF(AC59=0,99999,AC59)","v":99999},{"$f":"IF(AD59=0,99999,AD59)","v":99999},{"$f":"IF(ISBLANK('Shooter Information'!C60),\"ZZZZZZZZZZ\",C59)","v":"ZZZZZZZZZZ"},{"$f":"CELL(\"row\",'Shooter Information'!B60)","v":60},{"$f":"SUM('Stage 1'!I58,'Stage 2'!I58,'Stage 3'!I58,'Stage 4'!I58,'Stage 5'!I58,'Stage 6'!I58,'Stage 7'!I58,'Stage 8'!I58,'Stage 9'!I58,'Stage 10'!I58,'Stage 11'!I58,'Stage 12'!I58)","v":0},{"$f":"SUM('Stage 1'!J58,'Stage 2'!J58,'Stage 3'!J58,'Stage 4'!J58,'Stage 5'!J58,'Stage 6'!J58,'Stage 7'!J58,'Stage 8'!J58,'Stage 9'!J58,'Stage 10'!J58,'Stage 11'!J58,'Stage 12'!J58)","v":0}]
[{"$f":"IF(AF60=\"Yes\",IF('Shooter Information'!$C$2=\"R\",(SUMPRODUCT(--(AD60>$AD$5:$AD$79),--(\"Yes\"=$AF$5:$AF$79))+1),(SUMPRODUCT(--(AC60>$AC$5:$AC$79),--(\"Yes\"=$AF$5:$AF$79))+1)),0)","v":0},{"$f":"'Shooter Information'!B61","v":0},{"$f":"'Shooter Information'!C61","v":0},{"$f":"IF(AF60=\"Yes\",IF('Shooter Information'!$C$2=\"R\",(SUMPRODUCT(--(C60=$C$5:$C$79),--(AD60>$AD$5:$AD$79),--(\"Yes\"=$AF$5:$AF$79))+1),(SUMPRODUCT(--(C60=$C$5:$C$79),--(AC60>$AC$5:$AC$79),--(\"Yes\"=$AF$5:$AF$79))+1)),0)","v":0},{"$f":"+'Stage 1'!K59","v":0},{"$f":"+'Stage 1'!L59","v":0},{"$f":"+'Stage 2'!K59","v":0},{"$f":"+'Stage 2'!L59","v":0},{"$f":"+'Stage 3'!K59","v":0},{"$f":"+'Stage 3'!L59","v":0},{"$f":"+'Stage 4'!K59","v":0},{"$f":"+'Stage 4'!L59","v":0},{"$f":"+'Stage 5'!K59","v":0},{"$f":"+'Stage 5'!L59","v":0},{"$f":"+'Stage 6'!K59","v":0},{"$f":"+'Stage 6'!L59","v":0},{"$f":"+'Stage 7'!K59","v":0},{"$f":"+'Stage 7'!L59","v":0},{"$f":"+'Stage 8'!K59","v":0},{"$f":"+'Stage 8'!L59","v":0},{"$f":"+'Stage 9'!K59","v":0},{"$f":"+'Stage 9'!L59","v":0},{"$f":"+'Stage 10'!K59","v":0},{"$f":"+'Stage 10'!L59","v":0},{"$f":"+'Stage 11'!K59","v":0},{"$f":"+'Stage 11'!L59","v":0},{"$f":"+'Stage 12'!K59","v":0},{"$f":"+'Stage 12'!L59","v":0},{"$f":"MIN(+E60+G60+I60+K60+M60+O60+Q60+S60+U60+W60+Y60+AA60,9999.99)","v":0},{"$f":"+F60+H60+J60+L60+N60+P60+R60+T60+V60+X60+Z60+AB60","v":0},{"$f":"IF('Shooter Information'!H61=1,\"MDQ\",IF(OR('Shooter Information'!B61=\"\",ISBLANK('Shooter Information'!B61)),,IF(SUM('Stage 1'!O59,'Stage 2'!O59,'Stage 3'!O59,'Stage 4'!O59,'Stage 5'!O59,'Stage 6'!O59,'Stage 7'!O59,'Stage 8'!O59,'Stage 9'!O59,'Stage 10'!O59,'Stage 11'!O59,'Stage 12'!O59)=0,\"Yes\",\"No\")))","v":0},{"$f":"IF('Shooter Information'!H61=1,\"No\",IF(OR('Shooter Information'!B61=\"\",ISBLANK('Shooter Information'!B61)),,IF(((AK60+AL60)>=2),\"No\",\"Yes\")))","v":0},{"$f":"IF(AC60=0,99999,AC60)","v":99999},{"$f":"IF(AD60=0,99999,AD60)","v":99999},{"$f":"IF(ISBLANK('Shooter Information'!C61),\"ZZZZZZZZZZ\",C60)","v":"ZZZZZZZZZZ"},{"$f":"CELL(\"row\",'Shooter Information'!B61)","v":61},{"$f":"SUM('Stage 1'!I59,'Stage 2'!I59,'Stage 3'!I59,'Stage 4'!I59,'Stage 5'!I59,'Stage 6'!I59,'Stage 7'!I59,'Stage 8'!I59,'Stage 9'!I59,'Stage 10'!I59,'Stage 11'!I59,'Stage 12'!I59)","v":0},{"$f":"SUM('Stage 1'!J59,'Stage 2'!J59,'Stage 3'!J59,'Stage 4'!J59,'Stage 5'!J59,'Stage 6'!J59,'Stage 7'!J59,'Stage 8'!J59,'Stage 9'!J59,'Stage 10'!J59,'Stage 11'!J59,'Stage 12'!J59)","v":0}]
[{"$f":"IF(AF61=\"Yes\",IF('Shooter Information'!$C$2=\"R\",(SUMPRODUCT(--(AD61>$AD$5:$AD$79),--(\"Yes\"=$AF$5:$AF$79))+1),(SUMPRODUCT(--(AC61>$AC$5:$AC$79),--(\"Yes\"=$AF$5:$AF$79))+1)),0)","v":0},{"$f":"'Shooter Information'!B62","v":0},{"$f":"'Shooter Information'!C62","v":0},{"$f":"IF(AF61=\"Yes\",IF('Shooter Information'!$C$2=\"R\",(SUMPRODUCT(--(C61=$C$5:$C$79),--(AD61>$AD$5:$AD$79),--(\"Yes\"=$AF$5:$AF$79))+1),(SUMPRODUCT(--(C61=$C$5:$C$79),--(AC61>$AC$5:$AC$79),--(\"Yes\"=$AF$5:$AF$79))+1)),0)","v":0},{"$f":"+'Stage 1'!K60","v":0},{"$f":"+'Stage 1'!L60","v":0},{"$f":"+'Stage 2'!K60","v":0},{"$f":"+'Stage 2'!L60","v":0},{"$f":"+'Stage 3'!K60","v":0},{"$f":"+'Stage 3'!L60","v":0},{"$f":"+'Stage 4'!K60","v":0},{"$f":"+'Stage 4'!L60","v":0},{"$f":"+'Stage 5'!K60","v":0},{"$f":"+'Stage 5'!L60","v":0},{"$f":"+'Stage 6'!K60","v":0},{"$f":"+'Stage 6'!L60","v":0},{"$f":"+'Stage 7'!K60","v":0},{"$f":"+'Stage 7'!L60","v":0},{"$f":"+'Stage 8'!K60","v":0},{"$f":"+'Stage 8'!L60","v":0},{"$f":"+'Stage 9'!K60","v":0},{"$f":"+'Stage 9'!L60","v":0},{"$f":"+'Stage 10'!K60","v":0},{"$f":"+'Stage 10'!L60","v":0},{"$f":"+'Stage 11'!K60","v":0},{"$f":"+'Stage 11'!L60","v":0},{"$f":"+'Stage 12'!K60","v":0},{"$f":"+'Stage 12'!L60","v":0},{"$f":"MIN(+E61+G61+I61+K61+M61+O61+Q61+S61+U61+W61+Y61+AA61,9999.99)","v":0},{"$f":"+F61+H61+J61+L61+N61+P61+R61+T61+V61+X61+Z61+AB61","v":0},{"$f":"IF('Shooter Information'!H62=1,\"MDQ\",IF(OR('Shooter Information'!B62=\"\",ISBLANK('Shooter Information'!B62)),,IF(SUM('Stage 1'!O60,'Stage 2'!O60,'Stage 3'!O60,'Stage 4'!O60,'Stage 5'!O60,'Stage 6'!O60,'Stage 7'!O60,'Stage 8'!O60,'Stage 9'!O60,'Stage 10'!O60,'Stage 11'!O60,'Stage 12'!O60)=0,\"Yes\",\"No\")))","v":0},{"$f":"IF('Shooter Information'!H62=1,\"No\",IF(OR('Shooter Information'!B62=\"\",ISBLANK('Shooter Information'!B62)),,IF(((AK61+AL61)>=2),\"No\",\"Yes\")))","v":0},{"$f":"IF(AC61=0,99999,AC61)","v":99999},{"$f":"IF(AD61=0,99999,AD61)","v":99999},{"$f":"IF(ISBLANK('Shooter Information'!C62),\"ZZZZZZZZZZ\",C61)","v":"ZZZZZZZZZZ"},{"$f":"CELL(\"row\",'Shooter Information'!B62)","v":62},{"$f":"SUM('Stage 1'!I60,'Stage 2'!I60,'Stage 3'!I60,'Stage 4'!I60,'Stage 5'!I60,'Stage 6'!I60,'Stage 7'!I60,'Stage 8'!I60,'Stage 9'!I60,'Stage 10'!I60,'Stage 11'!I60,'Stage 12'!I60)","v":0},{"$f":"SUM('Stage 1'!J60,'Stage 2'!J60,'Stage 3'!J60,'Stage 4'!J60,'Stage 5'!J60,'Stage 6'!J60,'Stage 7'!J60,'Stage 8'!J60,'Stage 9'!J60,'Stage 10'!J60,'Stage 11'!J60,'Stage 12'!J60)","v":0}]
[{"$f":"IF(AF62=\"Yes\",IF('Shooter Information'!$C$2=\"R\",(SUMPRODUCT(--(AD62>$AD$5:$AD$79),--(\"Yes\"=$AF$5:$AF$79))+1),(SUMPRODUCT(--(AC62>$AC$5:$AC$79),--(\"Yes\"=$AF$5:$AF$79))+1)),0)","v":0},{"$f":"'Shooter Information'!B63","v":0},{"$f":"'Shooter Information'!C63","v":0},{"$f":"IF(AF62=\"Yes\",IF('Shooter Information'!$C$2=\"R\",(SUMPRODUCT(--(C62=$C$5:$C$79),--(AD62>$AD$5:$AD$79),--(\"Yes\"=$AF$5:$AF$79))+1),(SUMPRODUCT(--(C62=$C$5:$C$79),--(AC62>$AC$5:$AC$79),--(\"Yes\"=$AF$5:$AF$79))+1)),0)","v":0},{"$f":"+'Stage 1'!K61","v":0},{"$f":"+'Stage 1'!L61","v":0},{"$f":"+'Stage 2'!K61","v":0},{"$f":"+'Stage 2'!L61","v":0},{"$f":"+'Stage 3'!K61","v":0},{"$f":"+'Stage 3'!L61","v":0},{"$f":"+'Stage 4'!K61","v":0},{"$f":"+'Stage 4'!L61","v":0},{"$f":"+'Stage 5'!K61","v":0},{"$f":"+'Stage 5'!L61","v":0},{"$f":"+'Stage 6'!K61","v":0},{"$f":"+'Stage 6'!L61","v":0},{"$f":"+'Stage 7'!K61","v":0},{"$f":"+'Stage 7'!L61","v":0},{"$f":"+'Stage 8'!K61","v":0},{"$f":"+'Stage 8'!L61","v":0},{"$f":"+'Stage 9'!K61","v":0},{"$f":"+'Stage 9'!L61","v":0},{"$f":"+'Stage 10'!K61","v":0},{"$f":"+'Stage 10'!L61","v":0},{"$f":"+'Stage 11'!K61","v":0},{"$f":"+'Stage 11'!L61","v":0},{"$f":"+'Stage 12'!K61","v":0},{"$f":"+'Stage 12'!L61","v":0},{"$f":"MIN(+E62+G62+I62+K62+M62+O62+Q62+S62+U62+W62+Y62+AA62,9999.99)","v":0},{"$f":"+F62+H62+J62+L62+N62+P62+R62+T62+V62+X62+Z62+AB62","v":0},{"$f":"IF('Shooter Information'!H63=1,\"MDQ\",IF(OR('Shooter Information'!B63=\"\",ISBLANK('Shooter Information'!B63)),,IF(SUM('Stage 1'!O61,'Stage 2'!O61,'Stage 3'!O61,'Stage 4'!O61,'Stage 5'!O61,'Stage 6'!O61,'Stage 7'!O61,'Stage 8'!O61,'Stage 9'!O61,'Stage 10'!O61,'Stage 11'!O61,'Stage 12'!O61)=0,\"Yes\",\"No\")))","v":0},{"$f":"IF('Shooter Information'!H63=1,\"No\",IF(OR('Shooter Information'!B63=\"\",ISBLANK('Shooter Information'!B63)),,IF(((AK62+AL62)>=2),\"No\",\"Yes\")))","v":0},{"$f":"IF(AC62=0,99999,AC62)","v":99999},{"$f":"IF(AD62=0,99999,AD62)","v":99999},{"$f":"IF(ISBLANK('Shooter Information'!C63),\"ZZZZZZZZZZ\",C62)","v":"ZZZZZZZZZZ"},{"$f":"CELL(\"row\",'Shooter Information'!B63)","v":63},{"$f":"SUM('Stage 1'!I61,'Stage 2'!I61,'Stage 3'!I61,'Stage 4'!I61,'Stage 5'!I61,'Stage 6'!I61,'Stage 7'!I61,'Stage 8'!I61,'Stage 9'!I61,'Stage 10'!I61,'Stage 11'!I61,'Stage 12'!I61)","v":0},{"$f":"SUM('Stage 1'!J61,'Stage 2'!J61,'Stage 3'!J61,'Stage 4'!J61,'Stage 5'!J61,'Stage 6'!J61,'Stage 7'!J61,'Stage 8'!J61,'Stage 9'!J61,'Stage 10'!J61,'Stage 11'!J61,'Stage 12'!J61)","v":0}]
[{"$f":"IF(AF63=\"Yes\",IF('Shooter Information'!$C$2=\"R\",(SUMPRODUCT(--(AD63>$AD$5:$AD$79),--(\"Yes\"=$AF$5:$AF$79))+1),(SUMPRODUCT(--(AC63>$AC$5:$AC$79),--(\"Yes\"=$AF$5:$AF$79))+1)),0)","v":0},{"$f":"'Shooter Information'!B64","v":0},{"$f":"'Shooter Information'!C64","v":0},{"$f":"IF(AF63=\"Yes\",IF('Shooter Information'!$C$2=\"R\",(SUMPRODUCT(--(C63=$C$5:$C$79),--(AD63>$AD$5:$AD$79),--(\"Yes\"=$AF$5:$AF$79))+1),(SUMPRODUCT(--(C63=$C$5:$C$79),--(AC63>$AC$5:$AC$79),--(\"Yes\"=$AF$5:$AF$79))+1)),0)","v":0},{"$f":"+'Stage 1'!K62","v":0},{"$f":"+'Stage 1'!L62","v":0},{"$f":"+'Stage 2'!K62","v":0},{"$f":"+'Stage 2'!L62","v":0},{"$f":"+'Stage 3'!K62","v":0},{"$f":"+'Stage 3'!L62","v":0},{"$f":"+'Stage 4'!K62","v":0},{"$f":"+'Stage 4'!L62","v":0},{"$f":"+'Stage 5'!K62","v":0},{"$f":"+'Stage 5'!L62","v":0},{"$f":"+'Stage 6'!K62","v":0},{"$f":"+'Stage 6'!L62","v":0},{"$f":"+'Stage 7'!K62","v":0},{"$f":"+'Stage 7'!L62","v":0},{"$f":"+'Stage 8'!K62","v":0},{"$f":"+'Stage 8'!L62","v":0},{"$f":"+'Stage 9'!K62","v":0},{"$f":"+'Stage 9'!L62","v":0},{"$f":"+'Stage 10'!K62","v":0},{"$f":"+'Stage 10'!L62","v":0},{"$f":"+'Stage 11'!K62","v":0},{"$f":"+'Stage 11'!L62","v":0},{"$f":"+'Stage 12'!K62","v":0},{"$f":"+'Stage 12'!L62","v":0},{"$f":"MIN(+E63+G63+I63+K63+M63+O63+Q63+S63+U63+W63+Y63+AA63,9999.99)","v":0},{"$f":"+F63+H63+J63+L63+N63+P63+R63+T63+V63+X63+Z63+AB63","v":0},{"$f":"IF('Shooter Information'!H64=1,\"MDQ\",IF(OR('Shooter Information'!B64=\"\",ISBLANK('Shooter Information'!B64)),,IF(SUM('Stage 1'!O62,'Stage 2'!O62,'Stage 3'!O62,'Stage 4'!O62,'Stage 5'!O62,'Stage 6'!O62,'Stage 7'!O62,'Stage 8'!O62,'Stage 9'!O62,'Stage 10'!O62,'Stage 11'!O62,'Stage 12'!O62)=0,\"Yes\",\"No\")))","v":0},{"$f":"IF('Shooter Information'!H64=1,\"No\",IF(OR('Shooter Information'!B64=\"\",ISBLANK('Shooter Information'!B64)),,IF(((AK63+AL63)>=2),\"No\",\"Yes\")))","v":0},{"$f":"IF(AC63=0,99999,AC63)","v":99999},{"$f":"IF(AD63=0,99999,AD63)","v":99999},{"$f":"IF(ISBLANK('Shooter Information'!C64),\"ZZZZZZZZZZ\",C63)","v":"ZZZZZZZZZZ"},{"$f":"CELL(\"row\",'Shooter Information'!B64)","v":64},{"$f":"SUM('Stage 1'!I62,'Stage 2'!I62,'Stage 3'!I62,'Stage 4'!I62,'Stage 5'!I62,'Stage 6'!I62,'Stage 7'!I62,'Stage 8'!I62,'Stage 9'!I62,'Stage 10'!I62,'Stage 11'!I62,'Stage 12'!I62)","v":0},{"$f":"SUM('Stage 1'!J62,'Stage 2'!J62,'Stage 3'!J62,'Stage 4'!J62,'Stage 5'!J62,'Stage 6'!J62,'Stage 7'!J62,'Stage 8'!J62,'Stage 9'!J62,'Stage 10'!J62,'Stage 11'!J62,'Stage 12'!J62)","v":0}]
[{"$f":"IF(AF64=\"Yes\",IF('Shooter Information'!$C$2=\"R\",(SUMPRODUCT(--(AD64>$AD$5:$AD$79),--(\"Yes\"=$AF$5:$AF$79))+1),(SUMPRODUCT(--(AC64>$AC$5:$AC$79),--(\"Yes\"=$AF$5:$AF$79))+1)),0)","v":0},{"$f":"'Shooter Information'!B65","v":0},{"$f":"'Shooter Information'!C65","v":0},{"$f":"IF(AF64=\"Yes\",IF('Shooter Information'!$C$2=\"R\",(SUMPRODUCT(--(C64=$C$5:$C$79),--(AD64>$AD$5:$AD$79),--(\"Yes\"=$AF$5:$AF$79))+1),(SUMPRODUCT(--(C64=$C$5:$C$79),--(AC64>$AC$5:$AC$79),--(\"Yes\"=$AF$5:$AF$79))+1)),0)","v":0},{"$f":"+'Stage 1'!K63","v":0},{"$f":"+'Stage 1'!L63","v":0},{"$f":"+'Stage 2'!K63","v":0},{"$f":"+'Stage 2'!L63","v":0},{"$f":"+'Stage 3'!K63","v":0},{"$f":"+'Stage 3'!L63","v":0},{"$f":"+'Stage 4'!K63","v":0},{"$f":"+'Stage 4'!L63","v":0},{"$f":"+'Stage 5'!K63","v":0},{"$f":"+'Stage 5'!L63","v":0},{"$f":"+'Stage 6'!K63","v":0},{"$f":"+'Stage 6'!L63","v":0},{"$f":"+'Stage 7'!K63","v":0},{"$f":"+'Stage 7'!L63","v":0},{"$f":"+'Stage 8'!K63","v":0},{"$f":"+'Stage 8'!L63","v":0},{"$f":"+'Stage 9'!K63","v":0},{"$f":"+'Stage 9'!L63","v":0},{"$f":"+'Stage 10'!K63","v":0},{"$f":"+'Stage 10'!L63","v":0},{"$f":"+'Stage 11'!K63","v":0},{"$f":"+'Stage 11'!L63","v":0},{"$f":"+'Stage 12'!K63","v":0},{"$f":"+'Stage 12'!L63","v":0},{"$f":"MIN(+E64+G64+I64+K64+M64+O64+Q64+S64+U64+W64+Y64+AA64,9999.99)","v":0},{"$f":"+F64+H64+J64+L64+N64+P64+R64+T64+V64+X64+Z64+AB64","v":0},{"$f":"IF('Shooter Information'!H65=1,\"MDQ\",IF(OR('Shooter Information'!B65=\"\",ISBLANK('Shooter Information'!B65)),,IF(SUM('Stage 1'!O63,'Stage 2'!O63,'Stage 3'!O63,'Stage 4'!O63,'Stage 5'!O63,'Stage 6'!O63,'Stage 7'!O63,'Stage 8'!O63,'Stage 9'!O63,'Stage 10'!O63,'Stage 11'!O63,'Stage 12'!O63)=0,\"Yes\",\"No\")))","v":0},{"$f":"IF('Shooter Information'!H65=1,\"No\",IF(OR('Shooter Information'!B65=\"\",ISBLANK('Shooter Information'!B65)),,IF(((AK64+AL64)>=2),\"No\",\"Yes\")))","v":0},{"$f":"IF(AC64=0,99999,AC64)","v":99999},{"$f":"IF(AD64=0,99999,AD64)","v":99999},{"$f":"IF(ISBLANK('Shooter Information'!C65),\"ZZZZZZZZZZ\",C64)","v":"ZZZZZZZZZZ"},{"$f":"CELL(\"row\",'Shooter Information'!B65)","v":65},{"$f":"SUM('Stage 1'!I63,'Stage 2'!I63,'Stage 3'!I63,'Stage 4'!I63,'Stage 5'!I63,'Stage 6'!I63,'Stage 7'!I63,'Stage 8'!I63,'Stage 9'!I63,'Stage 10'!I63,'Stage 11'!I63,'Stage 12'!I63)","v":0},{"$f":"SUM('Stage 1'!J63,'Stage 2'!J63,'Stage 3'!J63,'Stage 4'!J63,'Stage 5'!J63,'Stage 6'!J63,'Stage 7'!J63,'Stage 8'!J63,'Stage 9'!J63,'Stage 10'!J63,'Stage 11'!J63,'Stage 12'!J63)","v":0}]
[{"$f":"IF(AF65=\"Yes\",IF('Shooter Information'!$C$2=\"R\",(SUMPRODUCT(--(AD65>$AD$5:$AD$79),--(\"Yes\"=$AF$5:$AF$79))+1),(SUMPRODUCT(--(AC65>$AC$5:$AC$79),--(\"Yes\"=$AF$5:$AF$79))+1)),0)","v":0},{"$f":"'Shooter Information'!B66","v":0},{"$f":"'Shooter Information'!C66","v":0},{"$f":"IF(AF65=\"Yes\",IF('Shooter Information'!$C$2=\"R\",(SUMPRODUCT(--(C65=$C$5:$C$79),--(AD65>$AD$5:$AD$79),--(\"Yes\"=$AF$5:$AF$79))+1),(SUMPRODUCT(--(C65=$C$5:$C$79),--(AC65>$AC$5:$AC$79),--(\"Yes\"=$AF$5:$AF$79))+1)),0)","v":0},{"$f":"+'Stage 1'!K64","v":0},{"$f":"+'Stage 1'!L64","v":0},{"$f":"+'Stage 2'!K64","v":0},{"$f":"+'Stage 2'!L64","v":0},{"$f":"+'Stage 3'!K64","v":0},{"$f":"+'Stage 3'!L64","v":0},{"$f":"+'Stage 4'!K64","v":0},{"$f":"+'Stage 4'!L64","v":0},{"$f":"+'Stage 5'!K64","v":0},{"$f":"+'Stage 5'!L64","v":0},{"$f":"+'Stage 6'!K64","v":0},{"$f":"+'Stage 6'!L64","v":0},{"$f":"+'Stage 7'!K64","v":0},{"$f":"+'Stage 7'!L64","v":0},{"$f":"+'Stage 8'!K64","v":0},{"$f":"+'Stage 8'!L64","v":0},{"$f":"+'Stage 9'!K64","v":0},{"$f":"+'Stage 9'!L64","v":0},{"$f":"+'Stage 10'!K64","v":0},{"$f":"+'Stage 10'!L64","v":0},{"$f":"+'Stage 11'!K64","v":0},{"$f":"+'Stage 11'!L64","v":0},{"$f":"+'Stage 12'!K64","v":0},{"$f":"+'Stage 12'!L64","v":0},{"$f":"MIN(+E65+G65+I65+K65+M65+O65+Q65+S65+U65+W65+Y65+AA65,9999.99)","v":0},{"$f":"+F65+H65+J65+L65+N65+P65+R65+T65+V65+X65+Z65+AB65","v":0},{"$f":"IF('Shooter Information'!H66=1,\"MDQ\",IF(OR('Shooter Information'!B66=\"\",ISBLANK('Shooter Information'!B66)),,IF(SUM('Stage 1'!O64,'Stage 2'!O64,'Stage 3'!O64,'Stage 4'!O64,'Stage 5'!O64,'Stage 6'!O64,'Stage 7'!O64,'Stage 8'!O64,'Stage 9'!O64,'Stage 10'!O64,'Stage 11'!O64,'Stage 12'!O64)=0,\"Yes\",\"No\")))","v":0},{"$f":"IF('Shooter Information'!H66=1,\"No\",IF(OR('Shooter Information'!B66=\"\",ISBLANK('Shooter Information'!B66)),,IF(((AK65+AL65)>=2),\"No\",\"Yes\")))","v":0},{"$f":"IF(AC65=0,99999,AC65)","v":99999},{"$f":"IF(AD65=0,99999,AD65)","v":99999},{"$f":"IF(ISBLANK('Shooter Information'!C66),\"ZZZZZZZZZZ\",C65)","v":"ZZZZZZZZZZ"},{"$f":"CELL(\"row\",'Shooter Information'!B66)","v":66},{"$f":"SUM('Stage 1'!I64,'Stage 2'!I64,'Stage 3'!I64,'Stage 4'!I64,'Stage 5'!I64,'Stage 6'!I64,'Stage 7'!I64,'Stage 8'!I64,'Stage 9'!I64,'Stage 10'!I64,'Stage 11'!I64,'Stage 12'!I64)","v":0},{"$f":"SUM('Stage 1'!J64,'Stage 2'!J64,'Stage 3'!J64,'Stage 4'!J64,'Stage 5'!J64,'Stage 6'!J64,'Stage 7'!J64,'Stage 8'!J64,'Stage 9'!J64,'Stage 10'!J64,'Stage 11'!J64,'Stage 12'!J64)","v":0}]
[{"$f":"IF(AF66=\"Yes\",IF('Shooter Information'!$C$2=\"R\",(SUMPRODUCT(--(AD66>$AD$5:$AD$79),--(\"Yes\"=$AF$5:$AF$79))+1),(SUMPRODUCT(--(AC66>$AC$5:$AC$79),--(\"Yes\"=$AF$5:$AF$79))+1)),0)","v":0},{"$f":"'Shooter Information'!B67","v":0},{"$f":"'Shooter Information'!C67","v":0},{"$f":"IF(AF66=\"Yes\",IF('Shooter Information'!$C$2=\"R\",(SUMPRODUCT(--(C66=$C$5:$C$79),--(AD66>$AD$5:$AD$79),--(\"Yes\"=$AF$5:$AF$79))+1),(SUMPRODUCT(--(C66=$C$5:$C$79),--(AC66>$AC$5:$AC$79),--(\"Yes\"=$AF$5:$AF$79))+1)),0)","v":0},{"$f":"+'Stage 1'!K65","v":0},{"$f":"+'Stage 1'!L65","v":0},{"$f":"+'Stage 2'!K65","v":0},{"$f":"+'Stage 2'!L65","v":0},{"$f":"+'Stage 3'!K65","v":0},{"$f":"+'Stage 3'!L65","v":0},{"$f":"+'Stage 4'!K65","v":0},{"$f":"+'Stage 4'!L65","v":0},{"$f":"+'Stage 5'!K65","v":0},{"$f":"+'Stage 5'!L65","v":0},{"$f":"+'Stage 6'!K65","v":0},{"$f":"+'Stage 6'!L65","v":0},{"$f":"+'Stage 7'!K65","v":0},{"$f":"+'Stage 7'!L65","v":0},{"$f":"+'Stage 8'!K65","v":0},{"$f":"+'Stage 8'!L65","v":0},{"$f":"+'Stage 9'!K65","v":0},{"$f":"+'Stage 9'!L65","v":0},{"$f":"+'Stage 10'!K65","v":0},{"$f":"+'Stage 10'!L65","v":0},{"$f":"+'Stage 11'!K65","v":0},{"$f":"+'Stage 11'!L65","v":0},{"$f":"+'Stage 12'!K65","v":0},{"$f":"+'Stage 12'!L65","v":0},{"$f":"MIN(+E66+G66+I66+K66+M66+O66+Q66+S66+U66+W66+Y66+AA66,9999.99)","v":0},{"$f":"+F66+H66+J66+L66+N66+P66+R66+T66+V66+X66+Z66+AB66","v":0},{"$f":"IF('Shooter Information'!H67=1,\"MDQ\",IF(OR('Shooter Information'!B67=\"\",ISBLANK('Shooter Information'!B67)),,IF(SUM('Stage 1'!O65,'Stage 2'!O65,'Stage 3'!O65,'Stage 4'!O65,'Stage 5'!O65,'Stage 6'!O65,'Stage 7'!O65,'Stage 8'!O65,'Stage 9'!O65,'Stage 10'!O65,'Stage 11'!O65,'Stage 12'!O65)=0,\"Yes\",\"No\")))","v":0},{"$f":"IF('Shooter Information'!H67=1,\"No\",IF(OR('Shooter Information'!B67=\"\",ISBLANK('Shooter Information'!B67)),,IF(((AK66+AL66)>=2),\"No\",\"Yes\")))","v":0},{"$f":"IF(AC66=0,99999,AC66)","v":99999},{"$f":"IF(AD66=0,99999,AD66)","v":99999},{"$f":"IF(ISBLANK('Shooter Information'!C67),\"ZZZZZZZZZZ\",C66)","v":"ZZZZZZZZZZ"},{"$f":"CELL(\"row\",'Shooter Information'!B67)","v":67},{"$f":"SUM('Stage 1'!I65,'Stage 2'!I65,'Stage 3'!I65,'Stage 4'!I65,'Stage 5'!I65,'Stage 6'!I65,'Stage 7'!I65,'Stage 8'!I65,'Stage 9'!I65,'Stage 10'!I65,'Stage 11'!I65,'Stage 12'!I65)","v":0},{"$f":"SUM('Stage 1'!J65,'Stage 2'!J65,'Stage 3'!J65,'Stage 4'!J65,'Stage 5'!J65,'Stage 6'!J65,'Stage 7'!J65,'Stage 8'!J65,'Stage 9'!J65,'Stage 10'!J65,'Stage 11'!J65,'Stage 12'!J65)","v":0}]
[{"$f":"IF(AF67=\"Yes\",IF('Shooter Information'!$C$2=\"R\",(SUMPRODUCT(--(AD67>$AD$5:$AD$79),--(\"Yes\"=$AF$5:$AF$79))+1),(SUMPRODUCT(--(AC67>$AC$5:$AC$79),--(\"Yes\"=$AF$5:$AF$79))+1)),0)","v":0},{"$f":"'Shooter Information'!B68","v":0},{"$f":"'Shooter Information'!C68","v":0},{"$f":"IF(AF67=\"Yes\",IF('Shooter Information'!$C$2=\"R\",(SUMPRODUCT(--(C67=$C$5:$C$79),--(AD67>$AD$5:$AD$79),--(\"Yes\"=$AF$5:$AF$79))+1),(SUMPRODUCT(--(C67=$C$5:$C$79),--(AC67>$AC$5:$AC$79),--(\"Yes\"=$AF$5:$AF$79))+1)),0)","v":0},{"$f":"+'Stage 1'!K66","v":0},{"$f":"+'Stage 1'!L66","v":0},{"$f":"+'Stage 2'!K66","v":0},{"$f":"+'Stage 2'!L66","v":0},{"$f":"+'Stage 3'!K66","v":0},{"$f":"+'Stage 3'!L66","v":0},{"$f":"+'Stage 4'!K66","v":0},{"$f":"+'Stage 4'!L66","v":0},{"$f":"+'Stage 5'!K66","v":0},{"$f":"+'Stage 5'!L66","v":0},{"$f":"+'Stage 6'!K66","v":0},{"$f":"+'Stage 6'!L66","v":0},{"$f":"+'Stage 7'!K66","v":0},{"$f":"+'Stage 7'!L66","v":0},{"$f":"+'Stage 8'!K66","v":0},{"$f":"+'Stage 8'!L66","v":0},{"$f":"+'Stage 9'!K66","v":0},{"$f":"+'Stage 9'!L66","v":0},{"$f":"+'Stage 10'!K66","v":0},{"$f":"+'Stage 10'!L66","v":0},{"$f":"+'Stage 11'!K66","v":0},{"$f":"+'Stage 11'!L66","v":0},{"$f":"+'Stage 12'!K66","v":0},{"$f":"+'Stage 12'!L66","v":0},{"$f":"MIN(+E67+G67+I67+K67+M67+O67+Q67+S67+U67+W67+Y67+AA67,9999.99)","v":0},{"$f":"+F67+H67+J67+L67+N67+P67+R67+T67+V67+X67+Z67+AB67","v":0},{"$f":"IF('Shooter Information'!H68=1,\"MDQ\",IF(OR('Shooter Information'!B68=\"\",ISBLANK('Shooter Information'!B68)),,IF(SUM('Stage 1'!O66,'Stage 2'!O66,'Stage 3'!O66,'Stage 4'!O66,'Stage 5'!O66,'Stage 6'!O66,'Stage 7'!O66,'Stage 8'!O66,'Stage 9'!O66,'Stage 10'!O66,'Stage 11'!O66,'Stage 12'!O66)=0,\"Yes\",\"No\")))","v":0},{"$f":"IF('Shooter Information'!H68=1,\"No\",IF(OR('Shooter Information'!B68=\"\",ISBLANK('Shooter Information'!B68)),,IF(((AK67+AL67)>=2),\"No\",\"Yes\")))","v":0},{"$f":"IF(AC67=0,99999,AC67)","v":99999},{"$f":"IF(AD67=0,99999,AD67)","v":99999},{"$f":"IF(ISBLANK('Shooter Information'!C68),\"ZZZZZZZZZZ\",C67)","v":"ZZZZZZZZZZ"},{"$f":"CELL(\"row\",'Shooter Information'!B68)","v":68},{"$f":"SUM('Stage 1'!I66,'Stage 2'!I66,'Stage 3'!I66,'Stage 4'!I66,'Stage 5'!I66,'Stage 6'!I66,'Stage 7'!I66,'Stage 8'!I66,'Stage 9'!I66,'Stage 10'!I66,'Stage 11'!I66,'Stage 12'!I66)","v":0},{"$f":"SUM('Stage 1'!J66,'Stage 2'!J66,'Stage 3'!J66,'Stage 4'!J66,'Stage 5'!J66,'Stage 6'!J66,'Stage 7'!J66,'Stage 8'!J66,'Stage 9'!J66,'Stage 10'!J66,'Stage 11'!J66,'Stage 12'!J66)","v":0}]
[{"$f":"IF(AF68=\"Yes\",IF('Shooter Information'!$C$2=\"R\",(SUMPRODUCT(--(AD68>$AD$5:$AD$79),--(\"Yes\"=$AF$5:$AF$79))+1),(SUMPRODUCT(--(AC68>$AC$5:$AC$79),--(\"Yes\"=$AF$5:$AF$79))+1)),0)","v":0},{"$f":"'Shooter Information'!B69","v":0},{"$f":"'Shooter Information'!C69","v":0},{"$f":"IF(AF68=\"Yes\",IF('Shooter Information'!$C$2=\"R\",(SUMPRODUCT(--(C68=$C$5:$C$79),--(AD68>$AD$5:$AD$79),--(\"Yes\"=$AF$5:$AF$79))+1),(SUMPRODUCT(--(C68=$C$5:$C$79),--(AC68>$AC$5:$AC$79),--(\"Yes\"=$AF$5:$AF$79))+1)),0)","v":0},{"$f":"+'Stage 1'!K67","v":0},{"$f":"+'Stage 1'!L67","v":0},{"$f":"+'Stage 2'!K67","v":0},{"$f":"+'Stage 2'!L67","v":0},{"$f":"+'Stage 3'!K67","v":0},{"$f":"+'Stage 3'!L67","v":0},{"$f":"+'Stage 4'!K67","v":0},{"$f":"+'Stage 4'!L67","v":0},{"$f":"+'Stage 5'!K67","v":0},{"$f":"+'Stage 5'!L67","v":0},{"$f":"+'Stage 6'!K67","v":0},{"$f":"+'Stage 6'!L67","v":0},{"$f":"+'Stage 7'!K67","v":0},{"$f":"+'Stage 7'!L67","v":0},{"$f":"+'Stage 8'!K67","v":0},{"$f":"+'Stage 8'!L67","v":0},{"$f":"+'Stage 9'!K67","v":0},{"$f":"+'Stage 9'!L67","v":0},{"$f":"+'Stage 10'!K67","v":0},{"$f":"+'Stage 10'!L67","v":0},{"$f":"+'Stage 11'!K67","v":0},{"$f":"+'Stage 11'!L67","v":0},{"$f":"+'Stage 12'!K67","v":0},{"$f":"+'Stage 12'!L67","v":0},{"$f":"MIN(+E68+G68+I68+K68+M68+O68+Q68+S68+U68+W68+Y68+AA68,9999.99)","v":0},{"$f":"+F68+H68+J68+L68+N68+P68+R68+T68+V68+X68+Z68+AB68","v":0},{"$f":"IF('Shooter Information'!H69=1,\"MDQ\",IF(OR('Shooter Information'!B69=\"\",ISBLANK('Shooter Information'!B69)),,IF(SUM('Stage 1'!O67,'Stage 2'!O67,'Stage 3'!O67,'Stage 4'!O67,'Stage 5'!O67,'Stage 6'!O67,'Stage 7'!O67,'Stage 8'!O67,'Stage 9'!O67,'Stage 10'!O67,'Stage 11'!O67,'Stage 12'!O67)=0,\"Yes\",\"No\")))","v":0},{"$f":"IF('Shooter Information'!H69=1,\"No\",IF(OR('Shooter Information'!B69=\"\",ISBLANK('Shooter Information'!B69)),,IF(((AK68+AL68)>=2),\"No\",\"Yes\")))","v":0},{"$f":"IF(AC68=0,99999,AC68)","v":99999},{"$f":"IF(AD68=0,99999,AD68)","v":99999},{"$f":"IF(ISBLANK('Shooter Information'!C69),\"ZZZZZZZZZZ\",C68)","v":"ZZZZZZZZZZ"},{"$f":"CELL(\"row\",'Shooter Information'!B69)","v":69},{"$f":"SUM('Stage 1'!I67,'Stage 2'!I67,'Stage 3'!I67,'Stage 4'!I67,'Stage 5'!I67,'Stage 6'!I67,'Stage 7'!I67,'Stage 8'!I67,'Stage 9'!I67,'Stage 10'!I67,'Stage 11'!I67,'Stage 12'!I67)","v":0},{"$f":"SUM('Stage 1'!J67,'Stage 2'!J67,'Stage 3'!J67,'Stage 4'!J67,'Stage 5'!J67,'Stage 6'!J67,'Stage 7'!J67,'Stage 8'!J67,'Stage 9'!J67,'Stage 10'!J67,'Stage 11'!J67,'Stage 12'!J67)","v":0}]
[{"$f":"IF(AF69=\"Yes\",IF('Shooter Information'!$C$2=\"R\",(SUMPRODUCT(--(AD69>$AD$5:$AD$79),--(\"Yes\"=$AF$5:$AF$79))+1),(SUMPRODUCT(--(AC69>$AC$5:$AC$79),--(\"Yes\"=$AF$5:$AF$79))+1)),0)","v":0},{"$f":"'Shooter Information'!B70","v":0},{"$f":"'Shooter Information'!C70","v":0},{"$f":"IF(AF69=\"Yes\",IF('Shooter Information'!$C$2=\"R\",(SUMPRODUCT(--(C69=$C$5:$C$79),--(AD69>$AD$5:$AD$79),--(\"Yes\"=$AF$5:$AF$79))+1),(SUMPRODUCT(--(C69=$C$5:$C$79),--(AC69>$AC$5:$AC$79),--(\"Yes\"=$AF$5:$AF$79))+1)),0)","v":0},{"$f":"+'Stage 1'!K68","v":0},{"$f":"+'Stage 1'!L68","v":0},{"$f":"+'Stage 2'!K68","v":0},{"$f":"+'Stage 2'!L68","v":0},{"$f":"+'Stage 3'!K68","v":0},{"$f":"+'Stage 3'!L68","v":0},{"$f":"+'Stage 4'!K68","v":0},{"$f":"+'Stage 4'!L68","v":0},{"$f":"+'Stage 5'!K68","v":0},{"$f":"+'Stage 5'!L68","v":0},{"$f":"+'Stage 6'!K68","v":0},{"$f":"+'Stage 6'!L68","v":0},{"$f":"+'Stage 7'!K68","v":0},{"$f":"+'Stage 7'!L68","v":0},{"$f":"+'Stage 8'!K68","v":0},{"$f":"+'Stage 8'!L68","v":0},{"$f":"+'Stage 9'!K68","v":0},{"$f":"+'Stage 9'!L68","v":0},{"$f":"+'Stage 10'!K68","v":0},{"$f":"+'Stage 10'!L68","v":0},{"$f":"+'Stage 11'!K68","v":0},{"$f":"+'Stage 11'!L68","v":0},{"$f":"+'Stage 12'!K68","v":0},{"$f":"+'Stage 12'!L68","v":0},{"$f":"MIN(+E69+G69+I69+K69+M69+O69+Q69+S69+U69+W69+Y69+AA69,9999.99)","v":0},{"$f":"+F69+H69+J69+L69+N69+P69+R69+T69+V69+X69+Z69+AB69","v":0},{"$f":"IF('Shooter Information'!H70=1,\"MDQ\",IF(OR('Shooter Information'!B70=\"\",ISBLANK('Shooter Information'!B70)),,IF(SUM('Stage 1'!O68,'Stage 2'!O68,'Stage 3'!O68,'Stage 4'!O68,'Stage 5'!O68,'Stage 6'!O68,'Stage 7'!O68,'Stage 8'!O68,'Stage 9'!O68,'Stage 10'!O68,'Stage 11'!O68,'Stage 12'!O68)=0,\"Yes\",\"No\")))","v":0},{"$f":"IF('Shooter Information'!H70=1,\"No\",IF(OR('Shooter Information'!B70=\"\",ISBLANK('Shooter Information'!B70)),,IF(((AK69+AL69)>=2),\"No\",\"Yes\")))","v":0},{"$f":"IF(AC69=0,99999,AC69)","v":99999},{"$f":"IF(AD69=0,99999,AD69)","v":99999},{"$f":"IF(ISBLANK('Shooter Information'!C70),\"ZZZZZZZZZZ\",C69)","v":"ZZZZZZZZZZ"},{"$f":"CELL(\"row\",'Shooter Information'!B70)","v":70},{"$f":"SUM('Stage 1'!I68,'Stage 2'!I68,'Stage 3'!I68,'Stage 4'!I68,'Stage 5'!I68,'Stage 6'!I68,'Stage 7'!I68,'Stage 8'!I68,'Stage 9'!I68,'Stage 10'!I68,'Stage 11'!I68,'Stage 12'!I68)","v":0},{"$f":"SUM('Stage 1'!J68,'Stage 2'!J68,'Stage 3'!J68,'Stage 4'!J68,'Stage 5'!J68,'Stage 6'!J68,'Stage 7'!J68,'Stage 8'!J68,'Stage 9'!J68,'Stage 10'!J68,'Stage 11'!J68,'Stage 12'!J68)","v":0}]
[{"$f":"IF(AF70=\"Yes\",IF('Shooter Information'!$C$2=\"R\",(SUMPRODUCT(--(AD70>$AD$5:$AD$79),--(\"Yes\"=$AF$5:$AF$79))+1),(SUMPRODUCT(--(AC70>$AC$5:$AC$79),--(\"Yes\"=$AF$5:$AF$79))+1)),0)","v":0},{"$f":"'Shooter Information'!B71","v":0},{"$f":"'Shooter Information'!C71","v":0},{"$f":"IF(AF70=\"Yes\",IF('Shooter Information'!$C$2=\"R\",(SUMPRODUCT(--(C70=$C$5:$C$79),--(AD70>$AD$5:$AD$79),--(\"Yes\"=$AF$5:$AF$79))+1),(SUMPRODUCT(--(C70=$C$5:$C$79),--(AC70>$AC$5:$AC$79),--(\"Yes\"=$AF$5:$AF$79))+1)),0)","v":0},{"$f":"+'Stage 1'!K69","v":0},{"$f":"+'Stage 1'!L69","v":0},{"$f":"+'Stage 2'!K69","v":0},{"$f":"+'Stage 2'!L69","v":0},{"$f":"+'Stage 3'!K69","v":0},{"$f":"+'Stage 3'!L69","v":0},{"$f":"+'Stage 4'!K69","v":0},{"$f":"+'Stage 4'!L69","v":0},{"$f":"+'Stage 5'!K69","v":0},{"$f":"+'Stage 5'!L69","v":0},{"$f":"+'Stage 6'!K69","v":0},{"$f":"+'Stage 6'!L69","v":0},{"$f":"+'Stage 7'!K69","v":0},{"$f":"+'Stage 7'!L69","v":0},{"$f":"+'Stage 8'!K69","v":0},{"$f":"+'Stage 8'!L69","v":0},{"$f":"+'Stage 9'!K69","v":0},{"$f":"+'Stage 9'!L69","v":0},{"$f":"+'Stage 10'!K69","v":0},{"$f":"+'Stage 10'!L69","v":0},{"$f":"+'Stage 11'!K69","v":0},{"$f":"+'Stage 11'!L69","v":0},{"$f":"+'Stage 12'!K69","v":0},{"$f":"+'Stage 12'!L69","v":0},{"$f":"MIN(+E70+G70+I70+K70+M70+O70+Q70+S70+U70+W70+Y70+AA70,9999.99)","v":0},{"$f":"+F70+H70+J70+L70+N70+P70+R70+T70+V70+X70+Z70+AB70","v":0},{"$f":"IF('Shooter Information'!H71=1,\"MDQ\",IF(OR('Shooter Information'!B71=\"\",ISBLANK('Shooter Information'!B71)),,IF(SUM('Stage 1'!O69,'Stage 2'!O69,'Stage 3'!O69,'Stage 4'!O69,'Stage 5'!O69,'Stage 6'!O69,'Stage 7'!O69,'Stage 8'!O69,'Stage 9'!O69,'Stage 10'!O69,'Stage 11'!O69,'Stage 12'!O69)=0,\"Yes\",\"No\")))","v":0},{"$f":"IF('Shooter Information'!H71=1,\"No\",IF(OR('Shooter Information'!B71=\"\",ISBLANK('Shooter Information'!B71)),,IF(((AK70+AL70)>=2),\"No\",\"Yes\")))","v":0},{"$f":"IF(AC70=0,99999,AC70)","v":99999},{"$f":"IF(AD70=0,99999,AD70)","v":99999},{"$f":"IF(ISBLANK('Shooter Information'!C71),\"ZZZZZZZZZZ\",C70)","v":"ZZZZZZZZZZ"},{"$f":"CELL(\"row\",'Shooter Information'!B71)","v":71},{"$f":"SUM('Stage 1'!I69,'Stage 2'!I69,'Stage 3'!I69,'Stage 4'!I69,'Stage 5'!I69,'Stage 6'!I69,'Stage 7'!I69,'Stage 8'!I69,'Stage 9'!I69,'Stage 10'!I69,'Stage 11'!I69,'Stage 12'!I69)","v":0},{"$f":"SUM('Stage 1'!J69,'Stage 2'!J69,'Stage 3'!J69,'Stage 4'!J69,'Stage 5'!J69,'Stage 6'!J69,'Stage 7'!J69,'Stage 8'!J69,'Stage 9'!J69,'Stage 10'!J69,'Stage 11'!J69,'Stage 12'!J69)","v":0}]
[{"$f":"IF(AF71=\"Yes\",IF('Shooter Information'!$C$2=\"R\",(SUMPRODUCT(--(AD71>$AD$5:$AD$79),--(\"Yes\"=$AF$5:$AF$79))+1),(SUMPRODUCT(--(AC71>$AC$5:$AC$79),--(\"Yes\"=$AF$5:$AF$79))+1)),0)","v":0},{"$f":"'Shooter Information'!B72","v":0},{"$f":"'Shooter Information'!C72","v":0},{"$f":"IF(AF71=\"Yes\",IF('Shooter Information'!$C$2=\"R\",(SUMPRODUCT(--(C71=$C$5:$C$79),--(AD71>$AD$5:$AD$79),--(\"Yes\"=$AF$5:$AF$79))+1),(SUMPRODUCT(--(C71=$C$5:$C$79),--(AC71>$AC$5:$AC$79),--(\"Yes\"=$AF$5:$AF$79))+1)),0)","v":0},{"$f":"+'Stage 1'!K70","v":0},{"$f":"+'Stage 1'!L70","v":0},{"$f":"+'Stage 2'!K70","v":0},{"$f":"+'Stage 2'!L70","v":0},{"$f":"+'Stage 3'!K70","v":0},{"$f":"+'Stage 3'!L70","v":0},{"$f":"+'Stage 4'!K70","v":0},{"$f":"+'Stage 4'!L70","v":0},{"$f":"+'Stage 5'!K70","v":0},{"$f":"+'Stage 5'!L70","v":0},{"$f":"+'Stage 6'!K70","v":0},{"$f":"+'Stage 6'!L70","v":0},{"$f":"+'Stage 7'!K70","v":0},{"$f":"+'Stage 7'!L70","v":0},{"$f":"+'Stage 8'!K70","v":0},{"$f":"+'Stage 8'!L70","v":0},{"$f":"+'Stage 9'!K70","v":0},{"$f":"+'Stage 9'!L70","v":0},{"$f":"+'Stage 10'!K70","v":0},{"$f":"+'Stage 10'!L70","v":0},{"$f":"+'Stage 11'!K70","v":0},{"$f":"+'Stage 11'!L70","v":0},{"$f":"+'Stage 12'!K70","v":0},{"$f":"+'Stage 12'!L70","v":0},{"$f":"MIN(+E71+G71+I71+K71+M71+O71+Q71+S71+U71+W71+Y71+AA71,9999.99)","v":0},{"$f":"+F71+H71+J71+L71+N71+P71+R71+T71+V71+X71+Z71+AB71","v":0},{"$f":"IF('Shooter Information'!H72=1,\"MDQ\",IF(OR('Shooter Information'!B72=\"\",ISBLANK('Shooter Information'!B72)),,IF(SUM('Stage 1'!O70,'Stage 2'!O70,'Stage 3'!O70,'Stage 4'!O70,'Stage 5'!O70,'Stage 6'!O70,'Stage 7'!O70,'Stage 8'!O70,'Stage 9'!O70,'Stage 10'!O70,'Stage 11'!O70,'Stage 12'!O70)=0,\"Yes\",\"No\")))","v":0},{"$f":"IF('Shooter Information'!H72=1,\"No\",IF(OR('Shooter Information'!B72=\"\",ISBLANK('Shooter Information'!B72)),,IF(((AK71+AL71)>=2),\"No\",\"Yes\")))","v":0},{"$f":"IF(AC71=0,99999,AC71)","v":99999},{"$f":"IF(AD71=0,99999,AD71)","v":99999},{"$f":"IF(ISBLANK('Shooter Information'!C72),\"ZZZZZZZZZZ\",C71)","v":"ZZZZZZZZZZ"},{"$f":"CELL(\"row\",'Shooter Information'!B72)","v":72},{"$f":"SUM('Stage 1'!I70,'Stage 2'!I70,'Stage 3'!I70,'Stage 4'!I70,'Stage 5'!I70,'Stage 6'!I70,'Stage 7'!I70,'Stage 8'!I70,'Stage 9'!I70,'Stage 10'!I70,'Stage 11'!I70,'Stage 12'!I70)","v":0},{"$f":"SUM('Stage 1'!J70,'Stage 2'!J70,'Stage 3'!J70,'Stage 4'!J70,'Stage 5'!J70,'Stage 6'!J70,'Stage 7'!J70,'Stage 8'!J70,'Stage 9'!J70,'Stage 10'!J70,'Stage 11'!J70,'Stage 12'!J70)","v":0}]
[{"$f":"IF(AF72=\"Yes\",IF('Shooter Information'!$C$2=\"R\",(SUMPRODUCT(--(AD72>$AD$5:$AD$79),--(\"Yes\"=$AF$5:$AF$79))+1),(SUMPRODUCT(--(AC72>$AC$5:$AC$79),--(\"Yes\"=$AF$5:$AF$79))+1)),0)","v":0},{"$f":"'Shooter Information'!B73","v":0},{"$f":"'Shooter Information'!C73","v":0},{"$f":"IF(AF72=\"Yes\",IF('Shooter Information'!$C$2=\"R\",(SUMPRODUCT(--(C72=$C$5:$C$79),--(AD72>$AD$5:$AD$79),--(\"Yes\"=$AF$5:$AF$79))+1),(SUMPRODUCT(--(C72=$C$5:$C$79),--(AC72>$AC$5:$AC$79),--(\"Yes\"=$AF$5:$AF$79))+1)),0)","v":0},{"$f":"+'Stage 1'!K71","v":0},{"$f":"+'Stage 1'!L71","v":0},{"$f":"+'Stage 2'!K71","v":0},{"$f":"+'Stage 2'!L71","v":0},{"$f":"+'Stage 3'!K71","v":0},{"$f":"+'Stage 3'!L71","v":0},{"$f":"+'Stage 4'!K71","v":0},{"$f":"+'Stage 4'!L71","v":0},{"$f":"+'Stage 5'!K71","v":0},{"$f":"+'Stage 5'!L71","v":0},{"$f":"+'Stage 6'!K71","v":0},{"$f":"+'Stage 6'!L71","v":0},{"$f":"+'Stage 7'!K71","v":0},{"$f":"+'Stage 7'!L71","v":0},{"$f":"+'Stage 8'!K71","v":0},{"$f":"+'Stage 8'!L71","v":0},{"$f":"+'Stage 9'!K71","v":0},{"$f":"+'Stage 9'!L71","v":0},{"$f":"+'Stage 10'!K71","v":0},{"$f":"+'Stage 10'!L71","v":0},{"$f":"+'Stage 11'!K71","v":0},{"$f":"+'Stage 11'!L71","v":0},{"$f":"+'Stage 12'!K71","v":0},{"$f":"+'Stage 12'!L71","v":0},{"$f":"MIN(+E72+G72+I72+K72+M72+O72+Q72+S72+U72+W72+Y72+AA72,9999.99)","v":0},{"$f":"+F72+H72+J72+L72+N72+P72+R72+T72+V72+X72+Z72+AB72","v":0},{"$f":"IF('Shooter Information'!H73=1,\"MDQ\",IF(OR('Shooter Information'!B73=\"\",ISBLANK('Shooter Information'!B73)),,IF(SUM('Stage 1'!O71,'Stage 2'!O71,'Stage 3'!O71,'Stage 4'!O71,'Stage 5'!O71,'Stage 6'!O71,'Stage 7'!O71,'Stage 8'!O71,'Stage 9'!O71,'Stage 10'!O71,'Stage 11'!O71,'Stage 12'!O71)=0,\"Yes\",\"No\")))","v":0},{"$f":"IF('Shooter Information'!H73=1,\"No\",IF(OR('Shooter Information'!B73=\"\",ISBLANK('Shooter Information'!B73)),,IF(((AK72+AL72)>=2),\"No\",\"Yes\")))","v":0},{"$f":"IF(AC72=0,99999,AC72)","v":99999},{"$f":"IF(AD72=0,99999,AD72)","v":99999},{"$f":"IF(ISBLANK('Shooter Information'!C73),\"ZZZZZZZZZZ\",C72)","v":"ZZZZZZZZZZ"},{"$f":"CELL(\"row\",'Shooter Information'!B73)","v":73},{"$f":"SUM('Stage 1'!I71,'Stage 2'!I71,'Stage 3'!I71,'Stage 4'!I71,'Stage 5'!I71,'Stage 6'!I71,'Stage 7'!I71,'Stage 8'!I71,'Stage 9'!I71,'Stage 10'!I71,'Stage 11'!I71,'Stage 12'!I71)","v":0},{"$f":"SUM('Stage 1'!J71,'Stage 2'!J71,'Stage 3'!J71,'Stage 4'!J71,'Stage 5'!J71,'Stage 6'!J71,'Stage 7'!J71,'Stage 8'!J71,'Stage 9'!J71,'Stage 10'!J71,'Stage 11'!J71,'Stage 12'!J71)","v":0}]
[{"$f":"IF(AF73=\"Yes\",IF('Shooter Information'!$C$2=\"R\",(SUMPRODUCT(--(AD73>$AD$5:$AD$79),--(\"Yes\"=$AF$5:$AF$79))+1),(SUMPRODUCT(--(AC73>$AC$5:$AC$79),--(\"Yes\"=$AF$5:$AF$79))+1)),0)","v":0},{"$f":"'Shooter Information'!B74","v":0},{"$f":"'Shooter Information'!C74","v":0},{"$f":"IF(AF73=\"Yes\",IF('Shooter Information'!$C$2=\"R\",(SUMPRODUCT(--(C73=$C$5:$C$79),--(AD73>$AD$5:$AD$79),--(\"Yes\"=$AF$5:$AF$79))+1),(SUMPRODUCT(--(C73=$C$5:$C$79),--(AC73>$AC$5:$AC$79),--(\"Yes\"=$AF$5:$AF$79))+1)),0)","v":0},{"$f":"+'Stage 1'!K72","v":0},{"$f":"+'Stage 1'!L72","v":0},{"$f":"+'Stage 2'!K72","v":0},{"$f":"+'Stage 2'!L72","v":0},{"$f":"+'Stage 3'!K72","v":0},{"$f":"+'Stage 3'!L72","v":0},{"$f":"+'Stage 4'!K72","v":0},{"$f":"+'Stage 4'!L72","v":0},{"$f":"+'Stage 5'!K72","v":0},{"$f":"+'Stage 5'!L72","v":0},{"$f":"+'Stage 6'!K72","v":0},{"$f":"+'Stage 6'!L72","v":0},{"$f":"+'Stage 7'!K72","v":0},{"$f":"+'Stage 7'!L72","v":0},{"$f":"+'Stage 8'!K72","v":0},{"$f":"+'Stage 8'!L72","v":0},{"$f":"+'Stage 9'!K72","v":0},{"$f":"+'Stage 9'!L72","v":0},{"$f":"+'Stage 10'!K72","v":0},{"$f":"+'Stage 10'!L72","v":0},{"$f":"+'Stage 11'!K72","v":0},{"$f":"+'Stage 11'!L72","v":0},{"$f":"+'Stage 12'!K72","v":0},{"$f":"+'Stage 12'!L72","v":0},{"$f":"MIN(+E73+G73+I73+K73+M73+O73+Q73+S73+U73+W73+Y73+AA73,9999.99)","v":0},{"$f":"+F73+H73+J73+L73+N73+P73+R73+T73+V73+X73+Z73+AB73","v":0},{"$f":"IF('Shooter Information'!H74=1,\"MDQ\",IF(OR('Shooter Information'!B74=\"\",ISBLANK('Shooter Information'!B74)),,IF(SUM('Stage 1'!O72,'Stage 2'!O72,'Stage 3'!O72,'Stage 4'!O72,'Stage 5'!O72,'Stage 6'!O72,'Stage 7'!O72,'Stage 8'!O72,'Stage 9'!O72,'Stage 10'!O72,'Stage 11'!O72,'Stage 12'!O72)=0,\"Yes\",\"No\")))","v":0},{"$f":"IF('Shooter Information'!H74=1,\"No\",IF(OR('Shooter Information'!B74=\"\",ISBLANK('Shooter Information'!B74)),,IF(((AK73+AL73)>=2),\"No\",\"Yes\")))","v":0},{"$f":"IF(AC73=0,99999,AC73)","v":99999},{"$f":"IF(AD73=0,99999,AD73)","v":99999},{"$f":"IF(ISBLANK('Shooter Information'!C74),\"ZZZZZZZZZZ\",C73)","v":"ZZZZZZZZZZ"},{"$f":"CELL(\"row\",'Shooter Information'!B74)","v":74},{"$f":"SUM('Stage 1'!I72,'Stage 2'!I72,'Stage 3'!I72,'Stage 4'!I72,'Stage 5'!I72,'Stage 6'!I72,'Stage 7'!I72,'Stage 8'!I72,'Stage 9'!I72,'Stage 10'!I72,'Stage 11'!I72,'Stage 12'!I72)","v":0},{"$f":"SUM('Stage 1'!J72,'Stage 2'!J72,'Stage 3'!J72,'Stage 4'!J72,'Stage 5'!J72,'Stage 6'!J72,'Stage 7'!J72,'Stage 8'!J72,'Stage 9'!J72,'Stage 10'!J72,'Stage 11'!J72,'Stage 12'!J72)","v":0}]
[{"$f":"IF(AF74=\"Yes\",IF('Shooter Information'!$C$2=\"R\",(SUMPRODUCT(--(AD74>$AD$5:$AD$79),--(\"Yes\"=$AF$5:$AF$79))+1),(SUMPRODUCT(--(AC74>$AC$5:$AC$79),--(\"Yes\"=$AF$5:$AF$79))+1)),0)","v":0},{"$f":"'Shooter Information'!B75","v":0},{"$f":"'Shooter Information'!C75","v":0},{"$f":"IF(AF74=\"Yes\",IF('Shooter Information'!$C$2=\"R\",(SUMPRODUCT(--(C74=$C$5:$C$79),--(AD74>$AD$5:$AD$79),--(\"Yes\"=$AF$5:$AF$79))+1),(SUMPRODUCT(--(C74=$C$5:$C$79),--(AC74>$AC$5:$AC$79),--(\"Yes\"=$AF$5:$AF$79))+1)),0)","v":0},{"$f":"+'Stage 1'!K73","v":0},{"$f":"+'Stage 1'!L73","v":0},{"$f":"+'Stage 2'!K73","v":0},{"$f":"+'Stage 2'!L73","v":0},{"$f":"+'Stage 3'!K73","v":0},{"$f":"+'Stage 3'!L73","v":0},{"$f":"+'Stage 4'!K73","v":0},{"$f":"+'Stage 4'!L73","v":0},{"$f":"+'Stage 5'!K73","v":0},{"$f":"+'Stage 5'!L73","v":0},{"$f":"+'Stage 6'!K73","v":0},{"$f":"+'Stage 6'!L73","v":0},{"$f":"+'Stage 7'!K73","v":0},{"$f":"+'Stage 7'!L73","v":0},{"$f":"+'Stage 8'!K73","v":0},{"$f":"+'Stage 8'!L73","v":0},{"$f":"+'Stage 9'!K73","v":0},{"$f":"+'Stage 9'!L73","v":0},{"$f":"+'Stage 10'!K73","v":0},{"$f":"+'Stage 10'!L73","v":0},{"$f":"+'Stage 11'!K73","v":0},{"$f":"+'Stage 11'!L73","v":0},{"$f":"+'Stage 12'!K73","v":0},{"$f":"+'Stage 12'!L73","v":0},{"$f":"MIN(+E74+G74+I74+K74+M74+O74+Q74+S74+U74+W74+Y74+AA74,9999.99)","v":0},{"$f":"+F74+H74+J74+L74+N74+P74+R74+T74+V74+X74+Z74+AB74","v":0},{"$f":"IF('Shooter Information'!H75=1,\"MDQ\",IF(OR('Shooter Information'!B75=\"\",ISBLANK('Shooter Information'!B75)),,IF(SUM('Stage 1'!O73,'Stage 2'!O73,'Stage 3'!O73,'Stage 4'!O73,'Stage 5'!O73,'Stage 6'!O73,'Stage 7'!O73,'Stage 8'!O73,'Stage 9'!O73,'Stage 10'!O73,'Stage 11'!O73,'Stage 12'!O73)=0,\"Yes\",\"No\")))","v":0},{"$f":"IF('Shooter Information'!H75=1,\"No\",IF(OR('Shooter Information'!B75=\"\",ISBLANK('Shooter Information'!B75)),,IF(((AK74+AL74)>=2),\"No\",\"Yes\")))","v":0},{"$f":"IF(AC74=0,99999,AC74)","v":99999},{"$f":"IF(AD74=0,99999,AD74)","v":99999},{"$f":"IF(ISBLANK('Shooter Information'!C75),\"ZZZZZZZZZZ\",C74)","v":"ZZZZZZZZZZ"},{"$f":"CELL(\"row\",'Shooter Information'!B75)","v":75},{"$f":"SUM('Stage 1'!I73,'Stage 2'!I73,'Stage 3'!I73,'Stage 4'!I73,'Stage 5'!I73,'Stage 6'!I73,'Stage 7'!I73,'Stage 8'!I73,'Stage 9'!I73,'Stage 10'!I73,'Stage 11'!I73,'Stage 12'!I73)","v":0},{"$f":"SUM('Stage 1'!J73,'Stage 2'!J73,'Stage 3'!J73,'Stage 4'!J73,'Stage 5'!J73,'Stage 6'!J73,'Stage 7'!J73,'Stage 8'!J73,'Stage 9'!J73,'Stage 10'!J73,'Stage 11'!J73,'Stage 12'!J73)","v":0}]
[{"$f":"IF(AF75=\"Yes\",IF('Shooter Information'!$C$2=\"R\",(SUMPRODUCT(--(AD75>$AD$5:$AD$79),--(\"Yes\"=$AF$5:$AF$79))+1),(SUMPRODUCT(--(AC75>$AC$5:$AC$79),--(\"Yes\"=$AF$5:$AF$79))+1)),0)","v":0},{"$f":"'Shooter Information'!B76","v":0},{"$f":"'Shooter Information'!C76","v":0},{"$f":"IF(AF75=\"Yes\",IF('Shooter Information'!$C$2=\"R\",(SUMPRODUCT(--(C75=$C$5:$C$79),--(AD75>$AD$5:$AD$79),--(\"Yes\"=$AF$5:$AF$79))+1),(SUMPRODUCT(--(C75=$C$5:$C$79),--(AC75>$AC$5:$AC$79),--(\"Yes\"=$AF$5:$AF$79))+1)),0)","v":0},{"$f":"+'Stage 1'!K74","v":0},{"$f":"+'Stage 1'!L74","v":0},{"$f":"+'Stage 2'!K74","v":0},{"$f":"+'Stage 2'!L74","v":0},{"$f":"+'Stage 3'!K74","v":0},{"$f":"+'Stage 3'!L74","v":0},{"$f":"+'Stage 4'!K74","v":0},{"$f":"+'Stage 4'!L74","v":0},{"$f":"+'Stage 5'!K74","v":0},{"$f":"+'Stage 5'!L74","v":0},{"$f":"+'Stage 6'!K74","v":0},{"$f":"+'Stage 6'!L74","v":0},{"$f":"+'Stage 7'!K74","v":0},{"$f":"+'Stage 7'!L74","v":0},{"$f":"+'Stage 8'!K74","v":0},{"$f":"+'Stage 8'!L74","v":0},{"$f":"+'Stage 9'!K74","v":0},{"$f":"+'Stage 9'!L74","v":0},{"$f":"+'Stage 10'!K74","v":0},{"$f":"+'Stage 10'!L74","v":0},{"$f":"+'Stage 11'!K74","v":0},{"$f":"+'Stage 11'!L74","v":0},{"$f":"+'Stage 12'!K74","v":0},{"$f":"+'Stage 12'!L74","v":0},{"$f":"MIN(+E75+G75+I75+K75+M75+O75+Q75+S75+U75+W75+Y75+AA75,9999.99)","v":0},{"$f":"+F75+H75+J75+L75+N75+P75+R75+T75+V75+X75+Z75+AB75","v":0},{"$f":"IF('Shooter Information'!H76=1,\"MDQ\",IF(OR('Shooter Information'!B76=\"\",ISBLANK('Shooter Information'!B76)),,IF(SUM('Stage 1'!O74,'Stage 2'!O74,'Stage 3'!O74,'Stage 4'!O74,'Stage 5'!O74,'Stage 6'!O74,'Stage 7'!O74,'Stage 8'!O74,'Stage 9'!O74,'Stage 10'!O74,'Stage 11'!O74,'Stage 12'!O74)=0,\"Yes\",\"No\")))","v":0},{"$f":"IF('Shooter Information'!H76=1,\"No\",IF(OR('Shooter Information'!B76=\"\",ISBLANK('Shooter Information'!B76)),,IF(((AK75+AL75)>=2),\"No\",\"Yes\")))","v":0},{"$f":"IF(AC75=0,99999,AC75)","v":99999},{"$f":"IF(AD75=0,99999,AD75)","v":99999},{"$f":"IF(ISBLANK('Shooter Information'!C76),\"ZZZZZZZZZZ\",C75)","v":"ZZZZZZZZZZ"},{"$f":"CELL(\"row\",'Shooter Information'!B76)","v":76},{"$f":"SUM('Stage 1'!I74,'Stage 2'!I74,'Stage 3'!I74,'Stage 4'!I74,'Stage 5'!I74,'Stage 6'!I74,'Stage 7'!I74,'Stage 8'!I74,'Stage 9'!I74,'Stage 10'!I74,'Stage 11'!I74,'Stage 12'!I74)","v":0},{"$f":"SUM('Stage 1'!J74,'Stage 2'!J74,'Stage 3'!J74,'Stage 4'!J74,'Stage 5'!J74,'Stage 6'!J74,'Stage 7'!J74,'Stage 8'!J74,'Stage 9'!J74,'Stage 10'!J74,'Stage 11'!J74,'Stage 12'!J74)","v":0}]
[{"$f":"IF(AF76=\"Yes\",IF('Shooter Information'!$C$2=\"R\",(SUMPRODUCT(--(AD76>$AD$5:$AD$79),--(\"Yes\"=$AF$5:$AF$79))+1),(SUMPRODUCT(--(AC76>$AC$5:$AC$79),--(\"Yes\"=$AF$5:$AF$79))+1)),0)","v":0},{"$f":"'Shooter Information'!B77","v":0},{"$f":"'Shooter Information'!C77","v":0},{"$f":"IF(AF76=\"Yes\",IF('Shooter Information'!$C$2=\"R\",(SUMPRODUCT(--(C76=$C$5:$C$79),--(AD76>$AD$5:$AD$79),--(\"Yes\"=$AF$5:$AF$79))+1),(SUMPRODUCT(--(C76=$C$5:$C$79),--(AC76>$AC$5:$AC$79),--(\"Yes\"=$AF$5:$AF$79))+1)),0)","v":0},{"$f":"+'Stage 1'!K75","v":0},{"$f":"+'Stage 1'!L75","v":0},{"$f":"+'Stage 2'!K75","v":0},{"$f":"+'Stage 2'!L75","v":0},{"$f":"+'Stage 3'!K75","v":0},{"$f":"+'Stage 3'!L75","v":0},{"$f":"+'Stage 4'!K75","v":0},{"$f":"+'Stage 4'!L75","v":0},{"$f":"+'Stage 5'!K75","v":0},{"$f":"+'Stage 5'!L75","v":0},{"$f":"+'Stage 6'!K75","v":0},{"$f":"+'Stage 6'!L75","v":0},{"$f":"+'Stage 7'!K75","v":0},{"$f":"+'Stage 7'!L75","v":0},{"$f":"+'Stage 8'!K75","v":0},{"$f":"+'Stage 8'!L75","v":0},{"$f":"+'Stage 9'!K75","v":0},{"$f":"+'Stage 9'!L75","v":0},{"$f":"+'Stage 10'!K75","v":0},{"$f":"+'Stage 10'!L75","v":0},{"$f":"+'Stage 11'!K75","v":0},{"$f":"+'Stage 11'!L75","v":0},{"$f":"+'Stage 12'!K75","v":0},{"$f":"+'Stage 12'!L75","v":0},{"$f":"MIN(+E76+G76+I76+K76+M76+O76+Q76+S76+U76+W76+Y76+AA76,9999.99)","v":0},{"$f":"+F76+H76+J76+L76+N76+P76+R76+T76+V76+X76+Z76+AB76","v":0},{"$f":"IF('Shooter Information'!H77=1,\"MDQ\",IF(OR('Shooter Information'!B77=\"\",ISBLANK('Shooter Information'!B77)),,IF(SUM('Stage 1'!O75,'Stage 2'!O75,'Stage 3'!O75,'Stage 4'!O75,'Stage 5'!O75,'Stage 6'!O75,'Stage 7'!O75,'Stage 8'!O75,'Stage 9'!O75,'Stage 10'!O75,'Stage 11'!O75,'Stage 12'!O75)=0,\"Yes\",\"No\")))","v":0},{"$f":"IF('Shooter Information'!H77=1,\"No\",IF(OR('Shooter Information'!B77=\"\",ISBLANK('Shooter Information'!B77)),,IF(((AK76+AL76)>=2),\"No\",\"Yes\")))","v":0},{"$f":"IF(AC76=0,99999,AC76)","v":99999},{"$f":"IF(AD76=0,99999,AD76)","v":99999},{"$f":"IF(ISBLANK('Shooter Information'!C77),\"ZZZZZZZZZZ\",C76)","v":"ZZZZZZZZZZ"},{"$f":"CELL(\"row\",'Shooter Information'!B77)","v":77},{"$f":"SUM('Stage 1'!I75,'Stage 2'!I75,'Stage 3'!I75,'Stage 4'!I75,'Stage 5'!I75,'Stage 6'!I75,'Stage 7'!I75,'Stage 8'!I75,'Stage 9'!I75,'Stage 10'!I75,'Stage 11'!I75,'Stage 12'!I75)","v":0},{"$f":"SUM('Stage 1'!J75,'Stage 2'!J75,'Stage 3'!J75,'Stage 4'!J75,'Stage 5'!J75,'Stage 6'!J75,'Stage 7'!J75,'Stage 8'!J75,'Stage 9'!J75,'Stage 10'!J75,'Stage 11'!J75,'Stage 12'!J75)","v":0}]
[{"$f":"IF(AF77=\"Yes\",IF('Shooter Information'!$C$2=\"R\",(SUMPRODUCT(--(AD77>$AD$5:$AD$79),--(\"Yes\"=$AF$5:$AF$79))+1),(SUMPRODUCT(--(AC77>$AC$5:$AC$79),--(\"Yes\"=$AF$5:$AF$79))+1)),0)","v":0},{"$f":"'Shooter Information'!B78","v":0},{"$f":"'Shooter Information'!C78","v":0},{"$f":"IF(AF77=\"Yes\",IF('Shooter Information'!$C$2=\"R\",(SUMPRODUCT(--(C77=$C$5:$C$79),--(AD77>$AD$5:$AD$79),--(\"Yes\"=$AF$5:$AF$79))+1),(SUMPRODUCT(--(C77=$C$5:$C$79),--(AC77>$AC$5:$AC$79),--(\"Yes\"=$AF$5:$AF$79))+1)),0)","v":0},{"$f":"+'Stage 1'!K76","v":0},{"$f":"+'Stage 1'!L76","v":0},{"$f":"+'Stage 2'!K76","v":0},{"$f":"+'Stage 2'!L76","v":0},{"$f":"+'Stage 3'!K76","v":0},{"$f":"+'Stage 3'!L76","v":0},{"$f":"+'Stage 4'!K76","v":0},{"$f":"+'Stage 4'!L76","v":0},{"$f":"+'Stage 5'!K76","v":0},{"$f":"+'Stage 5'!L76","v":0},{"$f":"+'Stage 6'!K76","v":0},{"$f":"+'Stage 6'!L76","v":0},{"$f":"+'Stage 7'!K76","v":0},{"$f":"+'Stage 7'!L76","v":0},{"$f":"+'Stage 8'!K76","v":0},{"$f":"+'Stage 8'!L76","v":0},{"$f":"+'Stage 9'!K76","v":0},{"$f":"+'Stage 9'!L76","v":0},{"$f":"+'Stage 10'!K76","v":0},{"$f":"+'Stage 10'!L76","v":0},{"$f":"+'Stage 11'!K76","v":0},{"$f":"+'Stage 11'!L76","v":0},{"$f":"+'Stage 12'!K76","v":0},{"$f":"+'Stage 12'!L76","v":0},{"$f":"MIN(+E77+G77+I77+K77+M77+O77+Q77+S77+U77+W77+Y77+AA77,9999.99)","v":0},{"$f":"+F77+H77+J77+L77+N77+P77+R77+T77+V77+X77+Z77+AB77","v":0},{"$f":"IF('Shooter Information'!H78=1,\"MDQ\",IF(OR('Shooter Information'!B78=\"\",ISBLANK('Shooter Information'!B78)),,IF(SUM('Stage 1'!O76,'Stage 2'!O76,'Stage 3'!O76,'Stage 4'!O76,'Stage 5'!O76,'Stage 6'!O76,'Stage 7'!O76,'Stage 8'!O76,'Stage 9'!O76,'Stage 10'!O76,'Stage 11'!O76,'Stage 12'!O76)=0,\"Yes\",\"No\")))","v":0},{"$f":"IF('Shooter Information'!H78=1,\"No\",IF(OR('Shooter Information'!B78=\"\",ISBLANK('Shooter Information'!B78)),,IF(((AK77+AL77)>=2),\"No\",\"Yes\")))","v":0},{"$f":"IF(AC77=0,99999,AC77)","v":99999},{"$f":"IF(AD77=0,99999,AD77)","v":99999},{"$f":"IF(ISBLANK('Shooter Information'!C78),\"ZZZZZZZZZZ\",C77)","v":"ZZZZZZZZZZ"},{"$f":"CELL(\"row\",'Shooter Information'!B78)","v":78},{"$f":"SUM('Stage 1'!I76,'Stage 2'!I76,'Stage 3'!I76,'Stage 4'!I76,'Stage 5'!I76,'Stage 6'!I76,'Stage 7'!I76,'Stage 8'!I76,'Stage 9'!I76,'Stage 10'!I76,'Stage 11'!I76,'Stage 12'!I76)","v":0},{"$f":"SUM('Stage 1'!J76,'Stage 2'!J76,'Stage 3'!J76,'Stage 4'!J76,'Stage 5'!J76,'Stage 6'!J76,'Stage 7'!J76,'Stage 8'!J76,'Stage 9'!J76,'Stage 10'!J76,'Stage 11'!J76,'Stage 12'!J76)","v":0}]
[{"$f":"IF(AF78=\"Yes\",IF('Shooter Information'!$C$2=\"R\",(SUMPRODUCT(--(AD78>$AD$5:$AD$79),--(\"Yes\"=$AF$5:$AF$79))+1),(SUMPRODUCT(--(AC78>$AC$5:$AC$79),--(\"Yes\"=$AF$5:$AF$79))+1)),0)","v":0},{"$f":"'Shooter Information'!B79","v":0},{"$f":"'Shooter Information'!C79","v":0},{"$f":"IF(AF78=\"Yes\",IF('Shooter Information'!$C$2=\"R\",(SUMPRODUCT(--(C78=$C$5:$C$79),--(AD78>$AD$5:$AD$79),--(\"Yes\"=$AF$5:$AF$79))+1),(SUMPRODUCT(--(C78=$C$5:$C$79),--(AC78>$AC$5:$AC$79),--(\"Yes\"=$AF$5:$AF$79))+1)),0)","v":0},{"$f":"+'Stage 1'!K77","v":0},{"$f":"+'Stage 1'!L77","v":0},{"$f":"+'Stage 2'!K77","v":0},{"$f":"+'Stage 2'!L77","v":0},{"$f":"+'Stage 3'!K77","v":0},{"$f":"+'Stage 3'!L77","v":0},{"$f":"+'Stage 4'!K77","v":0},{"$f":"+'Stage 4'!L77","v":0},{"$f":"+'Stage 5'!K77","v":0},{"$f":"+'Stage 5'!L77","v":0},{"$f":"+'Stage 6'!K77","v":0},{"$f":"+'Stage 6'!L77","v":0},{"$f":"+'Stage 7'!K77","v":0},{"$f":"+'Stage 7'!L77","v":0},{"$f":"+'Stage 8'!K77","v":0},{"$f":"+'Stage 8'!L77","v":0},{"$f":"+'Stage 9'!K77","v":0},{"$f":"+'Stage 9'!L77","v":0},{"$f":"+'Stage 10'!K77","v":0},{"$f":"+'Stage 10'!L77","v":0},{"$f":"+'Stage 11'!K77","v":0},{"$f":"+'Stage 11'!L77","v":0},{"$f":"+'Stage 12'!K77","v":0},{"$f":"+'Stage 12'!L77","v":0},{"$f":"MIN(+E78+G78+I78+K78+M78+O78+Q78+S78+U78+W78+Y78+AA78,9999.99)","v":0},{"$f":"+F78+H78+J78+L78+N78+P78+R78+T78+V78+X78+Z78+AB78","v":0},{"$f":"IF('Shooter Information'!H79=1,\"MDQ\",IF(OR('Shooter Information'!B79=\"\",ISBLANK('Shooter Information'!B79)),,IF(SUM('Stage 1'!O77,'Stage 2'!O77,'Stage 3'!O77,'Stage 4'!O77,'Stage 5'!O77,'Stage 6'!O77,'Stage 7'!O77,'Stage 8'!O77,'Stage 9'!O77,'Stage 10'!O77,'Stage 11'!O77,'Stage 12'!O77)=0,\"Yes\",\"No\")))","v":0},{"$f":"IF('Shooter Information'!H79=1,\"No\",IF(OR('Shooter Information'!B79=\"\",ISBLANK('Shooter Information'!B79)),,IF(((AK78+AL78)>=2),\"No\",\"Yes\")))","v":0},{"$f":"IF(AC78=0,99999,AC78)","v":99999},{"$f":"IF(AD78=0,99999,AD78)","v":99999},{"$f":"IF(ISBLANK('Shooter Information'!C79),\"ZZZZZZZZZZ\",C78)","v":"ZZZZZZZZZZ"},{"$f":"CELL(\"row\",'Shooter Information'!B79)","v":79},{"$f":"SUM('Stage 1'!I77,'Stage 2'!I77,'Stage 3'!I77,'Stage 4'!I77,'Stage 5'!I77,'Stage 6'!I77,'Stage 7'!I77,'Stage 8'!I77,'Stage 9'!I77,'Stage 10'!I77,'Stage 11'!I77,'Stage 12'!I77)","v":0},{"$f":"SUM('Stage 1'!J77,'Stage 2'!J77,'Stage 3'!J77,'Stage 4'!J77,'Stage 5'!J77,'Stage 6'!J77,'Stage 7'!J77,'Stage 8'!J77,'Stage 9'!J77,'Stage 10'!J77,'Stage 11'!J77,'Stage 12'!J77)","v":0}]
[{"$f":"IF(AF79=\"Yes\",IF('Shooter Information'!$C$2=\"R\",(SUMPRODUCT(--(AD79>$AD$5:$AD$79),--(\"Yes\"=$AF$5:$AF$79))+1),(SUMPRODUCT(--(AC79>$AC$5:$AC$79),--(\"Yes\"=$AF$5:$AF$79))+1)),0)","v":0},{"$f":"'Shooter Information'!B80","v":0},{"$f":"'Shooter Information'!C80","v":0},{"$f":"IF(AF79=\"Yes\",IF('Shooter Information'!$C$2=\"R\",(SUMPRODUCT(--(C79=$C$5:$C$79),--(AD79>$AD$5:$AD$79),--(\"Yes\"=$AF$5:$AF$79))+1),(SUMPRODUCT(--(C79=$C$5:$C$79),--(AC79>$AC$5:$AC$79),--(\"Yes\"=$AF$5:$AF$79))+1)),0)","v":0},{"$f":"+'Stage 1'!K78","v":0},{"$f":"+'Stage 1'!L78","v":0},{"$f":"+'Stage 2'!K78","v":0},{"$f":"+'Stage 2'!L78","v":0},{"$f":"+'Stage 3'!K78","v":0},{"$f":"+'Stage 3'!L78","v":0},{"$f":"+'Stage 4'!K78","v":0},{"$f":"+'Stage 4'!L78","v":0},{"$f":"+'Stage 5'!K78","v":0},{"$f":"+'Stage 5'!L78","v":0},{"$f":"+'Stage 6'!K78","v":0},{"$f":"+'Stage 6'!L78","v":0},{"$f":"+'Stage 7'!K78","v":0},{"$f":"+'Stage 7'!L78","v":0},{"$f":"+'Stage 8'!K78","v":0},{"$f":"+'Stage 8'!L78","v":0},{"$f":"+'Stage 9'!K78","v":0},{"$f":"+'Stage 9'!L78","v":0},{"$f":"+'Stage 10'!K78","v":0},{"$f":"+'Stage 10'!L78","v":0},{"$f":"+'Stage 11'!K78","v":0},{"$f":"+'Stage 11'!L78","v":0},{"$f":"+'Stage 12'!K78","v":0},{"$f":"+'Stage 12'!L78","v":0},{"$f":"MIN(+E79+G79+I79+K79+M79+O79+Q79+S79+U79+W79+Y79+AA79,9999.99)","v":0},{"$f":"+F79+H79+J79+L79+N79+P79+R79+T79+V79+X79+Z79+AB79","v":0},{"$f":"IF('Shooter Information'!H80=1,\"MDQ\",IF(OR('Shooter Information'!B80=\"\",ISBLANK('Shooter Information'!B80)),,IF(SUM('Stage 1'!O78,'Stage 2'!O78,'Stage 3'!O78,'Stage 4'!O78,'Stage 5'!O78,'Stage 6'!O78,'Stage 7'!O78,'Stage 8'!O78,'Stage 9'!O78,'Stage 10'!O78,'Stage 11'!O78,'Stage 12'!O78)=0,\"Yes\",\"No\")))","v":0},{"$f":"IF('Shooter Information'!H80=1,\"No\",IF(OR('Shooter Information'!B80=\"\",ISBLANK('Shooter Information'!B80)),,IF(((AK79+AL79)>=2),\"No\",\"Yes\")))","v":0},{"$f":"IF(AC79=0,99999,AC79)","v":99999},{"$f":"IF(AD79=0,99999,AD79)","v":99999},{"$f":"IF(ISBLANK('Shooter Information'!C80),\"ZZZZZZZZZZ\",C79)","v":"ZZZZZZZZZZ"},{"$f":"CELL(\"row\",'Shooter Information'!B80)","v":80},{"$f":"SUM('Stage 1'!I78,'Stage 2'!I78,'Stage 3'!I78,'Stage 4'!I78,'Stage 5'!I78,'Stage 6'!I78,'Stage 7'!I78,'Stage 8'!I78,'Stage 9'!I78,'Stage 10'!I78,'Stage 11'!I78,'Stage 12'!I78)","v":0},{"$f":"SUM('Stage 1'!J78,'Stage 2'!J78,'Stage 3'!J78,'Stage 4'!J78,'Stage 5'!J78,'Stage 6'!J78,'Stage 7'!J78,'Stage 8'!J78,'Stage 9'!J78,'Stage 10'!J78,'Stage 11'!J78,'Stage 12'!J78)","v":0}]

{"sheet":"Match Stats","index":15,"n_rows":35,"n_cols":19,"rows_kept":35,"cut":false,"hidden":true,"merged":[]}
[]
[]
[]
[null,null,"Stage Misses & Penalties",null,null,null,null,null,null,null,"Match Shooter Times"]
[null,null,"Total Misses","10 Sec Penalties","30 Sec Penalties","DNF Penalties","SDQ Penalties",null,null,null,"Raw Minimum","Raw Median","Raw Maximum","Raw STDEVA",null,"Final Minimum","Final Median","Final Maximum","Final STDEVA"]
[null,"Stage 01",{"$f":"SUM('Stage 1'!D4:D78)","v":2},{"$f":"SUM('Stage 1'!G4:G78)","v":1},{"$f":"SUM('Stage 1'!H4:H78)","v":0},{"$f":"SUM('Stage 1'!I4:I78)","v":0},{"$f":"SUM('Stage 1'!J4:J78)","v":0},null,null,"Stage 01",{"$f":"MIN(IF('Stage 1'!$E$4:$E$78<999,IF('Stage 1'!$E$4:$E$78>0,'Stage 1'!$E$4:$E$78)))","v":19.420000000000002},{"$f":"IFERROR(MEDIAN(IF('Stage 1'!$E$4:$E$78<999,IF('Stage 1'!$E$4:$E$78>0,'Stage 1'!$E$4:$E$78))),0)","v":25.414999999999999},{"$f":"MAX(IF('Stage 1'!$E$4:$E$78<999,IF('Stage 1'!$E$4:$E$78>0,'Stage 1'!$E$4:$E$78)))","v":54.65},{"$f":"IFERROR(STDEVA(IF('Stage 1'!$E$4:$E$78<999,IF('Stage 1'!$E$4:$E$78>0,'Stage 1'!$E$4:$E$78))),0)","v":11.005279263456531},null,{"$f":"MIN(IF('Stage 1'!$K$4:$K$78<999,IF('Stage 1'!$K$4:$K$78>0,'Stage 1'!$K$4:$K$78)))","v":19.420000000000002},{"$f":"IFERROR(MEDIAN(IF('Stage 1'!$K$4:$K$78<999,IF('Stage 1'!$K$4:$K$78>0,'Stage 1'!$K$4:$K$78))),0)","v":26.119999999999997},{"$f":"MAX(IF('Stage 1'!$K$4:$K$78<999,IF('Stage 1'!$K$4:$K$78>0,'Stage 1'!$K$4:$K$78)))","v":64.490000000000009},{"$f":"IFERROR(STDEVA(IF('Stage 1'!$K$4:$K$78<999,IF('Stage 1'!$K$4:$K$78>0,'Stage 1'!$K$4:$K$78))),0)","v":12.436753528687987}]
[null,"Stage 02",{"$f":"SUM('Stage 2'!D4:D78)","v":8},{"$f":"SUM('Stage 2'!G4:G78)","v":1},{"$f":"SUM('Stage 2'!H4:H78)","v":0},{"$f":"SUM('Stage 2'!I4:I78)","v":0},{"$f":"SUM('Stage 2'!J4:J78)","v":0},null,null,"Stage 02",{"$f":"MIN(IF('Stage 2'!$E$4:$E$78<999,IF('Stage 2'!$E$4:$E$78>0,'Stage 2'!$E$4:$E$78)))","v":24.45},{"$f":"IFERROR(MEDIAN(IF('Stage 2'!$E$4:$E$78<999,IF('Stage 2'!$E$4:$E$78>0,'Stage 2'!$E$4:$E$78))),0)","v":34.744999999999997},{"$f":"MAX(IF('Stage 2'!$E$4:$E$78<999,IF('Stage 2'!$E$4:$E$78>0,'Stage 2'!$E$4:$E$78)))","v":82.33},{"$f":"IFERROR(STDEVA(IF('Stage 2'!$E$4:$E$78<999,IF('Stage 2'!$E$4:$E$78>0,'Stage 2'!$E$4:$E$78))),0)","v":16.218548524760156},null,{"$f":"MIN(IF('Stage 2'!$K$4:$K$78<999,IF('Stage 2'!$K$4:$K$78>0,'Stage 2'!$K$4:$K$78)))","v":24.45},{"$f":"IFERROR(MEDIAN(IF('Stage 2'!$K$4:$K$78<999,IF('Stage 2'!$K$4:$K$78>0,'Stage 2'!$K$4:$K$78))),0)","v":36.42},{"$f":"MAX(IF('Stage 2'!$K$4:$K$78<999,IF('Stage 2'!$K$4:$K$78>0,'Stage 2'!$K$4:$K$78)))","v":102.33},{"$f":"IFERROR(STDEVA(IF('Stage 2'!$K$4:$K$78<999,IF('Stage 2'!$K$4:$K$78>0,'Stage 2'!$K$4:$K$78))),0)","v":20.324955504256344}]
[null,"Stage 03",{"$f":"SUM('Stage 3'!D4:D78)","v":1},{"$f":"SUM('Stage 3'!G4:G78)","v":1},{"$f":"SUM('Stage 3'!H4:H78)","v":0},{"$f":"SUM('Stage 3'!I4:I78)","v":0},{"$f":"SUM('Stage 3'!J4:J78)","v":0},null,null,"Stage 03",{"$f":"MIN(IF('Stage 3'!$E$4:$E$78<999,IF('Stage 3'!$E$4:$E$78>0,'Stage 3'!$E$4:$E$78)))","v":18.02},{"$f":"IFERROR(MEDIAN(IF('Stage 3'!$E$4:$E$78<999,IF('Stage 3'!$E$4:$E$78>0,'Stage 3'!$E$4:$E$78))),0)","v":25.65},{"$f":"MAX(IF('Stage 3'!$E$4:$E$78<999,IF('Stage 3'!$E$4:$E$78>0,'Stage 3'!$E$4:$E$78)))","v":61.13},{"$f":"IFERROR(STDEVA(IF('Stage 3'!$E$4:$E$78<999,IF('Stage 3'!$E$4:$E$78>0,'Stage 3'!$E$4:$E$78))),0)","v":12.35228501128436},null,{"$f":"MIN(IF('Stage 3'!$K$4:$K$78<999,IF('Stage 3'!$K$4:$K$78>0,'Stage 3'!$K$4:$K$78)))","v":18.02},{"$f":"IFERROR(MEDIAN(IF('Stage 3'!$K$4:$K$78<999,IF('Stage 3'!$K$4:$K$78>0,'Stage 3'!$K$4:$K$78))),0)","v":26.895},{"$f":"MAX(IF('Stage 3'!$K$4:$K$78<999,IF('Stage 3'!$K$4:$K$78>0,'Stage 3'!$K$4:$K$78)))","v":61.13},{"$f":"IFERROR(STDEVA(IF('Stage 3'!$K$4:$K$78<999,IF('Stage 3'!$K$4:$K$78>0,'Stage 3'!$K$4:$K$78))),0)","v":12.811867350234325}]
[null,"Stage 04",{"$f":"SUM('Stage 4'!D4:D78)","v":4},{"$f":"SUM('Stage 4'!G4:G78)","v":0},{"$f":"SUM('Stage 4'!H4:H78)","v":0},{"$f":"SUM('Stage 4'!I4:I78)","v":0},{"$f":"SUM('Stage 4'!J4:J78)","v":0},null,null,"Stage 04",{"$f":"MIN(IF('Stage 4'!$E$4:$E$78<999,IF('Stage 4'!$E$4:$E$78>0,'Stage 4'!$E$4:$E$78)))","v":23.21},{"$f":"IFERROR(MEDIAN(IF('Stage 4'!$E$4:$E$78<999,IF('Stage 4'!$E$4:$E$78>0,'Stage 4'!$E$4:$E$78))),0)","v":31.47},{"$f":"MAX(IF('Stage 4'!$E$4:$E$78<999,IF('Stage 4'!$E$4:$E$78>0,'Stage 4'!$E$4:$E$78)))","v":61.5},{"$f":"IFERROR(STDEVA(IF('Stage 4'!$E$4:$E$78<999,IF('Stage 4'!$E$4:$E$78>0,'Stage 4'!$E$4:$E$78))),0)","v":12.296888478391599},null,{"$f":"MIN(IF('Stage 4'!$K$4:$K$78<999,IF('Stage 4'!$K$4:$K$78>0,'Stage 4'!$K$4:$K$78)))","v":23.21},{"$f":"IFERROR(MEDIAN(IF('Stage 4'!$K$4:$K$78<999,IF('Stage 4'!$K$4:$K$78>0,'Stage 4'!$K$4:$K$78))),0)","v":31.47},{"$f":"MAX(IF('Stage 4'!$K$4:$K$78<999,IF('Stage 4'!$K$4:$K$78>0,'Stage 4'!$K$4:$K$78)))","v":61.5},{"$f":"IFERROR(STDEVA(IF('Stage 4'!$K$4:$K$78<999,IF('Stage 4'!$K$4:$K$78>0,'Stage 4'!$K$4:$K$78))),0)","v":13.332484123998301}]
[null,"Stage 05",{"$f":"SUM('Stage 5'!D4:D78)","v":3},{"$f":"SUM('Stage 5'!G4:G78)","v":0},{"$f":"SUM('Stage 5'!H4:H78)","v":0},{"$f":"SUM('Stage 5'!I4:I78)","v":0},{"$f":"SUM('Stage 5'!J4:J78)","v":0},null,null,"Stage 05",{"$f":"MIN(IF('Stage 5'!$E$4:$E$78<999,IF('Stage 5'!$E$4:$E$78>0,'Stage 5'!$E$4:$E$78)))","v":28.16},{"$f":"IFERROR(MEDIAN(IF('Stage 5'!$E$4:$E$78<999,IF('Stage 5'!$E$4:$E$78>0,'Stage 5'!$E$4:$E$78))),0)","v":35.855000000000004},{"$f":"MAX(IF('Stage 5'!$E$4:$E$78<999,IF('Stage 5'!$E$4:$E$78>0,'Stage 5'!$E$4:$E$78)))","v":65.010000000000005},{"$f":"IFERROR(STDEVA(IF('Stage 5'!$E$4:$E$78<999,IF('Stage 5'!$E$4:$E$78>0,'Stage 5'!$E$4:$E$78))),0)","v":11.828707452634035},null,{"$f":"MIN(IF('Stage 5'!$K$4:$K$78<999,IF('Stage 5'!$K$4:$K$78>0,'Stage 5'!$K$4:$K$78)))","v":28.16},{"$f":"IFERROR(MEDIAN(IF('Stage 5'!$K$4:$K$78<999,IF('Stage 5'!$K$4:$K$78>0,'Stage 5'!$K$4:$K$78))),0)","v":37.44},{"$f":"MAX(IF('Stage 5'!$K$4:$K$78<999,IF('Stage 5'!$K$4:$K$78>0,'Stage 5'!$K$4:$K$78)))","v":68.61},{"$f":"IFERROR(STDEVA(IF('Stage 5'!$K$4:$K$78<999,IF('Stage 5'!$K$4:$K$78>0,'Stage 5'!$K$4:$K$78))),0)","v":12.451672712263735}]
[null,"Stage 06",{"$f":"SUM('Stage 6'!D4:D78)","v":6},{"$f":"SUM('Stage 6'!G4:G78)","v":0},{"$f":"SUM('Stage 6'!H4:H78)","v":0},{"$f":"SUM('Stage 6'!I4:I78)","v":0},{"$f":"SUM('Stage 6'!J4:J78)","v":0},null,null,"Stage 06",{"$f":"MIN(IF('Stage 6'!$E$4:$E$78<999,IF('Stage 6'!$E$4:$E$78>0,'Stage 6'!$E$4:$E$78)))","v":18.329999999999998},{"$f":"IFERROR(MEDIAN(IF('Stage 6'!$E$4:$E$78<999,IF('Stage 6'!$E$4:$E$78>0,'Stage 6'!$E$4:$E$78))),0)","v":24.695},{"$f":"MAX(IF('Stage 6'!$E$4:$E$78<999,IF('Stage 6'!$E$4:$E$78>0,'Stage 6'!$E$4:$E$78)))","v":55.54},{"$f":"IFERROR(STDEVA(IF('Stage 6'!$E$4:$E$78<999,IF('Stage 6'!$E$4:$E$78>0,'Stage 6'!$E$4:$E$78))),0)","v":10.650185424833365},null,{"$f":"MIN(IF('Stage 6'!$K$4:$K$78<999,IF('Stage 6'!$K$4:$K$78>0,'Stage 6'!$K$4:$K$78)))","v":18.329999999999998},{"$f":"IFERROR(MEDIAN(IF('Stage 6'!$K$4:$K$78<999,IF('Stage 6'!$K$4:$K$78>0,'Stage 6'!$K$4:$K$78))),0)","v":27.564999999999998},{"$f":"MAX(IF('Stage 6'!$K$4:$K$78<999,IF('Stage 6'!$K$4:$K$78>0,'Stage 6'!$K$4:$K$78)))","v":60.77},{"$f":"IFERROR(STDEVA(IF('Stage 6'!$K$4:$K$78<999,IF('Stage 6'!$K$4:$K$78>0,'Stage 6'!$K$4:$K$78))),0)","v":12.267189962796415}]
[null,"Stage 07",{"$f":"SUM('Stage 7'!D4:D78)","v":0},{"$f":"SUM('Stage 7'!G4:G78)","v":0},{"$f":"SUM('Stage 7'!H4:H78)","v":0},{"$f":"SUM('Stage 7'!I4:I78)","v":0},{"$f":"SUM('Stage 7'!J4:J78)","v":0},null,null,"Stage 07",{"$f":"MIN(IF('Stage 7'!$E$4:$E$78<999,IF('Stage 7'!$E$4:$E$78>0,'Stage 7'!$E$4:$E$78)))","v":0},{"$f":"IFERROR(MEDIAN(IF('Stage 7'!$E$4:$E$78<999,IF('Stage 7'!$E$4:$E$78>0,'Stage 7'!$E$4:$E$78))),0)","v":0},{"$f":"MAX(IF('Stage 7'!$E$4:$E$78<999,IF('Stage 7'!$E$4:$E$78>0,'Stage 7'!$E$4:$E$78)))","v":0},{"$f":"IFERROR(STDEVA(IF('Stage 7'!$E$4:$E$78<999,IF('Stage 7'!$E$4:$E$78>0,'Stage 7'!$E$4:$E$78))),0)","v":0},null,{"$f":"MIN(IF('Stage 7'!$K$4:$K$78<999,IF('Stage 7'!$K$4:$K$78>0,'Stage 7'!$K$4:$K$78)))","v":0},{"$f":"IFERROR(MEDIAN(IF('Stage 7'!$K$4:$K$78<999,IF('Stage 7'!$K$4:$K$78>0,'Stage 7'!$K$4:$K$78))),0)","v":0},{"$f":"MAX(IF('Stage 7'!$K$4:$K$78<999,IF('Stage 7'!$K$4:$K$78>0,'Stage 7'!$K$4:$K$78)))","v":0},{"$f":"IFERROR(STDEVA(IF('Stage 7'!$K$4:$K$78<999,IF('Stage 7'!$K$4:$K$78>0,'Stage 7'!$K$4:$K$78))),0)","v":0}]
[null,"Stage 08",{"$f":"SUM('Stage 8'!D4:D78)","v":0},{"$f":"SUM('Stage 8'!G4:G78)","v":0},{"$f":"SUM('Stage 8'!H4:H78)","v":0},{"$f":"SUM('Stage 8'!I4:I78)","v":0},{"$f":"SUM('Stage 8'!J4:J78)","v":0},null,null,"Stage 08",{"$f":"MIN(IF('Stage 8'!$E$4:$E$78<999,IF('Stage 8'!$E$4:$E$78>0,'Stage 8'!$E$4:$E$78)))","v":0},{"$f":"IFERROR(MEDIAN(IF('Stage 8'!$E$4:$E$78<999,IF('Stage 8'!$E$4:$E$78>0,'Stage 8'!$E$4:$E$78))),0)","v":0},{"$f":"MAX(IF('Stage 8'!$E$4:$E$78<999,IF('Stage 8'!$E$4:$E$78>0,'Stage 8'!$E$4:$E$78)))","v":0},{"$f":"IFERROR(STDEVA(IF('Stage 8'!$E$4:$E$78<999,IF('Stage 8'!$E$4:$E$78>0,'Stage 8'!$E$4:$E$78))),0)","v":0},null,{"$f":"MIN(IF('Stage 8'!$K$4:$K$78<999,IF('Stage 8'!$K$4:$K$78>0,'Stage 8'!$K$4:$K$78)))","v":0},{"$f":"IFERROR(MEDIAN(IF('Stage 8'!$K$4:$K$78<999,IF('Stage 8'!$K$4:$K$78>0,'Stage 8'!$K$4:$K$78))),0)","v":0},{"$f":"MAX(IF('Stage 8'!$K$4:$K$78<999,IF('Stage 8'!$K$4:$K$78>0,'Stage 8'!$K$4:$K$78)))","v":0},{"$f":"IFERROR(STDEVA(IF('Stage 8'!$K$4:$K$78<999,IF('Stage 8'!$K$4:$K$78>0,'Stage 8'!$K$4:$K$78))),0)","v":0}]
[null,"Stage 09",{"$f":"SUM('Stage 9'!D4:D78)","v":0},{"$f":"SUM('Stage 9'!G4:G78)","v":0},{"$f":"SUM('Stage 9'!H4:H78)","v":0},{"$f":"SUM('Stage 9'!I4:I78)","v":0},{"$f":"SUM('Stage 9'!J4:J78)","v":0},null,null,"Stage 09",{"$f":"MIN(IF('Stage 9'!$E$4:$E$78<999,IF('Stage 9'!$E$4:$E$78>0,'Stage 9'!$E$4:$E$78)))","v":0},{"$f":"IFERROR(MEDIAN(IF('Stage 9'!$E$4:$E$78<999,IF('Stage 9'!$E$4:$E$78>0,'Stage 9'!$E$4:$E$78))),0)","v":0},{"$f":"MAX(IF('Stage 9'!$E$4:$E$78<999,IF('Stage 9'!$E$4:$E$78>0,'Stage 9'!$E$4:$E$78)))","v":0},{"$f":"IFERROR(STDEVA(IF('Stage 9'!$E$4:$E$78<999,IF('Stage 9'!$E$4:$E$78>0,'Stage 9'!$E$4:$E$78))),0)","v":0},null,{"$f":"MIN(IF('Stage 9'!$K$4:$K$78<999,IF('Stage 9'!$K$4:$K$78>0,'Stage 9'!$K$4:$K$78)))","v":0},{"$f":"IFERROR(MEDIAN(IF('Stage 9'!$K$4:$K$78<999,IF('Stage 9'!$K$4:$K$78>0,'Stage 9'!$K$4:$K$78))),0)","v":0},{"$f":"MAX(IF('Stage 9'!$K$4:$K$78<999,IF('Stage 9'!$K$4:$K$78>0,'Stage 9'!$K$4:$K$78)))","v":0},{"$f":"IFERROR(STDEVA(IF('Stage 9'!$K$4:$K$78<999,IF('Stage 9'!$K$4:$K$78>0,'Stage 9'!$K$4:$K$78))),0)","v":0}]
[null,"Stage 10",{"$f":"SUM('Stage 10'!D4:D78)","v":0},{"$f":"SUM('Stage 10'!G4:G78)","v":0},{"$f":"SUM('Stage 10'!H4:H78)","v":0},{"$f":"SUM('Stage 10'!I4:I78)","v":0},{"$f":"SUM('Stage 10'!J4:J78)","v":0},null,null,"Stage 10",{"$f":"MIN(IF('Stage 10'!$E$4:$E$78<999,IF('Stage 10'!$E$4:$E$78>0,'Stage 10'!$E$4:$E$78)))","v":0},{"$f":"IFERROR(MEDIAN(IF('Stage 10'!$E$4:$E$78<999,IF('Stage 10'!$E$4:$E$78>0,'Stage 10'!$E$4:$E$78))),0)","v":0},{"$f":"MAX(IF('Stage 10'!$E$4:$E$78<999,IF('Stage 10'!$E$4:$E$78>0,'Stage 10'!$E$4:$E$78)))","v":0},{"$f":"IFERROR(STDEVA(IF('Stage 10'!$E$4:$E$78<999,IF('Stage 10'!$E$4:$E$78>0,'Stage 10'!$E$4:$E$78))),0)","v":0},null,{"$f":"MIN(IF('Stage 10'!$K$4:$K$78<999,IF('Stage 10'!$K$4:$K$78>0,'Stage 10'!$K$4:$K$78)))","v":0},{"$f":"IFERROR(MEDIAN(IF('Stage 10'!$K$4:$K$78<999,IF('Stage 10'!$K$4:$K$78>0,'Stage 10'!$K$4:$K$78))),0)","v":0},{"$f":"MAX(IF('Stage 10'!$K$4:$K$78<999,IF('Stage 10'!$K$4:$K$78>0,'Stage 10'!$K$4:$K$78)))","v":0},{"$f":"IFERROR(STDEVA(IF('Stage 10'!$K$4:$K$78<999,IF('Stage 10'!$K$4:$K$78>0,'Stage 10'!$K$4:$K$78))),0)","v":0}]
[null,"Stage 11",{"$f":"SUM('Stage 11'!D4:D78)","v":0},{"$f":"SUM('Stage 11'!G4:G78)","v":0},{"$f":"SUM('Stage 11'!H4:H78)","v":0},{"$f":"SUM('Stage 11'!I4:I78)","v":0},{"$f":"SUM('Stage 11'!J4:J78)","v":0},null,null,"Stage 11",{"$f":"MIN(IF('Stage 11'!$E$4:$E$78<999,IF('Stage 11'!$E$4:$E$78>0,'Stage 11'!$E$4:$E$78)))","v":0},{"$f":"IFERROR(MEDIAN(IF('Stage 11'!$E$4:$E$78<999,IF('Stage 11'!$E$4:$E$78>0,'Stage 11'!$E$4:$E$78))),0)","v":0},{"$f":"MAX(IF('Stage 11'!$E$4:$E$78<999,IF('Stage 11'!$E$4:$E$78>0,'Stage 11'!$E$4:$E$78)))","v":0},{"$f":"IFERROR(STDEVA(IF('Stage 11'!$E$4:$E$78<999,IF('Stage 11'!$E$4:$E$78>0,'Stage 11'!$E$4:$E$78))),0)","v":0},null,{"$f":"MIN(IF('Stage 11'!$K$4:$K$78<999,IF('Stage 11'!$K$4:$K$78>0,'Stage 11'!$K$4:$K$78)))","v":0},{"$f":"IFERROR(MEDIAN(IF('Stage 11'!$K$4:$K$78<999,IF('Stage 11'!$K$4:$K$78>0,'Stage 11'!$K$4:$K$78))),0)","v":0},{"$f":"MAX(IF('Stage 11'!$K$4:$K$78<999,IF('Stage 11'!$K$4:$K$78>0,'Stage 11'!$K$4:$K$78)))","v":0},{"$f":"IFERROR(STDEVA(IF('Stage 11'!$K$4:$K$78<999,IF('Stage 11'!$K$4:$K$78>0,'Stage 11'!$K$4:$K$78))),0)","v":0}]
[null,"Stage 12",{"$f":"SUM('Stage 12'!D4:D78)","v":0},{"$f":"SUM('Stage 12'!G4:G78)","v":0},{"$f":"SUM('Stage 12'!H4:H78)","v":0},{"$f":"SUM('Stage 12'!I4:I78)","v":0},{"$f":"SUM('Stage 12'!J4:J78)","v":0},null,null,"Stage 12",{"$f":"MIN(IF('Stage 12'!$E$4:$E$78<999,IF('Stage 12'!$E$4:$E$78>0,'Stage 12'!$E$4:$E$78)))","v":0},{"$f":"IFERROR(MEDIAN(IF('Stage 12'!$E$4:$E$78<999,IF('Stage 12'!$E$4:$E$78>0,'Stage 12'!$E$4:$E$78))),0)","v":0},{"$f":"MAX(IF('Stage 12'!$E$4:$E$78<999,IF('Stage 12'!$E$4:$E$78>0,'Stage 12'!$E$4:$E$78)))","v":0},{"$f":"IFERROR(STDEVA(IF('Stage 12'!$E$4:$E$78<999,IF('Stage 12'!$E$4:$E$78>0,'Stage 12'!$E$4:$E$78))),0)","v":0},null,{"$f":"MIN(IF('Stage 12'!$K$4:$K$78<999,IF('Stage 12'!$K$4:$K$78>0,'Stage 12'!$K$4:$K$78)))","v":0},{"$f":"IFERROR(MEDIAN(IF('Stage 12'!$K$4:$K$78<999,IF('Stage 12'!$K$4:$K$78>0,'Stage 12'!$K$4:$K$78))),0)","v":0},{"$f":"MAX(IF('Stage 12'!$K$4:$K$78<999,IF('Stage 12'!$K$4:$K$78>0,'Stage 12'!$K$4:$K$78)))","v":0},{"$f":"IFERROR(STDEVA(IF('Stage 12'!$K$4:$K$78<999,IF('Stage 12'!$K$4:$K$78>0,'Stage 12'!$K$4:$K$78))),0)","v":0}]
[null,"Match Totals",{"$f":"SUM(C6:C17)","v":24},{"$f":"SUM(D6:D17)","v":3},{"$f":"SUM(E6:E17)","v":0},{"$f":"SUM(F6:F17)","v":0},{"$f":"SUM(G6:G17)","v":0},null,null,"Match Average",{"$f":"AVERAGE(K6:K17)","v":10.965833333333331},{"$f":"AVERAGE(L6:L17)","v":14.819166666666666},31.680000000000003,6.1959911796133369,null,{"$f":"AVERAGE(P6:P17)","v":10.965833333333331},{"$f":"AVERAGE(Q6:Q17)","v":15.4925},{"$f":"AVERAGE(R6:R17)","v":34.902499999999996},6.9687435985197581]
[]
[]
[null,null,"Aggergate Stage Times",null,null,null,null,null,null,null,"Aggergate Bay Times"]
[null,null,"Raw Total Seconds","Raw Total Time","Final Total Seconds","Final Total Time","Penalty Seconds","Penalty Time",null,null,"Raw Total Seconds","Raw Total Time","Final Total Seconds","Final Total Time"]
[null,"Stage 01",{"$f":"SUM(IF('Stage 1'!$E$4:$E$78<999,IF('Stage 1'!$E$4:$E$78>0,'Stage 1'!$E$4:$E$78)))","v":459.94000000000005},{"$f":"TIME(0,0,C23)","v":"00:07:39"},{"$f":"SUM(IF('Stage 1'!$K$4:$K$78<999,IF('Stage 1'!$K$4:$K$78>0,'Stage 1'!$K$4:$K$78)),IF('Stage 1'!$F$4:$F$78<999,IF('Stage 1'!$F$4:$F$78>0,'Stage 1'!$F$4:$F$78)))","v":479.94000000000005},{"$f":"TIME(0,0,E23)","v":"00:07:59"},{"$f":"E23-C23","v":20},{"$f":"TIME(0,0,ABS(G23))","v":"00:00:20"},null,"Stage 1-2. Bay #1",{"$f":"C23+C24","v":1072.79},{"$f":"TIME(0,0,K23)","v":"00:17:52"},{"$f":"E23+E24","v":1142.79},{"$f":"TIME(0,0,M23)","v":"00:19:02"}]
[null,"Stage 02",{"$f":"SUM(IF('Stage 2'!$E$4:$E$78<999,IF('Stage 2'!$E$4:$E$78>0,'Stage 2'!$E$4:$E$78)))","v":612.85},{"$f":"TIME(0,0,C24)","v":"00:10:12"},{"$f":"SUM(IF('Stage 2'!$K$4:$K$78<999,IF('Stage 2'!$K$4:$K$78>0,'Stage 2'!$K$4:$K$78)),IF('Stage 2'!$F$4:$F$78<999,IF('Stage 2'!$F$4:$F$78>0,'Stage 2'!$F$4:$F$78)))","v":662.84999999999991},"00:11:02",{"$f":"E24-C24","v":49.999999999999886},"00:00:50"]
[null,"Stage 03",{"$f":"SUM(IF('Stage 3'!$E$4:$E$78<999,IF('Stage 3'!$E$4:$E$78>0,'Stage 3'!$E$4:$E$78)))","v":488.61999999999995},"00:08:08",{"$f":"SUM(IF('Stage 3'!$K$4:$K$78<999,IF('Stage 3'!$K$4:$K$78>0,'Stage 3'!$K$4:$K$78)),IF('Stage 3'!$F$4:$F$78<999,IF('Stage 3'!$F$4:$F$78>0,'Stage 3'!$F$4:$F$78)))","v":503.61999999999995},"00:08:23",15,"00:00:15",null,"Stage 3-4 Bay #2",{"$f":"C25+C26","v":1066.29},{"$f":"TIME(0,0,K25)","v":"00:17:46"},{"$f":"E25+E26","v":1101.29},{"$f":"TIME(0,0,M25)","v":"00:18:21"}]
[null,"Stage 04",{"$f":"SUM(IF('Stage 4'!$E$4:$E$78<999,IF('Stage 4'!$E$4:$E$78>0,'Stage 4'!$E$4:$E$78)))","v":577.66999999999996},"00:09:37",{"$f":"SUM(IF('Stage 4'!$K$4:$K$78<999,IF('Stage 4'!$K$4:$K$78>0,'Stage 4'!$K$4:$K$78)),IF('Stage 4'!$F$4:$F$78<999,IF('Stage 4'!$F$4:$F$78>0,'Stage 4'!$F$4:$F$78)))","v":597.66999999999996},"00:09:57",20,"00:00:20"]
[null,"Stage 05",{"$f":"SUM(IF('Stage 5'!$E$4:$E$78<999,IF('Stage 5'!$E$4:$E$78>0,'Stage 5'!$E$4:$E$78)))","v":632.08000000000004},"00:10:32",{"$f":"SUM(IF('Stage 5'!$K$4:$K$78<999,IF('Stage 5'!$K$4:$K$78>0,'Stage 5'!$K$4:$K$78)),IF('Stage 5'!$F$4:$F$78<999,IF('Stage 5'!$F$4:$F$78>0,'Stage 5'!$F$4:$F$78)))","v":647.08000000000004},"00:10:47",15,"00:00:15",null,"Stage 5-6 Bay #3",{"$f":"C27+C28","v":1090.5300000000002},"00:18:10",{"$f":"E27+E28","v":1135.5300000000002},"00:18:55"]
[null,"Stage 06",{"$f":"SUM(IF('Stage 6'!$E$4:$E$78<999,IF('Stage 6'!$E$4:$E$78>0,'Stage 6'!$E$4:$E$78)))","v":458.45000000000005},"00:07:38",{"$f":"SUM(IF('Stage 6'!$K$4:$K$78<999,IF('Stage 6'!$K$4:$K$78>0,'Stage 6'!$K$4:$K$78)),IF('Stage 6'!$F$4:$F$78<999,IF('Stage 6'!$F$4:$F$78>0,'Stage 6'!$F$4:$F$78)))","v":488.45000000000005},"00:08:08",30,"00:00:30"]
[null,"Stage 07",{"$f":"SUM(IF('Stage 7'!$E$4:$E$78<999,IF('Stage 7'!$E$4:$E$78>0,'Stage 7'!$E$4:$E$78)))","v":0},"00:00:00",{"$f":"SUM(IF('Stage 7'!$K$4:$K$78<999,IF('Stage 7'!$K$4:$K$78>0,'Stage 7'!$K$4:$K$78)),IF('Stage 7'!$F$4:$F$78<999,IF('Stage 7'!$F$4:$F$78>0,'Stage 7'!$F$4:$F$78)))","v":0},"00:00:00",{"$f":"E29-C29","v":0},"00:00:00",null,"Stage 7-8 Bay #1",{"$f":"C29+C30","v":0},"00:00:00",{"$f":"E29+E30","v":0},"00:00:00"]
[null,"Stage 08",{"$f":"SUM(IF('Stage 8'!$E$4:$E$78<999,IF('Stage 8'!$E$4:$E$78>0,'Stage 8'!$E$4:$E$78)))","v":0},"00:00:00",{"$f":"SUM(IF('Stage 8'!$K$4:$K$78<999,IF('Stage 8'!$K$4:$K$78>0,'Stage 8'!$K$4:$K$78)),IF('Stage 8'!$F$4:$F$78<999,IF('Stage 8'!$F$4:$F$78>0,'Stage 8'!$F$4:$F$78)))","v":0},"00:00:00",0,"00:00:00"]
[null,"Stage 09",{"$f":"SUM(IF('Stage 9'!$E$4:$E$78<999,IF('Stage 9'!$E$4:$E$78>0,'Stage 9'!$E$4:$E$78)))","v":0},"00:00:00",{"$f":"SUM(IF('Stage 9'!$K$4:$K$78<999,IF('Stage 9'!$K$4:$K$78>0,'Stage 9'!$K$4:$K$78)),IF('Stage 9'!$F$4:$F$78<999,IF('Stage 9'!$F$4:$F$78>0,'Stage 9'!$F$4:$F$78)))","v":0},"00:00:00",0,"00:00:00",null,"Stage 9-10 Bay #2",{"$f":"C31+C32","v":0},"00:00:00",{"$f":"E31+E32","v":0},"00:00:00"]
[null,"Stage 10",{"$f":"SUM(IF('Stage 10'!$E$4:$E$78<999,IF('Stage 10'!$E$4:$E$78>0,'Stage 10'!$E$4:$E$78)))","v":0},"00:00:00",{"$f":"SUM(IF('Stage 10'!$K$4:$K$78<999,IF('Stage 10'!$K$4:$K$78>0,'Stage 10'!$K$4:$K$78)),IF('Stage 10'!$F$4:$F$78<999,IF('Stage 10'!$F$4:$F$78>0,'Stage 10'!$F$4:$F$78)))","v":0},"00:00:00",0,"00:00:00"]
[null,"Stage 11",{"$f":"SUM(IF('Stage 11'!$E$4:$E$78<999,IF('Stage 11'!$E$4:$E$78>0,'Stage 11'!$E$4:$E$78)))","v":0},"00:00:00",{"$f":"SUM(IF('Stage 11'!$K$4:$K$78<999,IF('Stage 11'!$K$4:$K$78>0,'Stage 11'!$K$4:$K$78)),IF('Stage 11'!$F$4:$F$78<999,IF('Stage 11'!$F$4:$F$78>0,'Stage 11'!$F$4:$F$78)))","v":0},"00:00:00",0,"00:00:00",null,"Stage 11-12 Bay #3",{"$f":"C33+C34","v":0},"00:00:00",{"$f":"E33+E34","v":0},"00:00:00"]
[null,"Stage 12",{"$f":"SUM(IF('Stage 12'!$E$4:$E$78<999,IF('Stage 12'!$E$4:$E$78>0,'Stage 12'!$E$4:$E$78)))","v":0},"00:00:00",{"$f":"SUM(IF('Stage 12'!$K$4:$K$78<999,IF('Stage 12'!$K$4:$K$78>0,'Stage 12'!$K$4:$K$78)),IF('Stage 12'!$F$4:$F$78<999,IF('Stage 12'!$F$4:$F$78>0,'Stage 12'!$F$4:$F$78)))","v":0},"00:00:00",0,"00:00:00"]
[null,"Match Total",{"$f":"SUM(C23:C34)","v":3229.6099999999997},"00:53:49",{"$f":"SUM(E23:E34)","v":3379.6099999999997},"00:56:19",{"$f":"SUM(G23:G34)","v":149.99999999999989},"00:02:30",null,"Match Total",{"$f":"SUM(K23:K34)","v":3229.61},{"$f":"TIME(0,0,K35)","v":"00:53:49"},{"$f":"SUM(M23:M34)","v":3379.61},{"$f":"TIME(0,0,M35)","v":"00:56:19"}]

{"sheet":"Data Ranges","index":16,"n_rows":94,"n_cols":7,"rows_kept":94,"cut":false,"hidden":false,"merged":[]}
["R",null,"Class","Class Description","Class Awards",null,"ShooterAlias"]
["T",null,"49er","49er (49+)",0,null,"Badwater Bill"]
[null,null,null,"Blank",0,null,"Beartooth"]
[null,null,"BKG","Buckarette (13 and less)",0,null,"Bloody William"]
[null,null,"BK","Buckaroo (13 and less)",0,null,"Brizco-45"]
[null,null,"BW","B-Western",0,null,"Brizco-Z"]
[null,null,"CB","CB Cowboy (Any Age)",0,null,"BS Walker"]
[null,null,"CBAR","CBAR Cattle Baron (75+)",0,null,"Bucksaw Bob"]
[null,null,"CC","CC Classic Cowboy",0,null,"Cardinal Wind"]
[null,null,"CCG","CCG Classic Cowgirl",0,null,"Carolina Charlie"]
[null,null,"CG","CG Cowgirl (Lady Any Age)",0,null,"Carolina Leadfoot"]
[null,null,"D","Duelist",0,null,"Cassie La Rue"]
[null,null,"ES","Elder Statesmen (70+)",0,null,"Cockroach"]
[null,null,"FC","Frontier Cartridge",0,null,"Cody Maverick"]
[null,null,"FCD","Frontier Cartridge Duelist",0,null,"Cold Blue Mike"]
[null,null,"FCGF","Frontier Cartridge Gunfighter",0,null,"Corkscrew Tom"]
[null,null,"FT","Frontiersman",0,null,"Cotton Connie"]
[null,null,"GD","Grand Dames (70+)",0,null,"Deadwood Doc Ross"]
[null,null,"GF","Gunfighter",0,null,"Deringer Dan"]
[null,null,"L49","Lady 49er (49+)",0,null,"Dixie Gunslinger"]
[null,null,"LBW","Lady B-Western",0,null,"Doc Argyle"]
[null,null,"LD","Lady Duelist",0,null,"Doc Keep'um"]
[null,null,"LS","Lady Senior (60+)",0,null,"Doc Pill Filler"]
[null,null,"LSD","Lady Senior Duelist",0,null,"El Perro Loco"]
[null,null,"LSS","Lady Silver Senior (65+)",0,null,"Enid City Kid"]
[null,null,"LW","Lady Wrangler (36+)",0,null,"Feather"]
[null,null,"S","Senior (60+)",0,null,"Festos Nevada"]
[null,null,"SD","Senior Duelist (60+)",0,null,"Filthy Five"]
[null,null,"SGF","Senior Gunfighter (60+)",0,null,"Flatboat Bob"]
[null,null,"SS","Silver Senior (65+)",0,null,"Goldrush Stan"]
[null,null,"W","Wrangler (36+)",0,null,"Goosefoot"]
[null,null,"WW","WW Wild West",0,null,"Grouchy Greg"]
[null,null,"YG","Young Gun (14-16)",0,null,"High Noon Henry"]
[null,null,"YGG","Young Gun Girl (14-16)",0,null,"Hobble Along"]
[null,null,null,null,null,null,"Hotshod"]
[null,null,null,null,null,null,"I.M. Slowpoke"]
[null,null,null,null,null,null,"Inita Shoot"]
[null,null,null,null,null,null,"Irish Don"]
[null,null,null,null,null,null,"Jack of all Trades"]
[null,null,null,null,null,null,"John Henry Quick"]
[null,null,null,null,null,null,"Judge NO Hart"]
[null,null,null,null,null,null,"Justice Deadly"]
[null,null,null,null,null,null,"Justice Jack"]
[null,null,null,null,null,null,"Kid Wolf"]
[null,null,null,null,null,null,"Kopf Kabhirt"]
[null,null,null,null,null,null,"Kuba Kid"]
[null,null,null,null,null,null,"Last Card Charlie"]
[null,null,null,null,null,null,"Leadford Leroy"]
[null,null,null,null,null,null,"Lefty Spurmaker"]
[null,null,null,null,null,null,"Little Roy"]
[null,null,null,null,null,null,"Loco Linda"]
[null,null,null,null,null,null,"Mad Dog Savage"]
[null,null,null,null,null,null,"Madam Anne Bonney"]
[null,null,null,null,null,null,"Major BS Walker"]
[null,null,null,null,null,null,"Miss Anne Bonney"]
[null,null,null,null,null,null,"Miss Kala"]
[null,null,null,null,null,null,"Missouri Marshall"]
[null,null,null,null,null,null,"Morgan Dollar"]
[null,null,null,null,null,null,"Mustang Shelby"]
[null,null,null,null,null,null,"Nevada Narrow Gauge"]
[null,null,null,null,null,null,"Nutmegger"]
[null,null,null,null,null,null,"One Eyed Jane"]
[null,null,null,null,null,null,"One Eyed Rooster"]
[null,null,null,null,null,null,"Poney Racer"]
[null,null,null,null,null,null,"Potter County Kid"]
[null,null,null,null,null,null,"Prairie City Slim"]
[null,null,null,null,null,null,"Quilla Star"]
[null,null,null,null,null,null,"Ramblin Royce"]
[null,null,null,null,null,null,"Reb Roberts"]
[null,null,null,null,null,null,"Red Cavanaugh"]
[null,null,null,null,null,null,"Regret Schofield"]
[null,null,null,null,null,null,"Remo Williams"]
[null,null,null,null,null,null,"Ricochet Kid"]
[null,null,null,null,null,null,"Ridgeback Jack"]
[null,null,null,null,null,null,"Robert Greywolf"]
[null,null,null,null,null,null,"Salty John"]
[null,null,null,null,null,null,"Saphire Sandy"]
[null,null,null,null,null,null,"Sassy Shooting Sours"]
[null,null,null,null,null,null,"Sliphammer Spiv"]
[null,null,null,null,null,null,"Smilin Joe Guns"]
[null,null,null,null,null,null,"Sod Buster"]
[null,null,null,null,null,null,"Stogie"]
[null,null,null,null,null,null,"Striker"]
[null,null,null,null,null,null,"Swifty McDraw"]
[null,null,null,null,null,null,"Trapper Dan"]
[null,null,null,null,null,null,"Tricky Trina"]
[null,null,null,null,null,null,"Tumble Weed Tink"]
[null,null,null,null,null,null,"Vaquero Gambler"]
[null,null,null,null,null,null,"Virginia Blue Steel"]
[null,null,null,null,null,null,"Virginia Rifleman"]
[null,null,null,null,null,null,"Wendover Kid"]
[null,null,null,null,null,null,"Wildcat Will"]
[null,null,null,null,null,null,"Will Sonnet"]
[null,null,null,null,null,null,"Young Buck"]

{"sheet":"Award Listing","index":17,"n_rows":79,"n_cols":37,"rows_kept":79,"cut":false,"hidden":true,"merged":[]}
[{"$f":"'Shooter Information'!$E$1","v":"Cavalier Rifle & Pistol Club - Cavalier Cowboys"}]
["Award Listing - (Sort:Category/Time/Rank)"]
[{"$f":"'Shooter Information'!E2","v":"Sunday Feb. 01, 2015"}]
["Overall Finish","Shooter","Class","Class Finish","Stage 1","Rank 1","Stage 2","Rank 2","Stage 3","Rank 3","Stage 4","Rank 4","Stage 5","Rank 5","Stage 6","Rank 6","Stage 7","Rank 7","Stage 8","Rank 8","Stage 9","Rank 9","Stage 10","Rank 10","Stage 11","Rank 11","Stage 12","Rank 12","Grand Total","Rank Total","CAD","Award Eligible","Time Sort","Rank Sort","Class Sort","Orig Row Sort","Total DNF's"]
[{"$f":"IF(AF5=\"Yes\",IF('Shooter Information'!$C$2=\"R\",(SUMPRODUCT(--(AD5>$AD$5:$AD$79),--(\"Yes\"=$AF$5:$AF$79))+1),(SUMPRODUCT(--(AC5>$AC$5:$AC$79),--(\"Yes\"=$AF$5:$AF$79))+1)),0)","v":0},{"$f":"'Shooter Information'!B32","v":0},{"$f":"'Shooter Information'!C32","v":0},{"$f":"IF(AF5=\"Yes\",IF('Shooter Information'!$C$2=\"R\",(SUMPRODUCT(--(C5=$C$5:$C$79),--(AD5>$AD$5:$AD$79),--(\"Yes\"=$AF$5:$AF$79))+1),(SUMPRODUCT(--(C5=$C$5:$C$79),--(AC5>$AC$5:$AC$79),--(\"Yes\"=$AF$5:$AF$79))+1)),0)","v":0},{"$f":"+'Stage 1'!K30","v":0},{"$f":"+'Stage 1'!L30","v":0},{"$f":"+'Stage 2'!K30","v":0},{"$f":"+'Stage 2'!L30","v":0},{"$f":"+'Stage 3'!K30","v":0},{"$f":"+'Stage 3'!L30","v":0},{"$f":"+'Stage 4'!K30","v":0},{"$f":"+'Stage 4'!L30","v":0},{"$f":"+'Stage 5'!K30","v":0},{"$f":"+'Stage 5'!L30","v":0},{"$f":"+'Stage 6'!K30","v":0},{"$f":"+'Stage 6'!L30","v":0},{"$f":"+'Stage 7'!K30","v":0},{"$f":"+'Stage 7'!L30","v":0},{"$f":"+'Stage 8'!K30","v":0},{"$f":"+'Stage 8'!L30","v":0},{"$f":"+'Stage 9'!K30","v":0},{"$f":"+'Stage 9'!L30","v":0},{"$f":"+'Stage 10'!K30","v":0},{"$f":"+'Stage 10'!L30","v":0},{"$f":"+'Stage 11'!K30","v":0},{"$f":"+'Stage 11'!L30","v":0},{"$f":"+'Stage 12'!K30","v":0},{"$f":"+'Stage 12'!L30","v":0},{"$f":"+E5+G5+I5+K5+M5+O5+Q5+S5+U5+W5+Y5+AA5","v":0},{"$f":"+F5+H5+J5+L5+N5+P5+R5+T5+V5+X5+Z5+AB5","v":0},{"$f":"IF(ISBLANK('Shooter Information'!B32),,IF(SUM('Stage 1'!M30,'Stage 2'!M30,'Stage 3'!M30,'Stage 4'!M30,'Stage 5'!M30,'Stage 6'!M30,'Stage 7'!M30,'Stage 8'!M30,'Stage 9'!M30,'Stage 10'!M30,'Stage 11'!M30,'Stage 12'!M30)=0,\"Yes\",\"No\"))","v":0},{"$f":"IF(ISBLANK('Shooter Information'!B32),,IF(AK5>=2,\"No\",\"Yes\"))","v":0},{"$f":"IF(AC5=0,99999,AC5)","v":99999},{"$f":"IF(AD5=0,99999,AD5)","v":99999},{"$f":"IF(ISBLANK('Shooter Information'!C32),\"ZZZZZZZZZZ\",C5)","v":"ZZZZZZZZZZ"},{"$f":"CELL(\"row\",'Shooter Information'!B32)","v":32},{"$f":"SUM('Stage 1'!I30,'Stage 2'!I30,'Stage 3'!I30,'Stage 4'!I30,'Stage 5'!I30,'Stage 6'!I30,'Stage 7'!I30,'Stage 8'!I30,'Stage 9'!I30,'Stage 10'!I30,'Stage 11'!I30,'Stage 12'!I30)","v":0}]
[{"$f":"IF(AF6=\"Yes\",IF('Shooter Information'!$C$2=\"R\",(SUMPRODUCT(--(AD6>$AD$5:$AD$79),--(\"Yes\"=$AF$5:$AF$79))+1),(SUMPRODUCT(--(AC6>$AC$5:$AC$79),--(\"Yes\"=$AF$5:$AF$79))+1)),0)","v":0},{"$f":"'Shooter Information'!B31","v":0},{"$f":"'Shooter Information'!C31","v":0},{"$f":"IF(AF6=\"Yes\",IF('Shooter Information'!$C$2=\"R\",(SUMPRODUCT(--(C6=$C$5:$C$79),--(AD6>$AD$5:$AD$79),--(\"Yes\"=$AF$5:$AF$79))+1),(SUMPRODUCT(--(C6=$C$5:$C$79),--(AC6>$AC$5:$AC$79),--(\"Yes\"=$AF$5:$AF$79))+1)),0)","v":0},{"$f":"+'Stage 1'!K29","v":0},{"$f":"+'Stage 1'!L29","v":0},{"$f":"+'Stage 2'!K29","v":0},{"$f":"+'Stage 2'!L29","v":0},{"$f":"+'Stage 3'!K29","v":0},{"$f":"+'Stage 3'!L29","v":0},{"$f":"+'Stage 4'!K29","v":0},{"$f":"+'Stage 4'!L29","v":0},{"$f":"+'Stage 5'!K29","v":0},{"$f":"+'Stage 5'!L29","v":0},{"$f":"+'Stage 6'!K29","v":0},{"$f":"+'Stage 6'!L29","v":0},{"$f":"+'Stage 7'!K29","v":0},{"$f":"+'Stage 7'!L29","v":0},{"$f":"+'Stage 8'!K29","v":0},{"$f":"+'Stage 8'!L29","v":0},{"$f":"+'Stage 9'!K29","v":0},{"$f":"+'Stage 9'!L29","v":0},{"$f":"+'Stage 10'!K29","v":0},{"$f":"+'Stage 10'!L29","v":0},{"$f":"+'Stage 11'!K29","v":0},{"$f":"+'Stage 11'!L29","v":0},{"$f":"+'Stage 12'!K29","v":0},{"$f":"+'Stage 12'!L29","v":0},0,0,{"$f":"IF(ISBLANK('Shooter Information'!B31),,IF(SUM('Stage 1'!M29,'Stage 2'!M29,'Stage 3'!M29,'Stage 4'!M29,'Stage 5'!M29,'Stage 6'!M29,'Stage 7'!M29,'Stage 8'!M29,'Stage 9'!M29,'Stage 10'!M29,'Stage 11'!M29,'Stage 12'!M29)=0,\"Yes\",\"No\"))","v":0},{"$f":"IF(ISBLANK('Shooter Information'!B31),,IF(AK6>=2,\"No\",\"Yes\"))","v":0},99999,99999,{"$f":"IF(ISBLANK('Shooter Information'!C31),\"ZZZZZZZZZZ\",C6)","v":"ZZZZZZZZZZ"},{"$f":"CELL(\"row\",'Shooter Information'!B31)","v":31},{"$f":"SUM('Stage 1'!I29,'Stage 2'!I29,'Stage 3'!I29,'Stage 4'!I29,'Stage 5'!I29,'Stage 6'!I29,'Stage 7'!I29,'Stage 8'!I29,'Stage 9'!I29,'Stage 10'!I29,'Stage 11'!I29,'Stage 12'!I29)","v":0}]
[{"$f":"IF(AF7=\"Yes\",IF('Shooter Information'!$C$2=\"R\",(SUMPRODUCT(--(AD7>$AD$5:$AD$79),--(\"Yes\"=$AF$5:$AF$79))+1),(SUMPRODUCT(--(AC7>$AC$5:$AC$79),--(\"Yes\"=$AF$5:$AF$79))+1)),0)","v":0},{"$f":"'Shooter Information'!B24","v":0},{"$f":"'Shooter Information'!C24","v":0},{"$f":"IF(AF7=\"Yes\",IF('Shooter Information'!$C$2=\"R\",(SUMPRODUCT(--(C7=$C$5:$C$79),--(AD7>$AD$5:$AD$79),--(\"Yes\"=$AF$5:$AF$79))+1),(SUMPRODUCT(--(C7=$C$5:$C$79),--(AC7>$AC$5:$AC$79),--(\"Yes\"=$AF$5:$AF$79))+1)),0)","v":0},{"$f":"+'Stage 1'!K22","v":0},{"$f":"+'Stage 1'!L22","v":0},{"$f":"+'Stage 2'!K22","v":0},{"$f":"+'Stage 2'!L22","v":0},{"$f":"+'Stage 3'!K22","v":0},{"$f":"+'Stage 3'!L22","v":0},{"$f":"+'Stage 4'!K22","v":0},{"$f":"+'Stage 4'!L22","v":0},{"$f":"+'Stage 5'!K22","v":0},{"$f":"+'Stage 5'!L22","v":0},{"$f":"+'Stage 6'!K22","v":0},{"$f":"+'Stage 6'!L22","v":0},{"$f":"+'Stage 7'!K22","v":0},{"$f":"+'Stage 7'!L22","v":0},{"$f":"+'Stage 8'!K22","v":0},{"$f":"+'Stage 8'!L22","v":0},{"$f":"+'Stage 9'!K22","v":0},{"$f":"+'Stage 9'!L22","v":0},{"$f":"+'Stage 10'!K22","v":0},{"$f":"+'Stage 10'!L22","v":0},{"$f":"+'Stage 11'!K22","v":0},{"$f":"+'Stage 11'!L22","v":0},{"$f":"+'Stage 12'!K22","v":0},{"$f":"+'Stage 12'!L22","v":0},0,0,{"$f":"IF(ISBLANK('Shooter Information'!B24),,IF(SUM('Stage 1'!M22,'Stage 2'!M22,'Stage 3'!M22,'Stage 4'!M22,'Stage 5'!M22,'Stage 6'!M22,'Stage 7'!M22,'Stage 8'!M22,'Stage 9'!M22,'Stage 10'!M22,'Stage 11'!M22,'Stage 12'!M22)=0,\"Yes\",\"No\"))","v":0},{"$f":"IF(ISBLANK('Shooter Information'!B24),,IF(AK7>=2,\"No\",\"Yes\"))","v":0},99999,99999,{"$f":"IF(ISBLANK('Shooter Information'!C24),\"ZZZZZZZZZZ\",C7)","v":"ZZZZZZZZZZ"},{"$f":"CELL(\"row\",'Shooter Information'!B24)","v":24},{"$f":"SUM('Stage 1'!I22,'Stage 2'!I22,'Stage 3'!I22,'Stage 4'!I22,'Stage 5'!I22,'Stage 6'!I22,'Stage 7'!I22,'Stage 8'!I22,'Stage 9'!I22,'Stage 10'!I22,'Stage 11'!I22,'Stage 12'!I22)","v":0}]
[{"$f":"IF(AF8=\"Yes\",IF('Shooter Information'!$C$2=\"R\",(SUMPRODUCT(--(AD8>$AD$5:$AD$79),--(\"Yes\"=$AF$5:$AF$79))+1),(SUMPRODUCT(--(AC8>$AC$5:$AC$79),--(\"Yes\"=$AF$5:$AF$79))+1)),0)","v":1},{"$f":"'Shooter Information'!B21","v":"Red Cavanaugh"},{"$f":"'Shooter Information'!C21","v":"49er"},{"$f":"IF(AF8=\"Yes\",IF('Shooter Information'!$C$2=\"R\",(SUMPRODUCT(--(C8=$C$5:$C$79),--(AD8>$AD$5:$AD$79),--(\"Yes\"=$AF$5:$AF$79))+1),(SUMPRODUCT(--(C8=$C$5:$C$79),--(AC8>$AC$5:$AC$79),--(\"Yes\"=$AF$5:$AF$79))+1)),0)","v":1},{"$f":"+'Stage 1'!K19","v":19.420000000000002},{"$f":"+'Stage 1'!L19","v":1},{"$f":"+'Stage 2'!K19","v":24.45},{"$f":"+'Stage 2'!L19","v":1},{"$f":"+'Stage 3'!K19","v":20.010000000000002},{"$f":"+'Stage 3'!L19","v":3},{"$f":"+'Stage 4'!K19","v":23.21},{"$f":"+'Stage 4'!L19","v":1},{"$f":"+'Stage 5'!K19","v":29.94},{"$f":"+'Stage 5'!L19","v":3},{"$f":"+'Stage 6'!K19","v":24.14},{"$f":"+'Stage 6'!L19","v":6},{"$f":"+'Stage 7'!K19","v":0},{"$f":"+'Stage 7'!L19","v":0},{"$f":"+'Stage 8'!K19","v":0},{"$f":"+'Stage 8'!L19","v":0},{"$f":"+'Stage 9'!K19","v":0},{"$f":"+'Stage 9'!L19","v":0},{"$f":"+'Stage 10'!K19","v":0},{"$f":"+'Stage 10'!L19","v":0},{"$f":"+'Stage 11'!K19","v":0},{"$f":"+'Stage 11'!L19","v":0},{"$f":"+'Stage 12'!K19","v":0},{"$f":"+'Stage 12'!L19","v":0},141.17000000000002,15,{"$f":"IF(ISBLANK('Shooter Information'!B21),,IF(SUM('Stage 1'!M19,'Stage 2'!M19,'Stage 3'!M19,'Stage 4'!M19,'Stage 5'!M19,'Stage 6'!M19,'Stage 7'!M19,'Stage 8'!M19,'Stage 9'!M19,'Stage 10'!M19,'Stage 11'!M19,'Stage 12'!M19)=0,\"Yes\",\"No\"))","v":"No"},{"$f":"IF(ISBLANK('Shooter Information'!B21),,IF(AK8>=2,\"No\",\"Yes\"))","v":"Yes"},141.17000000000002,15,{"$f":"IF(ISBLANK('Shooter Information'!C21),\"ZZZZZZZZZZ\",C8)","v":"49er"},{"$f":"CELL(\"row\",'Shooter Information'!B21)","v":21},{"$f":"SUM('Stage 1'!I19,'Stage 2'!I19,'Stage 3'!I19,'Stage 4'!I19,'Stage 5'!I19,'Stage 6'!I19,'Stage 7'!I19,'Stage 8'!I19,'Stage 9'!I19,'Stage 10'!I19,'Stage 11'!I19,'Stage 12'!I19)","v":0}]
[{"$f":"IF(AF9=\"Yes\",IF('Shooter Information'!$C$2=\"R\",(SUMPRODUCT(--(AD9>$AD$5:$AD$79),--(\"Yes\"=$AF$5:$AF$79))+1),(SUMPRODUCT(--(AC9>$AC$5:$AC$79),--(\"Yes\"=$AF$5:$AF$79))+1)),0)","v":8},{"$f":"'Shooter Information'!B11","v":"Hotshod"},{"$f":"'Shooter Information'!C11","v":"W"},{"$f":"IF(AF9=\"Yes\",IF('Shooter Information'!$C$2=\"R\",(SUMPRODUCT(--(C9=$C$5:$C$79),--(AD9>$AD$5:$AD$79),--(\"Yes\"=$AF$5:$AF$79))+1),(SUMPRODUCT(--(C9=$C$5:$C$79),--(AC9>$AC$5:$AC$79),--(\"Yes\"=$AF$5:$AF$79))+1)),0)","v":1},{"$f":"+'Stage 1'!K9","v":20.73},{"$f":"+'Stage 1'!L9","v":3},{"$f":"+'Stage 2'!K9","v":27.98},{"$f":"+'Stage 2'!L9","v":6},{"$f":"+'Stage 3'!K9","v":34.57},{"$f":"+'Stage 3'!L9","v":12},{"$f":"+'Stage 4'!K9","v":29.61},{"$f":"+'Stage 4'!L9","v":7},{"$f":"+'Stage 5'!K9","v":33.130000000000003},{"$f":"+'Stage 5'!L9","v":6},{"$f":"+'Stage 6'!K9","v":29.87},{"$f":"+'Stage 6'!L9","v":13},{"$f":"+'Stage 7'!K9","v":0},{"$f":"+'Stage 7'!L9","v":0},{"$f":"+'Stage 8'!K9","v":0},{"$f":"+'Stage 8'!L9","v":0},{"$f":"+'Stage 9'!K9","v":0},{"$f":"+'Stage 9'!L9","v":0},{"$f":"+'Stage 10'!K9","v":0},{"$f":"+'Stage 10'!L9","v":0},{"$f":"+'Stage 11'!K9","v":0},{"$f":"+'Stage 11'!L9","v":0},{"$f":"+'Stage 12'!K9","v":0},{"$f":"+'Stage 12'!L9","v":0},175.89000000000001,47,{"$f":"IF(ISBLANK('Shooter Information'!B11),,IF(SUM('Stage 1'!M9,'Stage 2'!M9,'Stage 3'!M9,'Stage 4'!M9,'Stage 5'!M9,'Stage 6'!M9,'Stage 7'!M9,'Stage 8'!M9,'Stage 9'!M9,'Stage 10'!M9,'Stage 11'!M9,'Stage 12'!M9)=0,\"Yes\",\"No\"))","v":"No"},{"$f":"IF(ISBLANK('Shooter Information'!B11),,IF(AK9>=2,\"No\",\"Yes\"))","v":"Yes"},175.89000000000001,47,{"$f":"IF(ISBLANK('Shooter Information'!C11),\"ZZZZZZZZZZ\",C9)","v":"W"},{"$f":"CELL(\"row\",'Shooter Information'!B11)","v":11},{"$f":"SUM('Stage 1'!I9,'Stage 2'!I9,'Stage 3'!I9,'Stage 4'!I9,'Stage 5'!I9,'Stage 6'!I9,'Stage 7'!I9,'Stage 8'!I9,'Stage 9'!I9,'Stage 10'!I9,'Stage 11'!I9,'Stage 12'!I9)","v":0}]
[{"$f":"IF(AF10=\"Yes\",IF('Shooter Information'!$C$2=\"R\",(SUMPRODUCT(--(AD10>$AD$5:$AD$79),--(\"Yes\"=$AF$5:$AF$79))+1),(SUMPRODUCT(--(AC10>$AC$5:$AC$79),--(\"Yes\"=$AF$5:$AF$79))+1)),0)","v":13},{"$f":"'Shooter Information'!B9","v":"Ricochet Kid"},{"$f":"'Shooter Information'!C9","v":"W"},{"$f":"IF(AF10=\"Yes\",IF('Shooter Information'!$C$2=\"R\",(SUMPRODUCT(--(C10=$C$5:$C$79),--(AD10>$AD$5:$AD$79),--(\"Yes\"=$AF$5:$AF$79))+1),(SUMPRODUCT(--(C10=$C$5:$C$79),--(AC10>$AC$5:$AC$79),--(\"Yes\"=$AF$5:$AF$79))+1)),0)","v":2},{"$f":"+'Stage 1'!K7","v":29.12},{"$f":"+'Stage 1'!L7","v":12},{"$f":"+'Stage 2'!K7","v":46.66},{"$f":"+'Stage 2'!L7","v":13},{"$f":"+'Stage 3'!K7","v":25.59},{"$f":"+'Stage 3'!L7","v":8},{"$f":"+'Stage 4'!K7","v":57.1},{"$f":"+'Stage 4'!L7","v":14},{"$f":"+'Stage 5'!K7","v":41.5},{"$f":"+'Stage 5'!L7","v":12},{"$f":"+'Stage 6'!K7","v":29.13},{"$f":"+'Stage 6'!L7","v":10},{"$f":"+'Stage 7'!K7","v":0},{"$f":"+'Stage 7'!L7","v":0},{"$f":"+'Stage 8'!K7","v":0},{"$f":"+'Stage 8'!L7","v":0},{"$f":"+'Stage 9'!K7","v":0},{"$f":"+'Stage 9'!L7","v":0},{"$f":"+'Stage 10'!K7","v":0},{"$f":"+'Stage 10'!L7","v":0},{"$f":"+'Stage 11'!K7","v":0},{"$f":"+'Stage 11'!L7","v":0},{"$f":"+'Stage 12'!K7","v":0},{"$f":"+'Stage 12'!L7","v":0},229.1,69,{"$f":"IF(ISBLANK('Shooter Information'!B9),,IF(SUM('Stage 1'!M7,'Stage 2'!M7,'Stage 3'!M7,'Stage 4'!M7,'Stage 5'!M7,'Stage 6'!M7,'Stage 7'!M7,'Stage 8'!M7,'Stage 9'!M7,'Stage 10'!M7,'Stage 11'!M7,'Stage 12'!M7)=0,\"Yes\",\"No\"))","v":"No"},{"$f":"IF(ISBLANK('Shooter Information'!B9),,IF(AK10>=2,\"No\",\"Yes\"))","v":"Yes"},229.1,69,{"$f":"IF(ISBLANK('Shooter Information'!C9),\"ZZZZZZZZZZ\",C10)","v":"W"},{"$f":"CELL(\"row\",'Shooter Information'!B9)","v":9},{"$f":"SUM('Stage 1'!I7,'Stage 2'!I7,'Stage 3'!I7,'Stage 4'!I7,'Stage 5'!I7,'Stage 6'!I7,'Stage 7'!I7,'Stage 8'!I7,'Stage 9'!I7,'Stage 10'!I7,'Stage 11'!I7,'Stage 12'!I7)","v":0}]
[{"$f":"IF(AF11=\"Yes\",IF('Shooter Information'!$C$2=\"R\",(SUMPRODUCT(--(AD11>$AD$5:$AD$79),--(\"Yes\"=$AF$5:$AF$79))+1),(SUMPRODUCT(--(AC11>$AC$5:$AC$79),--(\"Yes\"=$AF$5:$AF$79))+1)),0)","v":7},{"$f":"'Shooter Information'!B10","v":"Flatboat Bob"},{"$f":"'Shooter Information'!C10","v":"CBAR"},{"$f":"IF(AF11=\"Yes\",IF('Shooter Information'!$C$2=\"R\",(SUMPRODUCT(--(C11=$C$5:$C$79),--(AD11>$AD$5:$AD$79),--(\"Yes\"=$AF$5:$AF$79))+1),(SUMPRODUCT(--(C11=$C$5:$C$79),--(AC11>$AC$5:$AC$79),--(\"Yes\"=$AF$5:$AF$79))+1)),0)","v":1},{"$f":"+'Stage 1'!K8","v":23.48},{"$f":"+'Stage 1'!L8","v":4},{"$f":"+'Stage 2'!K8","v":39.659999999999997},{"$f":"+'Stage 2'!L8","v":10},{"$f":"+'Stage 3'!K8","v":32.65},{"$f":"+'Stage 3'!L8","v":11},{"$f":"+'Stage 4'!K8","v":30.79},{"$f":"+'Stage 4'!L8","v":8},{"$f":"+'Stage 5'!K8","v":34.76},{"$f":"+'Stage 5'!L8","v":7},{"$f":"+'Stage 6'!K8","v":23.37},{"$f":"+'Stage 6'!L8","v":4},{"$f":"+'Stage 7'!K8","v":0},{"$f":"+'Stage 7'!L8","v":0},{"$f":"+'Stage 8'!K8","v":0},{"$f":"+'Stage 8'!L8","v":0},{"$f":"+'Stage 9'!K8","v":0},{"$f":"+'Stage 9'!L8","v":0},{"$f":"+'Stage 10'!K8","v":0},{"$f":"+'Stage 10'!L8","v":0},{"$f":"+'Stage 11'!K8","v":0},{"$f":"+'Stage 11'!L8","v":0},{"$f":"+'Stage 12'!K8","v":0},{"$f":"+'Stage 12'!L8","v":0},184.70999999999998,44,{"$f":"IF(ISBLANK('Shooter Information'!B10),,IF(SUM('Stage 1'!M8,'Stage 2'!M8,'Stage 3'!M8,'Stage 4'!M8,'Stage 5'!M8,'Stage 6'!M8,'Stage 7'!M8,'Stage 8'!M8,'Stage 9'!M8,'Stage 10'!M8,'Stage 11'!M8,'Stage 12'!M8)=0,\"Yes\",\"No\"))","v":"Yes"},{"$f":"IF(ISBLANK('Shooter Information'!B10),,IF(AK11>=2,\"No\",\"Yes\"))","v":"Yes"},184.70999999999998,44,{"$f":"IF(ISBLANK('Shooter Information'!C10),\"ZZZZZZZZZZ\",C11)","v":"CBAR"},{"$f":"CELL(\"row\",'Shooter Information'!B10)","v":10},{"$f":"SUM('Stage 1'!I8,'Stage 2'!I8,'Stage 3'!I8,'Stage 4'!I8,'Stage 5'!I8,'Stage 6'!I8,'Stage 7'!I8,'Stage 8'!I8,'Stage 9'!I8,'Stage 10'!I8,'Stage 11'!I8,'Stage 12'!I8)","v":0}]
[{"$f":"IF(AF12=\"Yes\",IF('Shooter Information'!$C$2=\"R\",(SUMPRODUCT(--(AD12>$AD$5:$AD$79),--(\"Yes\"=$AF$5:$AF$79))+1),(SUMPRODUCT(--(AC12>$AC$5:$AC$79),--(\"Yes\"=$AF$5:$AF$79))+1)),0)","v":10},{"$f":"'Shooter Information'!B18","v":"Sassy Shooting Sours"},{"$f":"'Shooter Information'!C18","v":"S"},{"$f":"IF(AF12=\"Yes\",IF('Shooter Information'!$C$2=\"R\",(SUMPRODUCT(--(C12=$C$5:$C$79),--(AD12>$AD$5:$AD$79),--(\"Yes\"=$AF$5:$AF$79))+1),(SUMPRODUCT(--(C12=$C$5:$C$79),--(AC12>$AC$5:$AC$79),--(\"Yes\"=$AF$5:$AF$79))+1)),0)","v":2},{"$f":"+'Stage 1'!K16","v":24.43},{"$f":"+'Stage 1'!L16","v":5},{"$f":"+'Stage 2'!K16","v":37.07},{"$f":"+'Stage 2'!L16","v":9},{"$f":"+'Stage 3'!K16","v":25},{"$f":"+'Stage 3'!L16","v":6},{"$f":"+'Stage 4'!K16","v":32.81},{"$f":"+'Stage 4'!L16","v":10},{"$f":"+'Stage 5'!K16","v":37.93},{"$f":"+'Stage 5'!L16","v":9},{"$f":"+'Stage 6'!K16","v":29.18},{"$f":"+'Stage 6'!L16","v":11},{"$f":"+'Stage 7'!K16","v":0},{"$f":"+'Stage 7'!L16","v":0},{"$f":"+'Stage 8'!K16","v":0},{"$f":"+'Stage 8'!L16","v":0},{"$f":"+'Stage 9'!K16","v":0},{"$f":"+'Stage 9'!L16","v":0},{"$f":"+'Stage 10'!K16","v":0},{"$f":"+'Stage 10'!L16","v":0},{"$f":"+'Stage 11'!K16","v":0},{"$f":"+'Stage 11'!L16","v":0},{"$f":"+'Stage 12'!K16","v":0},{"$f":"+'Stage 12'!L16","v":0},186.42000000000002,50,{"$f":"IF(ISBLANK('Shooter Information'!B18),,IF(SUM('Stage 1'!M16,'Stage 2'!M16,'Stage 3'!M16,'Stage 4'!M16,'Stage 5'!M16,'Stage 6'!M16,'Stage 7'!M16,'Stage 8'!M16,'Stage 9'!M16,'Stage 10'!M16,'Stage 11'!M16,'Stage 12'!M16)=0,\"Yes\",\"No\"))","v":"Yes"},{"$f":"IF(ISBLANK('Shooter Information'!B18),,IF(AK12>=2,\"No\",\"Yes\"))","v":"Yes"},186.42000000000002,50,{"$f":"IF(ISBLANK('Shooter Information'!C18),\"ZZZZZZZZZZ\",C12)","v":"S"},{"$f":"CELL(\"row\",'Shooter Information'!B18)","v":18},{"$f":"SUM('Stage 1'!I16,'Stage 2'!I16,'Stage 3'!I16,'Stage 4'!I16,'Stage 5'!I16,'Stage 6'!I16,'Stage 7'!I16,'Stage 8'!I16,'Stage 9'!I16,'Stage 10'!I16,'Stage 11'!I16,'Stage 12'!I16)","v":0}]
[{"$f":"IF(AF13=\"Yes\",IF('Shooter Information'!$C$2=\"R\",(SUMPRODUCT(--(AD13>$AD$5:$AD$79),--(\"Yes\"=$AF$5:$AF$79))+1),(SUMPRODUCT(--(AC13>$AC$5:$AC$79),--(\"Yes\"=$AF$5:$AF$79))+1)),0)","v":0},{"$f":"'Shooter Information'!B22","v":0},{"$f":"'Shooter Information'!C22","v":0},{"$f":"IF(AF13=\"Yes\",IF('Shooter Information'!$C$2=\"R\",(SUMPRODUCT(--(C13=$C$5:$C$79),--(AD13>$AD$5:$AD$79),--(\"Yes\"=$AF$5:$AF$79))+1),(SUMPRODUCT(--(C13=$C$5:$C$79),--(AC13>$AC$5:$AC$79),--(\"Yes\"=$AF$5:$AF$79))+1)),0)","v":0},{"$f":"+'Stage 1'!K20","v":0},{"$f":"+'Stage 1'!L20","v":0},{"$f":"+'Stage 2'!K20","v":0},{"$f":"+'Stage 2'!L20","v":0},{"$f":"+'Stage 3'!K20","v":0},{"$f":"+'Stage 3'!L20","v":0},{"$f":"+'Stage 4'!K20","v":0},{"$f":"+'Stage 4'!L20","v":0},{"$f":"+'Stage 5'!K20","v":0},{"$f":"+'Stage 5'!L20","v":0},{"$f":"+'Stage 6'!K20","v":0},{"$f":"+'Stage 6'!L20","v":0},{"$f":"+'Stage 7'!K20","v":0},{"$f":"+'Stage 7'!L20","v":0},{"$f":"+'Stage 8'!K20","v":0},{"$f":"+'Stage 8'!L20","v":0},{"$f":"+'Stage 9'!K20","v":0},{"$f":"+'Stage 9'!L20","v":0},{"$f":"+'Stage 10'!K20","v":0},{"$f":"+'Stage 10'!L20","v":0},{"$f":"+'Stage 11'!K20","v":0},{"$f":"+'Stage 11'!L20","v":0},{"$f":"+'Stage 12'!K20","v":0},{"$f":"+'Stage 12'!L20","v":0},0,0,{"$f":"IF(ISBLANK('Shooter Information'!B22),,IF(SUM('Stage 1'!M20,'Stage 2'!M20,'Stage 3'!M20,'Stage 4'!M20,'Stage 5'!M20,'Stage 6'!M20,'Stage 7'!M20,'Stage 8'!M20,'Stage 9'!M20,'Stage 10'!M20,'Stage 11'!M20,'Stage 12'!M20)=0,\"Yes\",\"No\"))","v":0},{"$f":"IF(ISBLANK('Shooter Information'!B22),,IF(AK13>=2,\"No\",\"Yes\"))","v":0},99999,99999,{"$f":"IF(ISBLANK('Shooter Information'!C22),\"ZZZZZZZZZZ\",C13)","v":"ZZZZZZZZZZ"},{"$f":"CELL(\"row\",'Shooter Information'!B22)","v":22},{"$f":"SUM('Stage 1'!I20,'Stage 2'!I20,'Stage 3'!I20,'Stage 4'!I20,'Stage 5'!I20,'Stage 6'!I20,'Stage 7'!I20,'Stage 8'!I20,'Stage 9'!I20,'Stage 10'!I20,'Stage 11'!I20,'Stage 12'!I20)","v":0}]
[{"$f":"IF(AF14=\"Yes\",IF('Shooter Information'!$C$2=\"R\",(SUMPRODUCT(--(AD14>$AD$5:$AD$79),--(\"Yes\"=$AF$5:$AF$79))+1),(SUMPRODUCT(--(AC14>$AC$5:$AC$79),--(\"Yes\"=$AF$5:$AF$79))+1)),0)","v":0},{"$f":"'Shooter Information'!B26","v":0},{"$f":"'Shooter Information'!C26","v":0},{"$f":"IF(AF14=\"Yes\",IF('Shooter Information'!$C$2=\"R\",(SUMPRODUCT(--(C14=$C$5:$C$79),--(AD14>$AD$5:$AD$79),--(\"Yes\"=$AF$5:$AF$79))+1),(SUMPRODUCT(--(C14=$C$5:$C$79),--(AC14>$AC$5:$AC$79),--(\"Yes\"=$AF$5:$AF$79))+1)),0)","v":0},{"$f":"+'Stage 1'!K24","v":0},{"$f":"+'Stage 1'!L24","v":0},{"$f":"+'Stage 2'!K24","v":0},{"$f":"+'Stage 2'!L24","v":0},{"$f":"+'Stage 3'!K24","v":0},{"$f":"+'Stage 3'!L24","v":0},{"$f":"+'Stage 4'!K24","v":0},{"$f":"+'Stage 4'!L24","v":0},{"$f":"+'Stage 5'!K24","v":0},{"$f":"+'Stage 5'!L24","v":0},{"$f":"+'Stage 6'!K24","v":0},{"$f":"+'Stage 6'!L24","v":0},{"$f":"+'Stage 7'!K24","v":0},{"$f":"+'Stage 7'!L24","v":0},{"$f":"+'Stage 8'!K24","v":0},{"$f":"+'Stage 8'!L24","v":0},{"$f":"+'Stage 9'!K24","v":0},{"$f":"+'Stage 9'!L24","v":0},{"$f":"+'Stage 10'!K24","v":0},{"$f":"+'Stage 10'!L24","v":0},{"$f":"+'Stage 11'!K24","v":0},{"$f":"+'Stage 11'!L24","v":0},{"$f":"+'Stage 12'!K24","v":0},{"$f":"+'Stage 12'!L24","v":0},0,0,{"$f":"IF(ISBLANK('Shooter Information'!B26),,IF(SUM('Stage 1'!M24,'Stage 2'!M24,'Stage 3'!M24,'Stage 4'!M24,'Stage 5'!M24,'Stage 6'!M24,'Stage 7'!M24,'Stage 8'!M24,'Stage 9'!M24,'Stage 10'!M24,'Stage 11'!M24,'Stage 12'!M24)=0,\"Yes\",\"No\"))","v":0},{"$f":"IF(ISBLANK('Shooter Information'!B26),,IF(AK14>=2,\"No\",\"Yes\"))","v":0},99999,99999,{"$f":"IF(ISBLANK('Shooter Information'!C26),\"ZZZZZZZZZZ\",C14)","v":"ZZZZZZZZZZ"},{"$f":"CELL(\"row\",'Shooter Information'!B26)","v":26},{"$f":"SUM('Stage 1'!I24,'Stage 2'!I24,'Stage 3'!I24,'Stage 4'!I24,'Stage 5'!I24,'Stage 6'!I24,'Stage 7'!I24,'Stage 8'!I24,'Stage 9'!I24,'Stage 10'!I24,'Stage 11'!I24,'Stage 12'!I24)","v":0}]
[{"$f":"IF(AF15=\"Yes\",IF('Shooter Information'!$C$2=\"R\",(SUMPRODUCT(--(AD15>$AD$5:$AD$79),--(\"Yes\"=$AF$5:$AF$79))+1),(SUMPRODUCT(--(AC15>$AC$5:$AC$79),--(\"Yes\"=$AF$5:$AF$79))+1)),0)","v":6},{"$f":"'Shooter Information'!B7","v":"Cody Maverick"},{"$f":"'Shooter Information'!C7","v":"GF"},{"$f":"IF(AF15=\"Yes\",IF('Shooter Information'!$C$2=\"R\",(SUMPRODUCT(--(C15=$C$5:$C$79),--(AD15>$AD$5:$AD$79),--(\"Yes\"=$AF$5:$AF$79))+1),(SUMPRODUCT(--(C15=$C$5:$C$79),--(AC15>$AC$5:$AC$79),--(\"Yes\"=$AF$5:$AF$79))+1)),0)","v":1},{"$f":"+'Stage 1'!K5","v":29.34},{"$f":"+'Stage 1'!L5","v":13},{"$f":"+'Stage 2'!K5","v":26.18},{"$f":"+'Stage 2'!L5","v":4},{"$f":"+'Stage 3'!K5","v":20.03},{"$f":"+'Stage 3'!L5","v":4},{"$f":"+'Stage 4'!K5","v":26.33},{"$f":"+'Stage 4'!L5","v":4},{"$f":"+'Stage 5'!K5","v":31.27},{"$f":"+'Stage 5'!L5","v":4},{"$f":"+'Stage 6'!K5","v":26.81},{"$f":"+'Stage 6'!L5","v":8},{"$f":"+'Stage 7'!K5","v":0},{"$f":"+'Stage 7'!L5","v":0},{"$f":"+'Stage 8'!K5","v":0},{"$f":"+'Stage 8'!L5","v":0},{"$f":"+'Stage 9'!K5","v":0},{"$f":"+'Stage 9'!L5","v":0},{"$f":"+'Stage 10'!K5","v":0},{"$f":"+'Stage 10'!L5","v":0},{"$f":"+'Stage 11'!K5","v":0},{"$f":"+'Stage 11'!L5","v":0},{"$f":"+'Stage 12'!K5","v":0},{"$f":"+'Stage 12'!L5","v":0},159.96,37,{"$f":"IF(ISBLANK('Shooter Information'!B7),,IF(SUM('Stage 1'!M5,'Stage 2'!M5,'Stage 3'!M5,'Stage 4'!M5,'Stage 5'!M5,'Stage 6'!M5,'Stage 7'!M5,'Stage 8'!M5,'Stage 9'!M5,'Stage 10'!M5,'Stage 11'!M5,'Stage 12'!M5)=0,\"Yes\",\"No\"))","v":"No"},{"$f":"IF(ISBLANK('Shooter Information'!B7),,IF(AK15>=2,\"No\",\"Yes\"))","v":"Yes"},159.96,37,{"$f":"IF(ISBLANK('Shooter Information'!C7),\"ZZZZZZZZZZ\",C15)","v":"GF"},{"$f":"CELL(\"row\",'Shooter Information'!B7)","v":7},{"$f":"SUM('Stage 1'!I5,'Stage 2'!I5,'Stage 3'!I5,'Stage 4'!I5,'Stage 5'!I5,'Stage 6'!I5,'Stage 7'!I5,'Stage 8'!I5,'Stage 9'!I5,'Stage 10'!I5,'Stage 11'!I5,'Stage 12'!I5)","v":0}]
[{"$f":"IF(AF16=\"Yes\",IF('Shooter Information'!$C$2=\"R\",(SUMPRODUCT(--(AD16>$AD$5:$AD$79),--(\"Yes\"=$AF$5:$AF$79))+1),(SUMPRODUCT(--(AC16>$AC$5:$AC$79),--(\"Yes\"=$AF$5:$AF$79))+1)),0)","v":0},{"$f":"'Shooter Information'!B30","v":0},{"$f":"'Shooter Information'!C30","v":0},{"$f":"IF(AF16=\"Yes\",IF('Shooter Information'!$C$2=\"R\",(SUMPRODUCT(--(C16=$C$5:$C$79),--(AD16>$AD$5:$AD$79),--(\"Yes\"=$AF$5:$AF$79))+1),(SUMPRODUCT(--(C16=$C$5:$C$79),--(AC16>$AC$5:$AC$79),--(\"Yes\"=$AF$5:$AF$79))+1)),0)","v":0},{"$f":"+'Stage 1'!K28","v":0},{"$f":"+'Stage 1'!L28","v":0},{"$f":"+'Stage 2'!K28","v":0},{"$f":"+'Stage 2'!L28","v":0},{"$f":"+'Stage 3'!K28","v":0},{"$f":"+'Stage 3'!L28","v":0},{"$f":"+'Stage 4'!K28","v":0},{"$f":"+'Stage 4'!L28","v":0},{"$f":"+'Stage 5'!K28","v":0},{"$f":"+'Stage 5'!L28","v":0},{"$f":"+'Stage 6'!K28","v":0},{"$f":"+'Stage 6'!L28","v":0},{"$f":"+'Stage 7'!K28","v":0},{"$f":"+'Stage 7'!L28","v":0},{"$f":"+'Stage 8'!K28","v":0},{"$f":"+'Stage 8'!L28","v":0},{"$f":"+'Stage 9'!K28","v":0},{"$f":"+'Stage 9'!L28","v":0},{"$f":"+'Stage 10'!K28","v":0},{"$f":"+'Stage 10'!L28","v":0},{"$f":"+'Stage 11'!K28","v":0},{"$f":"+'Stage 11'!L28","v":0},{"$f":"+'Stage 12'!K28","v":0},{"$f":"+'Stage 12'!L28","v":0},0,0,{"$f":"IF(ISBLANK('Shooter Information'!B30),,IF(SUM('Stage 1'!M28,'Stage 2'!M28,'Stage 3'!M28,'Stage 4'!M28,'Stage 5'!M28,'Stage 6'!M28,'Stage 7'!M28,'Stage 8'!M28,'Stage 9'!M28,'Stage 10'!M28,'Stage 11'!M28,'Stage 12'!M28)=0,\"Yes\",\"No\"))","v":0},{"$f":"IF(ISBLANK('Shooter Information'!B30),,IF(AK16>=2,\"No\",\"Yes\"))","v":0},99999,99999,{"$f":"IF(ISBLANK('Shooter Information'!C30),\"ZZZZZZZZZZ\",C16)","v":"ZZZZZZZZZZ"},{"$f":"CELL(\"row\",'Shooter Information'!B30)","v":30},{"$f":"SUM('Stage 1'!I28,'Stage 2'!I28,'Stage 3'!I28,'Stage 4'!I28,'Stage 5'!I28,'Stage 6'!I28,'Stage 7'!I28,'Stage 8'!I28,'Stage 9'!I28,'Stage 10'!I28,'Stage 11'!I28,'Stage 12'!I28)","v":0}]
[{"$f":"IF(AF17=\"Yes\",IF('Shooter Information'!$C$2=\"R\",(SUMPRODUCT(--(AD17>$AD$5:$AD$79),--(\"Yes\"=$AF$5:$AF$79))+1),(SUMPRODUCT(--(AC17>$AC$5:$AC$79),--(\"Yes\"=$AF$5:$AF$79))+1)),0)","v":16},{"$f":"'Shooter Information'!B14","v":"Tumble Weed Tink"},{"$f":"'Shooter Information'!C14","v":"L49"},{"$f":"IF(AF17=\"Yes\",IF('Shooter Information'!$C$2=\"R\",(SUMPRODUCT(--(C17=$C$5:$C$79),--(AD17>$AD$5:$AD$79),--(\"Yes\"=$AF$5:$AF$79))+1),(SUMPRODUCT(--(C17=$C$5:$C$79),--(AC17>$AC$5:$AC$79),--(\"Yes\"=$AF$5:$AF$79))+1)),0)","v":1},{"$f":"+'Stage 1'!K12","v":64.490000000000009},{"$f":"+'Stage 1'!L12","v":16},{"$f":"+'Stage 2'!K12","v":102.33},{"$f":"+'Stage 2'!L12","v":16},{"$f":"+'Stage 3'!K12","v":61.13},{"$f":"+'Stage 3'!L12","v":16},{"$f":"+'Stage 4'!K12","v":51.83},{"$f":"+'Stage 4'!L12","v":13},{"$f":"+'Stage 5'!K12","v":68.61},{"$f":"+'Stage 5'!L12","v":16},{"$f":"+'Stage 6'!K12","v":60.77},{"$f":"+'Stage 6'!L12","v":16},{"$f":"+'Stage 7'!K12","v":0},{"$f":"+'Stage 7'!L12","v":0},{"$f":"+'Stage 8'!K12","v":0},{"$f":"+'Stage 8'!L12","v":0},{"$f":"+'Stage 9'!K12","v":0},{"$f":"+'Stage 9'!L12","v":0},{"$f":"+'Stage 10'!K12","v":0},{"$f":"+'Stage 10'!L12","v":0},{"$f":"+'Stage 11'!K12","v":0},{"$f":"+'Stage 11'!L12","v":0},{"$f":"+'Stage 12'!K12","v":0},{"$f":"+'Stage 12'!L12","v":0},409.15999999999997,93,{"$f":"IF(ISBLANK('Shooter Information'!B14),,IF(SUM('Stage 1'!M12,'Stage 2'!M12,'Stage 3'!M12,'Stage 4'!M12,'Stage 5'!M12,'Stage 6'!M12,'Stage 7'!M12,'Stage 8'!M12,'Stage 9'!M12,'Stage 10'!M12,'Stage 11'!M12,'Stage 12'!M12)=0,\"Yes\",\"No\"))","v":"No"},{"$f":"IF(ISBLANK('Shooter Information'!B14),,IF(AK17>=2,\"No\",\"Yes\"))","v":"Yes"},409.15999999999997,93,{"$f":"IF(ISBLANK('Shooter Information'!C14),\"ZZZZZZZZZZ\",C17)","v":"L49"},{"$f":"CELL(\"row\",'Shooter Information'!B14)","v":14},{"$f":"SUM('Stage 1'!I12,'Stage 2'!I12,'Stage 3'!I12,'Stage 4'!I12,'Stage 5'!I12,'Stage 6'!I12,'Stage 7'!I12,'Stage 8'!I12,'Stage 9'!I12,'Stage 10'!I12,'Stage 11'!I12,'Stage 12'!I12)","v":0}]
[{"$f":"IF(AF18=\"Yes\",IF('Shooter Information'!$C$2=\"R\",(SUMPRODUCT(--(AD18>$AD$5:$AD$79),--(\"Yes\"=$AF$5:$AF$79))+1),(SUMPRODUCT(--(AC18>$AC$5:$AC$79),--(\"Yes\"=$AF$5:$AF$79))+1)),0)","v":0},{"$f":"'Shooter Information'!B27","v":0},{"$f":"'Shooter Information'!C27","v":0},{"$f":"IF(AF18=\"Yes\",IF('Shooter Information'!$C$2=\"R\",(SUMPRODUCT(--(C18=$C$5:$C$79),--(AD18>$AD$5:$AD$79),--(\"Yes\"=$AF$5:$AF$79))+1),(SUMPRODUCT(--(C18=$C$5:$C$79),--(AC18>$AC$5:$AC$79),--(\"Yes\"=$AF$5:$AF$79))+1)),0)","v":0},{"$f":"+'Stage 1'!K25","v":0},{"$f":"+'Stage 1'!L25","v":0},{"$f":"+'Stage 2'!K25","v":0},{"$f":"+'Stage 2'!L25","v":0},{"$f":"+'Stage 3'!K25","v":0},{"$f":"+'Stage 3'!L25","v":0},{"$f":"+'Stage 4'!K25","v":0},{"$f":"+'Stage 4'!L25","v":0},{"$f":"+'Stage 5'!K25","v":0},{"$f":"+'Stage 5'!L25","v":0},{"$f":"+'Stage 6'!K25","v":0},{"$f":"+'Stage 6'!L25","v":0},{"$f":"+'Stage 7'!K25","v":0},{"$f":"+'Stage 7'!L25","v":0},{"$f":"+'Stage 8'!K25","v":0},{"$f":"+'Stage 8'!L25","v":0},{"$f":"+'Stage 9'!K25","v":0},{"$f":"+'Stage 9'!L25","v":0},{"$f":"+'Stage 10'!K25","v":0},{"$f":"+'Stage 10'!L25","v":0},{"$f":"+'Stage 11'!K25","v":0},{"$f":"+'Stage 11'!L25","v":0},{"$f":"+'Stage 12'!K25","v":0},{"$f":"+'Stage 12'!L25","v":0},0,0,{"$f":"IF(ISBLANK('Shooter Information'!B27),,IF(SUM('Stage 1'!M25,'Stage 2'!M25,'Stage 3'!M25,'Stage 4'!M25,'Stage 5'!M25,'Stage 6'!M25,'Stage 7'!M25,'Stage 8'!M25,'Stage 9'!M25,'Stage 10'!M25,'Stage 11'!M25,'Stage 12'!M25)=0,\"Yes\",\"No\"))","v":0},{"$f":"IF(ISBLANK('Shooter Information'!B27),,IF(AK18>=2,\"No\",\"Yes\"))","v":0},99999,99999,{"$f":"IF(ISBLANK('Shooter Information'!C27),\"ZZZZZZZZZZ\",C18)","v":"ZZZZZZZZZZ"},{"$f":"CELL(\"row\",'Shooter Information'!B27)","v":27},{"$f":"SUM('Stage 1'!I25,'Stage 2'!I25,'Stage 3'!I25,'Stage 4'!I25,'Stage 5'!I25,'Stage 6'!I25,'Stage 7'!I25,'Stage 8'!I25,'Stage 9'!I25,'Stage 10'!I25,'Stage 11'!I25,'Stage 12'!I25)","v":0}]
[{"$f":"IF(AF19=\"Yes\",IF('Shooter Information'!$C$2=\"R\",(SUMPRODUCT(--(AD19>$AD$5:$AD$79),--(\"Yes\"=$AF$5:$AF$79))+1),(SUMPRODUCT(--(AC19>$AC$5:$AC$79),--(\"Yes\"=$AF$5:$AF$79))+1)),0)","v":15},{"$f":"'Shooter Information'!B15","v":"One Eyed Jane"},{"$f":"'Shooter Information'!C15","v":"LSS"},{"$f":"IF(AF19=\"Yes\",IF('Shooter Information'!$C$2=\"R\",(SUMPRODUCT(--(C19=$C$5:$C$79),--(AD19>$AD$5:$AD$79),--(\"Yes\"=$AF$5:$AF$79))+1),(SUMPRODUCT(--(C19=$C$5:$C$79),--(AC19>$AC$5:$AC$79),--(\"Yes\"=$AF$5:$AF$79))+1)),0)","v":1},{"$f":"+'Stage 1'!K13","v":54.65},{"$f":"+'Stage 1'!L13","v":15},{"$f":"+'Stage 2'!K13","v":67.209999999999994},{"$f":"+'Stage 2'!L13","v":15},{"$f":"+'Stage 3'!K13","v":51.81},{"$f":"+'Stage 3'!L13","v":15},{"$f":"+'Stage 4'!K13","v":58.58},{"$f":"+'Stage 4'!L13","v":15},{"$f":"+'Stage 5'!K13","v":65.010000000000005},{"$f":"+'Stage 5'!L13","v":15},{"$f":"+'Stage 6'!K13","v":55.54},{"$f":"+'Stage 6'!L13","v":15},{"$f":"+'Stage 7'!K13","v":0},{"$f":"+'Stage 7'!L13","v":0},{"$f":"+'Stage 8'!K13","v":0},{"$f":"+'Stage 8'!L13","v":0},{"$f":"+'Stage 9'!K13","v":0},{"$f":"+'Stage 9'!L13","v":0},{"$f":"+'Stage 10'!K13","v":0},{"$f":"+'Stage 10'!L13","v":0},{"$f":"+'Stage 11'!K13","v":0},{"$f":"+'Stage 11'!L13","v":0},{"$f":"+'Stage 12'!K13","v":0},{"$f":"+'Stage 12'!L13","v":0},352.8,90,{"$f":"IF(ISBLANK('Shooter Information'!B15),,IF(SUM('Stage 1'!M13,'Stage 2'!M13,'Stage 3'!M13,'Stage 4'!M13,'Stage 5'!M13,'Stage 6'!M13,'Stage 7'!M13,'Stage 8'!M13,'Stage 9'!M13,'Stage 10'!M13,'Stage 11'!M13,'Stage 12'!M13)=0,\"Yes\",\"No\"))","v":"Yes"},{"$f":"IF(ISBLANK('Shooter Information'!B15),,IF(AK19>=2,\"No\",\"Yes\"))","v":"Yes"},352.8,90,{"$f":"IF(ISBLANK('Shooter Information'!C15),\"ZZZZZZZZZZ\",C19)","v":"LSS"},{"$f":"CELL(\"row\",'Shooter Information'!B15)","v":15},{"$f":"SUM('Stage 1'!I13,'Stage 2'!I13,'Stage 3'!I13,'Stage 4'!I13,'Stage 5'!I13,'Stage 6'!I13,'Stage 7'!I13,'Stage 8'!I13,'Stage 9'!I13,'Stage 10'!I13,'Stage 11'!I13,'Stage 12'!I13)","v":0}]
[{"$f":"IF(AF20=\"Yes\",IF('Shooter Information'!$C$2=\"R\",(SUMPRODUCT(--(AD20>$AD$5:$AD$79),--(\"Yes\"=$AF$5:$AF$79))+1),(SUMPRODUCT(--(AC20>$AC$5:$AC$79),--(\"Yes\"=$AF$5:$AF$79))+1)),0)","v":0},{"$f":"'Shooter Information'!B28","v":0},{"$f":"'Shooter Information'!C28","v":0},{"$f":"IF(AF20=\"Yes\",IF('Shooter Information'!$C$2=\"R\",(SUMPRODUCT(--(C20=$C$5:$C$79),--(AD20>$AD$5:$AD$79),--(\"Yes\"=$AF$5:$AF$79))+1),(SUMPRODUCT(--(C20=$C$5:$C$79),--(AC20>$AC$5:$AC$79),--(\"Yes\"=$AF$5:$AF$79))+1)),0)","v":0},{"$f":"+'Stage 1'!K26","v":0},{"$f":"+'Stage 1'!L26","v":0},{"$f":"+'Stage 2'!K26","v":0},{"$f":"+'Stage 2'!L26","v":0},{"$f":"+'Stage 3'!K26","v":0},{"$f":"+'Stage 3'!L26","v":0},{"$f":"+'Stage 4'!K26","v":0},{"$f":"+'Stage 4'!L26","v":0},{"$f":"+'Stage 5'!K26","v":0},{"$f":"+'Stage 5'!L26","v":0},{"$f":"+'Stage 6'!K26","v":0},{"$f":"+'Stage 6'!L26","v":0},{"$f":"+'Stage 7'!K26","v":0},{"$f":"+'Stage 7'!L26","v":0},{"$f":"+'Stage 8'!K26","v":0},{"$f":"+'Stage 8'!L26","v":0},{"$f":"+'Stage 9'!K26","v":0},{"$f":"+'Stage 9'!L26","v":0},{"$f":"+'Stage 10'!K26","v":0},{"$f":"+'Stage 10'!L26","v":0},{"$f":"+'Stage 11'!K26","v":0},{"$f":"+'Stage 11'!L26","v":0},{"$f":"+'Stage 12'!K26","v":0},{"$f":"+'Stage 12'!L26","v":0},0,0,{"$f":"IF(ISBLANK('Shooter Information'!B28),,IF(SUM('Stage 1'!M26,'Stage 2'!M26,'Stage 3'!M26,'Stage 4'!M26,'Stage 5'!M26,'Stage 6'!M26,'Stage 7'!M26,'Stage 8'!M26,'Stage 9'!M26,'Stage 10'!M26,'Stage 11'!M26,'Stage 12'!M26)=0,\"Yes\",\"No\"))","v":0},{"$f":"IF(ISBLANK('Shooter Information'!B28),,IF(AK20>=2,\"No\",\"Yes\"))","v":0},99999,99999,{"$f":"IF(ISBLANK('Shooter Information'!C28),\"ZZZZZZZZZZ\",C20)","v":"ZZZZZZZZZZ"},{"$f":"CELL(\"row\",'Shooter Information'!B28)","v":28},{"$f":"SUM('Stage 1'!I26,'Stage 2'!I26,'Stage 3'!I26,'Stage 4'!I26,'Stage 5'!I26,'Stage 6'!I26,'Stage 7'!I26,'Stage 8'!I26,'Stage 9'!I26,'Stage 10'!I26,'Stage 11'!I26,'Stage 12'!I26)","v":0}]
[{"$f":"IF(AF21=\"Yes\",IF('Shooter Information'!$C$2=\"R\",(SUMPRODUCT(--(AD21>$AD$5:$AD$79),--(\"Yes\"=$AF$5:$AF$79))+1),(SUMPRODUCT(--(AC21>$AC$5:$AC$79),--(\"Yes\"=$AF$5:$AF$79))+1)),0)","v":0},{"$f":"'Shooter Information'!B25","v":0},{"$f":"'Shooter Information'!C25","v":0},{"$f":"IF(AF21=\"Yes\",IF('Shooter Information'!$C$2=\"R\",(SUMPRODUCT(--(C21=$C$5:$C$79),--(AD21>$AD$5:$AD$79),--(\"Yes\"=$AF$5:$AF$79))+1),(SUMPRODUCT(--(C21=$C$5:$C$79),--(AC21>$AC$5:$AC$79),--(\"Yes\"=$AF$5:$AF$79))+1)),0)","v":0},{"$f":"+'Stage 1'!K23","v":0},{"$f":"+'Stage 1'!L23","v":0},{"$f":"+'Stage 2'!K23","v":0},{"$f":"+'Stage 2'!L23","v":0},{"$f":"+'Stage 3'!K23","v":0},{"$f":"+'Stage 3'!L23","v":0},{"$f":"+'Stage 4'!K23","v":0},{"$f":"+'Stage 4'!L23","v":0},{"$f":"+'Stage 5'!K23","v":0},{"$f":"+'Stage 5'!L23","v":0},{"$f":"+'Stage 6'!K23","v":0},{"$f":"+'Stage 6'!L23","v":0},{"$f":"+'Stage 7'!K23","v":0},{"$f":"+'Stage 7'!L23","v":0},{"$f":"+'Stage 8'!K23","v":0},{"$f":"+'Stage 8'!L23","v":0},{"$f":"+'Stage 9'!K23","v":0},{"$f":"+'Stage 9'!L23","v":0},{"$f":"+'Stage 10'!K23","v":0},{"$f":"+'Stage 10'!L23","v":0},{"$f":"+'Stage 11'!K23","v":0},{"$f":"+'Stage 11'!L23","v":0},{"$f":"+'Stage 12'!K23","v":0},{"$f":"+'Stage 12'!L23","v":0},0,0,{"$f":"IF(ISBLANK('Shooter Information'!B25),,IF(SUM('Stage 1'!M23,'Stage 2'!M23,'Stage 3'!M23,'Stage 4'!M23,'Stage 5'!M23,'Stage 6'!M23,'Stage 7'!M23,'Stage 8'!M23,'Stage 9'!M23,'Stage 10'!M23,'Stage 11'!M23,'Stage 12'!M23)=0,\"Yes\",\"No\"))","v":0},{"$f":"IF(ISBLANK('Shooter Information'!B25),,IF(AK21>=2,\"No\",\"Yes\"))","v":0},99999,99999,{"$f":"IF(ISBLANK('Shooter Information'!C25),\"ZZZZZZZZZZ\",C21)","v":"ZZZZZZZZZZ"},{"$f":"CELL(\"row\",'Shooter Information'!B25)","v":25},{"$f":"SUM('Stage 1'!I23,'Stage 2'!I23,'Stage 3'!I23,'Stage 4'!I23,'Stage 5'!I23,'Stage 6'!I23,'Stage 7'!I23,'Stage 8'!I23,'Stage 9'!I23,'Stage 10'!I23,'Stage 11'!I23,'Stage 12'!I23)","v":0}]
[{"$f":"IF(AF22=\"Yes\",IF('Shooter Information'!$C$2=\"R\",(SUMPRODUCT(--(AD22>$AD$5:$AD$79),--(\"Yes\"=$AF$5:$AF$79))+1),(SUMPRODUCT(--(AC22>$AC$5:$AC$79),--(\"Yes\"=$AF$5:$AF$79))+1)),0)","v":0},{"$f":"'Shooter Information'!B23","v":0},{"$f":"'Shooter Information'!C23","v":0},{"$f":"IF(AF22=\"Yes\",IF('Shooter Information'!$C$2=\"R\",(SUMPRODUCT(--(C22=$C$5:$C$79),--(AD22>$AD$5:$AD$79),--(\"Yes\"=$AF$5:$AF$79))+1),(SUMPRODUCT(--(C22=$C$5:$C$79),--(AC22>$AC$5:$AC$79),--(\"Yes\"=$AF$5:$AF$79))+1)),0)","v":0},{"$f":"+'Stage 1'!K21","v":0},{"$f":"+'Stage 1'!L21","v":0},{"$f":"+'Stage 2'!K21","v":0},{"$f":"+'Stage 2'!L21","v":0},{"$f":"+'Stage 3'!K21","v":0},{"$f":"+'Stage 3'!L21","v":0},{"$f":"+'Stage 4'!K21","v":0},{"$f":"+'Stage 4'!L21","v":0},{"$f":"+'Stage 5'!K21","v":0},{"$f":"+'Stage 5'!L21","v":0},{"$f":"+'Stage 6'!K21","v":0},{"$f":"+'Stage 6'!L21","v":0},{"$f":"+'Stage 7'!K21","v":0},{"$f":"+'Stage 7'!L21","v":0},{"$f":"+'Stage 8'!K21","v":0},{"$f":"+'Stage 8'!L21","v":0},{"$f":"+'Stage 9'!K21","v":0},{"$f":"+'Stage 9'!L21","v":0},{"$f":"+'Stage 10'!K21","v":0},{"$f":"+'Stage 10'!L21","v":0},{"$f":"+'Stage 11'!K21","v":0},{"$f":"+'Stage 11'!L21","v":0},{"$f":"+'Stage 12'!K21","v":0},{"$f":"+'Stage 12'!L21","v":0},0,0,{"$f":"IF(ISBLANK('Shooter Information'!B23),,IF(SUM('Stage 1'!M21,'Stage 2'!M21,'Stage 3'!M21,'Stage 4'!M21,'Stage 5'!M21,'Stage 6'!M21,'Stage 7'!M21,'Stage 8'!M21,'Stage 9'!M21,'Stage 10'!M21,'Stage 11'!M21,'Stage 12'!M21)=0,\"Yes\",\"No\"))","v":0},{"$f":"IF(ISBLANK('Shooter Information'!B23),,IF(AK22>=2,\"No\",\"Yes\"))","v":0},99999,99999,{"$f":"IF(ISBLANK('Shooter Information'!C23),\"ZZZZZZZZZZ\",C22)","v":"ZZZZZZZZZZ"},{"$f":"CELL(\"row\",'Shooter Information'!B23)","v":23},{"$f":"SUM('Stage 1'!I21,'Stage 2'!I21,'Stage 3'!I21,'Stage 4'!I21,'Stage 5'!I21,'Stage 6'!I21,'Stage 7'!I21,'Stage 8'!I21,'Stage 9'!I21,'Stage 10'!I21,'Stage 11'!I21,'Stage 12'!I21)","v":0}]
[{"$f":"IF(AF23=\"Yes\",IF('Shooter Information'!$C$2=\"R\",(SUMPRODUCT(--(AD23>$AD$5:$AD$79),--(\"Yes\"=$AF$5:$AF$79))+1),(SUMPRODUCT(--(AC23>$AC$5:$AC$79),--(\"Yes\"=$AF$5:$AF$79))+1)),0)","v":9},{"$f":"'Shooter Information'!B12","v":"Prairie City Slim"},{"$f":"'Shooter Information'!C12","v":"ES"},{"$f":"IF(AF23=\"Yes\",IF('Shooter Information'!$C$2=\"R\",(SUMPRODUCT(--(C23=$C$5:$C$79),--(AD23>$AD$5:$AD$79),--(\"Yes\"=$AF$5:$AF$79))+1),(SUMPRODUCT(--(C23=$C$5:$C$79),--(AC23>$AC$5:$AC$79),--(\"Yes\"=$AF$5:$AF$79))+1)),0)","v":1},{"$f":"+'Stage 1'!K10","v":27.33},{"$f":"+'Stage 1'!L10","v":10},{"$f":"+'Stage 2'!K10","v":32.83},{"$f":"+'Stage 2'!L10","v":7},{"$f":"+'Stage 3'!K10","v":25.52},{"$f":"+'Stage 3'!L10","v":7},{"$f":"+'Stage 4'!K10","v":32.15},{"$f":"+'Stage 4'!L10","v":9},{"$f":"+'Stage 5'!K10","v":36.950000000000003},{"$f":"+'Stage 5'!L10","v":8},{"$f":"+'Stage 6'!K10","v":24.52},{"$f":"+'Stage 6'!L10","v":7},{"$f":"+'Stage 7'!K10","v":0},{"$f":"+'Stage 7'!L10","v":0},{"$f":"+'Stage 8'!K10","v":0},{"$f":"+'Stage 8'!L10","v":0},{"$f":"+'Stage 9'!K10","v":0},{"$f":"+'Stage 9'!L10","v":0},{"$f":"+'Stage 10'!K10","v":0},{"$f":"+'Stage 10'!L10","v":0},{"$f":"+'Stage 11'!K10","v":0},{"$f":"+'Stage 11'!L10","v":0},{"$f":"+'Stage 12'!K10","v":0},{"$f":"+'Stage 12'!L10","v":0},179.29999999999998,48,{"$f":"IF(ISBLANK('Shooter Information'!B12),,IF(SUM('Stage 1'!M10,'Stage 2'!M10,'Stage 3'!M10,'Stage 4'!M10,'Stage 5'!M10,'Stage 6'!M10,'Stage 7'!M10,'Stage 8'!M10,'Stage 9'!M10,'Stage 10'!M10,'Stage 11'!M10,'Stage 12'!M10)=0,\"Yes\",\"No\"))","v":"Yes"},{"$f":"IF(ISBLANK('Shooter Information'!B12),,IF(AK23>=2,\"No\",\"Yes\"))","v":"Yes"},179.29999999999998,48,{"$f":"IF(ISBLANK('Shooter Information'!C12),\"ZZZZZZZZZZ\",C23)","v":"ES"},{"$f":"CELL(\"row\",'Shooter Information'!B12)","v":12},{"$f":"SUM('Stage 1'!I10,'Stage 2'!I10,'Stage 3'!I10,'Stage 4'!I10,'Stage 5'!I10,'Stage 6'!I10,'Stage 7'!I10,'Stage 8'!I10,'Stage 9'!I10,'Stage 10'!I10,'Stage 11'!I10,'Stage 12'!I10)","v":0}]
[{"$f":"IF(AF24=\"Yes\",IF('Shooter Information'!$C$2=\"R\",(SUMPRODUCT(--(AD24>$AD$5:$AD$79),--(\"Yes\"=$AF$5:$AF$79))+1),(SUMPRODUCT(--(AC24>$AC$5:$AC$79),--(\"Yes\"=$AF$5:$AF$79))+1)),0)","v":5},{"$f":"'Shooter Information'!B6","v":"Striker"},{"$f":"'Shooter Information'!C6","v":"WW"},{"$f":"IF(AF24=\"Yes\",IF('Shooter Information'!$C$2=\"R\",(SUMPRODUCT(--(C24=$C$5:$C$79),--(AD24>$AD$5:$AD$79),--(\"Yes\"=$AF$5:$AF$79))+1),(SUMPRODUCT(--(C24=$C$5:$C$79),--(AC24>$AC$5:$AC$79),--(\"Yes\"=$AF$5:$AF$79))+1)),0)","v":2},{"$f":"+'Stage 1'!K4","v":26.11},{"$f":"+'Stage 1'!L4","v":8},{"$f":"+'Stage 2'!K4","v":24.82},{"$f":"+'Stage 2'!L4","v":2},{"$f":"+'Stage 3'!K4","v":21.27},{"$f":"+'Stage 3'!L4","v":5},{"$f":"+'Stage 4'!K4","v":25.89},{"$f":"+'Stage 4'!L4","v":3},{"$f":"+'Stage 5'!K4","v":38.729999999999997},{"$f":"+'Stage 5'!L4","v":10},{"$f":"+'Stage 6'!K4","v":23.39},{"$f":"+'Stage 6'!L4","v":5},{"$f":"+'Stage 7'!K4","v":0},{"$f":"+'Stage 7'!L4","v":0},{"$f":"+'Stage 8'!K4","v":0},{"$f":"+'Stage 8'!L4","v":0},{"$f":"+'Stage 9'!K4","v":0},{"$f":"+'Stage 9'!L4","v":0},{"$f":"+'Stage 10'!K4","v":0},{"$f":"+'Stage 10'!L4","v":0},{"$f":"+'Stage 11'!K4","v":0},{"$f":"+'Stage 11'!L4","v":0},{"$f":"+'Stage 12'!K4","v":0},{"$f":"+'Stage 12'!L4","v":0},160.20999999999998,33,{"$f":"IF(ISBLANK('Shooter Information'!B6),,IF(SUM('Stage 1'!M4,'Stage 2'!M4,'Stage 3'!M4,'Stage 4'!M4,'Stage 5'!M4,'Stage 6'!M4,'Stage 7'!M4,'Stage 8'!M4,'Stage 9'!M4,'Stage 10'!M4,'Stage 11'!M4,'Stage 12'!M4)=0,\"Yes\",\"No\"))","v":"No"},{"$f":"IF(ISBLANK('Shooter Information'!B6),,IF(AK24>=2,\"No\",\"Yes\"))","v":"Yes"},160.20999999999998,33,{"$f":"IF(ISBLANK('Shooter Information'!C6),\"ZZZZZZZZZZ\",C24)","v":"WW"},{"$f":"CELL(\"row\",'Shooter Information'!B6)","v":6},{"$f":"SUM('Stage 1'!I4,'Stage 2'!I4,'Stage 3'!I4,'Stage 4'!I4,'Stage 5'!I4,'Stage 6'!I4,'Stage 7'!I4,'Stage 8'!I4,'Stage 9'!I4,'Stage 10'!I4,'Stage 11'!I4,'Stage 12'!I4)","v":0}]
[{"$f":"IF(AF25=\"Yes\",IF('Shooter Information'!$C$2=\"R\",(SUMPRODUCT(--(AD25>$AD$5:$AD$79),--(\"Yes\"=$AF$5:$AF$79))+1),(SUMPRODUCT(--(AC25>$AC$5:$AC$79),--(\"Yes\"=$AF$5:$AF$79))+1)),0)","v":0},{"$f":"'Shooter Information'!B33","v":0},{"$f":"'Shooter Information'!C33","v":0},{"$f":"IF(AF25=\"Yes\",IF('Shooter Information'!$C$2=\"R\",(SUMPRODUCT(--(C25=$C$5:$C$79),--(AD25>$AD$5:$AD$79),--(\"Yes\"=$AF$5:$AF$79))+1),(SUMPRODUCT(--(C25=$C$5:$C$79),--(AC25>$AC$5:$AC$79),--(\"Yes\"=$AF$5:$AF$79))+1)),0)","v":0},{"$f":"+'Stage 1'!K31","v":0},{"$f":"+'Stage 1'!L31","v":0},{"$f":"+'Stage 2'!K31","v":0},{"$f":"+'Stage 2'!L31","v":0},{"$f":"+'Stage 3'!K31","v":0},{"$f":"+'Stage 3'!L31","v":0},{"$f":"+'Stage 4'!K31","v":0},{"$f":"+'Stage 4'!L31","v":0},{"$f":"+'Stage 5'!K31","v":0},{"$f":"+'Stage 5'!L31","v":0},{"$f":"+'Stage 6'!K31","v":0},{"$f":"+'Stage 6'!L31","v":0},{"$f":"+'Stage 7'!K31","v":0},{"$f":"+'Stage 7'!L31","v":0},{"$f":"+'Stage 8'!K31","v":0},{"$f":"+'Stage 8'!L31","v":0},{"$f":"+'Stage 9'!K31","v":0},{"$f":"+'Stage 9'!L31","v":0},{"$f":"+'Stage 10'!K31","v":0},{"$f":"+'Stage 10'!L31","v":0},{"$f":"+'Stage 11'!K31","v":0},{"$f":"+'Stage 11'!L31","v":0},{"$f":"+'Stage 12'!K31","v":0},{"$f":"+'Stage 12'!L31","v":0},0,0,{"$f":"IF(ISBLANK('Shooter Information'!B33),,IF(SUM('Stage 1'!M31,'Stage 2'!M31,'Stage 3'!M31,'Stage 4'!M31,'Stage 5'!M31,'Stage 6'!M31,'Stage 7'!M31,'Stage 8'!M31,'Stage 9'!M31,'Stage 10'!M31,'Stage 11'!M31,'Stage 12'!M31)=0,\"Yes\",\"No\"))","v":0},{"$f":"IF(ISBLANK('Shooter Information'!B33),,IF(AK25>=2,\"No\",\"Yes\"))","v":0},99999,99999,{"$f":"IF(ISBLANK('Shooter Information'!C33),\"ZZZZZZZZZZ\",C25)","v":"ZZZZZZZZZZ"},{"$f":"CELL(\"row\",'Shooter Information'!B33)","v":33},{"$f":"SUM('Stage 1'!I31,'Stage 2'!I31,'Stage 3'!I31,'Stage 4'!I31,'Stage 5'!I31,'Stage 6'!I31,'Stage 7'!I31,'Stage 8'!I31,'Stage 9'!I31,'Stage 10'!I31,'Stage 11'!I31,'Stage 12'!I31)","v":0}]
[{"$f":"IF(AF26=\"Yes\",IF('Shooter Information'!$C$2=\"R\",(SUMPRODUCT(--(AD26>$AD$5:$AD$79),--(\"Yes\"=$AF$5:$AF$79))+1),(SUMPRODUCT(--(AC26>$AC$5:$AC$79),--(\"Yes\"=$AF$5:$AF$79))+1)),0)","v":3},{"$f":"'Shooter Information'!B19","v":"Lefty Spurmaker"},{"$f":"'Shooter Information'!C19","v":"S"},{"$f":"IF(AF26=\"Yes\",IF('Shooter Information'!$C$2=\"R\",(SUMPRODUCT(--(C26=$C$5:$C$79),--(AD26>$AD$5:$AD$79),--(\"Yes\"=$AF$5:$AF$79))+1),(SUMPRODUCT(--(C26=$C$5:$C$79),--(AC26>$AC$5:$AC$79),--(\"Yes\"=$AF$5:$AF$79))+1)),0)","v":1},{"$f":"+'Stage 1'!K17","v":24.5},{"$f":"+'Stage 1'!L17","v":6},{"$f":"+'Stage 2'!K17","v":35.769999999999996},{"$f":"+'Stage 2'!L17","v":8},{"$f":"+'Stage 3'!K17","v":18.02},{"$f":"+'Stage 3'!L17","v":1},{"$f":"+'Stage 4'!K17","v":25.37},{"$f":"+'Stage 4'!L17","v":2},{"$f":"+'Stage 5'!K17","v":31.98},{"$f":"+'Stage 5'!L17","v":5},{"$f":"+'Stage 6'!K17","v":18.329999999999998},{"$f":"+'Stage 6'!L17","v":1},{"$f":"+'Stage 7'!K17","v":0},{"$f":"+'Stage 7'!L17","v":0},{"$f":"+'Stage 8'!K17","v":0},{"$f":"+'Stage 8'!L17","v":0},{"$f":"+'Stage 9'!K17","v":0},{"$f":"+'Stage 9'!L17","v":0},{"$f":"+'Stage 10'!K17","v":0},{"$f":"+'Stage 10'!L17","v":0},{"$f":"+'Stage 11'!K17","v":0},{"$f":"+'Stage 11'!L17","v":0},{"$f":"+'Stage 12'!K17","v":0},{"$f":"+'Stage 12'!L17","v":0},153.96999999999997,23,{"$f":"IF(ISBLANK('Shooter Information'!B19),,IF(SUM('Stage 1'!M17,'Stage 2'!M17,'Stage 3'!M17,'Stage 4'!M17,'Stage 5'!M17,'Stage 6'!M17,'Stage 7'!M17,'Stage 8'!M17,'Stage 9'!M17,'Stage 10'!M17,'Stage 11'!M17,'Stage 12'!M17)=0,\"Yes\",\"No\"))","v":"No"},{"$f":"IF(ISBLANK('Shooter Information'!B19),,IF(AK26>=2,\"No\",\"Yes\"))","v":"Yes"},153.96999999999997,23,{"$f":"IF(ISBLANK('Shooter Information'!C19),\"ZZZZZZZZZZ\",C26)","v":"S"},{"$f":"CELL(\"row\",'Shooter Information'!B19)","v":19},{"$f":"SUM('Stage 1'!I17,'Stage 2'!I17,'Stage 3'!I17,'Stage 4'!I17,'Stage 5'!I17,'Stage 6'!I17,'Stage 7'!I17,'Stage 8'!I17,'Stage 9'!I17,'Stage 10'!I17,'Stage 11'!I17,'Stage 12'!I17)","v":0}]
[{"$f":"IF(AF27=\"Yes\",IF('Shooter Information'!$C$2=\"R\",(SUMPRODUCT(--(AD27>$AD$5:$AD$79),--(\"Yes\"=$AF$5:$AF$79))+1),(SUMPRODUCT(--(AC27>$AC$5:$AC$79),--(\"Yes\"=$AF$5:$AF$79))+1)),0)","v":4},{"$f":"'Shooter Information'!B16","v":"Stogie"},{"$f":"'Shooter Information'!C16","v":"49er"},{"$f":"IF(AF27=\"Yes\",IF('Shooter Information'!$C$2=\"R\",(SUMPRODUCT(--(C27=$C$5:$C$79),--(AD27>$AD$5:$AD$79),--(\"Yes\"=$AF$5:$AF$79))+1),(SUMPRODUCT(--(C27=$C$5:$C$79),--(AC27>$AC$5:$AC$79),--(\"Yes\"=$AF$5:$AF$79))+1)),0)","v":2},{"$f":"+'Stage 1'!K14","v":20.420000000000002},{"$f":"+'Stage 1'!L14","v":2},{"$f":"+'Stage 2'!K14","v":26.02},{"$f":"+'Stage 2'!L14","v":3},{"$f":"+'Stage 3'!K14","v":46.08},{"$f":"+'Stage 3'!L14","v":14},{"$f":"+'Stage 4'!K14","v":27.61},{"$f":"+'Stage 4'!L14","v":6},{"$f":"+'Stage 5'!K14","v":29.32},{"$f":"+'Stage 5'!L14","v":2},{"$f":"+'Stage 6'!K14","v":21.22},{"$f":"+'Stage 6'!L14","v":3},{"$f":"+'Stage 7'!K14","v":0},{"$f":"+'Stage 7'!L14","v":0},{"$f":"+'Stage 8'!K14","v":0},{"$f":"+'Stage 8'!L14","v":0},{"$f":"+'Stage 9'!K14","v":0},{"$f":"+'Stage 9'!L14","v":0},{"$f":"+'Stage 10'!K14","v":0},{"$f":"+'Stage 10'!L14","v":0},{"$f":"+'Stage 11'!K14","v":0},{"$f":"+'Stage 11'!L14","v":0},{"$f":"+'Stage 12'!K14","v":0},{"$f":"+'Stage 12'!L14","v":0},170.67,30,{"$f":"IF(ISBLANK('Shooter Information'!B16),,IF(SUM('Stage 1'!M14,'Stage 2'!M14,'Stage 3'!M14,'Stage 4'!M14,'Stage 5'!M14,'Stage 6'!M14,'Stage 7'!M14,'Stage 8'!M14,'Stage 9'!M14,'Stage 10'!M14,'Stage 11'!M14,'Stage 12'!M14)=0,\"Yes\",\"No\"))","v":"No"},{"$f":"IF(ISBLANK('Shooter Information'!B16),,IF(AK27>=2,\"No\",\"Yes\"))","v":"Yes"},170.67,30,{"$f":"IF(ISBLANK('Shooter Information'!C16),\"ZZZZZZZZZZ\",C27)","v":"49er"},{"$f":"CELL(\"row\",'Shooter Information'!B16)","v":16},{"$f":"SUM('Stage 1'!I14,'Stage 2'!I14,'Stage 3'!I14,'Stage 4'!I14,'Stage 5'!I14,'Stage 6'!I14,'Stage 7'!I14,'Stage 8'!I14,'Stage 9'!I14,'Stage 10'!I14,'Stage 11'!I14,'Stage 12'!I14)","v":0}]
[{"$f":"IF(AF28=\"Yes\",IF('Shooter Information'!$C$2=\"R\",(SUMPRODUCT(--(AD28>$AD$5:$AD$79),--(\"Yes\"=$AF$5:$AF$79))+1),(SUMPRODUCT(--(AC28>$AC$5:$AC$79),--(\"Yes\"=$AF$5:$AF$79))+1)),0)","v":0},{"$f":"'Shooter Information'!B36","v":0},{"$f":"'Shooter Information'!C36","v":0},{"$f":"IF(AF28=\"Yes\",IF('Shooter Information'!$C$2=\"R\",(SUMPRODUCT(--(C28=$C$5:$C$79),--(AD28>$AD$5:$AD$79),--(\"Yes\"=$AF$5:$AF$79))+1),(SUMPRODUCT(--(C28=$C$5:$C$79),--(AC28>$AC$5:$AC$79),--(\"Yes\"=$AF$5:$AF$79))+1)),0)","v":0},{"$f":"+'Stage 1'!K34","v":0},{"$f":"+'Stage 1'!L34","v":0},{"$f":"+'Stage 2'!K34","v":0},{"$f":"+'Stage 2'!L34","v":0},{"$f":"+'Stage 3'!K34","v":0},{"$f":"+'Stage 3'!L34","v":0},{"$f":"+'Stage 4'!K34","v":0},{"$f":"+'Stage 4'!L34","v":0},{"$f":"+'Stage 5'!K34","v":0},{"$f":"+'Stage 5'!L34","v":0},{"$f":"+'Stage 6'!K34","v":0},{"$f":"+'Stage 6'!L34","v":0},{"$f":"+'Stage 7'!K34","v":0},{"$f":"+'Stage 7'!L34","v":0},{"$f":"+'Stage 8'!K34","v":0},{"$f":"+'Stage 8'!L34","v":0},{"$f":"+'Stage 9'!K34","v":0},{"$f":"+'Stage 9'!L34","v":0},{"$f":"+'Stage 10'!K34","v":0},{"$f":"+'Stage 10'!L34","v":0},{"$f":"+'Stage 11'!K34","v":0},{"$f":"+'Stage 11'!L34","v":0},{"$f":"+'Stage 12'!K34","v":0},{"$f":"+'Stage 12'!L34","v":0},0,0,{"$f":"IF(ISBLANK('Shooter Information'!B36),,IF(SUM('Stage 1'!M34,'Stage 2'!M34,'Stage 3'!M34,'Stage 4'!M34,'Stage 5'!M34,'Stage 6'!M34,'Stage 7'!M34,'Stage 8'!M34,'Stage 9'!M34,'Stage 10'!M34,'Stage 11'!M34,'Stage 12'!M34)=0,\"Yes\",\"No\"))","v":0},{"$f":"IF(ISBLANK('Shooter Information'!B36),,IF(AK28>=2,\"No\",\"Yes\"))","v":0},99999,99999,{"$f":"IF(ISBLANK('Shooter Information'!C36),\"ZZZZZZZZZZ\",C28)","v":"ZZZZZZZZZZ"},{"$f":"CELL(\"row\",'Shooter Information'!B36)","v":36},{"$f":"SUM('Stage 1'!I34,'Stage 2'!I34,'Stage 3'!I34,'Stage 4'!I34,'Stage 5'!I34,'Stage 6'!I34,'Stage 7'!I34,'Stage 8'!I34,'Stage 9'!I34,'Stage 10'!I34,'Stage 11'!I34,'Stage 12'!I34)","v":0}]
[{"$f":"IF(AF29=\"Yes\",IF('Shooter Information'!$C$2=\"R\",(SUMPRODUCT(--(AD29>$AD$5:$AD$79),--(\"Yes\"=$AF$5:$AF$79))+1),(SUMPRODUCT(--(AC29>$AC$5:$AC$79),--(\"Yes\"=$AF$5:$AF$79))+1)),0)","v":12},{"$f":"'Shooter Information'!B20","v":"Windhorse Rider"},{"$f":"'Shooter Information'!C20","v":"GF"},{"$f":"IF(AF29=\"Yes\",IF('Shooter Information'!$C$2=\"R\",(SUMPRODUCT(--(C29=$C$5:$C$79),--(AD29>$AD$5:$AD$79),--(\"Yes\"=$AF$5:$AF$79))+1),(SUMPRODUCT(--(C29=$C$5:$C$79),--(AC29>$AC$5:$AC$79),--(\"Yes\"=$AF$5:$AF$79))+1)),0)","v":2},{"$f":"+'Stage 1'!K18","v":27.52},{"$f":"+'Stage 1'!L18","v":11},{"$f":"+'Stage 2'!K18","v":46.38},{"$f":"+'Stage 2'!L18","v":12},{"$f":"+'Stage 3'!K18","v":28.2},{"$f":"+'Stage 3'!L18","v":9},{"$f":"+'Stage 4'!K18","v":45.87},{"$f":"+'Stage 4'!L18","v":12},{"$f":"+'Stage 5'!K18","v":40.020000000000003},{"$f":"+'Stage 5'!L18","v":11},{"$f":"+'Stage 6'!K18","v":29.72},{"$f":"+'Stage 6'!L18","v":12},{"$f":"+'Stage 7'!K18","v":0},{"$f":"+'Stage 7'!L18","v":0},{"$f":"+'Stage 8'!K18","v":0},{"$f":"+'Stage 8'!L18","v":0},{"$f":"+'Stage 9'!K18","v":0},{"$f":"+'Stage 9'!L18","v":0},{"$f":"+'Stage 10'!K18","v":0},{"$f":"+'Stage 10'!L18","v":0},{"$f":"+'Stage 11'!K18","v":0},{"$f":"+'Stage 11'!L18","v":0},{"$f":"+'Stage 12'!K18","v":0},{"$f":"+'Stage 12'!L18","v":0},217.71,67,{"$f":"IF(ISBLANK('Shooter Information'!B20),,IF(SUM('Stage 1'!M18,'Stage 2'!M18,'Stage 3'!M18,'Stage 4'!M18,'Stage 5'!M18,'Stage 6'!M18,'Stage 7'!M18,'Stage 8'!M18,'Stage 9'!M18,'Stage 10'!M18,'Stage 11'!M18,'Stage 12'!M18)=0,\"Yes\",\"No\"))","v":"No"},{"$f":"IF(ISBLANK('Shooter Information'!B20),,IF(AK29>=2,\"No\",\"Yes\"))","v":"Yes"},217.71,67,{"$f":"IF(ISBLANK('Shooter Information'!C20),\"ZZZZZZZZZZ\",C29)","v":"GF"},{"$f":"CELL(\"row\",'Shooter Information'!B20)","v":20},{"$f":"SUM('Stage 1'!I18,'Stage 2'!I18,'Stage 3'!I18,'Stage 4'!I18,'Stage 5'!I18,'Stage 6'!I18,'Stage 7'!I18,'Stage 8'!I18,'Stage 9'!I18,'Stage 10'!I18,'Stage 11'!I18,'Stage 12'!I18)","v":0}]
[{"$f":"IF(AF30=\"Yes\",IF('Shooter Information'!$C$2=\"R\",(SUMPRODUCT(--(AD30>$AD$5:$AD$79),--(\"Yes\"=$AF$5:$AF$79))+1),(SUMPRODUCT(--(AC30>$AC$5:$AC$79),--(\"Yes\"=$AF$5:$AF$79))+1)),0)","v":11},{"$f":"'Shooter Information'!B8","v":"Potter County Kid"},{"$f":"'Shooter Information'!C8","v":"WW"},{"$f":"IF(AF30=\"Yes\",IF('Shooter Information'!$C$2=\"R\",(SUMPRODUCT(--(C30=$C$5:$C$79),--(AD30>$AD$5:$AD$79),--(\"Yes\"=$AF$5:$AF$79))+1),(SUMPRODUCT(--(C30=$C$5:$C$79),--(AC30>$AC$5:$AC$79),--(\"Yes\"=$AF$5:$AF$79))+1)),0)","v":3},{"$f":"+'Stage 1'!K6","v":26.13},{"$f":"+'Stage 1'!L6","v":9},{"$f":"+'Stage 2'!K6","v":43.3},{"$f":"+'Stage 2'!L6","v":11},{"$f":"+'Stage 3'!K6","v":30.71},{"$f":"+'Stage 3'!L6","v":10},{"$f":"+'Stage 4'!K6","v":41.66},{"$f":"+'Stage 4'!L6","v":11},{"$f":"+'Stage 5'!K6","v":42.77},{"$f":"+'Stage 5'!L6","v":13},{"$f":"+'Stage 6'!K6","v":28.32},{"$f":"+'Stage 6'!L6","v":9},{"$f":"+'Stage 7'!K6","v":0},{"$f":"+'Stage 7'!L6","v":0},{"$f":"+'Stage 8'!K6","v":0},{"$f":"+'Stage 8'!L6","v":0},{"$f":"+'Stage 9'!K6","v":0},{"$f":"+'Stage 9'!L6","v":0},{"$f":"+'Stage 10'!K6","v":0},{"$f":"+'Stage 10'!L6","v":0},{"$f":"+'Stage 11'!K6","v":0},{"$f":"+'Stage 11'!L6","v":0},{"$f":"+'Stage 12'!K6","v":0},{"$f":"+'Stage 12'!L6","v":0},212.89,63,{"$f":"IF(ISBLANK('Shooter Information'!B8),,IF(SUM('Stage 1'!M6,'Stage 2'!M6,'Stage 3'!M6,'Stage 4'!M6,'Stage 5'!M6,'Stage 6'!M6,'Stage 7'!M6,'Stage 8'!M6,'Stage 9'!M6,'Stage 10'!M6,'Stage 11'!M6,'Stage 12'!M6)=0,\"Yes\",\"No\"))","v":"No"},{"$f":"IF(ISBLANK('Shooter Information'!B8),,IF(AK30>=2,\"No\",\"Yes\"))","v":"Yes"},212.89,63,{"$f":"IF(ISBLANK('Shooter Information'!C8),\"ZZZZZZZZZZ\",C30)","v":"WW"},{"$f":"CELL(\"row\",'Shooter Information'!B8)","v":8},{"$f":"SUM('Stage 1'!I6,'Stage 2'!I6,'Stage 3'!I6,'Stage 4'!I6,'Stage 5'!I6,'Stage 6'!I6,'Stage 7'!I6,'Stage 8'!I6,'Stage 9'!I6,'Stage 10'!I6,'Stage 11'!I6,'Stage 12'!I6)","v":0}]
[{"$f":"IF(AF31=\"Yes\",IF('Shooter Information'!$C$2=\"R\",(SUMPRODUCT(--(AD31>$AD$5:$AD$79),--(\"Yes\"=$AF$5:$AF$79))+1),(SUMPRODUCT(--(AC31>$AC$5:$AC$79),--(\"Yes\"=$AF$5:$AF$79))+1)),0)","v":0},{"$f":"'Shooter Information'!B37","v":0},{"$f":"'Shooter Information'!C37","v":0},{"$f":"IF(AF31=\"Yes\",IF('Shooter Information'!$C$2=\"R\",(SUMPRODUCT(--(C31=$C$5:$C$79),--(AD31>$AD$5:$AD$79),--(\"Yes\"=$AF$5:$AF$79))+1),(SUMPRODUCT(--(C31=$C$5:$C$79),--(AC31>$AC$5:$AC$79),--(\"Yes\"=$AF$5:$AF$79))+1)),0)","v":0},{"$f":"+'Stage 1'!K35","v":0},{"$f":"+'Stage 1'!L35","v":0},{"$f":"+'Stage 2'!K35","v":0},{"$f":"+'Stage 2'!L35","v":0},{"$f":"+'Stage 3'!K35","v":0},{"$f":"+'Stage 3'!L35","v":0},{"$f":"+'Stage 4'!K35","v":0},{"$f":"+'Stage 4'!L35","v":0},{"$f":"+'Stage 5'!K35","v":0},{"$f":"+'Stage 5'!L35","v":0},{"$f":"+'Stage 6'!K35","v":0},{"$f":"+'Stage 6'!L35","v":0},{"$f":"+'Stage 7'!K35","v":0},{"$f":"+'Stage 7'!L35","v":0},{"$f":"+'Stage 8'!K35","v":0},{"$f":"+'Stage 8'!L35","v":0},{"$f":"+'Stage 9'!K35","v":0},{"$f":"+'Stage 9'!L35","v":0},{"$f":"+'Stage 10'!K35","v":0},{"$f":"+'Stage 10'!L35","v":0},{"$f":"+'Stage 11'!K35","v":0},{"$f":"+'Stage 11'!L35","v":0},{"$f":"+'Stage 12'!K35","v":0},{"$f":"+'Stage 12'!L35","v":0},0,0,{"$f":"IF(ISBLANK('Shooter Information'!B37),,IF(SUM('Stage 1'!M35,'Stage 2'!M35,'Stage 3'!M35,'Stage 4'!M35,'Stage 5'!M35,'Stage 6'!M35,'Stage 7'!M35,'Stage 8'!M35,'Stage 9'!M35,'Stage 10'!M35,'Stage 11'!M35,'Stage 12'!M35)=0,\"Yes\",\"No\"))","v":0},{"$f":"IF(ISBLANK('Shooter Information'!B37),,IF(AK31>=2,\"No\",\"Yes\"))","v":0},99999,99999,{"$f":"IF(ISBLANK('Shooter Information'!C37),\"ZZZZZZZZZZ\",C31)","v":"ZZZZZZZZZZ"},{"$f":"CELL(\"row\",'Shooter Information'!B37)","v":37},{"$f":"SUM('Stage 1'!I35,'Stage 2'!I35,'Stage 3'!I35,'Stage 4'!I35,'Stage 5'!I35,'Stage 6'!I35,'Stage 7'!I35,'Stage 8'!I35,'Stage 9'!I35,'Stage 10'!I35,'Stage 11'!I35,'Stage 12'!I35)","v":0}]
[{"$f":"IF(AF32=\"Yes\",IF('Shooter Information'!$C$2=\"R\",(SUMPRODUCT(--(AD32>$AD$5:$AD$79),--(\"Yes\"=$AF$5:$AF$79))+1),(SUMPRODUCT(--(AC32>$AC$5:$AC$79),--(\"Yes\"=$AF$5:$AF$79))+1)),0)","v":0},{"$f":"'Shooter Information'!B34","v":0},{"$f":"'Shooter Information'!C34","v":0},{"$f":"IF(AF32=\"Yes\",IF('Shooter Information'!$C$2=\"R\",(SUMPRODUCT(--(C32=$C$5:$C$79),--(AD32>$AD$5:$AD$79),--(\"Yes\"=$AF$5:$AF$79))+1),(SUMPRODUCT(--(C32=$C$5:$C$79),--(AC32>$AC$5:$AC$79),--(\"Yes\"=$AF$5:$AF$79))+1)),0)","v":0},{"$f":"+'Stage 1'!K32","v":0},{"$f":"+'Stage 1'!L32","v":0},{"$f":"+'Stage 2'!K32","v":0},{"$f":"+'Stage 2'!L32","v":0},{"$f":"+'Stage 3'!K32","v":0},{"$f":"+'Stage 3'!L32","v":0},{"$f":"+'Stage 4'!K32","v":0},{"$f":"+'Stage 4'!L32","v":0},{"$f":"+'Stage 5'!K32","v":0},{"$f":"+'Stage 5'!L32","v":0},{"$f":"+'Stage 6'!K32","v":0},{"$f":"+'Stage 6'!L32","v":0},{"$f":"+'Stage 7'!K32","v":0},{"$f":"+'Stage 7'!L32","v":0},{"$f":"+'Stage 8'!K32","v":0},{"$f":"+'Stage 8'!L32","v":0},{"$f":"+'Stage 9'!K32","v":0},{"$f":"+'Stage 9'!L32","v":0},{"$f":"+'Stage 10'!K32","v":0},{"$f":"+'Stage 10'!L32","v":0},{"$f":"+'Stage 11'!K32","v":0},{"$f":"+'Stage 11'!L32","v":0},{"$f":"+'Stage 12'!K32","v":0},{"$f":"+'Stage 12'!L32","v":0},0,0,{"$f":"IF(ISBLANK('Shooter Information'!B34),,IF(SUM('Stage 1'!M32,'Stage 2'!M32,'Stage 3'!M32,'Stage 4'!M32,'Stage 5'!M32,'Stage 6'!M32,'Stage 7'!M32,'Stage 8'!M32,'Stage 9'!M32,'Stage 10'!M32,'Stage 11'!M32,'Stage 12'!M32)=0,\"Yes\",\"No\"))","v":0},{"$f":"IF(ISBLANK('Shooter Information'!B34),,IF(AK32>=2,\"No\",\"Yes\"))","v":0},99999,99999,{"$f":"IF(ISBLANK('Shooter Information'!C34),\"ZZZZZZZZZZ\",C32)","v":"ZZZZZZZZZZ"},{"$f":"CELL(\"row\",'Shooter Information'!B34)","v":34},{"$f":"SUM('Stage 1'!I32,'Stage 2'!I32,'Stage 3'!I32,'Stage 4'!I32,'Stage 5'!I32,'Stage 6'!I32,'Stage 7'!I32,'Stage 8'!I32,'Stage 9'!I32,'Stage 10'!I32,'Stage 11'!I32,'Stage 12'!I32)","v":0}]
[{"$f":"IF(AF33=\"Yes\",IF('Shooter Information'!$C$2=\"R\",(SUMPRODUCT(--(AD33>$AD$5:$AD$79),--(\"Yes\"=$AF$5:$AF$79))+1),(SUMPRODUCT(--(AC33>$AC$5:$AC$79),--(\"Yes\"=$AF$5:$AF$79))+1)),0)","v":0},{"$f":"'Shooter Information'!B38","v":0},{"$f":"'Shooter Information'!C38","v":0},{"$f":"IF(AF33=\"Yes\",IF('Shooter Information'!$C$2=\"R\",(SUMPRODUCT(--(C33=$C$5:$C$79),--(AD33>$AD$5:$AD$79),--(\"Yes\"=$AF$5:$AF$79))+1),(SUMPRODUCT(--(C33=$C$5:$C$79),--(AC33>$AC$5:$AC$79),--(\"Yes\"=$AF$5:$AF$79))+1)),0)","v":0},{"$f":"+'Stage 1'!K36","v":0},{"$f":"+'Stage 1'!L36","v":0},{"$f":"+'Stage 2'!K36","v":0},{"$f":"+'Stage 2'!L36","v":0},{"$f":"+'Stage 3'!K36","v":0},{"$f":"+'Stage 3'!L36","v":0},{"$f":"+'Stage 4'!K36","v":0},{"$f":"+'Stage 4'!L36","v":0},{"$f":"+'Stage 5'!K36","v":0},{"$f":"+'Stage 5'!L36","v":0},{"$f":"+'Stage 6'!K36","v":0},{"$f":"+'Stage 6'!L36","v":0},{"$f":"+'Stage 7'!K36","v":0},{"$f":"+'Stage 7'!L36","v":0},{"$f":"+'Stage 8'!K36","v":0},{"$f":"+'Stage 8'!L36","v":0},{"$f":"+'Stage 9'!K36","v":0},{"$f":"+'Stage 9'!L36","v":0},{"$f":"+'Stage 10'!K36","v":0},{"$f":"+'Stage 10'!L36","v":0},{"$f":"+'Stage 11'!K36","v":0},{"$f":"+'Stage 11'!L36","v":0},{"$f":"+'Stage 12'!K36","v":0},{"$f":"+'Stage 12'!L36","v":0},0,0,{"$f":"IF(ISBLANK('Shooter Information'!B38),,IF(SUM('Stage 1'!M36,'Stage 2'!M36,'Stage 3'!M36,'Stage 4'!M36,'Stage 5'!M36,'Stage 6'!M36,'Stage 7'!M36,'Stage 8'!M36,'Stage 9'!M36,'Stage 10'!M36,'Stage 11'!M36,'Stage 12'!M36)=0,\"Yes\",\"No\"))","v":0},{"$f":"IF(ISBLANK('Shooter Information'!B38),,IF(AK33>=2,\"No\",\"Yes\"))","v":0},99999,99999,{"$f":"IF(ISBLANK('Shooter Information'!C38),\"ZZZZZZZZZZ\",C33)","v":"ZZZZZZZZZZ"},{"$f":"CELL(\"row\",'Shooter Information'!B38)","v":38},{"$f":"SUM('Stage 1'!I36,'Stage 2'!I36,'Stage 3'!I36,'Stage 4'!I36,'Stage 5'!I36,'Stage 6'!I36,'Stage 7'!I36,'Stage 8'!I36,'Stage 9'!I36,'Stage 10'!I36,'Stage 11'!I36,'Stage 12'!I36)","v":0}]
[{"$f":"IF(AF34=\"Yes\",IF('Shooter Information'!$C$2=\"R\",(SUMPRODUCT(--(AD34>$AD$5:$AD$79),--(\"Yes\"=$AF$5:$AF$79))+1),(SUMPRODUCT(--(AC34>$AC$5:$AC$79),--(\"Yes\"=$AF$5:$AF$79))+1)),0)","v":0},{"$f":"'Shooter Information'!B39","v":0},{"$f":"'Shooter Information'!C39","v":0},{"$f":"IF(AF34=\"Yes\",IF('Shooter Information'!$C$2=\"R\",(SUMPRODUCT(--(C34=$C$5:$C$79),--(AD34>$AD$5:$AD$79),--(\"Yes\"=$AF$5:$AF$79))+1),(SUMPRODUCT(--(C34=$C$5:$C$79),--(AC34>$AC$5:$AC$79),--(\"Yes\"=$AF$5:$AF$79))+1)),0)","v":0},{"$f":"+'Stage 1'!K37","v":0},{"$f":"+'Stage 1'!L37","v":0},{"$f":"+'Stage 2'!K37","v":0},{"$f":"+'Stage 2'!L37","v":0},{"$f":"+'Stage 3'!K37","v":0},{"$f":"+'Stage 3'!L37","v":0},{"$f":"+'Stage 4'!K37","v":0},{"$f":"+'Stage 4'!L37","v":0},{"$f":"+'Stage 5'!K37","v":0},{"$f":"+'Stage 5'!L37","v":0},{"$f":"+'Stage 6'!K37","v":0},{"$f":"+'Stage 6'!L37","v":0},{"$f":"+'Stage 7'!K37","v":0},{"$f":"+'Stage 7'!L37","v":0},{"$f":"+'Stage 8'!K37","v":0},{"$f":"+'Stage 8'!L37","v":0},{"$f":"+'Stage 9'!K37","v":0},{"$f":"+'Stage 9'!L37","v":0},{"$f":"+'Stage 10'!K37","v":0},{"$f":"+'Stage 10'!L37","v":0},{"$f":"+'Stage 11'!K37","v":0},{"$f":"+'Stage 11'!L37","v":0},{"$f":"+'Stage 12'!K37","v":0},{"$f":"+'Stage 12'!L37","v":0},0,0,{"$f":"IF(ISBLANK('Shooter Information'!B39),,IF(SUM('Stage 1'!M37,'Stage 2'!M37,'Stage 3'!M37,'Stage 4'!M37,'Stage 5'!M37,'Stage 6'!M37,'Stage 7'!M37,'Stage 8'!M37,'Stage 9'!M37,'Stage 10'!M37,'Stage 11'!M37,'Stage 12'!M37)=0,\"Yes\",\"No\"))","v":0},{"$f":"IF(ISBLANK('Shooter Information'!B39),,IF(AK34>=2,\"No\",\"Yes\"))","v":0},99999,99999,{"$f":"IF(ISBLANK('Shooter Information'!C39),\"ZZZZZZZZZZ\",C34)","v":"ZZZZZZZZZZ"},{"$f":"CELL(\"row\",'Shooter Information'!B39)","v":39},{"$f":"SUM('Stage 1'!I37,'Stage 2'!I37,'Stage 3'!I37,'Stage 4'!I37,'Stage 5'!I37,'Stage 6'!I37,'Stage 7'!I37,'Stage 8'!I37,'Stage 9'!I37,'Stage 10'!I37,'Stage 11'!I37,'Stage 12'!I37)","v":0}]
[{"$f":"IF(AF35=\"Yes\",IF('Shooter Information'!$C$2=\"R\",(SUMPRODUCT(--(AD35>$AD$5:$AD$79),--(\"Yes\"=$AF$5:$AF$79))+1),(SUMPRODUCT(--(AC35>$AC$5:$AC$79),--(\"Yes\"=$AF$5:$AF$79))+1)),0)","v":0},{"$f":"'Shooter Information'!B35","v":0},{"$f":"'Shooter Information'!C35","v":0},{"$f":"IF(AF35=\"Yes\",IF('Shooter Information'!$C$2=\"R\",(SUMPRODUCT(--(C35=$C$5:$C$79),--(AD35>$AD$5:$AD$79),--(\"Yes\"=$AF$5:$AF$79))+1),(SUMPRODUCT(--(C35=$C$5:$C$79),--(AC35>$AC$5:$AC$79),--(\"Yes\"=$AF$5:$AF$79))+1)),0)","v":0},{"$f":"+'Stage 1'!K33","v":0},{"$f":"+'Stage 1'!L33","v":0},{"$f":"+'Stage 2'!K33","v":0},{"$f":"+'Stage 2'!L33","v":0},{"$f":"+'Stage 3'!K33","v":0},{"$f":"+'Stage 3'!L33","v":0},{"$f":"+'Stage 4'!K33","v":0},{"$f":"+'Stage 4'!L33","v":0},{"$f":"+'Stage 5'!K33","v":0},{"$f":"+'Stage 5'!L33","v":0},{"$f":"+'Stage 6'!K33","v":0},{"$f":"+'Stage 6'!L33","v":0},{"$f":"+'Stage 7'!K33","v":0},{"$f":"+'Stage 7'!L33","v":0},{"$f":"+'Stage 8'!K33","v":0},{"$f":"+'Stage 8'!L33","v":0},{"$f":"+'Stage 9'!K33","v":0},{"$f":"+'Stage 9'!L33","v":0},{"$f":"+'Stage 10'!K33","v":0},{"$f":"+'Stage 10'!L33","v":0},{"$f":"+'Stage 11'!K33","v":0},{"$f":"+'Stage 11'!L33","v":0},{"$f":"+'Stage 12'!K33","v":0},{"$f":"+'Stage 12'!L33","v":0},0,0,{"$f":"IF(ISBLANK('Shooter Information'!B35),,IF(SUM('Stage 1'!M33,'Stage 2'!M33,'Stage 3'!M33,'Stage 4'!M33,'Stage 5'!M33,'Stage 6'!M33,'Stage 7'!M33,'Stage 8'!M33,'Stage 9'!M33,'Stage 10'!M33,'Stage 11'!M33,'Stage 12'!M33)=0,\"Yes\",\"No\"))","v":0},{"$f":"IF(ISBLANK('Shooter Information'!B35),,IF(AK35>=2,\"No\",\"Yes\"))","v":0},99999,99999,{"$f":"IF(ISBLANK('Shooter Information'!C35),\"ZZZZZZZZZZ\",C35)","v":"ZZZZZZZZZZ"},{"$f":"CELL(\"row\",'Shooter Information'!B35)","v":35},{"$f":"SUM('Stage 1'!I33,'Stage 2'!I33,'Stage 3'!I33,'Stage 4'!I33,'Stage 5'!I33,'Stage 6'!I33,'Stage 7'!I33,'Stage 8'!I33,'Stage 9'!I33,'Stage 10'!I33,'Stage 11'!I33,'Stage 12'!I33)","v":0}]
[{"$f":"IF(AF36=\"Yes\",IF('Shooter Information'!$C$2=\"R\",(SUMPRODUCT(--(AD36>$AD$5:$AD$79),--(\"Yes\"=$AF$5:$AF$79))+1),(SUMPRODUCT(--(AC36>$AC$5:$AC$79),--(\"Yes\"=$AF$5:$AF$79))+1)),0)","v":2},{"$f":"'Shooter Information'!B17","v":"Major BS Walker"},{"$f":"'Shooter Information'!C17","v":"WW"},{"$f":"IF(AF36=\"Yes\",IF('Shooter Information'!$C$2=\"R\",(SUMPRODUCT(--(C36=$C$5:$C$79),--(AD36>$AD$5:$AD$79),--(\"Yes\"=$AF$5:$AF$79))+1),(SUMPRODUCT(--(C36=$C$5:$C$79),--(AC36>$AC$5:$AC$79),--(\"Yes\"=$AF$5:$AF$79))+1)),0)","v":1},{"$f":"+'Stage 1'!K15","v":24.72},{"$f":"+'Stage 1'!L15","v":7},{"$f":"+'Stage 2'!K15","v":26.53},{"$f":"+'Stage 2'!L15","v":5},{"$f":"+'Stage 3'!K15","v":19.809999999999999},{"$f":"+'Stage 3'!L15","v":2},{"$f":"+'Stage 4'!K15","v":27.36},{"$f":"+'Stage 4'!L15","v":5},{"$f":"+'Stage 5'!K15","v":28.16},{"$f":"+'Stage 5'!L15","v":1},{"$f":"+'Stage 6'!K15","v":20.36},{"$f":"+'Stage 6'!L15","v":2},{"$f":"+'Stage 7'!K15","v":0},{"$f":"+'Stage 7'!L15","v":0},{"$f":"+'Stage 8'!K15","v":0},{"$f":"+'Stage 8'!L15","v":0},{"$f":"+'Stage 9'!K15","v":0},{"$f":"+'Stage 9'!L15","v":0},{"$f":"+'Stage 10'!K15","v":0},{"$f":"+'Stage 10'!L15","v":0},{"$f":"+'Stage 11'!K15","v":0},{"$f":"+'Stage 11'!L15","v":0},{"$f":"+'Stage 12'!K15","v":0},{"$f":"+'Stage 12'!L15","v":0},146.94,22,{"$f":"IF(ISBLANK('Shooter Information'!B17),,IF(SUM('Stage 1'!M15,'Stage 2'!M15,'Stage 3'!M15,'Stage 4'!M15,'Stage 5'!M15,'Stage 6'!M15,'Stage 7'!M15,'Stage 8'!M15,'Stage 9'!M15,'Stage 10'!M15,'Stage 11'!M15,'Stage 12'!M15)=0,\"Yes\",\"No\"))","v":"Yes"},{"$f":"IF(ISBLANK('Shooter Information'!B17),,IF(AK36>=2,\"No\",\"Yes\"))","v":"Yes"},146.94,22,{"$f":"IF(ISBLANK('Shooter Information'!C17),\"ZZZZZZZZZZ\",C36)","v":"WW"},{"$f":"CELL(\"row\",'Shooter Information'!B17)","v":17},{"$f":"SUM('Stage 1'!I15,'Stage 2'!I15,'Stage 3'!I15,'Stage 4'!I15,'Stage 5'!I15,'Stage 6'!I15,'Stage 7'!I15,'Stage 8'!I15,'Stage 9'!I15,'Stage 10'!I15,'Stage 11'!I15,'Stage 12'!I15)","v":0}]
[{"$f":"IF(AF37=\"Yes\",IF('Shooter Information'!$C$2=\"R\",(SUMPRODUCT(--(AD37>$AD$5:$AD$79),--(\"Yes\"=$AF$5:$AF$79))+1),(SUMPRODUCT(--(AC37>$AC$5:$AC$79),--(\"Yes\"=$AF$5:$AF$79))+1)),0)","v":14},{"$f":"'Shooter Information'!B13","v":"Regret Schofield"},{"$f":"'Shooter Information'!C13","v":"49er"},{"$f":"IF(AF37=\"Yes\",IF('Shooter Information'!$C$2=\"R\",(SUMPRODUCT(--(C37=$C$5:$C$79),--(AD37>$AD$5:$AD$79),--(\"Yes\"=$AF$5:$AF$79))+1),(SUMPRODUCT(--(C37=$C$5:$C$79),--(AC37>$AC$5:$AC$79),--(\"Yes\"=$AF$5:$AF$79))+1)),0)","v":3},{"$f":"+'Stage 1'!K11","v":37.549999999999997},{"$f":"+'Stage 1'!L11","v":14},{"$f":"+'Stage 2'!K11","v":55.66},{"$f":"+'Stage 2'!L11","v":14},{"$f":"+'Stage 3'!K11","v":43.22},{"$f":"+'Stage 3'!L11","v":13},{"$f":"+'Stage 4'!K11","v":61.5},{"$f":"+'Stage 4'!L11","v":16},{"$f":"+'Stage 5'!K11","v":57},{"$f":"+'Stage 5'!L11","v":14},{"$f":"+'Stage 6'!K11","v":43.78},{"$f":"+'Stage 6'!L11","v":14},{"$f":"+'Stage 7'!K11","v":0},{"$f":"+'Stage 7'!L11","v":0},{"$f":"+'Stage 8'!K11","v":0},{"$f":"+'Stage 8'!L11","v":0},{"$f":"+'Stage 9'!K11","v":0},{"$f":"+'Stage 9'!L11","v":0},{"$f":"+'Stage 10'!K11","v":0},{"$f":"+'Stage 10'!L11","v":0},{"$f":"+'Stage 11'!K11","v":0},{"$f":"+'Stage 11'!L11","v":0},{"$f":"+'Stage 12'!K11","v":0},{"$f":"+'Stage 12'!L11","v":0},{"$f":"+E37+G37+I37+K37+M37+O37+Q37+S37+U37+W37+Y37+AA37","v":298.71000000000004},{"$f":"+F37+H37+J37+L37+N37+P37+R37+T37+V37+X37+Z37+AB37","v":85},{"$f":"IF(ISBLANK('Shooter Information'!B13),,IF(SUM('Stage 1'!M11,'Stage 2'!M11,'Stage 3'!M11,'Stage 4'!M11,'Stage 5'!M11,'Stage 6'!M11,'Stage 7'!M11,'Stage 8'!M11,'Stage 9'!M11,'Stage 10'!M11,'Stage 11'!M11,'Stage 12'!M11)=0,\"Yes\",\"No\"))","v":"No"},{"$f":"IF(ISBLANK('Shooter Information'!B13),,IF(AK37>=2,\"No\",\"Yes\"))","v":"Yes"},{"$f":"IF(AC37=0,99999,AC37)","v":298.71000000000004},{"$f":"IF(AD37=0,99999,AD37)","v":85},{"$f":"IF(ISBLANK('Shooter Information'!C13),\"ZZZZZZZZZZ\",C37)","v":"49er"},{"$f":"CELL(\"row\",'Shooter Information'!B13)","v":13},{"$f":"SUM('Stage 1'!I11,'Stage 2'!I11,'Stage 3'!I11,'Stage 4'!I11,'Stage 5'!I11,'Stage 6'!I11,'Stage 7'!I11,'Stage 8'!I11,'Stage 9'!I11,'Stage 10'!I11,'Stage 11'!I11,'Stage 12'!I11)","v":0}]
[{"$f":"IF(AF38=\"Yes\",IF('Shooter Information'!$C$2=\"R\",(SUMPRODUCT(--(AD38>$AD$5:$AD$79),--(\"Yes\"=$AF$5:$AF$79))+1),(SUMPRODUCT(--(AC38>$AC$5:$AC$79),--(\"Yes\"=$AF$5:$AF$79))+1)),0)","v":0},{"$f":"'Shooter Information'!B29","v":0},{"$f":"'Shooter Information'!C29","v":0},{"$f":"IF(AF38=\"Yes\",IF('Shooter Information'!$C$2=\"R\",(SUMPRODUCT(--(C38=$C$5:$C$79),--(AD38>$AD$5:$AD$79),--(\"Yes\"=$AF$5:$AF$79))+1),(SUMPRODUCT(--(C38=$C$5:$C$79),--(AC38>$AC$5:$AC$79),--(\"Yes\"=$AF$5:$AF$79))+1)),0)","v":0},{"$f":"+'Stage 1'!K27","v":0},{"$f":"+'Stage 1'!L27","v":0},{"$f":"+'Stage 2'!K27","v":0},{"$f":"+'Stage 2'!L27","v":0},{"$f":"+'Stage 3'!K27","v":0},{"$f":"+'Stage 3'!L27","v":0},{"$f":"+'Stage 4'!K27","v":0},{"$f":"+'Stage 4'!L27","v":0},{"$f":"+'Stage 5'!K27","v":0},{"$f":"+'Stage 5'!L27","v":0},{"$f":"+'Stage 6'!K27","v":0},{"$f":"+'Stage 6'!L27","v":0},{"$f":"+'Stage 7'!K27","v":0},{"$f":"+'Stage 7'!L27","v":0},{"$f":"+'Stage 8'!K27","v":0},{"$f":"+'Stage 8'!L27","v":0},{"$f":"+'Stage 9'!K27","v":0},{"$f":"+'Stage 9'!L27","v":0},{"$f":"+'Stage 10'!K27","v":0},{"$f":"+'Stage 10'!L27","v":0},{"$f":"+'Stage 11'!K27","v":0},{"$f":"+'Stage 11'!L27","v":0},{"$f":"+'Stage 12'!K27","v":0},{"$f":"+'Stage 12'!L27","v":0},0,0,{"$f":"IF(ISBLANK('Shooter Information'!B29),,IF(SUM('Stage 1'!M27,'Stage 2'!M27,'Stage 3'!M27,'Stage 4'!M27,'Stage 5'!M27,'Stage 6'!M27,'Stage 7'!M27,'Stage 8'!M27,'Stage 9'!M27,'Stage 10'!M27,'Stage 11'!M27,'Stage 12'!M27)=0,\"Yes\",\"No\"))","v":0},{"$f":"IF(ISBLANK('Shooter Information'!B29),,IF(AK38>=2,\"No\",\"Yes\"))","v":0},99999,99999,{"$f":"IF(ISBLANK('Shooter Information'!C29),\"ZZZZZZZZZZ\",C38)","v":"ZZZZZZZZZZ"},{"$f":"CELL(\"row\",'Shooter Information'!B29)","v":29},{"$f":"SUM('Stage 1'!I27,'Stage 2'!I27,'Stage 3'!I27,'Stage 4'!I27,'Stage 5'!I27,'Stage 6'!I27,'Stage 7'!I27,'Stage 8'!I27,'Stage 9'!I27,'Stage 10'!I27,'Stage 11'!I27,'Stage 12'!I27)","v":0}]
[{"$f":"IF(AF39=\"Yes\",IF('Shooter Information'!$C$2=\"R\",(SUMPRODUCT(--(AD39>$AD$5:$AD$79),--(\"Yes\"=$AF$5:$AF$79))+1),(SUMPRODUCT(--(AC39>$AC$5:$AC$79),--(\"Yes\"=$AF$5:$AF$79))+1)),0)","v":0},{"$f":"'Shooter Information'!B40","v":0},{"$f":"'Shooter Information'!C40","v":0},{"$f":"IF(AF39=\"Yes\",IF('Shooter Information'!$C$2=\"R\",(SUMPRODUCT(--(C39=$C$5:$C$79),--(AD39>$AD$5:$AD$79),--(\"Yes\"=$AF$5:$AF$79))+1),(SUMPRODUCT(--(C39=$C$5:$C$79),--(AC39>$AC$5:$AC$79),--(\"Yes\"=$AF$5:$AF$79))+1)),0)","v":0},{"$f":"+'Stage 1'!K38","v":0},{"$f":"+'Stage 1'!L38","v":0},{"$f":"+'Stage 2'!K38","v":0},{"$f":"+'Stage 2'!L38","v":0},{"$f":"+'Stage 3'!K38","v":0},{"$f":"+'Stage 3'!L38","v":0},{"$f":"+'Stage 4'!K38","v":0},{"$f":"+'Stage 4'!L38","v":0},{"$f":"+'Stage 5'!K38","v":0},{"$f":"+'Stage 5'!L38","v":0},{"$f":"+'Stage 6'!K38","v":0},{"$f":"+'Stage 6'!L38","v":0},{"$f":"+'Stage 7'!K38","v":0},{"$f":"+'Stage 7'!L38","v":0},{"$f":"+'Stage 8'!K38","v":0},{"$f":"+'Stage 8'!L38","v":0},{"$f":"+'Stage 9'!K38","v":0},{"$f":"+'Stage 9'!L38","v":0},{"$f":"+'Stage 10'!K38","v":0},{"$f":"+'Stage 10'!L38","v":0},{"$f":"+'Stage 11'!K38","v":0},{"$f":"+'Stage 11'!L38","v":0},{"$f":"+'Stage 12'!K38","v":0},{"$f":"+'Stage 12'!L38","v":0},0,0,{"$f":"IF(ISBLANK('Shooter Information'!B40),,IF(SUM('Stage 1'!M38,'Stage 2'!M38,'Stage 3'!M38,'Stage 4'!M38,'Stage 5'!M38,'Stage 6'!M38,'Stage 7'!M38,'Stage 8'!M38,'Stage 9'!M38,'Stage 10'!M38,'Stage 11'!M38,'Stage 12'!M38)=0,\"Yes\",\"No\"))","v":0},{"$f":"IF(ISBLANK('Shooter Information'!B40),,IF(AK39>=2,\"No\",\"Yes\"))","v":0},99999,99999,{"$f":"IF(ISBLANK('Shooter Information'!C40),\"ZZZZZZZZZZ\",C39)","v":"ZZZZZZZZZZ"},{"$f":"CELL(\"row\",'Shooter Information'!B40)","v":40},{"$f":"SUM('Stage 1'!I38,'Stage 2'!I38,'Stage 3'!I38,'Stage 4'!I38,'Stage 5'!I38,'Stage 6'!I38,'Stage 7'!I38,'Stage 8'!I38,'Stage 9'!I38,'Stage 10'!I38,'Stage 11'!I38,'Stage 12'!I38)","v":0}]
[{"$f":"IF(AF40=\"Yes\",IF('Shooter Information'!$C$2=\"R\",(SUMPRODUCT(--(AD40>$AD$5:$AD$79),--(\"Yes\"=$AF$5:$AF$79))+1),(SUMPRODUCT(--(AC40>$AC$5:$AC$79),--(\"Yes\"=$AF$5:$AF$79))+1)),0)","v":0},{"$f":"'Shooter Information'!B41","v":0},{"$f":"'Shooter Information'!C41","v":0},{"$f":"IF(AF40=\"Yes\",IF('Shooter Information'!$C$2=\"R\",(SUMPRODUCT(--(C40=$C$5:$C$79),--(AD40>$AD$5:$AD$79),--(\"Yes\"=$AF$5:$AF$79))+1),(SUMPRODUCT(--(C40=$C$5:$C$79),--(AC40>$AC$5:$AC$79),--(\"Yes\"=$AF$5:$AF$79))+1)),0)","v":0},{"$f":"+'Stage 1'!K39","v":0},{"$f":"+'Stage 1'!L39","v":0},{"$f":"+'Stage 2'!K39","v":0},{"$f":"+'Stage 2'!L39","v":0},{"$f":"+'Stage 3'!K39","v":0},{"$f":"+'Stage 3'!L39","v":0},{"$f":"+'Stage 4'!K39","v":0},{"$f":"+'Stage 4'!L39","v":0},{"$f":"+'Stage 5'!K39","v":0},{"$f":"+'Stage 5'!L39","v":0},{"$f":"+'Stage 6'!K39","v":0},{"$f":"+'Stage 6'!L39","v":0},{"$f":"+'Stage 7'!K39","v":0},{"$f":"+'Stage 7'!L39","v":0},{"$f":"+'Stage 8'!K39","v":0},{"$f":"+'Stage 8'!L39","v":0},{"$f":"+'Stage 9'!K39","v":0},{"$f":"+'Stage 9'!L39","v":0},{"$f":"+'Stage 10'!K39","v":0},{"$f":"+'Stage 10'!L39","v":0},{"$f":"+'Stage 11'!K39","v":0},{"$f":"+'Stage 11'!L39","v":0},{"$f":"+'Stage 12'!K39","v":0},{"$f":"+'Stage 12'!L39","v":0},0,0,{"$f":"IF(ISBLANK('Shooter Information'!B41),,IF(SUM('Stage 1'!M39,'Stage 2'!M39,'Stage 3'!M39,'Stage 4'!M39,'Stage 5'!M39,'Stage 6'!M39,'Stage 7'!M39,'Stage 8'!M39,'Stage 9'!M39,'Stage 10'!M39,'Stage 11'!M39,'Stage 12'!M39)=0,\"Yes\",\"No\"))","v":0},{"$f":"IF(ISBLANK('Shooter Information'!B41),,IF(AK40>=2,\"No\",\"Yes\"))","v":0},99999,99999,{"$f":"IF(ISBLANK('Shooter Information'!C41),\"ZZZZZZZZZZ\",C40)","v":"ZZZZZZZZZZ"},{"$f":"CELL(\"row\",'Shooter Information'!B41)","v":41},{"$f":"SUM('Stage 1'!I39,'Stage 2'!I39,'Stage 3'!I39,'Stage 4'!I39,'Stage 5'!I39,'Stage 6'!I39,'Stage 7'!I39,'Stage 8'!I39,'Stage 9'!I39,'Stage 10'!I39,'Stage 11'!I39,'Stage 12'!I39)","v":0}]
[{"$f":"IF(AF41=\"Yes\",IF('Shooter Information'!$C$2=\"R\",(SUMPRODUCT(--(AD41>$AD$5:$AD$79),--(\"Yes\"=$AF$5:$AF$79))+1),(SUMPRODUCT(--(AC41>$AC$5:$AC$79),--(\"Yes\"=$AF$5:$AF$79))+1)),0)","v":0},{"$f":"'Shooter Information'!B42","v":0},{"$f":"'Shooter Information'!C42","v":0},{"$f":"IF(AF41=\"Yes\",IF('Shooter Information'!$C$2=\"R\",(SUMPRODUCT(--(C41=$C$5:$C$79),--(AD41>$AD$5:$AD$79),--(\"Yes\"=$AF$5:$AF$79))+1),(SUMPRODUCT(--(C41=$C$5:$C$79),--(AC41>$AC$5:$AC$79),--(\"Yes\"=$AF$5:$AF$79))+1)),0)","v":0},{"$f":"+'Stage 1'!K40","v":0},{"$f":"+'Stage 1'!L40","v":0},{"$f":"+'Stage 2'!K40","v":0},{"$f":"+'Stage 2'!L40","v":0},{"$f":"+'Stage 3'!K40","v":0},{"$f":"+'Stage 3'!L40","v":0},{"$f":"+'Stage 4'!K40","v":0},{"$f":"+'Stage 4'!L40","v":0},{"$f":"+'Stage 5'!K40","v":0},{"$f":"+'Stage 5'!L40","v":0},{"$f":"+'Stage 6'!K40","v":0},{"$f":"+'Stage 6'!L40","v":0},{"$f":"+'Stage 7'!K40","v":0},{"$f":"+'Stage 7'!L40","v":0},{"$f":"+'Stage 8'!K40","v":0},{"$f":"+'Stage 8'!L40","v":0},{"$f":"+'Stage 9'!K40","v":0},{"$f":"+'Stage 9'!L40","v":0},{"$f":"+'Stage 10'!K40","v":0},{"$f":"+'Stage 10'!L40","v":0},{"$f":"+'Stage 11'!K40","v":0},{"$f":"+'Stage 11'!L40","v":0},{"$f":"+'Stage 12'!K40","v":0},{"$f":"+'Stage 12'!L40","v":0},0,0,{"$f":"IF(ISBLANK('Shooter Information'!B42),,IF(SUM('Stage 1'!M40,'Stage 2'!M40,'Stage 3'!M40,'Stage 4'!M40,'Stage 5'!M40,'Stage 6'!M40,'Stage 7'!M40,'Stage 8'!M40,'Stage 9'!M40,'Stage 10'!M40,'Stage 11'!M40,'Stage 12'!M40)=0,\"Yes\",\"No\"))","v":0},{"$f":"IF(ISBLANK('Shooter Information'!B42),,IF(AK41>=2,\"No\",\"Yes\"))","v":0},99999,99999,{"$f":"IF(ISBLANK('Shooter Information'!C42),\"ZZZZZZZZZZ\",C41)","v":"ZZZZZZZZZZ"},{"$f":"CELL(\"row\",'Shooter Information'!B42)","v":42},{"$f":"SUM('Stage 1'!I40,'Stage 2'!I40,'Stage 3'!I40,'Stage 4'!I40,'Stage 5'!I40,'Stage 6'!I40,'Stage 7'!I40,'Stage 8'!I40,'Stage 9'!I40,'Stage 10'!I40,'Stage 11'!I40,'Stage 12'!I40)","v":0}]
[{"$f":"IF(AF42=\"Yes\",IF('Shooter Information'!$C$2=\"R\",(SUMPRODUCT(--(AD42>$AD$5:$AD$79),--(\"Yes\"=$AF$5:$AF$79))+1),(SUMPRODUCT(--(AC42>$AC$5:$AC$79),--(\"Yes\"=$AF$5:$AF$79))+1)),0)","v":0},{"$f":"'Shooter Information'!B43","v":0},{"$f":"'Shooter Information'!C43","v":0},{"$f":"IF(AF42=\"Yes\",IF('Shooter Information'!$C$2=\"R\",(SUMPRODUCT(--(C42=$C$5:$C$79),--(AD42>$AD$5:$AD$79),--(\"Yes\"=$AF$5:$AF$79))+1),(SUMPRODUCT(--(C42=$C$5:$C$79),--(AC42>$AC$5:$AC$79),--(\"Yes\"=$AF$5:$AF$79))+1)),0)","v":0},{"$f":"+'Stage 1'!K41","v":0},{"$f":"+'Stage 1'!L41","v":0},{"$f":"+'Stage 2'!K41","v":0},{"$f":"+'Stage 2'!L41","v":0},{"$f":"+'Stage 3'!K41","v":0},{"$f":"+'Stage 3'!L41","v":0},{"$f":"+'Stage 4'!K41","v":0},{"$f":"+'Stage 4'!L41","v":0},{"$f":"+'Stage 5'!K41","v":0},{"$f":"+'Stage 5'!L41","v":0},{"$f":"+'Stage 6'!K41","v":0},{"$f":"+'Stage 6'!L41","v":0},{"$f":"+'Stage 7'!K41","v":0},{"$f":"+'Stage 7'!L41","v":0},{"$f":"+'Stage 8'!K41","v":0},{"$f":"+'Stage 8'!L41","v":0},{"$f":"+'Stage 9'!K41","v":0},{"$f":"+'Stage 9'!L41","v":0},{"$f":"+'Stage 10'!K41","v":0},{"$f":"+'Stage 10'!L41","v":0},{"$f":"+'Stage 11'!K41","v":0},{"$f":"+'Stage 11'!L41","v":0},{"$f":"+'Stage 12'!K41","v":0},{"$f":"+'Stage 12'!L41","v":0},0,0,{"$f":"IF(ISBLANK('Shooter Information'!B43),,IF(SUM('Stage 1'!M41,'Stage 2'!M41,'Stage 3'!M41,'Stage 4'!M41,'Stage 5'!M41,'Stage 6'!M41,'Stage 7'!M41,'Stage 8'!M41,'Stage 9'!M41,'Stage 10'!M41,'Stage 11'!M41,'Stage 12'!M41)=0,\"Yes\",\"No\"))","v":0},{"$f":"IF(ISBLANK('Shooter Information'!B43),,IF(AK42>=2,\"No\",\"Yes\"))","v":0},99999,99999,{"$f":"IF(ISBLANK('Shooter Information'!C43),\"ZZZZZZZZZZ\",C42)","v":"ZZZZZZZZZZ"},{"$f":"CELL(\"row\",'Shooter Information'!B43)","v":43},{"$f":"SUM('Stage 1'!I41,'Stage 2'!I41,'Stage 3'!I41,'Stage 4'!I41,'Stage 5'!I41,'Stage 6'!I41,'Stage 7'!I41,'Stage 8'!I41,'Stage 9'!I41,'Stage 10'!I41,'Stage 11'!I41,'Stage 12'!I41)","v":0}]
[{"$f":"IF(AF43=\"Yes\",IF('Shooter Information'!$C$2=\"R\",(SUMPRODUCT(--(AD43>$AD$5:$AD$79),--(\"Yes\"=$AF$5:$AF$79))+1),(SUMPRODUCT(--(AC43>$AC$5:$AC$79),--(\"Yes\"=$AF$5:$AF$79))+1)),0)","v":0},{"$f":"'Shooter Information'!B44","v":0},{"$f":"'Shooter Information'!C44","v":0},{"$f":"IF(AF43=\"Yes\",IF('Shooter Information'!$C$2=\"R\",(SUMPRODUCT(--(C43=$C$5:$C$79),--(AD43>$AD$5:$AD$79),--(\"Yes\"=$AF$5:$AF$79))+1),(SUMPRODUCT(--(C43=$C$5:$C$79),--(AC43>$AC$5:$AC$79),--(\"Yes\"=$AF$5:$AF$79))+1)),0)","v":0},{"$f":"+'Stage 1'!K42","v":0},{"$f":"+'Stage 1'!L42","v":0},{"$f":"+'Stage 2'!K42","v":0},{"$f":"+'Stage 2'!L42","v":0},{"$f":"+'Stage 3'!K42","v":0},{"$f":"+'Stage 3'!L42","v":0},{"$f":"+'Stage 4'!K42","v":0},{"$f":"+'Stage 4'!L42","v":0},{"$f":"+'Stage 5'!K42","v":0},{"$f":"+'Stage 5'!L42","v":0},{"$f":"+'Stage 6'!K42","v":0},{"$f":"+'Stage 6'!L42","v":0},{"$f":"+'Stage 7'!K42","v":0},{"$f":"+'Stage 7'!L42","v":0},{"$f":"+'Stage 8'!K42","v":0},{"$f":"+'Stage 8'!L42","v":0},{"$f":"+'Stage 9'!K42","v":0},{"$f":"+'Stage 9'!L42","v":0},{"$f":"+'Stage 10'!K42","v":0},{"$f":"+'Stage 10'!L42","v":0},{"$f":"+'Stage 11'!K42","v":0},{"$f":"+'Stage 11'!L42","v":0},{"$f":"+'Stage 12'!K42","v":0},{"$f":"+'Stage 12'!L42","v":0},0,0,{"$f":"IF(ISBLANK('Shooter Information'!B44),,IF(SUM('Stage 1'!M42,'Stage 2'!M42,'Stage 3'!M42,'Stage 4'!M42,'Stage 5'!M42,'Stage 6'!M42,'Stage 7'!M42,'Stage 8'!M42,'Stage 9'!M42,'Stage 10'!M42,'Stage 11'!M42,'Stage 12'!M42)=0,\"Yes\",\"No\"))","v":0},{"$f":"IF(ISBLANK('Shooter Information'!B44),,IF(AK43>=2,\"No\",\"Yes\"))","v":0},99999,99999,{"$f":"IF(ISBLANK('Shooter Information'!C44),\"ZZZZZZZZZZ\",C43)","v":"ZZZZZZZZZZ"},{"$f":"CELL(\"row\",'Shooter Information'!B44)","v":44},{"$f":"SUM('Stage 1'!I42,'Stage 2'!I42,'Stage 3'!I42,'Stage 4'!I42,'Stage 5'!I42,'Stage 6'!I42,'Stage 7'!I42,'Stage 8'!I42,'Stage 9'!I42,'Stage 10'!I42,'Stage 11'!I42,'Stage 12'!I42)","v":0}]
[{"$f":"IF(AF44=\"Yes\",IF('Shooter Information'!$C$2=\"R\",(SUMPRODUCT(--(AD44>$AD$5:$AD$79),--(\"Yes\"=$AF$5:$AF$79))+1),(SUMPRODUCT(--(AC44>$AC$5:$AC$79),--(\"Yes\"=$AF$5:$AF$79))+1)),0)","v":0},{"$f":"'Shooter Information'!B45","v":0},{"$f":"'Shooter Information'!C45","v":0},{"$f":"IF(AF44=\"Yes\",IF('Shooter Information'!$C$2=\"R\",(SUMPRODUCT(--(C44=$C$5:$C$79),--(AD44>$AD$5:$AD$79),--(\"Yes\"=$AF$5:$AF$79))+1),(SUMPRODUCT(--(C44=$C$5:$C$79),--(AC44>$AC$5:$AC$79),--(\"Yes\"=$AF$5:$AF$79))+1)),0)","v":0},{"$f":"+'Stage 1'!K43","v":0},{"$f":"+'Stage 1'!L43","v":0},{"$f":"+'Stage 2'!K43","v":0},{"$f":"+'Stage 2'!L43","v":0},{"$f":"+'Stage 3'!K43","v":0},{"$f":"+'Stage 3'!L43","v":0},{"$f":"+'Stage 4'!K43","v":0},{"$f":"+'Stage 4'!L43","v":0},{"$f":"+'Stage 5'!K43","v":0},{"$f":"+'Stage 5'!L43","v":0},{"$f":"+'Stage 6'!K43","v":0},{"$f":"+'Stage 6'!L43","v":0},{"$f":"+'Stage 7'!K43","v":0},{"$f":"+'Stage 7'!L43","v":0},{"$f":"+'Stage 8'!K43","v":0},{"$f":"+'Stage 8'!L43","v":0},{"$f":"+'Stage 9'!K43","v":0},{"$f":"+'Stage 9'!L43","v":0},{"$f":"+'Stage 10'!K43","v":0},{"$f":"+'Stage 10'!L43","v":0},{"$f":"+'Stage 11'!K43","v":0},{"$f":"+'Stage 11'!L43","v":0},{"$f":"+'Stage 12'!K43","v":0},{"$f":"+'Stage 12'!L43","v":0},0,0,{"$f":"IF(ISBLANK('Shooter Information'!B45),,IF(SUM('Stage 1'!M43,'Stage 2'!M43,'Stage 3'!M43,'Stage 4'!M43,'Stage 5'!M43,'Stage 6'!M43,'Stage 7'!M43,'Stage 8'!M43,'Stage 9'!M43,'Stage 10'!M43,'Stage 11'!M43,'Stage 12'!M43)=0,\"Yes\",\"No\"))","v":0},{"$f":"IF(ISBLANK('Shooter Information'!B45),,IF(AK44>=2,\"No\",\"Yes\"))","v":0},99999,99999,{"$f":"IF(ISBLANK('Shooter Information'!C45),\"ZZZZZZZZZZ\",C44)","v":"ZZZZZZZZZZ"},{"$f":"CELL(\"row\",'Shooter Information'!B45)","v":45},{"$f":"SUM('Stage 1'!I43,'Stage 2'!I43,'Stage 3'!I43,'Stage 4'!I43,'Stage 5'!I43,'Stage 6'!I43,'Stage 7'!I43,'Stage 8'!I43,'Stage 9'!I43,'Stage 10'!I43,'Stage 11'!I43,'Stage 12'!I43)","v":0}]
[{"$f":"IF(AF45=\"Yes\",IF('Shooter Information'!$C$2=\"R\",(SUMPRODUCT(--(AD45>$AD$5:$AD$79),--(\"Yes\"=$AF$5:$AF$79))+1),(SUMPRODUCT(--(AC45>$AC$5:$AC$79),--(\"Yes\"=$AF$5:$AF$79))+1)),0)","v":0},{"$f":"'Shooter Information'!B46","v":0},{"$f":"'Shooter Information'!C46","v":0},{"$f":"IF(AF45=\"Yes\",IF('Shooter Information'!$C$2=\"R\",(SUMPRODUCT(--(C45=$C$5:$C$79),--(AD45>$AD$5:$AD$79),--(\"Yes\"=$AF$5:$AF$79))+1),(SUMPRODUCT(--(C45=$C$5:$C$79),--(AC45>$AC$5:$AC$79),--(\"Yes\"=$AF$5:$AF$79))+1)),0)","v":0},{"$f":"+'Stage 1'!K44","v":0},{"$f":"+'Stage 1'!L44","v":0},{"$f":"+'Stage 2'!K44","v":0},{"$f":"+'Stage 2'!L44","v":0},{"$f":"+'Stage 3'!K44","v":0},{"$f":"+'Stage 3'!L44","v":0},{"$f":"+'Stage 4'!K44","v":0},{"$f":"+'Stage 4'!L44","v":0},{"$f":"+'Stage 5'!K44","v":0},{"$f":"+'Stage 5'!L44","v":0},{"$f":"+'Stage 6'!K44","v":0},{"$f":"+'Stage 6'!L44","v":0},{"$f":"+'Stage 7'!K44","v":0},{"$f":"+'Stage 7'!L44","v":0},{"$f":"+'Stage 8'!K44","v":0},{"$f":"+'Stage 8'!L44","v":0},{"$f":"+'Stage 9'!K44","v":0},{"$f":"+'Stage 9'!L44","v":0},{"$f":"+'Stage 10'!K44","v":0},{"$f":"+'Stage 10'!L44","v":0},{"$f":"+'Stage 11'!K44","v":0},{"$f":"+'Stage 11'!L44","v":0},{"$f":"+'Stage 12'!K44","v":0},{"$f":"+'Stage 12'!L44","v":0},0,0,{"$f":"IF(ISBLANK('Shooter Information'!B46),,IF(SUM('Stage 1'!M44,'Stage 2'!M44,'Stage 3'!M44,'Stage 4'!M44,'Stage 5'!M44,'Stage 6'!M44,'Stage 7'!M44,'Stage 8'!M44,'Stage 9'!M44,'Stage 10'!M44,'Stage 11'!M44,'Stage 12'!M44)=0,\"Yes\",\"No\"))","v":0},{"$f":"IF(ISBLANK('Shooter Information'!B46),,IF(AK45>=2,\"No\",\"Yes\"))","v":0},99999,99999,{"$f":"IF(ISBLANK('Shooter Information'!C46),\"ZZZZZZZZZZ\",C45)","v":"ZZZZZZZZZZ"},{"$f":"CELL(\"row\",'Shooter Information'!B46)","v":46},{"$f":"SUM('Stage 1'!I44,'Stage 2'!I44,'Stage 3'!I44,'Stage 4'!I44,'Stage 5'!I44,'Stage 6'!I44,'Stage 7'!I44,'Stage 8'!I44,'Stage 9'!I44,'Stage 10'!I44,'Stage 11'!I44,'Stage 12'!I44)","v":0}]
[{"$f":"IF(AF46=\"Yes\",IF('Shooter Information'!$C$2=\"R\",(SUMPRODUCT(--(AD46>$AD$5:$AD$79),--(\"Yes\"=$AF$5:$AF$79))+1),(SUMPRODUCT(--(AC46>$AC$5:$AC$79),--(\"Yes\"=$AF$5:$AF$79))+1)),0)","v":0},{"$f":"'Shooter Information'!B47","v":0},{"$f":"'Shooter Information'!C47","v":0},{"$f":"IF(AF46=\"Yes\",IF('Shooter Information'!$C$2=\"R\",(SUMPRODUCT(--(C46=$C$5:$C$79),--(AD46>$AD$5:$AD$79),--(\"Yes\"=$AF$5:$AF$79))+1),(SUMPRODUCT(--(C46=$C$5:$C$79),--(AC46>$AC$5:$AC$79),--(\"Yes\"=$AF$5:$AF$79))+1)),0)","v":0},{"$f":"+'Stage 1'!K45","v":0},{"$f":"+'Stage 1'!L45","v":0},{"$f":"+'Stage 2'!K45","v":0},{"$f":"+'Stage 2'!L45","v":0},{"$f":"+'Stage 3'!K45","v":0},{"$f":"+'Stage 3'!L45","v":0},{"$f":"+'Stage 4'!K45","v":0},{"$f":"+'Stage 4'!L45","v":0},{"$f":"+'Stage 5'!K45","v":0},{"$f":"+'Stage 5'!L45","v":0},{"$f":"+'Stage 6'!K45","v":0},{"$f":"+'Stage 6'!L45","v":0},{"$f":"+'Stage 7'!K45","v":0},{"$f":"+'Stage 7'!L45","v":0},{"$f":"+'Stage 8'!K45","v":0},{"$f":"+'Stage 8'!L45","v":0},{"$f":"+'Stage 9'!K45","v":0},{"$f":"+'Stage 9'!L45","v":0},{"$f":"+'Stage 10'!K45","v":0},{"$f":"+'Stage 10'!L45","v":0},{"$f":"+'Stage 11'!K45","v":0},{"$f":"+'Stage 11'!L45","v":0},{"$f":"+'Stage 12'!K45","v":0},{"$f":"+'Stage 12'!L45","v":0},0,0,{"$f":"IF(ISBLANK('Shooter Information'!B47),,IF(SUM('Stage 1'!M45,'Stage 2'!M45,'Stage 3'!M45,'Stage 4'!M45,'Stage 5'!M45,'Stage 6'!M45,'Stage 7'!M45,'Stage 8'!M45,'Stage 9'!M45,'Stage 10'!M45,'Stage 11'!M45,'Stage 12'!M45)=0,\"Yes\",\"No\"))","v":0},{"$f":"IF(ISBLANK('Shooter Information'!B47),,IF(AK46>=2,\"No\",\"Yes\"))","v":0},99999,99999,{"$f":"IF(ISBLANK('Shooter Information'!C47),\"ZZZZZZZZZZ\",C46)","v":"ZZZZZZZZZZ"},{"$f":"CELL(\"row\",'Shooter Information'!B47)","v":47},{"$f":"SUM('Stage 1'!I45,'Stage 2'!I45,'Stage 3'!I45,'Stage 4'!I45,'Stage 5'!I45,'Stage 6'!I45,'Stage 7'!I45,'Stage 8'!I45,'Stage 9'!I45,'Stage 10'!I45,'Stage 11'!I45,'Stage 12'!I45)","v":0}]
[{"$f":"IF(AF47=\"Yes\",IF('Shooter Information'!$C$2=\"R\",(SUMPRODUCT(--(AD47>$AD$5:$AD$79),--(\"Yes\"=$AF$5:$AF$79))+1),(SUMPRODUCT(--(AC47>$AC$5:$AC$79),--(\"Yes\"=$AF$5:$AF$79))+1)),0)","v":0},{"$f":"'Shooter Information'!B48","v":0},{"$f":"'Shooter Information'!C48","v":0},{"$f":"IF(AF47=\"Yes\",IF('Shooter Information'!$C$2=\"R\",(SUMPRODUCT(--(C47=$C$5:$C$79),--(AD47>$AD$5:$AD$79),--(\"Yes\"=$AF$5:$AF$79))+1),(SUMPRODUCT(--(C47=$C$5:$C$79),--(AC47>$AC$5:$AC$79),--(\"Yes\"=$AF$5:$AF$79))+1)),0)","v":0},{"$f":"+'Stage 1'!K46","v":0},{"$f":"+'Stage 1'!L46","v":0},{"$f":"+'Stage 2'!K46","v":0},{"$f":"+'Stage 2'!L46","v":0},{"$f":"+'Stage 3'!K46","v":0},{"$f":"+'Stage 3'!L46","v":0},{"$f":"+'Stage 4'!K46","v":0},{"$f":"+'Stage 4'!L46","v":0},{"$f":"+'Stage 5'!K46","v":0},{"$f":"+'Stage 5'!L46","v":0},{"$f":"+'Stage 6'!K46","v":0},{"$f":"+'Stage 6'!L46","v":0},{"$f":"+'Stage 7'!K46","v":0},{"$f":"+'Stage 7'!L46","v":0},{"$f":"+'Stage 8'!K46","v":0},{"$f":"+'Stage 8'!L46","v":0},{"$f":"+'Stage 9'!K46","v":0},{"$f":"+'Stage 9'!L46","v":0},{"$f":"+'Stage 10'!K46","v":0},{"$f":"+'Stage 10'!L46","v":0},{"$f":"+'Stage 11'!K46","v":0},{"$f":"+'Stage 11'!L46","v":0},{"$f":"+'Stage 12'!K46","v":0},{"$f":"+'Stage 12'!L46","v":0},0,0,{"$f":"IF(ISBLANK('Shooter Information'!B48),,IF(SUM('Stage 1'!M46,'Stage 2'!M46,'Stage 3'!M46,'Stage 4'!M46,'Stage 5'!M46,'Stage 6'!M46,'Stage 7'!M46,'Stage 8'!M46,'Stage 9'!M46,'Stage 10'!M46,'Stage 11'!M46,'Stage 12'!M46)=0,\"Yes\",\"No\"))","v":0},{"$f":"IF(ISBLANK('Shooter Information'!B48),,IF(AK47>=2,\"No\",\"Yes\"))","v":0},99999,99999,{"$f":"IF(ISBLANK('Shooter Information'!C48),\"ZZZZZZZZZZ\",C47)","v":"ZZZZZZZZZZ"},{"$f":"CELL(\"row\",'Shooter Information'!B48)","v":48},{"$f":"SUM('Stage 1'!I46,'Stage 2'!I46,'Stage 3'!I46,'Stage 4'!I46,'Stage 5'!I46,'Stage 6'!I46,'Stage 7'!I46,'Stage 8'!I46,'Stage 9'!I46,'Stage 10'!I46,'Stage 11'!I46,'Stage 12'!I46)","v":0}]
[{"$f":"IF(AF48=\"Yes\",IF('Shooter Information'!$C$2=\"R\",(SUMPRODUCT(--(AD48>$AD$5:$AD$79),--(\"Yes\"=$AF$5:$AF$79))+1),(SUMPRODUCT(--(AC48>$AC$5:$AC$79),--(\"Yes\"=$AF$5:$AF$79))+1)),0)","v":0},{"$f":"'Shooter Information'!B49","v":0},{"$f":"'Shooter Information'!C49","v":0},{"$f":"IF(AF48=\"Yes\",IF('Shooter Information'!$C$2=\"R\",(SUMPRODUCT(--(C48=$C$5:$C$79),--(AD48>$AD$5:$AD$79),--(\"Yes\"=$AF$5:$AF$79))+1),(SUMPRODUCT(--(C48=$C$5:$C$79),--(AC48>$AC$5:$AC$79),--(\"Yes\"=$AF$5:$AF$79))+1)),0)","v":0},{"$f":"+'Stage 1'!K47","v":0},{"$f":"+'Stage 1'!L47","v":0},{"$f":"+'Stage 2'!K47","v":0},{"$f":"+'Stage 2'!L47","v":0},{"$f":"+'Stage 3'!K47","v":0},{"$f":"+'Stage 3'!L47","v":0},{"$f":"+'Stage 4'!K47","v":0},{"$f":"+'Stage 4'!L47","v":0},{"$f":"+'Stage 5'!K47","v":0},{"$f":"+'Stage 5'!L47","v":0},{"$f":"+'Stage 6'!K47","v":0},{"$f":"+'Stage 6'!L47","v":0},{"$f":"+'Stage 7'!K47","v":0},{"$f":"+'Stage 7'!L47","v":0},{"$f":"+'Stage 8'!K47","v":0},{"$f":"+'Stage 8'!L47","v":0},{"$f":"+'Stage 9'!K47","v":0},{"$f":"+'Stage 9'!L47","v":0},{"$f":"+'Stage 10'!K47","v":0},{"$f":"+'Stage 10'!L47","v":0},{"$f":"+'Stage 11'!K47","v":0},{"$f":"+'Stage 11'!L47","v":0},{"$f":"+'Stage 12'!K47","v":0},{"$f":"+'Stage 12'!L47","v":0},0,0,{"$f":"IF(ISBLANK('Shooter Information'!B49),,IF(SUM('Stage 1'!M47,'Stage 2'!M47,'Stage 3'!M47,'Stage 4'!M47,'Stage 5'!M47,'Stage 6'!M47,'Stage 7'!M47,'Stage 8'!M47,'Stage 9'!M47,'Stage 10'!M47,'Stage 11'!M47,'Stage 12'!M47)=0,\"Yes\",\"No\"))","v":0},{"$f":"IF(ISBLANK('Shooter Information'!B49),,IF(AK48>=2,\"No\",\"Yes\"))","v":0},99999,99999,{"$f":"IF(ISBLANK('Shooter Information'!C49),\"ZZZZZZZZZZ\",C48)","v":"ZZZZZZZZZZ"},{"$f":"CELL(\"row\",'Shooter Information'!B49)","v":49},{"$f":"SUM('Stage 1'!I47,'Stage 2'!I47,'Stage 3'!I47,'Stage 4'!I47,'Stage 5'!I47,'Stage 6'!I47,'Stage 7'!I47,'Stage 8'!I47,'Stage 9'!I47,'Stage 10'!I47,'Stage 11'!I47,'Stage 12'!I47)","v":0}]
[{"$f":"IF(AF49=\"Yes\",IF('Shooter Information'!$C$2=\"R\",(SUMPRODUCT(--(AD49>$AD$5:$AD$79),--(\"Yes\"=$AF$5:$AF$79))+1),(SUMPRODUCT(--(AC49>$AC$5:$AC$79),--(\"Yes\"=$AF$5:$AF$79))+1)),0)","v":0},{"$f":"'Shooter Information'!B50","v":0},{"$f":"'Shooter Information'!C50","v":0},{"$f":"IF(AF49=\"Yes\",IF('Shooter Information'!$C$2=\"R\",(SUMPRODUCT(--(C49=$C$5:$C$79),--(AD49>$AD$5:$AD$79),--(\"Yes\"=$AF$5:$AF$79))+1),(SUMPRODUCT(--(C49=$C$5:$C$79),--(AC49>$AC$5:$AC$79),--(\"Yes\"=$AF$5:$AF$79))+1)),0)","v":0},{"$f":"+'Stage 1'!K48","v":0},{"$f":"+'Stage 1'!L48","v":0},{"$f":"+'Stage 2'!K48","v":0},{"$f":"+'Stage 2'!L48","v":0},{"$f":"+'Stage 3'!K48","v":0},{"$f":"+'Stage 3'!L48","v":0},{"$f":"+'Stage 4'!K48","v":0},{"$f":"+'Stage 4'!L48","v":0},{"$f":"+'Stage 5'!K48","v":0},{"$f":"+'Stage 5'!L48","v":0},{"$f":"+'Stage 6'!K48","v":0},{"$f":"+'Stage 6'!L48","v":0},{"$f":"+'Stage 7'!K48","v":0},{"$f":"+'Stage 7'!L48","v":0},{"$f":"+'Stage 8'!K48","v":0},{"$f":"+'Stage 8'!L48","v":0},{"$f":"+'Stage 9'!K48","v":0},{"$f":"+'Stage 9'!L48","v":0},{"$f":"+'Stage 10'!K48","v":0},{"$f":"+'Stage 10'!L48","v":0},{"$f":"+'Stage 11'!K48","v":0},{"$f":"+'Stage 11'!L48","v":0},{"$f":"+'Stage 12'!K48","v":0},{"$f":"+'Stage 12'!L48","v":0},0,0,{"$f":"IF(ISBLANK('Shooter Information'!B50),,IF(SUM('Stage 1'!M48,'Stage 2'!M48,'Stage 3'!M48,'Stage 4'!M48,'Stage 5'!M48,'Stage 6'!M48,'Stage 7'!M48,'Stage 8'!M48,'Stage 9'!M48,'Stage 10'!M48,'Stage 11'!M48,'Stage 12'!M48)=0,\"Yes\",\"No\"))","v":0},{"$f":"IF(ISBLANK('Shooter Information'!B50),,IF(AK49>=2,\"No\",\"Yes\"))","v":0},99999,99999,{"$f":"IF(ISBLANK('Shooter Information'!C50),\"ZZZZZZZZZZ\",C49)","v":"ZZZZZZZZZZ"},{"$f":"CELL(\"row\",'Shooter Information'!B50)","v":50},{"$f":"SUM('Stage 1'!I48,'Stage 2'!I48,'Stage 3'!I48,'Stage 4'!I48,'Stage 5'!I48,'Stage 6'!I48,'Stage 7'!I48,'Stage 8'!I48,'Stage 9'!I48,'Stage 10'!I48,'Stage 11'!I48,'Stage 12'!I48)","v":0}]
[{"$f":"IF(AF50=\"Yes\",IF('Shooter Information'!$C$2=\"R\",(SUMPRODUCT(--(AD50>$AD$5:$AD$79),--(\"Yes\"=$AF$5:$AF$79))+1),(SUMPRODUCT(--(AC50>$AC$5:$AC$79),--(\"Yes\"=$AF$5:$AF$79))+1)),0)","v":0},{"$f":"'Shooter Information'!B51","v":0},{"$f":"'Shooter Information'!C51","v":0},{"$f":"IF(AF50=\"Yes\",IF('Shooter Information'!$C$2=\"R\",(SUMPRODUCT(--(C50=$C$5:$C$79),--(AD50>$AD$5:$AD$79),--(\"Yes\"=$AF$5:$AF$79))+1),(SUMPRODUCT(--(C50=$C$5:$C$79),--(AC50>$AC$5:$AC$79),--(\"Yes\"=$AF$5:$AF$79))+1)),0)","v":0},{"$f":"+'Stage 1'!K49","v":0},{"$f":"+'Stage 1'!L49","v":0},{"$f":"+'Stage 2'!K49","v":0},{"$f":"+'Stage 2'!L49","v":0},{"$f":"+'Stage 3'!K49","v":0},{"$f":"+'Stage 3'!L49","v":0},{"$f":"+'Stage 4'!K49","v":0},{"$f":"+'Stage 4'!L49","v":0},{"$f":"+'Stage 5'!K49","v":0},{"$f":"+'Stage 5'!L49","v":0},{"$f":"+'Stage 6'!K49","v":0},{"$f":"+'Stage 6'!L49","v":0},{"$f":"+'Stage 7'!K49","v":0},{"$f":"+'Stage 7'!L49","v":0},{"$f":"+'Stage 8'!K49","v":0},{"$f":"+'Stage 8'!L49","v":0},{"$f":"+'Stage 9'!K49","v":0},{"$f":"+'Stage 9'!L49","v":0},{"$f":"+'Stage 10'!K49","v":0},{"$f":"+'Stage 10'!L49","v":0},{"$f":"+'Stage 11'!K49","v":0},{"$f":"+'Stage 11'!L49","v":0},{"$f":"+'Stage 12'!K49","v":0},{"$f":"+'Stage 12'!L49","v":0},0,0,{"$f":"IF(ISBLANK('Shooter Information'!B51),,IF(SUM('Stage 1'!M49,'Stage 2'!M49,'Stage 3'!M49,'Stage 4'!M49,'Stage 5'!M49,'Stage 6'!M49,'Stage 7'!M49,'Stage 8'!M49,'Stage 9'!M49,'Stage 10'!M49,'Stage 11'!M49,'Stage 12'!M49)=0,\"Yes\",\"No\"))","v":0},{"$f":"IF(ISBLANK('Shooter Information'!B51),,IF(AK50>=2,\"No\",\"Yes\"))","v":0},99999,99999,{"$f":"IF(ISBLANK('Shooter Information'!C51),\"ZZZZZZZZZZ\",C50)","v":"ZZZZZZZZZZ"},{"$f":"CELL(\"row\",'Shooter Information'!B51)","v":51},{"$f":"SUM('Stage 1'!I49,'Stage 2'!I49,'Stage 3'!I49,'Stage 4'!I49,'Stage 5'!I49,'Stage 6'!I49,'Stage 7'!I49,'Stage 8'!I49,'Stage 9'!I49,'Stage 10'!I49,'Stage 11'!I49,'Stage 12'!I49)","v":0}]
[{"$f":"IF(AF51=\"Yes\",IF('Shooter Information'!$C$2=\"R\",(SUMPRODUCT(--(AD51>$AD$5:$AD$79),--(\"Yes\"=$AF$5:$AF$79))+1),(SUMPRODUCT(--(AC51>$AC$5:$AC$79),--(\"Yes\"=$AF$5:$AF$79))+1)),0)","v":0},{"$f":"'Shooter Information'!B52","v":0},{"$f":"'Shooter Information'!C52","v":0},{"$f":"IF(AF51=\"Yes\",IF('Shooter Information'!$C$2=\"R\",(SUMPRODUCT(--(C51=$C$5:$C$79),--(AD51>$AD$5:$AD$79),--(\"Yes\"=$AF$5:$AF$79))+1),(SUMPRODUCT(--(C51=$C$5:$C$79),--(AC51>$AC$5:$AC$79),--(\"Yes\"=$AF$5:$AF$79))+1)),0)","v":0},{"$f":"+'Stage 1'!K50","v":0},{"$f":"+'Stage 1'!L50","v":0},{"$f":"+'Stage 2'!K50","v":0},{"$f":"+'Stage 2'!L50","v":0},{"$f":"+'Stage 3'!K50","v":0},{"$f":"+'Stage 3'!L50","v":0},{"$f":"+'Stage 4'!K50","v":0},{"$f":"+'Stage 4'!L50","v":0},{"$f":"+'Stage 5'!K50","v":0},{"$f":"+'Stage 5'!L50","v":0},{"$f":"+'Stage 6'!K50","v":0},{"$f":"+'Stage 6'!L50","v":0},{"$f":"+'Stage 7'!K50","v":0},{"$f":"+'Stage 7'!L50","v":0},{"$f":"+'Stage 8'!K50","v":0},{"$f":"+'Stage 8'!L50","v":0},{"$f":"+'Stage 9'!K50","v":0},{"$f":"+'Stage 9'!L50","v":0},{"$f":"+'Stage 10'!K50","v":0},{"$f":"+'Stage 10'!L50","v":0},{"$f":"+'Stage 11'!K50","v":0},{"$f":"+'Stage 11'!L50","v":0},{"$f":"+'Stage 12'!K50","v":0},{"$f":"+'Stage 12'!L50","v":0},0,0,{"$f":"IF(ISBLANK('Shooter Information'!B52),,IF(SUM('Stage 1'!M50,'Stage 2'!M50,'Stage 3'!M50,'Stage 4'!M50,'Stage 5'!M50,'Stage 6'!M50,'Stage 7'!M50,'Stage 8'!M50,'Stage 9'!M50,'Stage 10'!M50,'Stage 11'!M50,'Stage 12'!M50)=0,\"Yes\",\"No\"))","v":0},{"$f":"IF(ISBLANK('Shooter Information'!B52),,IF(AK51>=2,\"No\",\"Yes\"))","v":0},99999,99999,{"$f":"IF(ISBLANK('Shooter Information'!C52),\"ZZZZZZZZZZ\",C51)","v":"ZZZZZZZZZZ"},{"$f":"CELL(\"row\",'Shooter Information'!B52)","v":52},{"$f":"SUM('Stage 1'!I50,'Stage 2'!I50,'Stage 3'!I50,'Stage 4'!I50,'Stage 5'!I50,'Stage 6'!I50,'Stage 7'!I50,'Stage 8'!I50,'Stage 9'!I50,'Stage 10'!I50,'Stage 11'!I50,'Stage 12'!I50)","v":0}]
[{"$f":"IF(AF52=\"Yes\",IF('Shooter Information'!$C$2=\"R\",(SUMPRODUCT(--(AD52>$AD$5:$AD$79),--(\"Yes\"=$AF$5:$AF$79))+1),(SUMPRODUCT(--(AC52>$AC$5:$AC$79),--(\"Yes\"=$AF$5:$AF$79))+1)),0)","v":0},{"$f":"'Shooter Information'!B53","v":0},{"$f":"'Shooter Information'!C53","v":0},{"$f":"IF(AF52=\"Yes\",IF('Shooter Information'!$C$2=\"R\",(SUMPRODUCT(--(C52=$C$5:$C$79),--(AD52>$AD$5:$AD$79),--(\"Yes\"=$AF$5:$AF$79))+1),(SUMPRODUCT(--(C52=$C$5:$C$79),--(AC52>$AC$5:$AC$79),--(\"Yes\"=$AF$5:$AF$79))+1)),0)","v":0},{"$f":"+'Stage 1'!K51","v":0},{"$f":"+'Stage 1'!L51","v":0},{"$f":"+'Stage 2'!K51","v":0},{"$f":"+'Stage 2'!L51","v":0},{"$f":"+'Stage 3'!K51","v":0},{"$f":"+'Stage 3'!L51","v":0},{"$f":"+'Stage 4'!K51","v":0},{"$f":"+'Stage 4'!L51","v":0},{"$f":"+'Stage 5'!K51","v":0},{"$f":"+'Stage 5'!L51","v":0},{"$f":"+'Stage 6'!K51","v":0},{"$f":"+'Stage 6'!L51","v":0},{"$f":"+'Stage 7'!K51","v":0},{"$f":"+'Stage 7'!L51","v":0},{"$f":"+'Stage 8'!K51","v":0},{"$f":"+'Stage 8'!L51","v":0},{"$f":"+'Stage 9'!K51","v":0},{"$f":"+'Stage 9'!L51","v":0},{"$f":"+'Stage 10'!K51","v":0},{"$f":"+'Stage 10'!L51","v":0},{"$f":"+'Stage 11'!K51","v":0},{"$f":"+'Stage 11'!L51","v":0},{"$f":"+'Stage 12'!K51","v":0},{"$f":"+'Stage 12'!L51","v":0},0,0,{"$f":"IF(ISBLANK('Shooter Information'!B53),,IF(SUM('Stage 1'!M51,'Stage 2'!M51,'Stage 3'!M51,'Stage 4'!M51,'Stage 5'!M51,'Stage 6'!M51,'Stage 7'!M51,'Stage 8'!M51,'Stage 9'!M51,'Stage 10'!M51,'Stage 11'!M51,'Stage 12'!M51)=0,\"Yes\",\"No\"))","v":0},{"$f":"IF(ISBLANK('Shooter Information'!B53),,IF(AK52>=2,\"No\",\"Yes\"))","v":0},99999,99999,{"$f":"IF(ISBLANK('Shooter Information'!C53),\"ZZZZZZZZZZ\",C52)","v":"ZZZZZZZZZZ"},{"$f":"CELL(\"row\",'Shooter Information'!B53)","v":53},{"$f":"SUM('Stage 1'!I51,'Stage 2'!I51,'Stage 3'!I51,'Stage 4'!I51,'Stage 5'!I51,'Stage 6'!I51,'Stage 7'!I51,'Stage 8'!I51,'Stage 9'!I51,'Stage 10'!I51,'Stage 11'!I51,'Stage 12'!I51)","v":0}]
[{"$f":"IF(AF53=\"Yes\",IF('Shooter Information'!$C$2=\"R\",(SUMPRODUCT(--(AD53>$AD$5:$AD$79),--(\"Yes\"=$AF$5:$AF$79))+1),(SUMPRODUCT(--(AC53>$AC$5:$AC$79),--(\"Yes\"=$AF$5:$AF$79))+1)),0)","v":0},{"$f":"'Shooter Information'!B54","v":0},{"$f":"'Shooter Information'!C54","v":0},{"$f":"IF(AF53=\"Yes\",IF('Shooter Information'!$C$2=\"R\",(SUMPRODUCT(--(C53=$C$5:$C$79),--(AD53>$AD$5:$AD$79),--(\"Yes\"=$AF$5:$AF$79))+1),(SUMPRODUCT(--(C53=$C$5:$C$79),--(AC53>$AC$5:$AC$79),--(\"Yes\"=$AF$5:$AF$79))+1)),0)","v":0},{"$f":"+'Stage 1'!K52","v":0},{"$f":"+'Stage 1'!L52","v":0},{"$f":"+'Stage 2'!K52","v":0},{"$f":"+'Stage 2'!L52","v":0},{"$f":"+'Stage 3'!K52","v":0},{"$f":"+'Stage 3'!L52","v":0},{"$f":"+'Stage 4'!K52","v":0},{"$f":"+'Stage 4'!L52","v":0},{"$f":"+'Stage 5'!K52","v":0},{"$f":"+'Stage 5'!L52","v":0},{"$f":"+'Stage 6'!K52","v":0},{"$f":"+'Stage 6'!L52","v":0},{"$f":"+'Stage 7'!K52","v":0},{"$f":"+'Stage 7'!L52","v":0},{"$f":"+'Stage 8'!K52","v":0},{"$f":"+'Stage 8'!L52","v":0},{"$f":"+'Stage 9'!K52","v":0},{"$f":"+'Stage 9'!L52","v":0},{"$f":"+'Stage 10'!K52","v":0},{"$f":"+'Stage 10'!L52","v":0},{"$f":"+'Stage 11'!K52","v":0},{"$f":"+'Stage 11'!L52","v":0},{"$f":"+'Stage 12'!K52","v":0},{"$f":"+'Stage 12'!L52","v":0},0,0,{"$f":"IF(ISBLANK('Shooter Information'!B54),,IF(SUM('Stage 1'!M52,'Stage 2'!M52,'Stage 3'!M52,'Stage 4'!M52,'Stage 5'!M52,'Stage 6'!M52,'Stage 7'!M52,'Stage 8'!M52,'Stage 9'!M52,'Stage 10'!M52,'Stage 11'!M52,'Stage 12'!M52)=0,\"Yes\",\"No\"))","v":0},{"$f":"IF(ISBLANK('Shooter Information'!B54),,IF(AK53>=2,\"No\",\"Yes\"))","v":0},99999,99999,{"$f":"IF(ISBLANK('Shooter Information'!C54),\"ZZZZZZZZZZ\",C53)","v":"ZZZZZZZZZZ"},{"$f":"CELL(\"row\",'Shooter Information'!B54)","v":54},{"$f":"SUM('Stage 1'!I52,'Stage 2'!I52,'Stage 3'!I52,'Stage 4'!I52,'Stage 5'!I52,'Stage 6'!I52,'Stage 7'!I52,'Stage 8'!I52,'Stage 9'!I52,'Stage 10'!I52,'Stage 11'!I52,'Stage 12'!I52)","v":0}]
[{"$f":"IF(AF54=\"Yes\",IF('Shooter Information'!$C$2=\"R\",(SUMPRODUCT(--(AD54>$AD$5:$AD$79),--(\"Yes\"=$AF$5:$AF$79))+1),(SUMPRODUCT(--(AC54>$AC$5:$AC$79),--(\"Yes\"=$AF$5:$AF$79))+1)),0)","v":0},{"$f":"'Shooter Information'!B55","v":0},{"$f":"'Shooter Information'!C55","v":0},{"$f":"IF(AF54=\"Yes\",IF('Shooter Information'!$C$2=\"R\",(SUMPRODUCT(--(C54=$C$5:$C$79),--(AD54>$AD$5:$AD$79),--(\"Yes\"=$AF$5:$AF$79))+1),(SUMPRODUCT(--(C54=$C$5:$C$79),--(AC54>$AC$5:$AC$79),--(\"Yes\"=$AF$5:$AF$79))+1)),0)","v":0},{"$f":"+'Stage 1'!K53","v":0},{"$f":"+'Stage 1'!L53","v":0},{"$f":"+'Stage 2'!K53","v":0},{"$f":"+'Stage 2'!L53","v":0},{"$f":"+'Stage 3'!K53","v":0},{"$f":"+'Stage 3'!L53","v":0},{"$f":"+'Stage 4'!K53","v":0},{"$f":"+'Stage 4'!L53","v":0},{"$f":"+'Stage 5'!K53","v":0},{"$f":"+'Stage 5'!L53","v":0},{"$f":"+'Stage 6'!K53","v":0},{"$f":"+'Stage 6'!L53","v":0},{"$f":"+'Stage 7'!K53","v":0},{"$f":"+'Stage 7'!L53","v":0},{"$f":"+'Stage 8'!K53","v":0},{"$f":"+'Stage 8'!L53","v":0},{"$f":"+'Stage 9'!K53","v":0},{"$f":"+'Stage 9'!L53","v":0},{"$f":"+'Stage 10'!K53","v":0},{"$f":"+'Stage 10'!L53","v":0},{"$f":"+'Stage 11'!K53","v":0},{"$f":"+'Stage 11'!L53","v":0},{"$f":"+'Stage 12'!K53","v":0},{"$f":"+'Stage 12'!L53","v":0},0,0,{"$f":"IF(ISBLANK('Shooter Information'!B55),,IF(SUM('Stage 1'!M53,'Stage 2'!M53,'Stage 3'!M53,'Stage 4'!M53,'Stage 5'!M53,'Stage 6'!M53,'Stage 7'!M53,'Stage 8'!M53,'Stage 9'!M53,'Stage 10'!M53,'Stage 11'!M53,'Stage 12'!M53)=0,\"Yes\",\"No\"))","v":0},{"$f":"IF(ISBLANK('Shooter Information'!B55),,IF(AK54>=2,\"No\",\"Yes\"))","v":0},99999,99999,{"$f":"IF(ISBLANK('Shooter Information'!C55),\"ZZZZZZZZZZ\",C54)","v":"ZZZZZZZZZZ"},{"$f":"CELL(\"row\",'Shooter Information'!B55)","v":55},{"$f":"SUM('Stage 1'!I53,'Stage 2'!I53,'Stage 3'!I53,'Stage 4'!I53,'Stage 5'!I53,'Stage 6'!I53,'Stage 7'!I53,'Stage 8'!I53,'Stage 9'!I53,'Stage 10'!I53,'Stage 11'!I53,'Stage 12'!I53)","v":0}]
[{"$f":"IF(AF55=\"Yes\",IF('Shooter Information'!$C$2=\"R\",(SUMPRODUCT(--(AD55>$AD$5:$AD$79),--(\"Yes\"=$AF$5:$AF$79))+1),(SUMPRODUCT(--(AC55>$AC$5:$AC$79),--(\"Yes\"=$AF$5:$AF$79))+1)),0)","v":0},{"$f":"'Shooter Information'!B56","v":0},{"$f":"'Shooter Information'!C56","v":0},{"$f":"IF(AF55=\"Yes\",IF('Shooter Information'!$C$2=\"R\",(SUMPRODUCT(--(C55=$C$5:$C$79),--(AD55>$AD$5:$AD$79),--(\"Yes\"=$AF$5:$AF$79))+1),(SUMPRODUCT(--(C55=$C$5:$C$79),--(AC55>$AC$5:$AC$79),--(\"Yes\"=$AF$5:$AF$79))+1)),0)","v":0},{"$f":"+'Stage 1'!K54","v":0},{"$f":"+'Stage 1'!L54","v":0},{"$f":"+'Stage 2'!K54","v":0},{"$f":"+'Stage 2'!L54","v":0},{"$f":"+'Stage 3'!K54","v":0},{"$f":"+'Stage 3'!L54","v":0},{"$f":"+'Stage 4'!K54","v":0},{"$f":"+'Stage 4'!L54","v":0},{"$f":"+'Stage 5'!K54","v":0},{"$f":"+'Stage 5'!L54","v":0},{"$f":"+'Stage 6'!K54","v":0},{"$f":"+'Stage 6'!L54","v":0},{"$f":"+'Stage 7'!K54","v":0},{"$f":"+'Stage 7'!L54","v":0},{"$f":"+'Stage 8'!K54","v":0},{"$f":"+'Stage 8'!L54","v":0},{"$f":"+'Stage 9'!K54","v":0},{"$f":"+'Stage 9'!L54","v":0},{"$f":"+'Stage 10'!K54","v":0},{"$f":"+'Stage 10'!L54","v":0},{"$f":"+'Stage 11'!K54","v":0},{"$f":"+'Stage 11'!L54","v":0},{"$f":"+'Stage 12'!K54","v":0},{"$f":"+'Stage 12'!L54","v":0},0,0,{"$f":"IF(ISBLANK('Shooter Information'!B56),,IF(SUM('Stage 1'!M54,'Stage 2'!M54,'Stage 3'!M54,'Stage 4'!M54,'Stage 5'!M54,'Stage 6'!M54,'Stage 7'!M54,'Stage 8'!M54,'Stage 9'!M54,'Stage 10'!M54,'Stage 11'!M54,'Stage 12'!M54)=0,\"Yes\",\"No\"))","v":0},{"$f":"IF(ISBLANK('Shooter Information'!B56),,IF(AK55>=2,\"No\",\"Yes\"))","v":0},99999,99999,{"$f":"IF(ISBLANK('Shooter Information'!C56),\"ZZZZZZZZZZ\",C55)","v":"ZZZZZZZZZZ"},{"$f":"CELL(\"row\",'Shooter Information'!B56)","v":56},{"$f":"SUM('Stage 1'!I54,'Stage 2'!I54,'Stage 3'!I54,'Stage 4'!I54,'Stage 5'!I54,'Stage 6'!I54,'Stage 7'!I54,'Stage 8'!I54,'Stage 9'!I54,'Stage 10'!I54,'Stage 11'!I54,'Stage 12'!I54)","v":0}]
[{"$f":"IF(AF56=\"Yes\",IF('Shooter Information'!$C$2=\"R\",(SUMPRODUCT(--(AD56>$AD$5:$AD$79),--(\"Yes\"=$AF$5:$AF$79))+1),(SUMPRODUCT(--(AC56>$AC$5:$AC$79),--(\"Yes\"=$AF$5:$AF$79))+1)),0)","v":0},{"$f":"'Shooter Information'!B57","v":0},{"$f":"'Shooter Information'!C57","v":0},{"$f":"IF(AF56=\"Yes\",IF('Shooter Information'!$C$2=\"R\",(SUMPRODUCT(--(C56=$C$5:$C$79),--(AD56>$AD$5:$AD$79),--(\"Yes\"=$AF$5:$AF$79))+1),(SUMPRODUCT(--(C56=$C$5:$C$79),--(AC56>$AC$5:$AC$79),--(\"Yes\"=$AF$5:$AF$79))+1)),0)","v":0},{"$f":"+'Stage 1'!K55","v":0},{"$f":"+'Stage 1'!L55","v":0},{"$f":"+'Stage 2'!K55","v":0},{"$f":"+'Stage 2'!L55","v":0},{"$f":"+'Stage 3'!K55","v":0},{"$f":"+'Stage 3'!L55","v":0},{"$f":"+'Stage 4'!K55","v":0},{"$f":"+'Stage 4'!L55","v":0},{"$f":"+'Stage 5'!K55","v":0},{"$f":"+'Stage 5'!L55","v":0},{"$f":"+'Stage 6'!K55","v":0},{"$f":"+'Stage 6'!L55","v":0},{"$f":"+'Stage 7'!K55","v":0},{"$f":"+'Stage 7'!L55","v":0},{"$f":"+'Stage 8'!K55","v":0},{"$f":"+'Stage 8'!L55","v":0},{"$f":"+'Stage 9'!K55","v":0},{"$f":"+'Stage 9'!L55","v":0},{"$f":"+'Stage 10'!K55","v":0},{"$f":"+'Stage 10'!L55","v":0},{"$f":"+'Stage 11'!K55","v":0},{"$f":"+'Stage 11'!L55","v":0},{"$f":"+'Stage 12'!K55","v":0},{"$f":"+'Stage 12'!L55","v":0},0,0,{"$f":"IF(ISBLANK('Shooter Information'!B57),,IF(SUM('Stage 1'!M55,'Stage 2'!M55,'Stage 3'!M55,'Stage 4'!M55,'Stage 5'!M55,'Stage 6'!M55,'Stage 7'!M55,'Stage 8'!M55,'Stage 9'!M55,'Stage 10'!M55,'Stage 11'!M55,'Stage 12'!M55)=0,\"Yes\",\"No\"))","v":0},{"$f":"IF(ISBLANK('Shooter Information'!B57),,IF(AK56>=2,\"No\",\"Yes\"))","v":0},99999,99999,{"$f":"IF(ISBLANK('Shooter Information'!C57),\"ZZZZZZZZZZ\",C56)","v":"ZZZZZZZZZZ"},{"$f":"CELL(\"row\",'Shooter Information'!B57)","v":57},{"$f":"SUM('Stage 1'!I55,'Stage 2'!I55,'Stage 3'!I55,'Stage 4'!I55,'Stage 5'!I55,'Stage 6'!I55,'Stage 7'!I55,'Stage 8'!I55,'Stage 9'!I55,'Stage 10'!I55,'Stage 11'!I55,'Stage 12'!I55)","v":0}]
[{"$f":"IF(AF57=\"Yes\",IF('Shooter Information'!$C$2=\"R\",(SUMPRODUCT(--(AD57>$AD$5:$AD$79),--(\"Yes\"=$AF$5:$AF$79))+1),(SUMPRODUCT(--(AC57>$AC$5:$AC$79),--(\"Yes\"=$AF$5:$AF$79))+1)),0)","v":0},{"$f":"'Shooter Information'!B58","v":0},{"$f":"'Shooter Information'!C58","v":0},{"$f":"IF(AF57=\"Yes\",IF('Shooter Information'!$C$2=\"R\",(SUMPRODUCT(--(C57=$C$5:$C$79),--(AD57>$AD$5:$AD$79),--(\"Yes\"=$AF$5:$AF$79))+1),(SUMPRODUCT(--(C57=$C$5:$C$79),--(AC57>$AC$5:$AC$79),--(\"Yes\"=$AF$5:$AF$79))+1)),0)","v":0},{"$f":"+'Stage 1'!K56","v":0},{"$f":"+'Stage 1'!L56","v":0},{"$f":"+'Stage 2'!K56","v":0},{"$f":"+'Stage 2'!L56","v":0},{"$f":"+'Stage 3'!K56","v":0},{"$f":"+'Stage 3'!L56","v":0},{"$f":"+'Stage 4'!K56","v":0},{"$f":"+'Stage 4'!L56","v":0},{"$f":"+'Stage 5'!K56","v":0},{"$f":"+'Stage 5'!L56","v":0},{"$f":"+'Stage 6'!K56","v":0},{"$f":"+'Stage 6'!L56","v":0},{"$f":"+'Stage 7'!K56","v":0},{"$f":"+'Stage 7'!L56","v":0},{"$f":"+'Stage 8'!K56","v":0},{"$f":"+'Stage 8'!L56","v":0},{"$f":"+'Stage 9'!K56","v":0},{"$f":"+'Stage 9'!L56","v":0},{"$f":"+'Stage 10'!K56","v":0},{"$f":"+'Stage 10'!L56","v":0},{"$f":"+'Stage 11'!K56","v":0},{"$f":"+'Stage 11'!L56","v":0},{"$f":"+'Stage 12'!K56","v":0},{"$f":"+'Stage 12'!L56","v":0},0,0,{"$f":"IF(ISBLANK('Shooter Information'!B58),,IF(SUM('Stage 1'!M56,'Stage 2'!M56,'Stage 3'!M56,'Stage 4'!M56,'Stage 5'!M56,'Stage 6'!M56,'Stage 7'!M56,'Stage 8'!M56,'Stage 9'!M56,'Stage 10'!M56,'Stage 11'!M56,'Stage 12'!M56)=0,\"Yes\",\"No\"))","v":0},{"$f":"IF(ISBLANK('Shooter Information'!B58),,IF(AK57>=2,\"No\",\"Yes\"))","v":0},99999,99999,{"$f":"IF(ISBLANK('Shooter Information'!C58),\"ZZZZZZZZZZ\",C57)","v":"ZZZZZZZZZZ"},{"$f":"CELL(\"row\",'Shooter Information'!B58)","v":58},{"$f":"SUM('Stage 1'!I56,'Stage 2'!I56,'Stage 3'!I56,'Stage 4'!I56,'Stage 5'!I56,'Stage 6'!I56,'Stage 7'!I56,'Stage 8'!I56,'Stage 9'!I56,'Stage 10'!I56,'Stage 11'!I56,'Stage 12'!I56)","v":0}]
[{"$f":"IF(AF58=\"Yes\",IF('Shooter Information'!$C$2=\"R\",(SUMPRODUCT(--(AD58>$AD$5:$AD$79),--(\"Yes\"=$AF$5:$AF$79))+1),(SUMPRODUCT(--(AC58>$AC$5:$AC$79),--(\"Yes\"=$AF$5:$AF$79))+1)),0)","v":0},{"$f":"'Shooter Information'!B59","v":0},{"$f":"'Shooter Information'!C59","v":0},{"$f":"IF(AF58=\"Yes\",IF('Shooter Information'!$C$2=\"R\",(SUMPRODUCT(--(C58=$C$5:$C$79),--(AD58>$AD$5:$AD$79),--(\"Yes\"=$AF$5:$AF$79))+1),(SUMPRODUCT(--(C58=$C$5:$C$79),--(AC58>$AC$5:$AC$79),--(\"Yes\"=$AF$5:$AF$79))+1)),0)","v":0},{"$f":"+'Stage 1'!K57","v":0},{"$f":"+'Stage 1'!L57","v":0},{"$f":"+'Stage 2'!K57","v":0},{"$f":"+'Stage 2'!L57","v":0},{"$f":"+'Stage 3'!K57","v":0},{"$f":"+'Stage 3'!L57","v":0},{"$f":"+'Stage 4'!K57","v":0},{"$f":"+'Stage 4'!L57","v":0},{"$f":"+'Stage 5'!K57","v":0},{"$f":"+'Stage 5'!L57","v":0},{"$f":"+'Stage 6'!K57","v":0},{"$f":"+'Stage 6'!L57","v":0},{"$f":"+'Stage 7'!K57","v":0},{"$f":"+'Stage 7'!L57","v":0},{"$f":"+'Stage 8'!K57","v":0},{"$f":"+'Stage 8'!L57","v":0},{"$f":"+'Stage 9'!K57","v":0},{"$f":"+'Stage 9'!L57","v":0},{"$f":"+'Stage 10'!K57","v":0},{"$f":"+'Stage 10'!L57","v":0},{"$f":"+'Stage 11'!K57","v":0},{"$f":"+'Stage 11'!L57","v":0},{"$f":"+'Stage 12'!K57","v":0},{"$f":"+'Stage 12'!L57","v":0},0,0,{"$f":"IF(ISBLANK('Shooter Information'!B59),,IF(SUM('Stage 1'!M57,'Stage 2'!M57,'Stage 3'!M57,'Stage 4'!M57,'Stage 5'!M57,'Stage 6'!M57,'Stage 7'!M57,'Stage 8'!M57,'Stage 9'!M57,'Stage 10'!M57,'Stage 11'!M57,'Stage 12'!M57)=0,\"Yes\",\"No\"))","v":0},{"$f":"IF(ISBLANK('Shooter Information'!B59),,IF(AK58>=2,\"No\",\"Yes\"))","v":0},99999,99999,{"$f":"IF(ISBLANK('Shooter Information'!C59),\"ZZZZZZZZZZ\",C58)","v":"ZZZZZZZZZZ"},{"$f":"CELL(\"row\",'Shooter Information'!B59)","v":59},{"$f":"SUM('Stage 1'!I57,'Stage 2'!I57,'Stage 3'!I57,'Stage 4'!I57,'Stage 5'!I57,'Stage 6'!I57,'Stage 7'!I57,'Stage 8'!I57,'Stage 9'!I57,'Stage 10'!I57,'Stage 11'!I57,'Stage 12'!I57)","v":0}]
[{"$f":"IF(AF59=\"Yes\",IF('Shooter Information'!$C$2=\"R\",(SUMPRODUCT(--(AD59>$AD$5:$AD$79),--(\"Yes\"=$AF$5:$AF$79))+1),(SUMPRODUCT(--(AC59>$AC$5:$AC$79),--(\"Yes\"=$AF$5:$AF$79))+1)),0)","v":0},{"$f":"'Shooter Information'!B60","v":0},{"$f":"'Shooter Information'!C60","v":0},{"$f":"IF(AF59=\"Yes\",IF('Shooter Information'!$C$2=\"R\",(SUMPRODUCT(--(C59=$C$5:$C$79),--(AD59>$AD$5:$AD$79),--(\"Yes\"=$AF$5:$AF$79))+1),(SUMPRODUCT(--(C59=$C$5:$C$79),--(AC59>$AC$5:$AC$79),--(\"Yes\"=$AF$5:$AF$79))+1)),0)","v":0},{"$f":"+'Stage 1'!K58","v":0},{"$f":"+'Stage 1'!L58","v":0},{"$f":"+'Stage 2'!K58","v":0},{"$f":"+'Stage 2'!L58","v":0},{"$f":"+'Stage 3'!K58","v":0},{"$f":"+'Stage 3'!L58","v":0},{"$f":"+'Stage 4'!K58","v":0},{"$f":"+'Stage 4'!L58","v":0},{"$f":"+'Stage 5'!K58","v":0},{"$f":"+'Stage 5'!L58","v":0},{"$f":"+'Stage 6'!K58","v":0},{"$f":"+'Stage 6'!L58","v":0},{"$f":"+'Stage 7'!K58","v":0},{"$f":"+'Stage 7'!L58","v":0},{"$f":"+'Stage 8'!K58","v":0},{"$f":"+'Stage 8'!L58","v":0},{"$f":"+'Stage 9'!K58","v":0},{"$f":"+'Stage 9'!L58","v":0},{"$f":"+'Stage 10'!K58","v":0},{"$f":"+'Stage 10'!L58","v":0},{"$f":"+'Stage 11'!K58","v":0},{"$f":"+'Stage 11'!L58","v":0},{"$f":"+'Stage 12'!K58","v":0},{"$f":"+'Stage 12'!L58","v":0},0,0,{"$f":"IF(ISBLANK('Shooter Information'!B60),,IF(SUM('Stage 1'!M58,'Stage 2'!M58,'Stage 3'!M58,'Stage 4'!M58,'Stage 5'!M58,'Stage 6'!M58,'Stage 7'!M58,'Stage 8'!M58,'Stage 9'!M58,'Stage 10'!M58,'Stage 11'!M58,'Stage 12'!M58)=0,\"Yes\",\"No\"))","v":0},{"$f":"IF(ISBLANK('Shooter Information'!B60),,IF(AK59>=2,\"No\",\"Yes\"))","v":0},99999,99999,{"$f":"IF(ISBLANK('Shooter Information'!C60),\"ZZZZZZZZZZ\",C59)","v":"ZZZZZZZZZZ"},{"$f":"CELL(\"row\",'Shooter Information'!B60)","v":60},{"$f":"SUM('Stage 1'!I58,'Stage 2'!I58,'Stage 3'!I58,'Stage 4'!I58,'Stage 5'!I58,'Stage 6'!I58,'Stage 7'!I58,'Stage 8'!I58,'Stage 9'!I58,'Stage 10'!I58,'Stage 11'!I58,'Stage 12'!I58)","v":0}]
[{"$f":"IF(AF60=\"Yes\",IF('Shooter Information'!$C$2=\"R\",(SUMPRODUCT(--(AD60>$AD$5:$AD$79),--(\"Yes\"=$AF$5:$AF$79))+1),(SUMPRODUCT(--(AC60>$AC$5:$AC$79),--(\"Yes\"=$AF$5:$AF$79))+1)),0)","v":0},{"$f":"'Shooter Information'!B61","v":0},{"$f":"'Shooter Information'!C61","v":0},{"$f":"IF(AF60=\"Yes\",IF('Shooter Information'!$C$2=\"R\",(SUMPRODUCT(--(C60=$C$5:$C$79),--(AD60>$AD$5:$AD$79),--(\"Yes\"=$AF$5:$AF$79))+1),(SUMPRODUCT(--(C60=$C$5:$C$79),--(AC60>$AC$5:$AC$79),--(\"Yes\"=$AF$5:$AF$79))+1)),0)","v":0},{"$f":"+'Stage 1'!K59","v":0},{"$f":"+'Stage 1'!L59","v":0},{"$f":"+'Stage 2'!K59","v":0},{"$f":"+'Stage 2'!L59","v":0},{"$f":"+'Stage 3'!K59","v":0},{"$f":"+'Stage 3'!L59","v":0},{"$f":"+'Stage 4'!K59","v":0},{"$f":"+'Stage 4'!L59","v":0},{"$f":"+'Stage 5'!K59","v":0},{"$f":"+'Stage 5'!L59","v":0},{"$f":"+'Stage 6'!K59","v":0},{"$f":"+'Stage 6'!L59","v":0},{"$f":"+'Stage 7'!K59","v":0},{"$f":"+'Stage 7'!L59","v":0},{"$f":"+'Stage 8'!K59","v":0},{"$f":"+'Stage 8'!L59","v":0},{"$f":"+'Stage 9'!K59","v":0},{"$f":"+'Stage 9'!L59","v":0},{"$f":"+'Stage 10'!K59","v":0},{"$f":"+'Stage 10'!L59","v":0},{"$f":"+'Stage 11'!K59","v":0},{"$f":"+'Stage 11'!L59","v":0},{"$f":"+'Stage 12'!K59","v":0},{"$f":"+'Stage 12'!L59","v":0},0,0,{"$f":"IF(ISBLANK('Shooter Information'!B61),,IF(SUM('Stage 1'!M59,'Stage 2'!M59,'Stage 3'!M59,'Stage 4'!M59,'Stage 5'!M59,'Stage 6'!M59,'Stage 7'!M59,'Stage 8'!M59,'Stage 9'!M59,'Stage 10'!M59,'Stage 11'!M59,'Stage 12'!M59)=0,\"Yes\",\"No\"))","v":0},{"$f":"IF(ISBLANK('Shooter Information'!B61),,IF(AK60>=2,\"No\",\"Yes\"))","v":0},99999,99999,{"$f":"IF(ISBLANK('Shooter Information'!C61),\"ZZZZZZZZZZ\",C60)","v":"ZZZZZZZZZZ"},{"$f":"CELL(\"row\",'Shooter Information'!B61)","v":61},{"$f":"SUM('Stage 1'!I59,'Stage 2'!I59,'Stage 3'!I59,'Stage 4'!I59,'Stage 5'!I59,'Stage 6'!I59,'Stage 7'!I59,'Stage 8'!I59,'Stage 9'!I59,'Stage 10'!I59,'Stage 11'!I59,'Stage 12'!I59)","v":0}]
[{"$f":"IF(AF61=\"Yes\",IF('Shooter Information'!$C$2=\"R\",(SUMPRODUCT(--(AD61>$AD$5:$AD$79),--(\"Yes\"=$AF$5:$AF$79))+1),(SUMPRODUCT(--(AC61>$AC$5:$AC$79),--(\"Yes\"=$AF$5:$AF$79))+1)),0)","v":0},{"$f":"'Shooter Information'!B62","v":0},{"$f":"'Shooter Information'!C62","v":0},{"$f":"IF(AF61=\"Yes\",IF('Shooter Information'!$C$2=\"R\",(SUMPRODUCT(--(C61=$C$5:$C$79),--(AD61>$AD$5:$AD$79),--(\"Yes\"=$AF$5:$AF$79))+1),(SUMPRODUCT(--(C61=$C$5:$C$79),--(AC61>$AC$5:$AC$79),--(\"Yes\"=$AF$5:$AF$79))+1)),0)","v":0},{"$f":"+'Stage 1'!K60","v":0},{"$f":"+'Stage 1'!L60","v":0},{"$f":"+'Stage 2'!K60","v":0},{"$f":"+'Stage 2'!L60","v":0},{"$f":"+'Stage 3'!K60","v":0},{"$f":"+'Stage 3'!L60","v":0},{"$f":"+'Stage 4'!K60","v":0},{"$f":"+'Stage 4'!L60","v":0},{"$f":"+'Stage 5'!K60","v":0},{"$f":"+'Stage 5'!L60","v":0},{"$f":"+'Stage 6'!K60","v":0},{"$f":"+'Stage 6'!L60","v":0},{"$f":"+'Stage 7'!K60","v":0},{"$f":"+'Stage 7'!L60","v":0},{"$f":"+'Stage 8'!K60","v":0},{"$f":"+'Stage 8'!L60","v":0},{"$f":"+'Stage 9'!K60","v":0},{"$f":"+'Stage 9'!L60","v":0},{"$f":"+'Stage 10'!K60","v":0},{"$f":"+'Stage 10'!L60","v":0},{"$f":"+'Stage 11'!K60","v":0},{"$f":"+'Stage 11'!L60","v":0},{"$f":"+'Stage 12'!K60","v":0},{"$f":"+'Stage 12'!L60","v":0},0,0,{"$f":"IF(ISBLANK('Shooter Information'!B62),,IF(SUM('Stage 1'!M60,'Stage 2'!M60,'Stage 3'!M60,'Stage 4'!M60,'Stage 5'!M60,'Stage 6'!M60,'Stage 7'!M60,'Stage 8'!M60,'Stage 9'!M60,'Stage 10'!M60,'Stage 11'!M60,'Stage 12'!M60)=0,\"Yes\",\"No\"))","v":0},{"$f":"IF(ISBLANK('Shooter Information'!B62),,IF(AK61>=2,\"No\",\"Yes\"))","v":0},99999,99999,{"$f":"IF(ISBLANK('Shooter Information'!C62),\"ZZZZZZZZZZ\",C61)","v":"ZZZZZZZZZZ"},{"$f":"CELL(\"row\",'Shooter Information'!B62)","v":62},{"$f":"SUM('Stage 1'!I60,'Stage 2'!I60,'Stage 3'!I60,'Stage 4'!I60,'Stage 5'!I60,'Stage 6'!I60,'Stage 7'!I60,'Stage 8'!I60,'Stage 9'!I60,'Stage 10'!I60,'Stage 11'!I60,'Stage 12'!I60)","v":0}]
[{"$f":"IF(AF62=\"Yes\",IF('Shooter Information'!$C$2=\"R\",(SUMPRODUCT(--(AD62>$AD$5:$AD$79),--(\"Yes\"=$AF$5:$AF$79))+1),(SUMPRODUCT(--(AC62>$AC$5:$AC$79),--(\"Yes\"=$AF$5:$AF$79))+1)),0)","v":0},{"$f":"'Shooter Information'!B63","v":0},{"$f":"'Shooter Information'!C63","v":0},{"$f":"IF(AF62=\"Yes\",IF('Shooter Information'!$C$2=\"R\",(SUMPRODUCT(--(C62=$C$5:$C$79),--(AD62>$AD$5:$AD$79),--(\"Yes\"=$AF$5:$AF$79))+1),(SUMPRODUCT(--(C62=$C$5:$C$79),--(AC62>$AC$5:$AC$79),--(\"Yes\"=$AF$5:$AF$79))+1)),0)","v":0},{"$f":"+'Stage 1'!K61","v":0},{"$f":"+'Stage 1'!L61","v":0},{"$f":"+'Stage 2'!K61","v":0},{"$f":"+'Stage 2'!L61","v":0},{"$f":"+'Stage 3'!K61","v":0},{"$f":"+'Stage 3'!L61","v":0},{"$f":"+'Stage 4'!K61","v":0},{"$f":"+'Stage 4'!L61","v":0},{"$f":"+'Stage 5'!K61","v":0},{"$f":"+'Stage 5'!L61","v":0},{"$f":"+'Stage 6'!K61","v":0},{"$f":"+'Stage 6'!L61","v":0},{"$f":"+'Stage 7'!K61","v":0},{"$f":"+'Stage 7'!L61","v":0},{"$f":"+'Stage 8'!K61","v":0},{"$f":"+'Stage 8'!L61","v":0},{"$f":"+'Stage 9'!K61","v":0},{"$f":"+'Stage 9'!L61","v":0},{"$f":"+'Stage 10'!K61","v":0},{"$f":"+'Stage 10'!L61","v":0},{"$f":"+'Stage 11'!K61","v":0},{"$f":"+'Stage 11'!L61","v":0},{"$f":"+'Stage 12'!K61","v":0},{"$f":"+'Stage 12'!L61","v":0},0,0,{"$f":"IF(ISBLANK('Shooter Information'!B63),,IF(SUM('Stage 1'!M61,'Stage 2'!M61,'Stage 3'!M61,'Stage 4'!M61,'Stage 5'!M61,'Stage 6'!M61,'Stage 7'!M61,'Stage 8'!M61,'Stage 9'!M61,'Stage 10'!M61,'Stage 11'!M61,'Stage 12'!M61)=0,\"Yes\",\"No\"))","v":0},{"$f":"IF(ISBLANK('Shooter Information'!B63),,IF(AK62>=2,\"No\",\"Yes\"))","v":0},99999,99999,{"$f":"IF(ISBLANK('Shooter Information'!C63),\"ZZZZZZZZZZ\",C62)","v":"ZZZZZZZZZZ"},{"$f":"CELL(\"row\",'Shooter Information'!B63)","v":63},{"$f":"SUM('Stage 1'!I61,'Stage 2'!I61,'Stage 3'!I61,'Stage 4'!I61,'Stage 5'!I61,'Stage 6'!I61,'Stage 7'!I61,'Stage 8'!I61,'Stage 9'!I61,'Stage 10'!I61,'Stage 11'!I61,'Stage 12'!I61)","v":0}]
[{"$f":"IF(AF63=\"Yes\",IF('Shooter Information'!$C$2=\"R\",(SUMPRODUCT(--(AD63>$AD$5:$AD$79),--(\"Yes\"=$AF$5:$AF$79))+1),(SUMPRODUCT(--(AC63>$AC$5:$AC$79),--(\"Yes\"=$AF$5:$AF$79))+1)),0)","v":0},{"$f":"'Shooter Information'!B64","v":0},{"$f":"'Shooter Information'!C64","v":0},{"$f":"IF(AF63=\"Yes\",IF('Shooter Information'!$C$2=\"R\",(SUMPRODUCT(--(C63=$C$5:$C$79),--(AD63>$AD$5:$AD$79),--(\"Yes\"=$AF$5:$AF$79))+1),(SUMPRODUCT(--(C63=$C$5:$C$79),--(AC63>$AC$5:$AC$79),--(\"Yes\"=$AF$5:$AF$79))+1)),0)","v":0},{"$f":"+'Stage 1'!K62","v":0},{"$f":"+'Stage 1'!L62","v":0},{"$f":"+'Stage 2'!K62","v":0},{"$f":"+'Stage 2'!L62","v":0},{"$f":"+'Stage 3'!K62","v":0},{"$f":"+'Stage 3'!L62","v":0},{"$f":"+'Stage 4'!K62","v":0},{"$f":"+'Stage 4'!L62","v":0},{"$f":"+'Stage 5'!K62","v":0},{"$f":"+'Stage 5'!L62","v":0},{"$f":"+'Stage 6'!K62","v":0},{"$f":"+'Stage 6'!L62","v":0},{"$f":"+'Stage 7'!K62","v":0},{"$f":"+'Stage 7'!L62","v":0},{"$f":"+'Stage 8'!K62","v":0},{"$f":"+'Stage 8'!L62","v":0},{"$f":"+'Stage 9'!K62","v":0},{"$f":"+'Stage 9'!L62","v":0},{"$f":"+'Stage 10'!K62","v":0},{"$f":"+'Stage 10'!L62","v":0},{"$f":"+'Stage 11'!K62","v":0},{"$f":"+'Stage 11'!L62","v":0},{"$f":"+'Stage 12'!K62","v":0},{"$f":"+'Stage 12'!L62","v":0},0,0,{"$f":"IF(ISBLANK('Shooter Information'!B64),,IF(SUM('Stage 1'!M62,'Stage 2'!M62,'Stage 3'!M62,'Stage 4'!M62,'Stage 5'!M62,'Stage 6'!M62,'Stage 7'!M62,'Stage 8'!M62,'Stage 9'!M62,'Stage 10'!M62,'Stage 11'!M62,'Stage 12'!M62)=0,\"Yes\",\"No\"))","v":0},{"$f":"IF(ISBLANK('Shooter Information'!B64),,IF(AK63>=2,\"No\",\"Yes\"))","v":0},99999,99999,{"$f":"IF(ISBLANK('Shooter Information'!C64),\"ZZZZZZZZZZ\",C63)","v":"ZZZZZZZZZZ"},{"$f":"CELL(\"row\",'Shooter Information'!B64)","v":64},{"$f":"SUM('Stage 1'!I62,'Stage 2'!I62,'Stage 3'!I62,'Stage 4'!I62,'Stage 5'!I62,'Stage 6'!I62,'Stage 7'!I62,'Stage 8'!I62,'Stage 9'!I62,'Stage 10'!I62,'Stage 11'!I62,'Stage 12'!I62)","v":0}]
[{"$f":"IF(AF64=\"Yes\",IF('Shooter Information'!$C$2=\"R\",(SUMPRODUCT(--(AD64>$AD$5:$AD$79),--(\"Yes\"=$AF$5:$AF$79))+1),(SUMPRODUCT(--(AC64>$AC$5:$AC$79),--(\"Yes\"=$AF$5:$AF$79))+1)),0)","v":0},{"$f":"'Shooter Information'!B65","v":0},{"$f":"'Shooter Information'!C65","v":0},{"$f":"IF(AF64=\"Yes\",IF('Shooter Information'!$C$2=\"R\",(SUMPRODUCT(--(C64=$C$5:$C$79),--(AD64>$AD$5:$AD$79),--(\"Yes\"=$AF$5:$AF$79))+1),(SUMPRODUCT(--(C64=$C$5:$C$79),--(AC64>$AC$5:$AC$79),--(\"Yes\"=$AF$5:$AF$79))+1)),0)","v":0},{"$f":"+'Stage 1'!K63","v":0},{"$f":"+'Stage 1'!L63","v":0},{"$f":"+'Stage 2'!K63","v":0},{"$f":"+'Stage 2'!L63","v":0},{"$f":"+'Stage 3'!K63","v":0},{"$f":"+'Stage 3'!L63","v":0},{"$f":"+'Stage 4'!K63","v":0},{"$f":"+'Stage 4'!L63","v":0},{"$f":"+'Stage 5'!K63","v":0},{"$f":"+'Stage 5'!L63","v":0},{"$f":"+'Stage 6'!K63","v":0},{"$f":"+'Stage 6'!L63","v":0},{"$f":"+'Stage 7'!K63","v":0},{"$f":"+'Stage 7'!L63","v":0},{"$f":"+'Stage 8'!K63","v":0},{"$f":"+'Stage 8'!L63","v":0},{"$f":"+'Stage 9'!K63","v":0},{"$f":"+'Stage 9'!L63","v":0},{"$f":"+'Stage 10'!K63","v":0},{"$f":"+'Stage 10'!L63","v":0},{"$f":"+'Stage 11'!K63","v":0},{"$f":"+'Stage 11'!L63","v":0},{"$f":"+'Stage 12'!K63","v":0},{"$f":"+'Stage 12'!L63","v":0},0,0,{"$f":"IF(ISBLANK('Shooter Information'!B65),,IF(SUM('Stage 1'!M63,'Stage 2'!M63,'Stage 3'!M63,'Stage 4'!M63,'Stage 5'!M63,'Stage 6'!M63,'Stage 7'!M63,'Stage 8'!M63,'Stage 9'!M63,'Stage 10'!M63,'Stage 11'!M63,'Stage 12'!M63)=0,\"Yes\",\"No\"))","v":0},{"$f":"IF(ISBLANK('Shooter Information'!B65),,IF(AK64>=2,\"No\",\"Yes\"))","v":0},99999,99999,{"$f":"IF(ISBLANK('Shooter Information'!C65),\"ZZZZZZZZZZ\",C64)","v":"ZZZZZZZZZZ"},{"$f":"CELL(\"row\",'Shooter Information'!B65)","v":65},{"$f":"SUM('Stage 1'!I63,'Stage 2'!I63,'Stage 3'!I63,'Stage 4'!I63,'Stage 5'!I63,'Stage 6'!I63,'Stage 7'!I63,'Stage 8'!I63,'Stage 9'!I63,'Stage 10'!I63,'Stage 11'!I63,'Stage 12'!I63)","v":0}]
[{"$f":"IF(AF65=\"Yes\",IF('Shooter Information'!$C$2=\"R\",(SUMPRODUCT(--(AD65>$AD$5:$AD$79),--(\"Yes\"=$AF$5:$AF$79))+1),(SUMPRODUCT(--(AC65>$AC$5:$AC$79),--(\"Yes\"=$AF$5:$AF$79))+1)),0)","v":0},{"$f":"'Shooter Information'!B66","v":0},{"$f":"'Shooter Information'!C66","v":0},{"$f":"IF(AF65=\"Yes\",IF('Shooter Information'!$C$2=\"R\",(SUMPRODUCT(--(C65=$C$5:$C$79),--(AD65>$AD$5:$AD$79),--(\"Yes\"=$AF$5:$AF$79))+1),(SUMPRODUCT(--(C65=$C$5:$C$79),--(AC65>$AC$5:$AC$79),--(\"Yes\"=$AF$5:$AF$79))+1)),0)","v":0},{"$f":"+'Stage 1'!K64","v":0},{"$f":"+'Stage 1'!L64","v":0},{"$f":"+'Stage 2'!K64","v":0},{"$f":"+'Stage 2'!L64","v":0},{"$f":"+'Stage 3'!K64","v":0},{"$f":"+'Stage 3'!L64","v":0},{"$f":"+'Stage 4'!K64","v":0},{"$f":"+'Stage 4'!L64","v":0},{"$f":"+'Stage 5'!K64","v":0},{"$f":"+'Stage 5'!L64","v":0},{"$f":"+'Stage 6'!K64","v":0},{"$f":"+'Stage 6'!L64","v":0},{"$f":"+'Stage 7'!K64","v":0},{"$f":"+'Stage 7'!L64","v":0},{"$f":"+'Stage 8'!K64","v":0},{"$f":"+'Stage 8'!L64","v":0},{"$f":"+'Stage 9'!K64","v":0},{"$f":"+'Stage 9'!L64","v":0},{"$f":"+'Stage 10'!K64","v":0},{"$f":"+'Stage 10'!L64","v":0},{"$f":"+'Stage 11'!K64","v":0},{"$f":"+'Stage 11'!L64","v":0},{"$f":"+'Stage 12'!K64","v":0},{"$f":"+'Stage 12'!L64","v":0},0,0,{"$f":"IF(ISBLANK('Shooter Information'!B66),,IF(SUM('Stage 1'!M64,'Stage 2'!M64,'Stage 3'!M64,'Stage 4'!M64,'Stage 5'!M64,'Stage 6'!M64,'Stage 7'!M64,'Stage 8'!M64,'Stage 9'!M64,'Stage 10'!M64,'Stage 11'!M64,'Stage 12'!M64)=0,\"Yes\",\"No\"))","v":0},{"$f":"IF(ISBLANK('Shooter Information'!B66),,IF(AK65>=2,\"No\",\"Yes\"))","v":0},99999,99999,{"$f":"IF(ISBLANK('Shooter Information'!C66),\"ZZZZZZZZZZ\",C65)","v":"ZZZZZZZZZZ"},{"$f":"CELL(\"row\",'Shooter Information'!B66)","v":66},{"$f":"SUM('Stage 1'!I64,'Stage 2'!I64,'Stage 3'!I64,'Stage 4'!I64,'Stage 5'!I64,'Stage 6'!I64,'Stage 7'!I64,'Stage 8'!I64,'Stage 9'!I64,'Stage 10'!I64,'Stage 11'!I64,'Stage 12'!I64)","v":0}]
[{"$f":"IF(AF66=\"Yes\",IF('Shooter Information'!$C$2=\"R\",(SUMPRODUCT(--(AD66>$AD$5:$AD$79),--(\"Yes\"=$AF$5:$AF$79))+1),(SUMPRODUCT(--(AC66>$AC$5:$AC$79),--(\"Yes\"=$AF$5:$AF$79))+1)),0)","v":0},{"$f":"'Shooter Information'!B67","v":0},{"$f":"'Shooter Information'!C67","v":0},{"$f":"IF(AF66=\"Yes\",IF('Shooter Information'!$C$2=\"R\",(SUMPRODUCT(--(C66=$C$5:$C$79),--(AD66>$AD$5:$AD$79),--(\"Yes\"=$AF$5:$AF$79))+1),(SUMPRODUCT(--(C66=$C$5:$C$79),--(AC66>$AC$5:$AC$79),--(\"Yes\"=$AF$5:$AF$79))+1)),0)","v":0},{"$f":"+'Stage 1'!K65","v":0},{"$f":"+'Stage 1'!L65","v":0},{"$f":"+'Stage 2'!K65","v":0},{"$f":"+'Stage 2'!L65","v":0},{"$f":"+'Stage 3'!K65","v":0},{"$f":"+'Stage 3'!L65","v":0},{"$f":"+'Stage 4'!K65","v":0},{"$f":"+'Stage 4'!L65","v":0},{"$f":"+'Stage 5'!K65","v":0},{"$f":"+'Stage 5'!L65","v":0},{"$f":"+'Stage 6'!K65","v":0},{"$f":"+'Stage 6'!L65","v":0},{"$f":"+'Stage 7'!K65","v":0},{"$f":"+'Stage 7'!L65","v":0},{"$f":"+'Stage 8'!K65","v":0},{"$f":"+'Stage 8'!L65","v":0},{"$f":"+'Stage 9'!K65","v":0},{"$f":"+'Stage 9'!L65","v":0},{"$f":"+'Stage 10'!K65","v":0},{"$f":"+'Stage 10'!L65","v":0},{"$f":"+'Stage 11'!K65","v":0},{"$f":"+'Stage 11'!L65","v":0},{"$f":"+'Stage 12'!K65","v":0},{"$f":"+'Stage 12'!L65","v":0},0,0,{"$f":"IF(ISBLANK('Shooter Information'!B67),,IF(SUM('Stage 1'!M65,'Stage 2'!M65,'Stage 3'!M65,'Stage 4'!M65,'Stage 5'!M65,'Stage 6'!M65,'Stage 7'!M65,'Stage 8'!M65,'Stage 9'!M65,'Stage 10'!M65,'Stage 11'!M65,'Stage 12'!M65)=0,\"Yes\",\"No\"))","v":0},{"$f":"IF(ISBLANK('Shooter Information'!B67),,IF(AK66>=2,\"No\",\"Yes\"))","v":0},99999,99999,{"$f":"IF(ISBLANK('Shooter Information'!C67),\"ZZZZZZZZZZ\",C66)","v":"ZZZZZZZZZZ"},{"$f":"CELL(\"row\",'Shooter Information'!B67)","v":67},{"$f":"SUM('Stage 1'!I65,'Stage 2'!I65,'Stage 3'!I65,'Stage 4'!I65,'Stage 5'!I65,'Stage 6'!I65,'Stage 7'!I65,'Stage 8'!I65,'Stage 9'!I65,'Stage 10'!I65,'Stage 11'!I65,'Stage 12'!I65)","v":0}]
[{"$f":"IF(AF67=\"Yes\",IF('Shooter Information'!$C$2=\"R\",(SUMPRODUCT(--(AD67>$AD$5:$AD$79),--(\"Yes\"=$AF$5:$AF$79))+1),(SUMPRODUCT(--(AC67>$AC$5:$AC$79),--(\"Yes\"=$AF$5:$AF$79))+1)),0)","v":0},{"$f":"'Shooter Information'!B68","v":0},{"$f":"'Shooter Information'!C68","v":0},{"$f":"IF(AF67=\"Yes\",IF('Shooter Information'!$C$2=\"R\",(SUMPRODUCT(--(C67=$C$5:$C$79),--(AD67>$AD$5:$AD$79),--(\"Yes\"=$AF$5:$AF$79))+1),(SUMPRODUCT(--(C67=$C$5:$C$79),--(AC67>$AC$5:$AC$79),--(\"Yes\"=$AF$5:$AF$79))+1)),0)","v":0},{"$f":"+'Stage 1'!K66","v":0},{"$f":"+'Stage 1'!L66","v":0},{"$f":"+'Stage 2'!K66","v":0},{"$f":"+'Stage 2'!L66","v":0},{"$f":"+'Stage 3'!K66","v":0},{"$f":"+'Stage 3'!L66","v":0},{"$f":"+'Stage 4'!K66","v":0},{"$f":"+'Stage 4'!L66","v":0},{"$f":"+'Stage 5'!K66","v":0},{"$f":"+'Stage 5'!L66","v":0},{"$f":"+'Stage 6'!K66","v":0},{"$f":"+'Stage 6'!L66","v":0},{"$f":"+'Stage 7'!K66","v":0},{"$f":"+'Stage 7'!L66","v":0},{"$f":"+'Stage 8'!K66","v":0},{"$f":"+'Stage 8'!L66","v":0},{"$f":"+'Stage 9'!K66","v":0},{"$f":"+'Stage 9'!L66","v":0},{"$f":"+'Stage 10'!K66","v":0},{"$f":"+'Stage 10'!L66","v":0},{"$f":"+'Stage 11'!K66","v":0},{"$f":"+'Stage 11'!L66","v":0},{"$f":"+'Stage 12'!K66","v":0},{"$f":"+'Stage 12'!L66","v":0},0,0,{"$f":"IF(ISBLANK('Shooter Information'!B68),,IF(SUM('Stage 1'!M66,'Stage 2'!M66,'Stage 3'!M66,'Stage 4'!M66,'Stage 5'!M66,'Stage 6'!M66,'Stage 7'!M66,'Stage 8'!M66,'Stage 9'!M66,'Stage 10'!M66,'Stage 11'!M66,'Stage 12'!M66)=0,\"Yes\",\"No\"))","v":0},{"$f":"IF(ISBLANK('Shooter Information'!B68),,IF(AK67>=2,\"No\",\"Yes\"))","v":0},99999,99999,{"$f":"IF(ISBLANK('Shooter Information'!C68),\"ZZZZZZZZZZ\",C67)","v":"ZZZZZZZZZZ"},{"$f":"CELL(\"row\",'Shooter Information'!B68)","v":68},{"$f":"SUM('Stage 1'!I66,'Stage 2'!I66,'Stage 3'!I66,'Stage 4'!I66,'Stage 5'!I66,'Stage 6'!I66,'Stage 7'!I66,'Stage 8'!I66,'Stage 9'!I66,'Stage 10'!I66,'Stage 11'!I66,'Stage 12'!I66)","v":0}]
[{"$f":"IF(AF68=\"Yes\",IF('Shooter Information'!$C$2=\"R\",(SUMPRODUCT(--(AD68>$AD$5:$AD$79),--(\"Yes\"=$AF$5:$AF$79))+1),(SUMPRODUCT(--(AC68>$AC$5:$AC$79),--(\"Yes\"=$AF$5:$AF$79))+1)),0)","v":0},{"$f":"'Shooter Information'!B69","v":0},{"$f":"'Shooter Information'!C69","v":0},{"$f":"IF(AF68=\"Yes\",IF('Shooter Information'!$C$2=\"R\",(SUMPRODUCT(--(C68=$C$5:$C$79),--(AD68>$AD$5:$AD$79),--(\"Yes\"=$AF$5:$AF$79))+1),(SUMPRODUCT(--(C68=$C$5:$C$79),--(AC68>$AC$5:$AC$79),--(\"Yes\"=$AF$5:$AF$79))+1)),0)","v":0},{"$f":"+'Stage 1'!K67","v":0},{"$f":"+'Stage 1'!L67","v":0},{"$f":"+'Stage 2'!K67","v":0},{"$f":"+'Stage 2'!L67","v":0},{"$f":"+'Stage 3'!K67","v":0},{"$f":"+'Stage 3'!L67","v":0},{"$f":"+'Stage 4'!K67","v":0},{"$f":"+'Stage 4'!L67","v":0},{"$f":"+'Stage 5'!K67","v":0},{"$f":"+'Stage 5'!L67","v":0},{"$f":"+'Stage 6'!K67","v":0},{"$f":"+'Stage 6'!L67","v":0},{"$f":"+'Stage 7'!K67","v":0},{"$f":"+'Stage 7'!L67","v":0},{"$f":"+'Stage 8'!K67","v":0},{"$f":"+'Stage 8'!L67","v":0},{"$f":"+'Stage 9'!K67","v":0},{"$f":"+'Stage 9'!L67","v":0},{"$f":"+'Stage 10'!K67","v":0},{"$f":"+'Stage 10'!L67","v":0},{"$f":"+'Stage 11'!K67","v":0},{"$f":"+'Stage 11'!L67","v":0},{"$f":"+'Stage 12'!K67","v":0},{"$f":"+'Stage 12'!L67","v":0},0,0,{"$f":"IF(ISBLANK('Shooter Information'!B69),,IF(SUM('Stage 1'!M67,'Stage 2'!M67,'Stage 3'!M67,'Stage 4'!M67,'Stage 5'!M67,'Stage 6'!M67,'Stage 7'!M67,'Stage 8'!M67,'Stage 9'!M67,'Stage 10'!M67,'Stage 11'!M67,'Stage 12'!M67)=0,\"Yes\",\"No\"))","v":0},{"$f":"IF(ISBLANK('Shooter Information'!B69),,IF(AK68>=2,\"No\",\"Yes\"))","v":0},99999,99999,{"$f":"IF(ISBLANK('Shooter Information'!C69),\"ZZZZZZZZZZ\",C68)","v":"ZZZZZZZZZZ"},{"$f":"CELL(\"row\",'Shooter Information'!B69)","v":69},{"$f":"SUM('Stage 1'!I67,'Stage 2'!I67,'Stage 3'!I67,'Stage 4'!I67,'Stage 5'!I67,'Stage 6'!I67,'Stage 7'!I67,'Stage 8'!I67,'Stage 9'!I67,'Stage 10'!I67,'Stage 11'!I67,'Stage 12'!I67)","v":0}]
[{"$f":"IF(AF69=\"Yes\",IF('Shooter Information'!$C$2=\"R\",(SUMPRODUCT(--(AD69>$AD$5:$AD$79),--(\"Yes\"=$AF$5:$AF$79))+1),(SUMPRODUCT(--(AC69>$AC$5:$AC$79),--(\"Yes\"=$AF$5:$AF$79))+1)),0)","v":0},{"$f":"'Shooter Information'!B70","v":0},{"$f":"'Shooter Information'!C70","v":0},{"$f":"IF(AF69=\"Yes\",IF('Shooter Information'!$C$2=\"R\",(SUMPRODUCT(--(C69=$C$5:$C$79),--(AD69>$AD$5:$AD$79),--(\"Yes\"=$AF$5:$AF$79))+1),(SUMPRODUCT(--(C69=$C$5:$C$79),--(AC69>$AC$5:$AC$79),--(\"Yes\"=$AF$5:$AF$79))+1)),0)","v":0},{"$f":"+'Stage 1'!K68","v":0},{"$f":"+'Stage 1'!L68","v":0},{"$f":"+'Stage 2'!K68","v":0},{"$f":"+'Stage 2'!L68","v":0},{"$f":"+'Stage 3'!K68","v":0},{"$f":"+'Stage 3'!L68","v":0},{"$f":"+'Stage 4'!K68","v":0},{"$f":"+'Stage 4'!L68","v":0},{"$f":"+'Stage 5'!K68","v":0},{"$f":"+'Stage 5'!L68","v":0},{"$f":"+'Stage 6'!K68","v":0},{"$f":"+'Stage 6'!L68","v":0},{"$f":"+'Stage 7'!K68","v":0},{"$f":"+'Stage 7'!L68","v":0},{"$f":"+'Stage 8'!K68","v":0},{"$f":"+'Stage 8'!L68","v":0},{"$f":"+'Stage 9'!K68","v":0},{"$f":"+'Stage 9'!L68","v":0},{"$f":"+'Stage 10'!K68","v":0},{"$f":"+'Stage 10'!L68","v":0},{"$f":"+'Stage 11'!K68","v":0},{"$f":"+'Stage 11'!L68","v":0},{"$f":"+'Stage 12'!K68","v":0},{"$f":"+'Stage 12'!L68","v":0},{"$f":"+E69+G69+I69+K69+M69+O69+Q69+S69+U69+W69+Y69+AA69","v":0},{"$f":"+F69+H69+J69+L69+N69+P69+R69+T69+V69+X69+Z69+AB69","v":0},{"$f":"IF(ISBLANK('Shooter Information'!B70),,IF(SUM('Stage 1'!M68,'Stage 2'!M68,'Stage 3'!M68,'Stage 4'!M68,'Stage 5'!M68,'Stage 6'!M68,'Stage 7'!M68,'Stage 8'!M68,'Stage 9'!M68,'Stage 10'!M68,'Stage 11'!M68,'Stage 12'!M68)=0,\"Yes\",\"No\"))","v":0},{"$f":"IF(ISBLANK('Shooter Information'!B70),,IF(AK69>=2,\"No\",\"Yes\"))","v":0},{"$f":"IF(AC69=0,99999,AC69)","v":99999},{"$f":"IF(AD69=0,99999,AD69)","v":99999},{"$f":"IF(ISBLANK('Shooter Information'!C70),\"ZZZZZZZZZZ\",C69)","v":"ZZZZZZZZZZ"},{"$f":"CELL(\"row\",'Shooter Information'!B70)","v":70},{"$f":"SUM('Stage 1'!I68,'Stage 2'!I68,'Stage 3'!I68,'Stage 4'!I68,'Stage 5'!I68,'Stage 6'!I68,'Stage 7'!I68,'Stage 8'!I68,'Stage 9'!I68,'Stage 10'!I68,'Stage 11'!I68,'Stage 12'!I68)","v":0}]
[{"$f":"IF(AF70=\"Yes\",IF('Shooter Information'!$C$2=\"R\",(SUMPRODUCT(--(AD70>$AD$5:$AD$79),--(\"Yes\"=$AF$5:$AF$79))+1),(SUMPRODUCT(--(AC70>$AC$5:$AC$79),--(\"Yes\"=$AF$5:$AF$79))+1)),0)","v":0},{"$f":"'Shooter Information'!B71","v":0},{"$f":"'Shooter Information'!C71","v":0},{"$f":"IF(AF70=\"Yes\",IF('Shooter Information'!$C$2=\"R\",(SUMPRODUCT(--(C70=$C$5:$C$79),--(AD70>$AD$5:$AD$79),--(\"Yes\"=$AF$5:$AF$79))+1),(SUMPRODUCT(--(C70=$C$5:$C$79),--(AC70>$AC$5:$AC$79),--(\"Yes\"=$AF$5:$AF$79))+1)),0)","v":0},{"$f":"+'Stage 1'!K69","v":0},{"$f":"+'Stage 1'!L69","v":0},{"$f":"+'Stage 2'!K69","v":0},{"$f":"+'Stage 2'!L69","v":0},{"$f":"+'Stage 3'!K69","v":0},{"$f":"+'Stage 3'!L69","v":0},{"$f":"+'Stage 4'!K69","v":0},{"$f":"+'Stage 4'!L69","v":0},{"$f":"+'Stage 5'!K69","v":0},{"$f":"+'Stage 5'!L69","v":0},{"$f":"+'Stage 6'!K69","v":0},{"$f":"+'Stage 6'!L69","v":0},{"$f":"+'Stage 7'!K69","v":0},{"$f":"+'Stage 7'!L69","v":0},{"$f":"+'Stage 8'!K69","v":0},{"$f":"+'Stage 8'!L69","v":0},{"$f":"+'Stage 9'!K69","v":0},{"$f":"+'Stage 9'!L69","v":0},{"$f":"+'Stage 10'!K69","v":0},{"$f":"+'Stage 10'!L69","v":0},{"$f":"+'Stage 11'!K69","v":0},{"$f":"+'Stage 11'!L69","v":0},{"$f":"+'Stage 12'!K69","v":0},{"$f":"+'Stage 12'!L69","v":0},0,0,{"$f":"IF(ISBLANK('Shooter Information'!B71),,IF(SUM('Stage 1'!M69,'Stage 2'!M69,'Stage 3'!M69,'Stage 4'!M69,'Stage 5'!M69,'Stage 6'!M69,'Stage 7'!M69,'Stage 8'!M69,'Stage 9'!M69,'Stage 10'!M69,'Stage 11'!M69,'Stage 12'!M69)=0,\"Yes\",\"No\"))","v":0},{"$f":"IF(ISBLANK('Shooter Information'!B71),,IF(AK70>=2,\"No\",\"Yes\"))","v":0},99999,99999,{"$f":"IF(ISBLANK('Shooter Information'!C71),\"ZZZZZZZZZZ\",C70)","v":"ZZZZZZZZZZ"},{"$f":"CELL(\"row\",'Shooter Information'!B71)","v":71},{"$f":"SUM('Stage 1'!I69,'Stage 2'!I69,'Stage 3'!I69,'Stage 4'!I69,'Stage 5'!I69,'Stage 6'!I69,'Stage 7'!I69,'Stage 8'!I69,'Stage 9'!I69,'Stage 10'!I69,'Stage 11'!I69,'Stage 12'!I69)","v":0}]
[{"$f":"IF(AF71=\"Yes\",IF('Shooter Information'!$C$2=\"R\",(SUMPRODUCT(--(AD71>$AD$5:$AD$79),--(\"Yes\"=$AF$5:$AF$79))+1),(SUMPRODUCT(--(AC71>$AC$5:$AC$79),--(\"Yes\"=$AF$5:$AF$79))+1)),0)","v":0},{"$f":"'Shooter Information'!B72","v":0},{"$f":"'Shooter Information'!C72","v":0},{"$f":"IF(AF71=\"Yes\",IF('Shooter Information'!$C$2=\"R\",(SUMPRODUCT(--(C71=$C$5:$C$79),--(AD71>$AD$5:$AD$79),--(\"Yes\"=$AF$5:$AF$79))+1),(SUMPRODUCT(--(C71=$C$5:$C$79),--(AC71>$AC$5:$AC$79),--(\"Yes\"=$AF$5:$AF$79))+1)),0)","v":0},{"$f":"+'Stage 1'!K70","v":0},{"$f":"+'Stage 1'!L70","v":0},{"$f":"+'Stage 2'!K70","v":0},{"$f":"+'Stage 2'!L70","v":0},{"$f":"+'Stage 3'!K70","v":0},{"$f":"+'Stage 3'!L70","v":0},{"$f":"+'Stage 4'!K70","v":0},{"$f":"+'Stage 4'!L70","v":0},{"$f":"+'Stage 5'!K70","v":0},{"$f":"+'Stage 5'!L70","v":0},{"$f":"+'Stage 6'!K70","v":0},{"$f":"+'Stage 6'!L70","v":0},{"$f":"+'Stage 7'!K70","v":0},{"$f":"+'Stage 7'!L70","v":0},{"$f":"+'Stage 8'!K70","v":0},{"$f":"+'Stage 8'!L70","v":0},{"$f":"+'Stage 9'!K70","v":0},{"$f":"+'Stage 9'!L70","v":0},{"$f":"+'Stage 10'!K70","v":0},{"$f":"+'Stage 10'!L70","v":0},{"$f":"+'Stage 11'!K70","v":0},{"$f":"+'Stage 11'!L70","v":0},{"$f":"+'Stage 12'!K70","v":0},{"$f":"+'Stage 12'!L70","v":0},0,0,{"$f":"IF(ISBLANK('Shooter Information'!B72),,IF(SUM('Stage 1'!M70,'Stage 2'!M70,'Stage 3'!M70,'Stage 4'!M70,'Stage 5'!M70,'Stage 6'!M70,'Stage 7'!M70,'Stage 8'!M70,'Stage 9'!M70,'Stage 10'!M70,'Stage 11'!M70,'Stage 12'!M70)=0,\"Yes\",\"No\"))","v":0},{"$f":"IF(ISBLANK('Shooter Information'!B72),,IF(AK71>=2,\"No\",\"Yes\"))","v":0},99999,99999,{"$f":"IF(ISBLANK('Shooter Information'!C72),\"ZZZZZZZZZZ\",C71)","v":"ZZZZZZZZZZ"},{"$f":"CELL(\"row\",'Shooter Information'!B72)","v":72},{"$f":"SUM('Stage 1'!I70,'Stage 2'!I70,'Stage 3'!I70,'Stage 4'!I70,'Stage 5'!I70,'Stage 6'!I70,'Stage 7'!I70,'Stage 8'!I70,'Stage 9'!I70,'Stage 10'!I70,'Stage 11'!I70,'Stage 12'!I70)","v":0}]
[{"$f":"IF(AF72=\"Yes\",IF('Shooter Information'!$C$2=\"R\",(SUMPRODUCT(--(AD72>$AD$5:$AD$79),--(\"Yes\"=$AF$5:$AF$79))+1),(SUMPRODUCT(--(AC72>$AC$5:$AC$79),--(\"Yes\"=$AF$5:$AF$79))+1)),0)","v":0},{"$f":"'Shooter Information'!B73","v":0},{"$f":"'Shooter Information'!C73","v":0},{"$f":"IF(AF72=\"Yes\",IF('Shooter Information'!$C$2=\"R\",(SUMPRODUCT(--(C72=$C$5:$C$79),--(AD72>$AD$5:$AD$79),--(\"Yes\"=$AF$5:$AF$79))+1),(SUMPRODUCT(--(C72=$C$5:$C$79),--(AC72>$AC$5:$AC$79),--(\"Yes\"=$AF$5:$AF$79))+1)),0)","v":0},{"$f":"+'Stage 1'!K71","v":0},{"$f":"+'Stage 1'!L71","v":0},{"$f":"+'Stage 2'!K71","v":0},{"$f":"+'Stage 2'!L71","v":0},{"$f":"+'Stage 3'!K71","v":0},{"$f":"+'Stage 3'!L71","v":0},{"$f":"+'Stage 4'!K71","v":0},{"$f":"+'Stage 4'!L71","v":0},{"$f":"+'Stage 5'!K71","v":0},{"$f":"+'Stage 5'!L71","v":0},{"$f":"+'Stage 6'!K71","v":0},{"$f":"+'Stage 6'!L71","v":0},{"$f":"+'Stage 7'!K71","v":0},{"$f":"+'Stage 7'!L71","v":0},{"$f":"+'Stage 8'!K71","v":0},{"$f":"+'Stage 8'!L71","v":0},{"$f":"+'Stage 9'!K71","v":0},{"$f":"+'Stage 9'!L71","v":0},{"$f":"+'Stage 10'!K71","v":0},{"$f":"+'Stage 10'!L71","v":0},{"$f":"+'Stage 11'!K71","v":0},{"$f":"+'Stage 11'!L71","v":0},{"$f":"+'Stage 12'!K71","v":0},{"$f":"+'Stage 12'!L71","v":0},0,0,{"$f":"IF(ISBLANK('Shooter Information'!B73),,IF(SUM('Stage 1'!M71,'Stage 2'!M71,'Stage 3'!M71,'Stage 4'!M71,'Stage 5'!M71,'Stage 6'!M71,'Stage 7'!M71,'Stage 8'!M71,'Stage 9'!M71,'Stage 10'!M71,'Stage 11'!M71,'Stage 12'!M71)=0,\"Yes\",\"No\"))","v":0},{"$f":"IF(ISBLANK('Shooter Information'!B73),,IF(AK72>=2,\"No\",\"Yes\"))","v":0},99999,99999,{"$f":"IF(ISBLANK('Shooter Information'!C73),\"ZZZZZZZZZZ\",C72)","v":"ZZZZZZZZZZ"},{"$f":"CELL(\"row\",'Shooter Information'!B73)","v":73},{"$f":"SUM('Stage 1'!I71,'Stage 2'!I71,'Stage 3'!I71,'Stage 4'!I71,'Stage 5'!I71,'Stage 6'!I71,'Stage 7'!I71,'Stage 8'!I71,'Stage 9'!I71,'Stage 10'!I71,'Stage 11'!I71,'Stage 12'!I71)","v":0}]
[{"$f":"IF(AF73=\"Yes\",IF('Shooter Information'!$C$2=\"R\",(SUMPRODUCT(--(AD73>$AD$5:$AD$79),--(\"Yes\"=$AF$5:$AF$79))+1),(SUMPRODUCT(--(AC73>$AC$5:$AC$79),--(\"Yes\"=$AF$5:$AF$79))+1)),0)","v":0},{"$f":"'Shooter Information'!B74","v":0},{"$f":"'Shooter Information'!C74","v":0},{"$f":"IF(AF73=\"Yes\",IF('Shooter Information'!$C$2=\"R\",(SUMPRODUCT(--(C73=$C$5:$C$79),--(AD73>$AD$5:$AD$79),--(\"Yes\"=$AF$5:$AF$79))+1),(SUMPRODUCT(--(C73=$C$5:$C$79),--(AC73>$AC$5:$AC$79),--(\"Yes\"=$AF$5:$AF$79))+1)),0)","v":0},{"$f":"+'Stage 1'!K72","v":0},{"$f":"+'Stage 1'!L72","v":0},{"$f":"+'Stage 2'!K72","v":0},{"$f":"+'Stage 2'!L72","v":0},{"$f":"+'Stage 3'!K72","v":0},{"$f":"+'Stage 3'!L72","v":0},{"$f":"+'Stage 4'!K72","v":0},{"$f":"+'Stage 4'!L72","v":0},{"$f":"+'Stage 5'!K72","v":0},{"$f":"+'Stage 5'!L72","v":0},{"$f":"+'Stage 6'!K72","v":0},{"$f":"+'Stage 6'!L72","v":0},{"$f":"+'Stage 7'!K72","v":0},{"$f":"+'Stage 7'!L72","v":0},{"$f":"+'Stage 8'!K72","v":0},{"$f":"+'Stage 8'!L72","v":0},{"$f":"+'Stage 9'!K72","v":0},{"$f":"+'Stage 9'!L72","v":0},{"$f":"+'Stage 10'!K72","v":0},{"$f":"+'Stage 10'!L72","v":0},{"$f":"+'Stage 11'!K72","v":0},{"$f":"+'Stage 11'!L72","v":0},{"$f":"+'Stage 12'!K72","v":0},{"$f":"+'Stage 12'!L72","v":0},0,0,{"$f":"IF(ISBLANK('Shooter Information'!B74),,IF(SUM('Stage 1'!M72,'Stage 2'!M72,'Stage 3'!M72,'Stage 4'!M72,'Stage 5'!M72,'Stage 6'!M72,'Stage 7'!M72,'Stage 8'!M72,'Stage 9'!M72,'Stage 10'!M72,'Stage 11'!M72,'Stage 12'!M72)=0,\"Yes\",\"No\"))","v":0},{"$f":"IF(ISBLANK('Shooter Information'!B74),,IF(AK73>=2,\"No\",\"Yes\"))","v":0},99999,99999,{"$f":"IF(ISBLANK('Shooter Information'!C74),\"ZZZZZZZZZZ\",C73)","v":"ZZZZZZZZZZ"},{"$f":"CELL(\"row\",'Shooter Information'!B74)","v":74},{"$f":"SUM('Stage 1'!I72,'Stage 2'!I72,'Stage 3'!I72,'Stage 4'!I72,'Stage 5'!I72,'Stage 6'!I72,'Stage 7'!I72,'Stage 8'!I72,'Stage 9'!I72,'Stage 10'!I72,'Stage 11'!I72,'Stage 12'!I72)","v":0}]
[{"$f":"IF(AF74=\"Yes\",IF('Shooter Information'!$C$2=\"R\",(SUMPRODUCT(--(AD74>$AD$5:$AD$79),--(\"Yes\"=$AF$5:$AF$79))+1),(SUMPRODUCT(--(AC74>$AC$5:$AC$79),--(\"Yes\"=$AF$5:$AF$79))+1)),0)","v":0},{"$f":"'Shooter Information'!B75","v":0},{"$f":"'Shooter Information'!C75","v":0},{"$f":"IF(AF74=\"Yes\",IF('Shooter Information'!$C$2=\"R\",(SUMPRODUCT(--(C74=$C$5:$C$79),--(AD74>$AD$5:$AD$79),--(\"Yes\"=$AF$5:$AF$79))+1),(SUMPRODUCT(--(C74=$C$5:$C$79),--(AC74>$AC$5:$AC$79),--(\"Yes\"=$AF$5:$AF$79))+1)),0)","v":0},{"$f":"+'Stage 1'!K73","v":0},{"$f":"+'Stage 1'!L73","v":0},{"$f":"+'Stage 2'!K73","v":0},{"$f":"+'Stage 2'!L73","v":0},{"$f":"+'Stage 3'!K73","v":0},{"$f":"+'Stage 3'!L73","v":0},{"$f":"+'Stage 4'!K73","v":0},{"$f":"+'Stage 4'!L73","v":0},{"$f":"+'Stage 5'!K73","v":0},{"$f":"+'Stage 5'!L73","v":0},{"$f":"+'Stage 6'!K73","v":0},{"$f":"+'Stage 6'!L73","v":0},{"$f":"+'Stage 7'!K73","v":0},{"$f":"+'Stage 7'!L73","v":0},{"$f":"+'Stage 8'!K73","v":0},{"$f":"+'Stage 8'!L73","v":0},{"$f":"+'Stage 9'!K73","v":0},{"$f":"+'Stage 9'!L73","v":0},{"$f":"+'Stage 10'!K73","v":0},{"$f":"+'Stage 10'!L73","v":0},{"$f":"+'Stage 11'!K73","v":0},{"$f":"+'Stage 11'!L73","v":0},{"$f":"+'Stage 12'!K73","v":0},{"$f":"+'Stage 12'!L73","v":0},0,0,{"$f":"IF(ISBLANK('Shooter Information'!B75),,IF(SUM('Stage 1'!M73,'Stage 2'!M73,'Stage 3'!M73,'Stage 4'!M73,'Stage 5'!M73,'Stage 6'!M73,'Stage 7'!M73,'Stage 8'!M73,'Stage 9'!M73,'Stage 10'!M73,'Stage 11'!M73,'Stage 12'!M73)=0,\"Yes\",\"No\"))","v":0},{"$f":"IF(ISBLANK('Shooter Information'!B75),,IF(AK74>=2,\"No\",\"Yes\"))","v":0},99999,99999,{"$f":"IF(ISBLANK('Shooter Information'!C75),\"ZZZZZZZZZZ\",C74)","v":"ZZZZZZZZZZ"},{"$f":"CELL(\"row\",'Shooter Information'!B75)","v":75},{"$f":"SUM('Stage 1'!I73,'Stage 2'!I73,'Stage 3'!I73,'Stage 4'!I73,'Stage 5'!I73,'Stage 6'!I73,'Stage 7'!I73,'Stage 8'!I73,'Stage 9'!I73,'Stage 10'!I73,'Stage 11'!I73,'Stage 12'!I73)","v":0}]
[{"$f":"IF(AF75=\"Yes\",IF('Shooter Information'!$C$2=\"R\",(SUMPRODUCT(--(AD75>$AD$5:$AD$79),--(\"Yes\"=$AF$5:$AF$79))+1),(SUMPRODUCT(--(AC75>$AC$5:$AC$79),--(\"Yes\"=$AF$5:$AF$79))+1)),0)","v":0},{"$f":"'Shooter Information'!B76","v":0},{"$f":"'Shooter Information'!C76","v":0},{"$f":"IF(AF75=\"Yes\",IF('Shooter Information'!$C$2=\"R\",(SUMPRODUCT(--(C75=$C$5:$C$79),--(AD75>$AD$5:$AD$79),--(\"Yes\"=$AF$5:$AF$79))+1),(SUMPRODUCT(--(C75=$C$5:$C$79),--(AC75>$AC$5:$AC$79),--(\"Yes\"=$AF$5:$AF$79))+1)),0)","v":0},{"$f":"+'Stage 1'!K74","v":0},{"$f":"+'Stage 1'!L74","v":0},{"$f":"+'Stage 2'!K74","v":0},{"$f":"+'Stage 2'!L74","v":0},{"$f":"+'Stage 3'!K74","v":0},{"$f":"+'Stage 3'!L74","v":0},{"$f":"+'Stage 4'!K74","v":0},{"$f":"+'Stage 4'!L74","v":0},{"$f":"+'Stage 5'!K74","v":0},{"$f":"+'Stage 5'!L74","v":0},{"$f":"+'Stage 6'!K74","v":0},{"$f":"+'Stage 6'!L74","v":0},{"$f":"+'Stage 7'!K74","v":0},{"$f":"+'Stage 7'!L74","v":0},{"$f":"+'Stage 8'!K74","v":0},{"$f":"+'Stage 8'!L74","v":0},{"$f":"+'Stage 9'!K74","v":0},{"$f":"+'Stage 9'!L74","v":0},{"$f":"+'Stage 10'!K74","v":0},{"$f":"+'Stage 10'!L74","v":0},{"$f":"+'Stage 11'!K74","v":0},{"$f":"+'Stage 11'!L74","v":0},{"$f":"+'Stage 12'!K74","v":0},{"$f":"+'Stage 12'!L74","v":0},0,0,{"$f":"IF(ISBLANK('Shooter Information'!B76),,IF(SUM('Stage 1'!M74,'Stage 2'!M74,'Stage 3'!M74,'Stage 4'!M74,'Stage 5'!M74,'Stage 6'!M74,'Stage 7'!M74,'Stage 8'!M74,'Stage 9'!M74,'Stage 10'!M74,'Stage 11'!M74,'Stage 12'!M74)=0,\"Yes\",\"No\"))","v":0},{"$f":"IF(ISBLANK('Shooter Information'!B76),,IF(AK75>=2,\"No\",\"Yes\"))","v":0},99999,99999,{"$f":"IF(ISBLANK('Shooter Information'!C76),\"ZZZZZZZZZZ\",C75)","v":"ZZZZZZZZZZ"},{"$f":"CELL(\"row\",'Shooter Information'!B76)","v":76},{"$f":"SUM('Stage 1'!I74,'Stage 2'!I74,'Stage 3'!I74,'Stage 4'!I74,'Stage 5'!I74,'Stage 6'!I74,'Stage 7'!I74,'Stage 8'!I74,'Stage 9'!I74,'Stage 10'!I74,'Stage 11'!I74,'Stage 12'!I74)","v":0}]
[{"$f":"IF(AF76=\"Yes\",IF('Shooter Information'!$C$2=\"R\",(SUMPRODUCT(--(AD76>$AD$5:$AD$79),--(\"Yes\"=$AF$5:$AF$79))+1),(SUMPRODUCT(--(AC76>$AC$5:$AC$79),--(\"Yes\"=$AF$5:$AF$79))+1)),0)","v":0},{"$f":"'Shooter Information'!B77","v":0},{"$f":"'Shooter Information'!C77","v":0},{"$f":"IF(AF76=\"Yes\",IF('Shooter Information'!$C$2=\"R\",(SUMPRODUCT(--(C76=$C$5:$C$79),--(AD76>$AD$5:$AD$79),--(\"Yes\"=$AF$5:$AF$79))+1),(SUMPRODUCT(--(C76=$C$5:$C$79),--(AC76>$AC$5:$AC$79),--(\"Yes\"=$AF$5:$AF$79))+1)),0)","v":0},{"$f":"+'Stage 1'!K75","v":0},{"$f":"+'Stage 1'!L75","v":0},{"$f":"+'Stage 2'!K75","v":0},{"$f":"+'Stage 2'!L75","v":0},{"$f":"+'Stage 3'!K75","v":0},{"$f":"+'Stage 3'!L75","v":0},{"$f":"+'Stage 4'!K75","v":0},{"$f":"+'Stage 4'!L75","v":0},{"$f":"+'Stage 5'!K75","v":0},{"$f":"+'Stage 5'!L75","v":0},{"$f":"+'Stage 6'!K75","v":0},{"$f":"+'Stage 6'!L75","v":0},{"$f":"+'Stage 7'!K75","v":0},{"$f":"+'Stage 7'!L75","v":0},{"$f":"+'Stage 8'!K75","v":0},{"$f":"+'Stage 8'!L75","v":0},{"$f":"+'Stage 9'!K75","v":0},{"$f":"+'Stage 9'!L75","v":0},{"$f":"+'Stage 10'!K75","v":0},{"$f":"+'Stage 10'!L75","v":0},{"$f":"+'Stage 11'!K75","v":0},{"$f":"+'Stage 11'!L75","v":0},{"$f":"+'Stage 12'!K75","v":0},{"$f":"+'Stage 12'!L75","v":0},0,0,{"$f":"IF(ISBLANK('Shooter Information'!B77),,IF(SUM('Stage 1'!M75,'Stage 2'!M75,'Stage 3'!M75,'Stage 4'!M75,'Stage 5'!M75,'Stage 6'!M75,'Stage 7'!M75,'Stage 8'!M75,'Stage 9'!M75,'Stage 10'!M75,'Stage 11'!M75,'Stage 12'!M75)=0,\"Yes\",\"No\"))","v":0},{"$f":"IF(ISBLANK('Shooter Information'!B77),,IF(AK76>=2,\"No\",\"Yes\"))","v":0},99999,99999,{"$f":"IF(ISBLANK('Shooter Information'!C77),\"ZZZZZZZZZZ\",C76)","v":"ZZZZZZZZZZ"},{"$f":"CELL(\"row\",'Shooter Information'!B77)","v":77},{"$f":"SUM('Stage 1'!I75,'Stage 2'!I75,'Stage 3'!I75,'Stage 4'!I75,'Stage 5'!I75,'Stage 6'!I75,'Stage 7'!I75,'Stage 8'!I75,'Stage 9'!I75,'Stage 10'!I75,'Stage 11'!I75,'Stage 12'!I75)","v":0}]
[{"$f":"IF(AF77=\"Yes\",IF('Shooter Information'!$C$2=\"R\",(SUMPRODUCT(--(AD77>$AD$5:$AD$79),--(\"Yes\"=$AF$5:$AF$79))+1),(SUMPRODUCT(--(AC77>$AC$5:$AC$79),--(\"Yes\"=$AF$5:$AF$79))+1)),0)","v":0},{"$f":"'Shooter Information'!B78","v":0},{"$f":"'Shooter Information'!C78","v":0},{"$f":"IF(AF77=\"Yes\",IF('Shooter Information'!$C$2=\"R\",(SUMPRODUCT(--(C77=$C$5:$C$79),--(AD77>$AD$5:$AD$79),--(\"Yes\"=$AF$5:$AF$79))+1),(SUMPRODUCT(--(C77=$C$5:$C$79),--(AC77>$AC$5:$AC$79),--(\"Yes\"=$AF$5:$AF$79))+1)),0)","v":0},{"$f":"+'Stage 1'!K76","v":0},{"$f":"+'Stage 1'!L76","v":0},{"$f":"+'Stage 2'!K76","v":0},{"$f":"+'Stage 2'!L76","v":0},{"$f":"+'Stage 3'!K76","v":0},{"$f":"+'Stage 3'!L76","v":0},{"$f":"+'Stage 4'!K76","v":0},{"$f":"+'Stage 4'!L76","v":0},{"$f":"+'Stage 5'!K76","v":0},{"$f":"+'Stage 5'!L76","v":0},{"$f":"+'Stage 6'!K76","v":0},{"$f":"+'Stage 6'!L76","v":0},{"$f":"+'Stage 7'!K76","v":0},{"$f":"+'Stage 7'!L76","v":0},{"$f":"+'Stage 8'!K76","v":0},{"$f":"+'Stage 8'!L76","v":0},{"$f":"+'Stage 9'!K76","v":0},{"$f":"+'Stage 9'!L76","v":0},{"$f":"+'Stage 10'!K76","v":0},{"$f":"+'Stage 10'!L76","v":0},{"$f":"+'Stage 11'!K76","v":0},{"$f":"+'Stage 11'!L76","v":0},{"$f":"+'Stage 12'!K76","v":0},{"$f":"+'Stage 12'!L76","v":0},0,0,{"$f":"IF(ISBLANK('Shooter Information'!B78),,IF(SUM('Stage 1'!M76,'Stage 2'!M76,'Stage 3'!M76,'Stage 4'!M76,'Stage 5'!M76,'Stage 6'!M76,'Stage 7'!M76,'Stage 8'!M76,'Stage 9'!M76,'Stage 10'!M76,'Stage 11'!M76,'Stage 12'!M76)=0,\"Yes\",\"No\"))","v":0},{"$f":"IF(ISBLANK('Shooter Information'!B78),,IF(AK77>=2,\"No\",\"Yes\"))","v":0},99999,99999,{"$f":"IF(ISBLANK('Shooter Information'!C78),\"ZZZZZZZZZZ\",C77)","v":"ZZZZZZZZZZ"},{"$f":"CELL(\"row\",'Shooter Information'!B78)","v":78},{"$f":"SUM('Stage 1'!I76,'Stage 2'!I76,'Stage 3'!I76,'Stage 4'!I76,'Stage 5'!I76,'Stage 6'!I76,'Stage 7'!I76,'Stage 8'!I76,'Stage 9'!I76,'Stage 10'!I76,'Stage 11'!I76,'Stage 12'!I76)","v":0}]
[{"$f":"IF(AF78=\"Yes\",IF('Shooter Information'!$C$2=\"R\",(SUMPRODUCT(--(AD78>$AD$5:$AD$79),--(\"Yes\"=$AF$5:$AF$79))+1),(SUMPRODUCT(--(AC78>$AC$5:$AC$79),--(\"Yes\"=$AF$5:$AF$79))+1)),0)","v":0},{"$f":"'Shooter Information'!B79","v":0},{"$f":"'Shooter Information'!C79","v":0},{"$f":"IF(AF78=\"Yes\",IF('Shooter Information'!$C$2=\"R\",(SUMPRODUCT(--(C78=$C$5:$C$79),--(AD78>$AD$5:$AD$79),--(\"Yes\"=$AF$5:$AF$79))+1),(SUMPRODUCT(--(C78=$C$5:$C$79),--(AC78>$AC$5:$AC$79),--(\"Yes\"=$AF$5:$AF$79))+1)),0)","v":0},{"$f":"+'Stage 1'!K77","v":0},{"$f":"+'Stage 1'!L77","v":0},{"$f":"+'Stage 2'!K77","v":0},{"$f":"+'Stage 2'!L77","v":0},{"$f":"+'Stage 3'!K77","v":0},{"$f":"+'Stage 3'!L77","v":0},{"$f":"+'Stage 4'!K77","v":0},{"$f":"+'Stage 4'!L77","v":0},{"$f":"+'Stage 5'!K77","v":0},{"$f":"+'Stage 5'!L77","v":0},{"$f":"+'Stage 6'!K77","v":0},{"$f":"+'Stage 6'!L77","v":0},{"$f":"+'Stage 7'!K77","v":0},{"$f":"+'Stage 7'!L77","v":0},{"$f":"+'Stage 8'!K77","v":0},{"$f":"+'Stage 8'!L77","v":0},{"$f":"+'Stage 9'!K77","v":0},{"$f":"+'Stage 9'!L77","v":0},{"$f":"+'Stage 10'!K77","v":0},{"$f":"+'Stage 10'!L77","v":0},{"$f":"+'Stage 11'!K77","v":0},{"$f":"+'Stage 11'!L77","v":0},{"$f":"+'Stage 12'!K77","v":0},{"$f":"+'Stage 12'!L77","v":0},0,0,{"$f":"IF(ISBLANK('Shooter Information'!B79),,IF(SUM('Stage 1'!M77,'Stage 2'!M77,'Stage 3'!M77,'Stage 4'!M77,'Stage 5'!M77,'Stage 6'!M77,'Stage 7'!M77,'Stage 8'!M77,'Stage 9'!M77,'Stage 10'!M77,'Stage 11'!M77,'Stage 12'!M77)=0,\"Yes\",\"No\"))","v":0},{"$f":"IF(ISBLANK('Shooter Information'!B79),,IF(AK78>=2,\"No\",\"Yes\"))","v":0},99999,99999,{"$f":"IF(ISBLANK('Shooter Information'!C79),\"ZZZZZZZZZZ\",C78)","v":"ZZZZZZZZZZ"},{"$f":"CELL(\"row\",'Shooter Information'!B79)","v":79},{"$f":"SUM('Stage 1'!I77,'Stage 2'!I77,'Stage 3'!I77,'Stage 4'!I77,'Stage 5'!I77,'Stage 6'!I77,'Stage 7'!I77,'Stage 8'!I77,'Stage 9'!I77,'Stage 10'!I77,'Stage 11'!I77,'Stage 12'!I77)","v":0}]
[{"$f":"IF(AF79=\"Yes\",IF('Shooter Information'!$C$2=\"R\",(SUMPRODUCT(--(AD79>$AD$5:$AD$79),--(\"Yes\"=$AF$5:$AF$79))+1),(SUMPRODUCT(--(AC79>$AC$5:$AC$79),--(\"Yes\"=$AF$5:$AF$79))+1)),0)","v":0},{"$f":"'Shooter Information'!B80","v":0},{"$f":"'Shooter Information'!C80","v":0},{"$f":"IF(AF79=\"Yes\",IF('Shooter Information'!$C$2=\"R\",(SUMPRODUCT(--(C79=$C$5:$C$79),--(AD79>$AD$5:$AD$79),--(\"Yes\"=$AF$5:$AF$79))+1),(SUMPRODUCT(--(C79=$C$5:$C$79),--(AC79>$AC$5:$AC$79),--(\"Yes\"=$AF$5:$AF$79))+1)),0)","v":0},{"$f":"+'Stage 1'!K78","v":0},{"$f":"+'Stage 1'!L78","v":0},{"$f":"+'Stage 2'!K78","v":0},{"$f":"+'Stage 2'!L78","v":0},{"$f":"+'Stage 3'!K78","v":0},{"$f":"+'Stage 3'!L78","v":0},{"$f":"+'Stage 4'!K78","v":0},{"$f":"+'Stage 4'!L78","v":0},{"$f":"+'Stage 5'!K78","v":0},{"$f":"+'Stage 5'!L78","v":0},{"$f":"+'Stage 6'!K78","v":0},{"$f":"+'Stage 6'!L78","v":0},{"$f":"+'Stage 7'!K78","v":0},{"$f":"+'Stage 7'!L78","v":0},{"$f":"+'Stage 8'!K78","v":0},{"$f":"+'Stage 8'!L78","v":0},{"$f":"+'Stage 9'!K78","v":0},{"$f":"+'Stage 9'!L78","v":0},{"$f":"+'Stage 10'!K78","v":0},{"$f":"+'Stage 10'!L78","v":0},{"$f":"+'Stage 11'!K78","v":0},{"$f":"+'Stage 11'!L78","v":0},{"$f":"+'Stage 12'!K78","v":0},{"$f":"+'Stage 12'!L78","v":0},0,0,{"$f":"IF(ISBLANK('Shooter Information'!B80),,IF(SUM('Stage 1'!M78,'Stage 2'!M78,'Stage 3'!M78,'Stage 4'!M78,'Stage 5'!M78,'Stage 6'!M78,'Stage 7'!M78,'Stage 8'!M78,'Stage 9'!M78,'Stage 10'!M78,'Stage 11'!M78,'Stage 12'!M78)=0,\"Yes\",\"No\"))","v":0},{"$f":"IF(ISBLANK('Shooter Information'!B80),,IF(AK79>=2,\"No\",\"Yes\"))","v":0},99999,99999,{"$f":"IF(ISBLANK('Shooter Information'!C80),\"ZZZZZZZZZZ\",C79)","v":"ZZZZZZZZZZ"},{"$f":"CELL(\"row\",'Shooter Information'!B80)","v":80},{"$f":"SUM('Stage 1'!I78,'Stage 2'!I78,'Stage 3'!I78,'Stage 4'!I78,'Stage 5'!I78,'Stage 6'!I78,'Stage 7'!I78,'Stage 8'!I78,'Stage 9'!I78,'Stage 10'!I78,'Stage 11'!I78,'Stage 12'!I78)","v":0}]

{"sheet":"Notes","index":18,"n_rows":4,"n_cols":3,"rows_kept":4,"cut":false,"hidden":true,"merged":[]}
[]
[]
[]
[null,null,"Array Formula = a given formula with curly brackets around it, \"{ }\". Obtained by hitting CTRL SHIFT ENTER in place of ENTER after the formula has been typed in."]